{"text_format":"1","workbook":"xlsx","n_sheets":1,"sheets":["camera"],"not_rendered":{"charts":1,"images":0,"macros":1,"external_links":0,"defined_names":2,"comments":0,"pivot_tables":0},"unopened":[],"bounds":{"document_bytes":16777216,"sheet_cells":100000,"rows_first":2000,"rows_last":500,"rows_between":2000,"halvings":0,"cell_chars":16384,"cell_head_chars":4096},"cells_cut":0,"cells_raw":0,"read":"whole","date_system":"1900"}

{"sheet":"camera","index":0,"n_rows":1146,"n_cols":74,"rows_kept":1146,"cut":false,"hidden":false,"merged":[]}
[null,null,null,null,null,null,null,null,null,null,null,null,null,null,null,null,null,null,null,null,"tie fighter",null,null,null,null,"stars in the background",null,null,null,null,null,null,null,null,null,null,null,null,null,null,null,null,null,null,null,null,null,null,null,"objects in the world you are zoomin around"]
["origin",-5392,-3619,1436,null,null,null,null,null,null,null,null,null,null,null,null,null,null,null,null,"img x","img y",null,null,null,"star",null,"ra","dec",null,"As. lat","As. long",null,"As. X","As.Y","As.Z",null,"view.x","view.y","view.z",null,"n","e",null,"img.x","img.y",null,null,null,"world.x","world.y","world.z",null,"view.x","view.y","view.z",null,"n","e",null,"img.x","img.y",null,null,null,"view.x","view.y","view.z",null,"n","e",null,"img.x","img.y"]
["imageWidth",1000,null,null,null,null,null,null,null,null,null,null,null,null,null,null,null,null,null,null,1.8987000000000001,485,null,null,null,"'Polaris'",null,2.5297499999999999,89.264109000000005,null,{"$f":"AC3","v":89.264109000000005},{"$f":"IF(AB3*15/1>180, (AB3*15/1)-360, AB3*15/1)","v":37.946249999999999},null,{"$f":"camera!$B$5*COS(RADIANS(AE3))*COS(RADIANS(AF3))","v":5.0640626439845011},{"$f":"camera!$B$5*COS(RADIANS(AE3))*SIN(RADIANS(AF3))","v":3.9488344424049342},{"$f":"camera!$B$5*SIN(RADIANS(AE3))","v":499.9587602753694},null,{"$f":"TRANSPOSE(MMULT(camera!$A$12:$C$14,MMULT(camera!$A$16:$C$18,TRANSPOSE(AH3:AJ3))))","v":-493.12300361627473},-4.7006287579264896,-82.508226218624131,null,{"$f":"camera!$B$5*AM3/AN3","v":28.485818768368109},{"$f":"camera!$B$5*AL3/AN3","v":2988.3262931239988},null,{"$f":"IF( AND( (camera!$B$3) > (AQ3+camera!$B$3/2), 0 < (AQ3+camera!$B$3/2), AN3 >= 0 ), AQ3+camera!$B$3/2, 0)*-1+camera!$B$3","v":1000},{"$f":"IF( AND( (camera!$B$4) > (AP3+camera!$B$4/2), 0 < (AP3+camera!$B$4/2), AN3 >= 0 ), AP3+camera!$B$4/2, 0)","v":0},null,null,null,0,0,0,null,{"$f":"MMULT(               MMULT(AX3:AZ3-$B$2:$D$2, TRANSPOSE($A$16:$C$18)),     TRANSPOSE($A$12:$C$14))","v":706.53767633061432},-5056.0651791069167,4262.6201351455038,null,{"$f":"$B$5*BC3/BD3","v":-593.07010932306878},{"$f":"$B$5*BB3/BD3","v":82.875984011005102}," ",{"$f":"IF( AND( ($B$3) > (BG3+$B$3/2), 0 < (BG3+$B$3/2), BD3 >= 0 ), BG3+$B$3/2, 0)*-1+$B$3","v":417.12401598899487},{"$f":"IF( AND( ($B$4) > (BF3+$B$4/2), 0 < (BF3+$B$4/2), BD3 >= 0 ), BF3+$B$4/2, 0)","v":0},null,null,null,25000,15000,25000,null,{"$f":"$B$5*BO3/BP3","v":300},{"$f":"$B$5*BN3/BP3","v":500},null,{"$f":"BS3+$B$3/2","v":1000},{"$f":"$B$4/2-BR3","v":200}]
["imageHeight",1000,null,null,null,null,null,null,null,null,null,null,null,null,null,null,null,null,null,null,1.8987000000000001,500,null,null,null,"'Sol'",null,16,60,null,60,-120,null,{"$f":"camera!$B$5*COS(RADIANS(AE4))*COS(RADIANS(AF4))","v":-124.99999999999997},{"$f":"camera!$B$5*COS(RADIANS(AE4))*SIN(RADIANS(AF4))","v":-216.50635094610973},{"$f":"camera!$B$5*SIN(RADIANS(AE4))","v":433.0127018922193},null,{"$f":"TRANSPOSE(MMULT(camera!$A$12:$C$14,MMULT(camera!$A$16:$C$18,TRANSPOSE(AH4:AJ4))))","v":-387.0895920701559},105.65456543517483,-298.32660041247522,null,{"$f":"camera!$B$5*AM4/AN4","v":-177.07868706493772},{"$f":"camera!$B$5*AL4/AN4","v":648.76814795421251},null,{"$f":"IF( AND( (camera!$B$3) > (AQ4+camera!$B$3/2), 0 < (AQ4+camera!$B$3/2), AN4 >= 0 ), AQ4+camera!$B$3/2, 0)*-1+camera!$B$3","v":1000},{"$f":"IF( AND( (camera!$B$4) > (AP4+camera!$B$4/2), 0 < (AP4+camera!$B$4/2), AN4 >= 0 ), AP4+camera!$B$4/2, 0)","v":0},null,null,null,365.6207,-317.98410000000001,2412.6379999999999,null,{"$f":"MMULT(               MMULT(AX4:AZ4-$B$2:$D$2, TRANSPOSE($A$16:$C$18)),     TRANSPOSE($A$12:$C$14))","v":-1619.9731535609908},-5448.008722376956,3563.0902069427843,null,{"$f":"$B$5*BC4/BD4","v":-764.50614578342038},{"$f":"$B$5*BB4/BD4","v":-227.32699138579571}," ",{"$f":"IF( AND( ($B$3) > (BG4+$B$3/2), 0 < (BG4+$B$3/2), BD4 >= 0 ), BG4+$B$3/2, 0)*-1+$B$3","v":727.32699138579574},{"$f":"IF( AND( ($B$4) > (BF4+$B$4/2), 0 < (BF4+$B$4/2), BD4 >= 0 ), BF4+$B$4/2, 0)","v":0}]
["focalLength",500,null,null,null,null,null,null,null,null,null,null,null,null,null,null,null,null,null,null,1.8987000000000001,515,null,null,null,"'Sirius'",null,6.7524810000000004,-16.716116,null,-16.716116,101.287215,null,{"$f":"camera!$B$5*COS(RADIANS(AE5))*COS(RADIANS(AF5))","v":-93.728103383729987},{"$f":"camera!$B$5*COS(RADIANS(AE5))*SIN(RADIANS(AF5))","v":469.60866644956639},{"$f":"camera!$B$5*SIN(RADIANS(AE5))","v":-143.81496108384795},null,{"$f":"TRANSPOSE(MMULT(camera!$A$12:$C$14,MMULT(camera!$A$16:$C$18,TRANSPOSE(AH5:AJ5))))","v":61.812231273590456},134.30053177821603,477.64276947219514,null,{"$f":"camera!$B$5*AM5/AN5","v":140.58679452702779},{"$f":"camera!$B$5*AL5/AN5","v":64.705502966049522},null,{"$f":"IF( AND( (camera!$B$3) > (AQ5+camera!$B$3/2), 0 < (AQ5+camera!$B$3/2), AN5 >= 0 ), AQ5+camera!$B$3/2, 0)*-1+camera!$B$3","v":435.29449703395051},{"$f":"IF( AND( (camera!$B$4) > (AP5+camera!$B$4/2), 0 < (AP5+camera!$B$4/2), AN5 >= 0 ), AP5+camera!$B$4/2, 0)","v":640.58679452702779},null,null,null,515.27390000000003,-90.150899999999993,2412.6379999999999,null,{"$f":"MMULT(               MMULT(AX5:AZ5-$B$2:$D$2, TRANSPOSE($A$16:$C$18)),     TRANSPOSE($A$12:$C$14))","v":-1661.6503418414345},-5577.2354750008435,3799.45328713045,null,-733.95236808044422,-218.669663273634," ",718.669663273634,0]
[null,null,null,null,null,null,null,null,null,null,null,null,null,null,null,null,null,null,null,null,3.3477000000000001,60,null,null,null,"'Canopus'",null,6.3991949999999997,-52.695659999999997,null,-52.695659999999997,95.98792499999999,null,{"$f":"camera!$B$5*COS(RADIANS(AE6))*COS(RADIANS(AF6))","v":-31.611154422086955},{"$f":"camera!$B$5*COS(RADIANS(AE6))*SIN(RADIANS(AF6))","v":301.37099647200711},{"$f":"camera!$B$5*SIN(RADIANS(AE6))","v":-397.71378829702701},null,{"$f":"TRANSPOSE(MMULT(camera!$A$12:$C$14,MMULT(camera!$A$16:$C$18,TRANSPOSE(AH6:AJ6))))","v":340.01665590083678},57.757077475962106,362.01214580652908,null,{"$f":"camera!$B$5*AM6/AN6","v":79.772292373346701},{"$f":"camera!$B$5*AL6/AN6","v":469.62050837177247},null,{"$f":"IF( AND( (camera!$B$3) > (AQ6+camera!$B$3/2), 0 < (AQ6+camera!$B$3/2), AN6 >= 0 ), AQ6+camera!$B$3/2, 0)*-1+camera!$B$3","v":30.37949162822747},{"$f":"IF( AND( (camera!$B$4) > (AP6+camera!$B$4/2), 0 < (AP6+camera!$B$4/2), AN6 >= 0 ), AP6+camera!$B$4/2, 0)","v":579.77229237334666},null,null,null,571.92769999999996,-113.6177,2513.6864,null,{"$f":"MMULT(               MMULT(AX6:AZ6-$B$2:$D$2, TRANSPOSE($A$16:$C$18)),     TRANSPOSE($A$12:$C$14))","v":-1757.9615523198195},-5635.7189565715043,3763.7467608529969,null,-748.68466380217535,-233.53876655630836," ",733.53876655630836,0]
[null,null,null,null,null,null,null,null,null,null,null,null,null,null,null,null,null,null,null,null,3.3477000000000001,470,null,null,null,"'Arcturus'",null,14.26103,19.182410000000001,null,19.182410000000001,-146.08455000000001,null,{"$f":"camera!$B$5*COS(RADIANS(AE7))*COS(RADIANS(AF7))","v":-391.89283847128451},{"$f":"camera!$B$5*COS(RADIANS(AE7))*SIN(RADIANS(AF7))","v":-263.49447902028254},{"$f":"camera!$B$5*SIN(RADIANS(AE7))","v":164.2883522370031},null,{"$f":"TRANSPOSE(MMULT(camera!$A$12:$C$14,MMULT(camera!$A$16:$C$18,TRANSPOSE(AH7:AJ7))))","v":-110.28014272919606},367.43651087629854,-320.66914506182212,null,{"$f":"camera!$B$5*AM7/AN7","v":-572.92152446637806},{"$f":"camera!$B$5*AL7/AN7","v":171.95315549915949},null,{"$f":"IF( AND( (camera!$B$3) > (AQ7+camera!$B$3/2), 0 < (AQ7+camera!$B$3/2), AN7 >= 0 ), AQ7+camera!$B$3/2, 0)*-1+camera!$B$3","v":1000},{"$f":"IF( AND( (camera!$B$4) > (AP7+camera!$B$4/2), 0 < (AP7+camera!$B$4/2), AN7 >= 0 ), AP7+camera!$B$4/2, 0)","v":0},null,null,null,409.11759999999998,-361.48110000000003,2513.6864,null,{"$f":"MMULT(               MMULT(AX7:AZ7-$B$2:$D$2, TRANSPOSE($A$16:$C$18)),     TRANSPOSE($A$12:$C$14))","v":-1712.6202696818671},-5495.1311168826769,3506.6035689502287,null,-783.54039868381153,-244.19929940848343," ",744.1992994084834,0]
["verticalAngle",100,"rotation from zenith",null,null,null,null,null,null,null,null,null,null,null,null,null,null,null,null,null,5,120,null,null,null,"'Rigil Kentaurus'",null,14.660765,-60.833976,null,-60.833976,-140.088525,null,{"$f":"camera!$B$5*COS(RADIANS(AE8))*COS(RADIANS(AF8))","v":-186.90456790744554},{"$f":"camera!$B$5*COS(RADIANS(AE8))*SIN(RADIANS(AF8))","v":-156.34008859122125},{"$f":"camera!$B$5*SIN(RADIANS(AE8))","v":-436.60561058536592},null,{"$f":"TRANSPOSE(MMULT(camera!$A$12:$C$14,MMULT(camera!$A$16:$C$18,TRANSPOSE(AH8:AJ8))))","v":459.84615000717292},172.56740305612328,-93.605607342969137,null,{"$f":"camera!$B$5*AM8/AN8","v":-921.7791965380859},{"$f":"camera!$B$5*AL8/AN8","v":-2456.2959584371133},null,{"$f":"IF( AND( (camera!$B$3) > (AQ8+camera!$B$3/2), 0 < (AQ8+camera!$B$3/2), AN8 >= 0 ), AQ8+camera!$B$3/2, 0)*-1+camera!$B$3","v":1000},{"$f":"IF( AND( (camera!$B$4) > (AP8+camera!$B$4/2), 0 < (AP8+camera!$B$4/2), AN8 >= 0 ), AP8+camera!$B$4/2, 0)","v":0},null,null,null,425.18529999999998,-377.5487,2632.0718999999999,null,{"$f":"MMULT(               MMULT(AX8:AZ8-$B$2:$D$2, TRANSPOSE($A$16:$C$18)),     TRANSPOSE($A$12:$C$14))","v":-1826.6709112511949},-5512.5380580453784,3471.6619759658934,null,-793.93358227390036,-263.08305991440517," ",763.08305991440511,0]
["horizontalAngle",85,"rotation right from 0 azimuth",null,null,null,null,null,null,null,null,null,null,null,null,null,null,null,null,null,5,530,null,null,null,"'Vega'",null,18.615639999999999,38.783692000000002,null,38.783692000000002,-80.7654,null,{"$f":"camera!$B$5*COS(RADIANS(AE9))*COS(RADIANS(AF9))","v":62.547324116311984},{"$f":"camera!$B$5*COS(RADIANS(AE9))*SIN(RADIANS(AF9))","v":-384.70669467805237},{"$f":"camera!$B$5*SIN(RADIANS(AE9))","v":313.19098217505689},null,{"$f":"TRANSPOSE(MMULT(camera!$A$12:$C$14,MMULT(camera!$A$16:$C$18,TRANSPOSE(AH9:AJ9))))","v":-242.83011734925148},-95.838710379158158,-426.4369539580365,null,{"$f":"camera!$B$5*AM9/AN9","v":112.37148831687458},{"$f":"camera!$B$5*AL9/AN9","v":284.71983384107369},null,{"$f":"IF( AND( (camera!$B$3) > (AQ9+camera!$B$3/2), 0 < (AQ9+camera!$B$3/2), AN9 >= 0 ), AQ9+camera!$B$3/2, 0)*-1+camera!$B$3","v":1000},{"$f":"IF( AND( (camera!$B$4) > (AP9+camera!$B$4/2), 0 < (AP9+camera!$B$4/2), AN9 >= 0 ), AP9+camera!$B$4/2, 0)","v":0},null,null,null,592.85550000000001,-122.2863,2632.0718999999999,null,{"$f":"MMULT(               MMULT(AX9:AZ9-$B$2:$D$2, TRANSPOSE($A$16:$C$18)),     TRANSPOSE($A$12:$C$14))","v":-1873.365682488723},-5657.3226382458106,3736.4811831564957,null,-757.03882355251562,-250.68581784026884," ",750.68581784026878,0]
[null,null,null,null,null,null,null,null,null,null,null,null,null,null,null,null,null,null,null,null,6.8986999999999998,75,null,null,null,"'Capella'",null,5.2781500000000001,45.997990999999999,null,45.997990999999999,79.172250000000005,null,{"$f":"camera!$B$5*COS(RADIANS(AE10))*COS(RADIANS(AF10))","v":65.250602657003725},{"$f":"camera!$B$5*COS(RADIANS(AE10))*SIN(RADIANS(AF10))","v":341.15785547457904},{"$f":"camera!$B$5*SIN(RADIANS(AE10))","v":359.65772131414622},null,{"$f":"TRANSPOSE(MMULT(camera!$A$12:$C$14,MMULT(camera!$A$16:$C$18,TRANSPOSE(AH10:AJ10))))","v":-414.19725177993109},-35.268438126113132,277.84307421653841,null,{"$f":"camera!$B$5*AM10/AN10","v":-63.468269319944426},{"$f":"camera!$B$5*AL10/AN10","v":-745.37983886746861},null,{"$f":"IF( AND( (camera!$B$3) > (AQ10+camera!$B$3/2), 0 < (AQ10+camera!$B$3/2), AN10 >= 0 ), AQ10+camera!$B$3/2, 0)*-1+camera!$B$3","v":1000},{"$f":"IF( AND( (camera!$B$4) > (AP10+camera!$B$4/2), 0 < (AP10+camera!$B$4/2), AN10 >= 0 ), AP10+camera!$B$4/2, 0)","v":436.5317306800556},null,null,null,654.79259999999999,176.7723,2632.0718999999999,null,{"$f":"MMULT(               MMULT(AX10:AZ10-$B$2:$D$2, TRANSPOSE($A$16:$C$18)),     TRANSPOSE($A$12:$C$14))","v":-1926.0364334034734},-5692.9593744729136,4035.1918552449329,null,-705.41371745103254,-238.65487720243286," ",738.65487720243289,0]
["x","y","z",null,null,null,null,null,null,null,null,null,null,null,null,null,null,null,null,null,6.8986999999999998,90,null,null,null,"'Rigel'",null,5.2422979999999999,-8.2016399999999994,null,-8.2016399999999994,78.634469999999993,null,{"$f":"camera!$B$5*COS(RADIANS(AE11))*COS(RADIANS(AF11))","v":97.525990489308654},{"$f":"camera!$B$5*COS(RADIANS(AE11))*SIN(RADIANS(AF11))","v":485.1813139507758},{"$f":"camera!$B$5*SIN(RADIANS(AE11))","v":-71.328632203891559},null,{"$f":"TRANSPOSE(MMULT(camera!$A$12:$C$14,MMULT(camera!$A$16:$C$18,TRANSPOSE(AH11:AJ11))))","v":-15.161261927121672},-54.868536866930704,496.74901086852657,null,{"$f":"camera!$B$5*AM11/AN11","v":-55.227625688672624},{"$f":"camera!$B$5*AL11/AN11","v":-15.260485270633351},null,{"$f":"IF( AND( (camera!$B$3) > (AQ11+camera!$B$3/2), 0 < (AQ11+camera!$B$3/2), AN11 >= 0 ), AQ11+camera!$B$3/2, 0)*-1+camera!$B$3","v":515.26048527063335},{"$f":"IF( AND( (camera!$B$4) > (AP11+camera!$B$4/2), 0 < (AP11+camera!$B$4/2), AN11 >= 0 ), AP11+camera!$B$4/2, 0)","v":444.77237431132738},null,null,null,632.06939999999997,176.7723,2513.6864,null,{"$f":"MMULT(               MMULT(AX11:AZ11-$B$2:$D$2, TRANSPOSE($A$16:$C$18)),     TRANSPOSE($A$12:$C$14))","v":-1809.1055723453737},-5670.3226431092362,4053.7989118060864,null,-699.38380843155107,-223.1370637399678," ",723.13706373996774,0]
[{"$f":"COS(RADIANS(B8))","v":-0.1736481776669303},0,{"$f":"-SIN(RADIANS(B8))","v":-0.98480775301220802},null,null,null,null,null,null,null,null,null,null,null,null,null,null,null,null,null,6.8986999999999998,105,null,null,null,"'Procyon'",null,7.6550330000000004,5.2249930000000004,null,5.2249930000000004,114.825495,null,{"$f":"camera!$B$5*COS(RADIANS(AE12))*COS(RADIANS(AF12))","v":-209.05568881423633},{"$f":"camera!$B$5*COS(RADIANS(AE12))*SIN(RADIANS(AF12))","v":451.90974759331743},{"$f":"camera!$B$5*SIN(RADIANS(AE12))","v":45.533493217073747},null,{"$f":"TRANSPOSE(MMULT(camera!$A$12:$C$14,MMULT(camera!$A$16:$C$18,TRANSPOSE(AH12:AJ12))))","v":-119.85248674524669},247.64669850906236,417.50029238138501,null,{"$f":"camera!$B$5*AM12/AN12","v":296.58266476474461},{"$f":"camera!$B$5*AL12/AN12","v":-143.53581174951836},null,{"$f":"IF( AND( (camera!$B$3) > (AQ12+camera!$B$3/2), 0 < (AQ12+camera!$B$3/2), AN12 >= 0 ), AQ12+camera!$B$3/2, 0)*-1+camera!$B$3","v":643.53581174951842},{"$f":"IF( AND( (camera!$B$4) > (AP12+camera!$B$4/2), 0 < (AP12+camera!$B$4/2), AN12 >= 0 ), AP12+camera!$B$4/2, 0)","v":796.58266476474455},null,null,null,570.55550000000005,176.7723,2412.6379999999999,null,{"$f":"MMULT(               MMULT(AX12:AZ12-$B$2:$D$2, TRANSPOSE($A$16:$C$18)),     TRANSPOSE($A$12:$C$14))","v":-1708.6613464193035},-5609.0428220702906,4066.0659427148826,null,-689.73830000469366,-210.11235067162275," ",710.11235067162272,0]
[0,1,0,null,null,null,null,null,null,null,null,null,null,null,null,null,null,null,null,null,6.8986999999999998,485,null,null,null,"'Achernar'",null,1.6285559999999999,-57.236756999999997,null,-57.236756999999997,24.428339999999999,null,{"$f":"camera!$B$5*COS(RADIANS(AE13))*COS(RADIANS(AF13))","v":246.36149524382216},{"$f":"camera!$B$5*COS(RADIANS(AE13))*SIN(RADIANS(AF13))","v":111.90149508484016},{"$f":"camera!$B$5*SIN(RADIANS(AE13))","v":-420.45697646608943},null,{"$f":"TRANSPOSE(MMULT(camera!$A$12:$C$14,MMULT(camera!$A$16:$C$18,TRANSPOSE(AH13:AJ13))))","v":390.98319996250314},-235.67115745715776,203.93931178143379,null,{"$f":"camera!$B$5*AM13/AN13","v":-577.79727556826242},{"$f":"camera!$B$5*AL13/AN13","v":958.57732515428017},null,{"$f":"IF( AND( (camera!$B$3) > (AQ13+camera!$B$3/2), 0 < (AQ13+camera!$B$3/2), AN13 >= 0 ), AQ13+camera!$B$3/2, 0)*-1+camera!$B$3","v":1000},{"$f":"IF( AND( (camera!$B$4) > (AP13+camera!$B$4/2), 0 < (AP13+camera!$B$4/2), AN13 >= 0 ), AP13+camera!$B$4/2, 0)","v":0},null,null,null,221.81899999999999,-174.1825,2321.7455,null,{"$f":"MMULT(               MMULT(AX13:AZ13-$B$2:$D$2, TRANSPOSE($A$16:$C$18)),     TRANSPOSE($A$12:$C$14))","v":-1553.1610212854334},-5292.2210960040748,3707.6088219776543,null,-713.69733838064144,-209.45589136571459," ",709.45589136571459,0]
[{"$f":"SIN(RADIANS(B8))","v":0.98480775301220802},0,{"$f":"COS(RADIANS(B8))","v":-0.1736481776669303},null,null,null,null,null,null,null,null,null,null,null,null,null,null,null,null,null,6.8986999999999998,500,null,null,null,"'Betelgeuse'",null,5.9195289999999998,7.407063,null,7.407063,88.792935,null,{"$f":"camera!$B$5*COS(RADIANS(AE14))*COS(RADIANS(AF14))","v":10.444956388868434},{"$f":"camera!$B$5*COS(RADIANS(AE14))*SIN(RADIANS(AF14))","v":495.71761157202042},{"$f":"camera!$B$5*SIN(RADIANS(AE14))","v":64.45892074310683},null,{"$f":"TRANSPOSE(MMULT(camera!$A$12:$C$14,MMULT(camera!$A$16:$C$18,TRANSPOSE(AH14:AJ14))))","v":-149.3906211701842},32.799426453264289,476.03218371316382,null,{"$f":"camera!$B$5*AM14/AN14","v":34.450849727660213},{"$f":"camera!$B$5*AL14/AN14","v":-156.91231210976321},null,{"$f":"IF( AND( (camera!$B$3) > (AQ14+camera!$B$3/2), 0 < (AQ14+camera!$B$3/2), AN14 >= 0 ), AQ14+camera!$B$3/2, 0)*-1+camera!$B$3","v":656.91231210976321},{"$f":"IF( AND( (camera!$B$4) > (AP14+camera!$B$4/2), 0 < (AP14+camera!$B$4/2), AN14 >= 0 ), AP14+camera!$B$4/2, 0)","v":534.45084972766017},null,null,null,327.97539999999998,-12.5693,2321.7455,null,{"$f":"MMULT(               MMULT(AX14:AZ14-$B$2:$D$2, TRANSPOSE($A$16:$C$18)),     TRANSPOSE($A$12:$C$14))","v":-1582.7246848086443},-5383.888020368755,3875.2726894381362,null,-694.64634515169405,-204.20816954665952," ",704.20816954665952,0]
["x","y","z",null,null,null,null,null,null,null,null,null,null,null,null,null,null,null,null,null,6.8986999999999998,515,null,null,null,"'Hadar'",null,14.063729,-60.373038999999999,null,-60.373038999999999,-149.04406499999999,null,{"$f":"camera!$B$5*COS(RADIANS(AE15))*COS(RADIANS(AF15))","v":-211.96858374494366},{"$f":"camera!$B$5*COS(RADIANS(AE15))*SIN(RADIANS(AF15))","v":-127.14180031035821},{"$f":"camera!$B$5*SIN(RADIANS(AE15))","v":-434.63120242224193},null,{"$f":"TRANSPOSE(MMULT(camera!$A$12:$C$14,MMULT(camera!$A$16:$C$18,TRANSPOSE(AH15:AJ15))))","v":453.23013148486058},200.08084124840533,-67.454465230601485,null,{"$f":"camera!$B$5*AM15/AN15","v":-1483.0807757826267},{"$f":"camera!$B$5*AL15/AN15","v":-3359.5265334580663},null,{"$f":"IF( AND( (camera!$B$3) > (AQ15+camera!$B$3/2), 0 < (AQ15+camera!$B$3/2), AN15 >= 0 ), AQ15+camera!$B$3/2, 0)*-1+camera!$B$3","v":1000},{"$f":"IF( AND( (camera!$B$4) > (AP15+camera!$B$4/2), 0 < (AP15+camera!$B$4/2), AN15 >= 0 ), AP15+camera!$B$4/2, 0)","v":0},null,null,null,429.02370000000002,-54.424900000000001,2346.2640000000001,null,{"$f":"MMULT(               MMULT(AX15:AZ15-$B$2:$D$2, TRANSPOSE($A$16:$C$18)),     TRANSPOSE($A$12:$C$14))","v":-1601.1595115549926},-5488.1997569860878,3838.6253731215452,null,-714.86524778049909,-208.55897045417328," ",708.55897045417328,0]
[{"$f":"COS(RADIANS(B9))","v":8.7155742747658138E-2},{"$f":"SIN(RADIANS(B9))","v":0.99619469809174555},0,null,null,null,null,null,null,null,null,null,null,null,null,null,null,null,null,null,8.3476999999999997,60,null,null,null,"'Altair'",null,19.846388000000001,8.8683219999999992,null,8.8683219999999992,-62.304179999999974,null,{"$f":"camera!$B$5*COS(RADIANS(AE16))*COS(RADIANS(AF16))","v":229.61057672429271},{"$f":"camera!$B$5*COS(RADIANS(AE16))*SIN(RADIANS(AF16))","v":-437.42123633405004},{"$f":"camera!$B$5*SIN(RADIANS(AE16))","v":77.082067047587728},null,{"$f":"TRANSPOSE(MMULT(camera!$A$12:$C$14,MMULT(camera!$A$16:$C$18,TRANSPOSE(AH16:AJ16))))","v":-3.7176840814564827},-266.86061190482138,-422.81389835110048,null,{"$f":"camera!$B$5*AM16/AN16","v":315.57691568977583},{"$f":"camera!$B$5*AL16/AN16","v":4.3963598357986742},null,{"$f":"IF( AND( (camera!$B$3) > (AQ16+camera!$B$3/2), 0 < (AQ16+camera!$B$3/2), AN16 >= 0 ), AQ16+camera!$B$3/2, 0)*-1+camera!$B$3","v":1000},{"$f":"IF( AND( (camera!$B$4) > (AP16+camera!$B$4/2), 0 < (AP16+camera!$B$4/2), AN16 >= 0 ), AP16+camera!$B$4/2, 0)","v":0},null,null,null,299.4006,-251.76410000000001,2346.2640000000001,null,{"$f":"MMULT(               MMULT(AX16:AZ16-$B$2:$D$2, TRANSPOSE($A$16:$C$18)),     TRANSPOSE($A$12:$C$14))","v":-1565.0605451294477},-5376.2691565651003,3633.8979611253631,null,-739.73859669138187,-215.34183979188731," ",715.34183979188731,0]
[{"$f":"-SIN(RADIANS(B9))","v":-0.99619469809174555},{"$f":"COS(RADIANS(B9))","v":8.7155742747658138E-2},0,null,null,null,null,null,null,null,null,null,null,null,null,null,null,null,null,null,8.3476999999999997,470,null,null,null,"'Acrux'",null,12.443311,-63.099091999999999,null,-63.099091999999999,-173.350335,null,{"$f":"camera!$B$5*COS(RADIANS(AE17))*COS(RADIANS(AF17))","v":-224.70255571889928},{"$f":"camera!$B$5*COS(RADIANS(AE17))*SIN(RADIANS(AF17))","v":-26.196376313338611},{"$f":"camera!$B$5*SIN(RADIANS(AE17))","v":-445.89517974681553},null,{"$f":"TRANSPOSE(MMULT(camera!$A$12:$C$14,MMULT(camera!$A$16:$C$18,TRANSPOSE(AH17:AJ17))))","v":447.05341934055605},221.56433001994631,32.442070197958436,null,{"$f":"camera!$B$5*AM17/AN17","v":3414.7686733303663},{"$f":"camera!$B$5*AL17/AN17","v":6890.0260774463286},null,{"$f":"IF( AND( (camera!$B$3) > (AQ17+camera!$B$3/2), 0 < (AQ17+camera!$B$3/2), AN17 >= 0 ), AQ17+camera!$B$3/2, 0)*-1+camera!$B$3","v":1000},{"$f":"IF( AND( (camera!$B$4) > (AP17+camera!$B$4/2), 0 < (AP17+camera!$B$4/2), AN17 >= 0 ), AP17+camera!$B$4/2, 0)","v":0},null,null,null,476.90620000000001,176.7723,2346.2640000000001,null,{"$f":"MMULT(               MMULT(AX17:AZ17-$B$2:$D$2, TRANSPOSE($A$16:$C$18)),     TRANSPOSE($A$12:$C$14))","v":-1641.8783872928161},-5515.7498859302868,4069.5535928087374,null,-677.68488117186939,-201.72708748622466," ",701.72708748622472,0]
[0,0,1,null,null,null,null,null,null,null,null,null,null,null,null,null,null,null,null,null,10,120,null,null,null,"'Aldebaran'",null,4.5986770000000003,16.509301000000001,null,16.509301000000001,68.980155000000011,null,{"$f":"camera!$B$5*COS(RADIANS(AE18))*COS(RADIANS(AF18))","v":171.95186966586735},{"$f":"camera!$B$5*COS(RADIANS(AE18))*SIN(RADIANS(AF18))","v":447.4866106987505},{"$f":"camera!$B$5*SIN(RADIANS(AE18))","v":142.08549455788062},null,{"$f":"TRANSPOSE(MMULT(camera!$A$12:$C$14,MMULT(camera!$A$16:$C$18,TRANSPOSE(AH18:AJ18))))","v":-219.93883378189599},-132.29651296301819,429.09735731240005,null,{"$f":"camera!$B$5*AM18/AN18","v":-154.15675569717041},{"$f":"camera!$B$5*AL18/AN18","v":-256.28080671418786},null,{"$f":"IF( AND( (camera!$B$3) > (AQ18+camera!$B$3/2), 0 < (AQ18+camera!$B$3/2), AN18 >= 0 ), AQ18+camera!$B$3/2, 0)*-1+camera!$B$3","v":756.28080671418786},{"$f":"IF( AND( (camera!$B$4) > (AP18+camera!$B$4/2), 0 < (AP18+camera!$B$4/2), AN18 >= 0 ), AP18+camera!$B$4/2, 0)","v":345.84324430282959},null,null,null,367.1893,176.7723,2321.7455,null,{"$f":"MMULT(               MMULT(AX18:AZ18-$B$2:$D$2, TRANSPOSE($A$16:$C$18)),     TRANSPOSE($A$12:$C$14))","v":-1616.0718750102426},-5406.4504918592247,4064.3940029637943,null,-665.09921133590763,-198.8084661368691," ",698.80846613686913,0]
[null,null,null,null,null,null,null,null,null,null,null,null,null,null,null,null,null,null,null,null,10,530,null,null,null,"''",null,5.2779259999999999,46.000841999999999,null,46.000841999999999,79.168890000000005,null,{"$f":"camera!$B$5*COS(RADIANS(AE19))*COS(RADIANS(AF19))","v":65.267246023169946},{"$f":"camera!$B$5*COS(RADIANS(AE19))*SIN(RADIANS(AF19))","v":341.13645045729044},{"$f":"camera!$B$5*SIN(RADIANS(AE19))","v":359.67500436637465},null,{"$f":"TRANSPOSE(MMULT(camera!$A$12:$C$14,MMULT(camera!$A$16:$C$18,TRANSPOSE(AH19:AJ19))))","v":-414.2108213535621},-35.286883729426627,277.82050196174026,null,{"$f":"camera!$B$5*AM19/AN19","v":-63.506622945858261},{"$f":"camera!$B$5*AL19/AN19","v":-745.46482068232081},null,{"$f":"IF( AND( (camera!$B$3) > (AQ19+camera!$B$3/2), 0 < (AQ19+camera!$B$3/2), AN19 >= 0 ), AQ19+camera!$B$3/2, 0)*-1+camera!$B$3","v":1000},{"$f":"IF( AND( (camera!$B$4) > (AP19+camera!$B$4/2), 0 < (AP19+camera!$B$4/2), AN19 >= 0 ), AP19+camera!$B$4/2, 0)","v":436.49337705414172},null,null,null,78.017399999999995,-30.3809,2412.6379999999999,null,{"$f":"MMULT(               MMULT(AX19:AZ19-$B$2:$D$2, TRANSPOSE($A$16:$C$18)),     TRANSPOSE($A$12:$C$14))","v":-1665.3721679046434},-5136.4335692506629,3820.5608116185058,null,-672.20937219877851,-217.94865335478602," ",717.94865335478607,0]
["traverseDelta",250,null,null,null,null,null,null,null,null,null,null,null,null,null,null,null,null,null,null,11.8987,90,null,null,null,"'Spica'",null,13.419883,-11.161322,null,-11.161322,-158.70175499999999,null,{"$f":"camera!$B$5*COS(RADIANS(AE20))*COS(RADIANS(AF20))","v":-457.04009163271041},{"$f":"camera!$B$5*COS(RADIANS(AE20))*SIN(RADIANS(AF20))","v":-178.17635838345205},{"$f":"camera!$B$5*SIN(RADIANS(AE20))","v":-96.786052474389749},null,{"$f":"TRANSPOSE(MMULT(camera!$A$12:$C$14,MMULT(camera!$A$16:$C$18,TRANSPOSE(AH20:AJ20))))","v":133.05496272719873},439.77182324488894,-197.22352895516772,null,{"$f":"camera!$B$5*AM20/AN20","v":-1114.9070944391644},{"$f":"camera!$B$5*AL20/AN20","v":-337.3202057383437},null,{"$f":"IF( AND( (camera!$B$3) > (AQ20+camera!$B$3/2), 0 < (AQ20+camera!$B$3/2), AN20 >= 0 ), AQ20+camera!$B$3/2, 0)*-1+camera!$B$3","v":1000},{"$f":"IF( AND( (camera!$B$4) > (AP20+camera!$B$4/2), 0 < (AP20+camera!$B$4/2), AN20 >= 0 ), AP20+camera!$B$4/2, 0)","v":0},null,null,null,140.67679999999999,65.012299999999996,2412.6379999999999,null,{"$f":"MMULT(               MMULT(AX20:AZ20-$B$2:$D$2, TRANSPOSE($A$16:$C$18)),     TRANSPOSE($A$12:$C$14))","v":-1682.8223036437346},-5190.540466117197,3919.5254491854748,null,-662.13889071645838,-214.67168990999224," ",714.67168990999221,0]
[null,null,null,null,null,null,null,null,null,null,null,null,null,null,null,null,null,null,null,null,11.8987,75,null,null,null,"'Antares'",null,16.490127999999999,-26.432002000000001,null,-26.432002000000001,-112.64808000000002,null,{"$f":"camera!$B$5*COS(RADIANS(AE21))*COS(RADIANS(AF21))","v":-172.40797804756119},{"$f":"camera!$B$5*COS(RADIANS(AE21))*SIN(RADIANS(AF21))","v":-413.20589035539126},{"$f":"camera!$B$5*SIN(RADIANS(AE21))","v":-222.56770044451667},null,{"$f":"TRANSPOSE(MMULT(camera!$A$12:$C$14,MMULT(camera!$A$16:$C$18,TRANSPOSE(AH21:AJ21))))","v":293.27510458757428},135.738647358067,-381.52946497295562,null,{"$f":"camera!$B$5*AM21/AN21","v":-177.88750256508851},{"$f":"camera!$B$5*AL21/AN21","v":-384.3413569753555},null,{"$f":"IF( AND( (camera!$B$3) > (AQ21+camera!$B$3/2), 0 < (AQ21+camera!$B$3/2), AN21 >= 0 ), AQ21+camera!$B$3/2, 0)*-1+camera!$B$3","v":1000},{"$f":"IF( AND( (camera!$B$4) > (AP21+camera!$B$4/2), 0 < (AP21+camera!$B$4/2), AN21 >= 0 ), AP21+camera!$B$4/2, 0)","v":0},null,null,null,226.92699999999999,29.286300000000001,2346.2640000000001,null,{"$f":"MMULT(               MMULT(AX21:AZ21-$B$2:$D$2, TRANSPOSE($A$16:$C$18)),     TRANSPOSE($A$12:$C$14))","v":-1612.5818743333125},-5279.5761841319509,3903.4048114833095,null,-676.2783312404755,-206.56093234159397," ",706.56093234159403,0]
[null,null,null,null,null,null,null,null,null,null,null,null,null,null,null,null,null,null,null,null,11.8987,105,null,null,null,"'Pollux'",null,7.7552770000000004,28.026198999999998,null,28.026198999999998,116.329155,null,{"$f":"camera!$B$5*COS(RADIANS(AE22))*COS(RADIANS(AF22))","v":-195.75805943419542},{"$f":"camera!$B$5*COS(RADIANS(AE22))*SIN(RADIANS(AF22))","v":395.57944170570295},{"$f":"camera!$B$5*SIN(RADIANS(AE22))","v":234.93762462909677},null,{"$f":"TRANSPOSE(MMULT(camera!$A$12:$C$14,MMULT(camera!$A$16:$C$18,TRANSPOSE(AH22:AJ22))))","v":-296.8359631173405},229.49016097463874,330.488542942165,null,{"$f":"camera!$B$5*AM22/AN22","v":347.19836114681772},{"$f":"camera!$B$5*AL22/AN22","v":-449.08661655070802},null,{"$f":"IF( AND( (camera!$B$3) > (AQ22+camera!$B$3/2), 0 < (AQ22+camera!$B$3/2), AN22 >= 0 ), AQ22+camera!$B$3/2, 0)*-1+camera!$B$3","v":949.08661655070796},{"$f":"IF( AND( (camera!$B$4) > (AP22+camera!$B$4/2), 0 < (AP22+camera!$B$4/2), AN22 >= 0 ), AP22+camera!$B$4/2, 0)","v":847.19836114681766},null,null,null,144.23740000000001,-96.600899999999996,2346.2640000000001,null,{"$f":"MMULT(               MMULT(AX22:AZ22-$B$2:$D$2, TRANSPOSE($A$16:$C$18)),     TRANSPOSE($A$12:$C$14))","v":-1589.5535152258785},-5208.1730354430474,3772.8044971416912,null,-690.22567156458854,-210.65940687227999," ",710.65940687227999,0]
[null,null,null,null,null,null,null,null,null,null,null,null,null,null,null,null,null,null,null,null,11.8987,500,null,null,null,"'Fomalhaut'",null,22.960837999999999,-29.622236000000001,null,-29.622236000000001,-15.58743000000004,null,{"$f":"camera!$B$5*COS(RADIANS(AE23))*COS(RADIANS(AF23))","v":418.66576938969888},{"$f":"camera!$B$5*COS(RADIANS(AE23))*SIN(RADIANS(AF23))","v":-116.79457880518524},{"$f":"camera!$B$5*SIN(RADIANS(AE23))","v":-247.13963644678878},null,{"$f":"TRANSPOSE(MMULT(camera!$A$12:$C$14,MMULT(camera!$A$16:$C$18,TRANSPOSE(AH23:AJ23))))","v":257.25274961059051},-427.25193800318527,-35.732398328593106,null,{"$f":"camera!$B$5*AM23/AN23","v":5978.4951191101236},{"$f":"camera!$B$5*AL23/AN23","v":-3599.7128886355295},null,{"$f":"IF( AND( (camera!$B$3) > (AQ23+camera!$B$3/2), 0 < (AQ23+camera!$B$3/2), AN23 >= 0 ), AQ23+camera!$B$3/2, 0)*-1+camera!$B$3","v":1000},{"$f":"IF( AND( (camera!$B$4) > (AP23+camera!$B$4/2), 0 < (AP23+camera!$B$4/2), AN23 >= 0 ), AP23+camera!$B$4/2, 0)","v":0},null,null,null,257.47230000000002,176.7723,2346.2640000000001,null,{"$f":"MMULT(               MMULT(AX23:AZ23-$B$2:$D$2, TRANSPOSE($A$16:$C$18)),     TRANSPOSE($A$12:$C$14))","v":-1638.5573789986852},-5297.1509981686931,4050.7192188474328,null,-653.85314458748292,-202.25511698943558," ",702.25511698943558,0]
[null,null,null,null,null,null,null,null,null,null,null,null,null,null,null,null,null,null,null,null,11.8987,485,null,null,null,"'Becrux'",null,12.795358999999999,-59.688763999999999,null,-59.688763999999999,-168.069615,null,{"$f":"camera!$B$5*COS(RADIANS(AE24))*COS(RADIANS(AF24))","v":-246.89761060906957},{"$f":"camera!$B$5*COS(RADIANS(AE24))*SIN(RADIANS(AF24))","v":-52.166251358247592},{"$f":"camera!$B$5*SIN(RADIANS(AE24))","v":-431.64829675878536},null,{"$f":"TRANSPOSE(MMULT(camera!$A$12:$C$14,MMULT(camera!$A$16:$C$18,TRANSPOSE(AH24:AJ24))))","v":437.8513491578272},241.41150227678631,2.5850742998454592,null,{"$f":"camera!$B$5*AM24/AN24","v":46693.339199422306},{"$f":"camera!$B$5*AL24/AN24","v":84688.349031980018},null,{"$f":"IF( AND( (camera!$B$3) > (AQ24+camera!$B$3/2), 0 < (AQ24+camera!$B$3/2), AN24 >= 0 ), AQ24+camera!$B$3/2, 0)*-1+camera!$B$3","v":1000},{"$f":"IF( AND( (camera!$B$4) > (AP24+camera!$B$4/2), 0 < (AP24+camera!$B$4/2), AN24 >= 0 ), AP24+camera!$B$4/2, 0)","v":0},null,null,null,163.82310000000001,176.7723,2412.6379999999999,null,{"$f":"MMULT(               MMULT(AX24:AZ24-$B$2:$D$2, TRANSPOSE($A$16:$C$18)),     TRANSPOSE($A$12:$C$14))","v":-1702.5056809825057},-5203.8581616481588,4031.1554292355227,null,-645.45491398170054,-211.16844920382698," ",711.16844920382698,0]
[null,null,null,null,null,null,null,null,null,null,null,null,null,null,null,null,null,null,null,null,11.8987,515,null,null,null,"'Deneb'",null,20.690532000000001,45.280338,null,45.280338,-49.642020000000002,null,{"$f":"camera!$B$5*COS(RADIANS(AE25))*COS(RADIANS(AF25))","v":227.82453146074943},{"$f":"camera!$B$5*COS(RADIANS(AE25))*SIN(RADIANS(AF25))","v":-268.09102392115432},{"$f":"camera!$B$5*SIN(RADIANS(AE25))","v":355.27902521482611},null,{"$f":"TRANSPOSE(MMULT(camera!$A$12:$C$14,MMULT(camera!$A$16:$C$18,TRANSPOSE(AH25:AJ25))))","v":-306.95316671949638},-250.32326265026305,-305.1524497968195,null,{"$f":"camera!$B$5*AM25/AN25","v":410.16099136175455},{"$f":"camera!$B$5*AL25/AN25","v":502.95052018077496},null,{"$f":"IF( AND( (camera!$B$3) > (AQ25+camera!$B$3/2), 0 < (AQ25+camera!$B$3/2), AN25 >= 0 ), AQ25+camera!$B$3/2, 0)*-1+camera!$B$3","v":1000},{"$f":"IF( AND( (camera!$B$4) > (AP25+camera!$B$4/2), 0 < (AP25+camera!$B$4/2), AN25 >= 0 ), AP25+camera!$B$4/2, 0)","v":0},null,null,null,18.4528,29.183700000000002,2632.0718999999999,null,{"$f":"MMULT(               MMULT(AX25:AZ25-$B$2:$D$2, TRANSPOSE($A$16:$C$18)),     TRANSPOSE($A$12:$C$14))","v":-1890.8748222018505},-5071.9042335822396,3835.7804488887027,null,-661.13067486066166,-246.47849992948272," ",746.47849992948272,0]
[null,null,null,null,null,null,null,null,null,null,null,null,null,null,null,null,null,null,null,null,13.3477,60,null,null,null,"''",null,14.660346000000001,-60.838299999999997,null,-60.838299999999997,-140.09481,null,{"$f":"camera!$B$5*COS(RADIANS(AE26))*COS(RADIANS(AF26))","v":-186.89643981210341},{"$f":"camera!$B$5*COS(RADIANS(AE26))*SIN(RADIANS(AF26))","v":-156.29844700002238},{"$f":"camera!$B$5*SIN(RADIANS(AE26))","v":-436.62399871163979},null,{"$f":"TRANSPOSE(MMULT(camera!$A$12:$C$14,MMULT(camera!$A$16:$C$18,TRANSPOSE(AH26:AJ26))))","v":459.8569322920124},172.56293519444802,-93.560863720127216,null,{"$f":"camera!$B$5*AM26/AN26","v":-922.19614234560311},{"$f":"camera!$B$5*AL26/AN26","v":-2457.528254910103},null,{"$f":"IF( AND( (camera!$B$3) > (AQ26+camera!$B$3/2), 0 < (AQ26+camera!$B$3/2), AN26 >= 0 ), AQ26+camera!$B$3/2, 0)*-1+camera!$B$3","v":1000},{"$f":"IF( AND( (camera!$B$4) > (AP26+camera!$B$4/2), 0 < (AP26+camera!$B$4/2), AN26 >= 0 ), AP26+camera!$B$4/2, 0)","v":0},null,null,null,63.095199999999998,97.147599999999997,2632.0718999999999,null,{"$f":"MMULT(               MMULT(AX26:AZ26-$B$2:$D$2, TRANSPOSE($A$16:$C$18)),     TRANSPOSE($A$12:$C$14))","v":-1903.3073576851177},-5110.453311587803,3906.2888613467071,null,-654.13151625273758,-243.62091811983225," ",743.62091811983225,0]
[null,null,null,null,null,null,null,null,null,null,null,null,null,null,null,null,null,null,null,null,13.3477,470,null,null,null,"'Regulus'",null,10.139532000000001,11.967207,null,11.967207,152.09298000000001,null,{"$f":"camera!$B$5*COS(RADIANS(AE27))*COS(RADIANS(AF27))","v":-432.25108133661331},{"$f":"camera!$B$5*COS(RADIANS(AE27))*SIN(RADIANS(AF27))","v":228.93297832716442},{"$f":"camera!$B$5*SIN(RADIANS(AE27))","v":103.67590905115119},null,{"$f":"TRANSPOSE(MMULT(camera!$A$12:$C$14,MMULT(camera!$A$16:$C$18,TRANSPOSE(AH27:AJ27))))","v":-135.16148205471413},450.55905923749555,169.49309103263221,null,{"$f":"camera!$B$5*AM27/AN27","v":1329.1369473896436},{"$f":"camera!$B$5*AL27/AN27","v":-398.72268902303432},null,{"$f":"IF( AND( (camera!$B$3) > (AQ27+camera!$B$3/2), 0 < (AQ27+camera!$B$3/2), AN27 >= 0 ), AQ27+camera!$B$3/2, 0)*-1+camera!$B$3","v":898.72268902303426},{"$f":"IF( AND( (camera!$B$4) > (AP27+camera!$B$4/2), 0 < (AP27+camera!$B$4/2), AN27 >= 0 ), AP27+camera!$B$4/2, 0)","v":0},null,null,null,84.022999999999996,88.478999999999999,2513.6864,null,{"$f":"MMULT(               MMULT(AX27:AZ27-$B$2:$D$2, TRANSPOSE($A$16:$C$18)),     TRANSPOSE($A$12:$C$14))","v":-1785.5375713655683},-5132.0569932621102,3920.1381363245832,null,-654.57603977111251,-227.73911393842369," ",727.73911393842366,0]
[null,null,null,null,null,null,null,null,null,null,null,null,null,null,null,null,null,null,null,null,15,120,null,null,null,"'Adhara'",null,6.9770969999999997,-28.972083999999999,null,-28.972083999999999,104.65645499999999,null,{"$f":"camera!$B$5*COS(RADIANS(AE28))*COS(RADIANS(AF28))","v":-110.67920964953335},{"$f":"camera!$B$5*COS(RADIANS(AE28))*SIN(RADIANS(AF28))","v":423.19414800947089},{"$f":"camera!$B$5*SIN(RADIANS(AE28))","v":-242.19171257888382},null,{"$f":"TRANSPOSE(MMULT(camera!$A$12:$C$14,MMULT(camera!$A$16:$C$18,TRANSPOSE(AH28:AJ28))))","v":166.98009087853384},147.14184213807769,447.73533202374097,null,{"$f":"camera!$B$5*AM28/AN28","v":164.31788113862271},{"$f":"camera!$B$5*AL28/AN28","v":186.47187181296627},null,{"$f":"IF( AND( (camera!$B$3) > (AQ28+camera!$B$3/2), 0 < (AQ28+camera!$B$3/2), AN28 >= 0 ), AQ28+camera!$B$3/2, 0)*-1+camera!$B$3","v":313.52812818703376},{"$f":"IF( AND( (camera!$B$4) > (AP28+camera!$B$4/2), 0 < (AP28+camera!$B$4/2), AN28 >= 0 ), AP28+camera!$B$4/2, 0)","v":664.31788113862274},null,null,null,34.520499999999998,13.116,2513.6864,null,{"$f":"MMULT(               MMULT(AX28:AZ28-$B$2:$D$2, TRANSPOSE($A$16:$C$18)),     TRANSPOSE($A$12:$C$14))","v":-1771.7515299839856},-5089.3111834605152,3841.9536104727172,null,-662.33376290484694,-230.57950584754562," ",730.57950584754565,0]
[null,null,null,null,null,null,null,null,null,null,null,null,null,null,null,null,null,null,null,null,15,530,null,null,null,"'Castor'",null,7.5766340000000003,31.888276000000001,null,31.888276000000001,113.64951000000001,null,{"$f":"camera!$B$5*COS(RADIANS(AE29))*COS(RADIANS(AF29))","v":-170.30024267200167},{"$f":"camera!$B$5*COS(RADIANS(AE29))*SIN(RADIANS(AF29))","v":388.88552828903101},{"$f":"camera!$B$5*SIN(RADIANS(AE29))","v":264.13230251754254},null,{"$f":"TRANSPOSE(MMULT(camera!$A$12:$C$14,MMULT(camera!$A$16:$C$18,TRANSPOSE(AH29:AJ29))))","v":-324.8144353074411},203.54580589543164,321.03689432569485,null,{"$f":"camera!$B$5*AM29/AN29","v":317.0131058035538},{"$f":"camera!$B$5*AL29/AN29","v":-505.88334401514908},null,{"$f":"IF( AND( (camera!$B$3) > (AQ29+camera!$B$3/2), 0 < (AQ29+camera!$B$3/2), AN29 >= 0 ), AQ29+camera!$B$3/2, 0)*-1+camera!$B$3","v":1000},{"$f":"IF( AND( (camera!$B$4) > (AP29+camera!$B$4/2), 0 < (AP29+camera!$B$4/2), AN29 >= 0 ), AP29+camera!$B$4/2, 0)","v":817.0131058035538},null,null,null,102.3091,176.7723,2513.6864,null,{"$f":"MMULT(               MMULT(AX29:AZ29-$B$2:$D$2, TRANSPOSE($A$16:$C$18)),     TRANSPOSE($A$12:$C$14))","v":-1801.0879490419497},-5142.5782409897438,4008.328710528835,null,-641.48659109238361,-224.66819454090194," ",724.66819454090194,0]
[null,null,null,null,null,null,null,null,null,null,null,null,null,null,null,null,null,null,null,null,16.898700000000002,75,null,null,null,"'Gacrux'",null,12.519429000000001,-57.113211999999997,null,-57.113211999999997,-172.20856499999999,null,{"$f":"camera!$B$5*COS(RADIANS(AE30))*COS(RADIANS(AF30))","v":-268.98404488903748},{"$f":"camera!$B$5*COS(RADIANS(AE30))*SIN(RADIANS(AF30))","v":-36.805267424068674},{"$f":"camera!$B$5*SIN(RADIANS(AE30))","v":-419.87254719137695},null,{"$f":"TRANSPOSE(MMULT(camera!$A$12:$C$14,MMULT(camera!$A$16:$C$18,TRANSPOSE(AH30:AJ30))))","v":423.93150883131375},264.75268897036034,13.714572649899573,null,{"$f":"camera!$B$5*AM30/AN30","v":9652.2398374658442},{"$f":"camera!$B$5*AL30/AN30","v":15455.512893229599},null,{"$f":"IF( AND( (camera!$B$3) > (AQ30+camera!$B$3/2), 0 < (AQ30+camera!$B$3/2), AN30 >= 0 ), AQ30+camera!$B$3/2, 0)*-1+camera!$B$3","v":1000},{"$f":"IF( AND( (camera!$B$4) > (AP30+camera!$B$4/2), 0 < (AP30+camera!$B$4/2), AN30 >= 0 ), AP30+camera!$B$4/2, 0)","v":0},null,null,null,79.585999999999999,176.7723,2632.0718999999999,null,{"$f":"MMULT(               MMULT(AX30:AZ30-$B$2:$D$2, TRANSPOSE($A$16:$C$18)),     TRANSPOSE($A$12:$C$14))","v":-1917.3310059857467},-5119.9416092455349,3985.8209229987774,null,-642.26939796802128,-240.51895996160573," ",740.51895996160579,0]
["view As. Lat",{"$f":"90-B8","v":-10},null,null,null,null,null,null,null,null,null,null,null,null,null,null,null,null,null,null,16.898700000000002,105,null,null,null,"'Shaula'",null,17.560144999999999,-37.103821000000003,null,-37.103821000000003,-96.597825,null,{"$f":"camera!$B$5*COS(RADIANS(AE31))*COS(RADIANS(AF31))","v":-45.81866266383345},{"$f":"camera!$B$5*COS(RADIANS(AE31))*SIN(RADIANS(AF31))","v":-396.13083493051687},{"$f":"camera!$B$5*SIN(RADIANS(AE31))","v":-301.63058825150574},null,{"$f":"TRANSPOSE(MMULT(camera!$A$12:$C$14,MMULT(camera!$A$16:$C$18,TRANSPOSE(AH31:AJ31))))","v":366.26722225688661},11.119231675745944,-340.18331027133809,null,{"$f":"camera!$B$5*AM31/AN31","v":-16.342999994439744},{"$f":"camera!$B$5*AL31/AN31","v":-538.33802423279292},null,{"$f":"IF( AND( (camera!$B$3) > (AQ31+camera!$B$3/2), 0 < (AQ31+camera!$B$3/2), AN31 >= 0 ), AQ31+camera!$B$3/2, 0)*-1+camera!$B$3","v":1000},{"$f":"IF( AND( (camera!$B$4) > (AP31+camera!$B$4/2), 0 < (AP31+camera!$B$4/2), AN31 >= 0 ), AP31+camera!$B$4/2, 0)","v":0},null,null,null,78.017399999999995,-30.3809,2851.5057999999999,null,{"$f":"MMULT(               MMULT(AX31:AZ31-$B$2:$D$2, TRANSPOSE($A$16:$C$18)),     TRANSPOSE($A$12:$C$14))","v":-2097.5725798920548},-5136.4335692506629,3744.3522179118108,null,-685.89081239200334,-280.09819293413733," ",780.09819293413739,0]
["view As. Long",{"$f":"IF(B9>180,(B9)-360,-1*B9)","v":-85},null,null,null,null,null,null,null,null,null,null,null,null,null,null,null,null,null,null,16.898700000000002,90,null,null,null,"'Bellatrix'",null,5.4188510000000001,6.3497019999999997,null,6.3497019999999997,81.282764999999998,null,{"$f":"camera!$B$5*COS(RADIANS(AE32))*COS(RADIANS(AF32))","v":75.314204858272035},{"$f":"camera!$B$5*COS(RADIANS(AE32))*SIN(RADIANS(AF32))","v":491.19229879212219},{"$f":"camera!$B$5*SIN(RADIANS(AE32))","v":55.298247294799467},null,{"$f":"TRANSPOSE(MMULT(camera!$A$12:$C$14,MMULT(camera!$A$16:$C$18,TRANSPOSE(AH32:AJ32))))","v":-140.56805635391575},-32.217381937649151,478.7511481280917,null,{"$f":"camera!$B$5*AM32/AN32","v":-33.647315587250837},{"$f":"camera!$B$5*AL32/AN32","v":-146.80701749075098},null,{"$f":"IF( AND( (camera!$B$3) > (AQ32+camera!$B$3/2), 0 < (AQ32+camera!$B$3/2), AN32 >= 0 ), AQ32+camera!$B$3/2, 0)*-1+camera!$B$3","v":646.80701749075092},{"$f":"IF( AND( (camera!$B$4) > (AP32+camera!$B$4/2), 0 < (AP32+camera!$B$4/2), AN32 >= 0 ), AP32+camera!$B$4/2, 0)","v":466.35268441274917},null,null,null,140.67679999999999,65.012299999999996,2851.5057999999999,null,{"$f":"MMULT(               MMULT(AX32:AZ32-$B$2:$D$2, TRANSPOSE($A$16:$C$18)),     TRANSPOSE($A$12:$C$14))","v":-2115.0227156311457},-5190.540466117197,3843.3168554787799,null,-675.26835039868013,-275.15591286938889," ",775.15591286938889,0]
[null,null,null,null,null,null,null,null,null,null,null,null,null,null,null,null,null,null,null,null,16.898700000000002,485,null,null,null,"'Alnath'",null,5.4381979999999999,28.60745,null,28.60745,81.572969999999998,null,{"$f":"camera!$B$5*COS(RADIANS(AE33))*COS(RADIANS(AF33))","v":64.329515535986488},{"$f":"camera!$B$5*COS(RADIANS(AE33))*SIN(RADIANS(AF33))","v":434.22104201926572},{"$f":"camera!$B$5*SIN(RADIANS(AE33))","v":239.40300770585219},null,{"$f":"TRANSPOSE(MMULT(camera!$A$12:$C$14,MMULT(camera!$A$16:$C$18,TRANSPOSE(AH33:AJ33))))","v":-311.85429545895772},-26.239864873909141,389.94662185380713,null,{"$f":"camera!$B$5*AM33/AN33","v":-33.645457356656614},{"$f":"camera!$B$5*AL33/AN33","v":-399.86792804666663},null,{"$f":"IF( AND( (camera!$B$3) > (AQ33+camera!$B$3/2), 0 < (AQ33+camera!$B$3/2), AN33 >= 0 ), AQ33+camera!$B$3/2, 0)*-1+camera!$B$3","v":899.86792804666663},{"$f":"IF( AND( (camera!$B$4) > (AP33+camera!$B$4/2), 0 < (AP33+camera!$B$4/2), AN33 >= 0 ), AP33+camera!$B$4/2, 0)","v":466.35454264334339},null,null,null,84.022999999999996,88.478999999999999,2750.4573999999998,null,{"$f":"MMULT(               MMULT(AX33:AZ33-$B$2:$D$2, TRANSPOSE($A$16:$C$18)),     TRANSPOSE($A$12:$C$14))","v":-2018.7114878540215},-5132.0569932621102,3879.0232836502068,null,-661.51407428944117,-260.20873558077614," ",760.20873558077619,0]
["instrumentZenith",90,"where the instrument iteself is pointing relative to stars (90 to -90)",null,null,null,null,null,null,null,null,null,null,null,null,null,null,null,null,null,16.898700000000002,515,null,null,null,"'Miaplacidus'",null,9.2200410000000002,-69.717207999999999,null,-69.717207999999999,138.30061499999999,null,{"$f":"camera!$B$5*COS(RADIANS(AE34))*COS(RADIANS(AF34))","v":-129.4137766248075},{"$f":"camera!$B$5*COS(RADIANS(AE34))*SIN(RADIANS(AF34))","v":115.30097724846944},{"$f":"camera!$B$5*SIN(RADIANS(AE34))","v":-468.99654483295757},null,{"$f":"TRANSPOSE(MMULT(camera!$A$12:$C$14,MMULT(camera!$A$16:$C$18,TRANSPOSE(AH34:AJ34))))","v":443.88442242328375},138.97046044528389,183.44980417970893,null,{"$f":"camera!$B$5*AM34/AN34","v":378.76971596313967},{"$f":"camera!$B$5*AL34/AN34","v":1209.8252827472384},null,{"$f":"IF( AND( (camera!$B$3) > (AQ34+camera!$B$3/2), 0 < (AQ34+camera!$B$3/2), AN34 >= 0 ), AQ34+camera!$B$3/2, 0)*-1+camera!$B$3","v":1000},{"$f":"IF( AND( (camera!$B$4) > (AP34+camera!$B$4/2), 0 < (AP34+camera!$B$4/2), AN34 >= 0 ), AP34+camera!$B$4/2, 0)","v":878.76971596313967},null,null,null,34.520499999999998,13.116,2750.4573999999998,null,{"$f":"MMULT(               MMULT(AX34:AZ34-$B$2:$D$2, TRANSPOSE($A$16:$C$18)),     TRANSPOSE($A$12:$C$14))","v":-2004.925446472439},-5089.3111834605152,3800.8387577983408,null,-669.49843281546225,-263.74776387959753," ",763.74776387959753,0]
["azimuthAngleREF",0,"where the horizontal angle references (angle right 0 -360)",null,null,null,null,null,null,null,null,null,null,null,null,null,null,null,null,null,16.898700000000002,500,null,null,null,"'Alnilam'",null,5.6035589999999997,-1.2019200000000001,null,-1.2019200000000001,84.053384999999992,null,{"$f":"camera!$B$5*COS(RADIANS(AE35))*COS(RADIANS(AF35))","v":51.789491926103551},{"$f":"camera!$B$5*COS(RADIANS(AE35))*SIN(RADIANS(AF35))","v":497.20001125427194},{"$f":"camera!$B$5*SIN(RADIANS(AE35))","v":-10.487961421931564},null,{"$f":"TRANSPOSE(MMULT(camera!$A$12:$C$14,MMULT(camera!$A$16:$C$18,TRANSPOSE(AH35:AJ35))))","v":-76.464513230708988},-8.258580998639566,494.04956639620644,null,{"$f":"camera!$B$5*AM35/AN35","v":-8.3580490302632295},{"$f":"camera!$B$5*AL35/AN35","v":-77.385467402057955},null,{"$f":"IF( AND( (camera!$B$3) > (AQ35+camera!$B$3/2), 0 < (AQ35+camera!$B$3/2), AN35 >= 0 ), AQ35+camera!$B$3/2, 0)*-1+camera!$B$3","v":577.38546740205788},{"$f":"IF( AND( (camera!$B$4) > (AP35+camera!$B$4/2), 0 < (AP35+camera!$B$4/2), AN35 >= 0 ), AP35+camera!$B$4/2, 0)","v":491.6419509697368},null,null,null,102.3091,176.7723,2750.4573999999998,null,{"$f":"MMULT(               MMULT(AX35:AZ35-$B$2:$D$2, TRANSPOSE($A$16:$C$18)),     TRANSPOSE($A$12:$C$14))","v":-2034.2618655304032},-5142.5782409897438,3967.2138578544586,null,-648.13473954879555,-256.38419535953233," ",756.38419535953233,0]
[null,null,null,null,null,null,null,null,null,null,null,null,null,null,null,null,null,null,null,null,18.3477,60,null,null,null,"'Alnair'",null,22.137208999999999,-46.960974999999998,null,-46.960974999999998,-27.941865000000007,null,{"$f":"camera!$B$5*COS(RADIANS(AE36))*COS(RADIANS(AF36))","v":301.46664696935341},{"$f":"camera!$B$5*COS(RADIANS(AE36))*SIN(RADIANS(AF36))","v":-159.90051119255548},{"$f":"camera!$B$5*SIN(RADIANS(AE36))","v":-365.44450643759126},null,{"$f":"TRANSPOSE(MMULT(camera!$A$12:$C$14,MMULT(camera!$A$16:$C$18,TRANSPOSE(AH36:AJ36))))","v":382.99082830900028},-314.25572318108323,-67.537884769366713,null,{"$f":"camera!$B$5*AM36/AN36","v":2326.5144019110649},{"$f":"camera!$B$5*AL36/AN36","v":-2835.377726270709},null,{"$f":"IF( AND( (camera!$B$3) > (AQ36+camera!$B$3/2), 0 < (AQ36+camera!$B$3/2), AN36 >= 0 ), AQ36+camera!$B$3/2, 0)*-1+camera!$B$3","v":1000},{"$f":"IF( AND( (camera!$B$4) > (AP36+camera!$B$4/2), 0 < (AP36+camera!$B$4/2), AN36 >= 0 ), AP36+camera!$B$4/2, 0)","v":0},null,null,null,163.82310000000001,176.7723,2851.5057999999999,null,{"$f":"MMULT(               MMULT(AX36:AZ36-$B$2:$D$2, TRANSPOSE($A$16:$C$18)),     TRANSPOSE($A$12:$C$14))","v":-2134.7060929699169},-5203.8581616481588,3954.9468355288277,null,-657.89230273588942,-269.87797582928556," ",769.87797582928556,0]
[null,"x","y","z",null,null,null,null,null,null,null,null,null,null,null,null,null,null,null,null,18.3477,470,null,null,null,"'Alnitak'",null,5.6793129999999996,-1.942572,null,-1.942572,85.189695,null,{"$f":"camera!$B$5*COS(RADIANS(AE37))*COS(RADIANS(AF37))","v":41.904437571326056},{"$f":"camera!$B$5*COS(RADIANS(AE37))*SIN(RADIANS(AF37))","v":497.95256119604898},{"$f":"camera!$B$5*SIN(RADIANS(AE37))","v":-16.948891117884376},null,{"$f":"TRANSPOSE(MMULT(camera!$A$12:$C$14,MMULT(camera!$A$16:$C$18,TRANSPOSE(AH37:AJ37))))","v":-70.082316506180717},1.6544467890687784,495.0613413698847,null,{"$f":"camera!$B$5*AM37/AN37","v":1.6709513052370006},{"$f":"camera!$B$5*AL37/AN37","v":-70.781447317473706},null,{"$f":"IF( AND( (camera!$B$3) > (AQ37+camera!$B$3/2), 0 < (AQ37+camera!$B$3/2), AN37 >= 0 ), AQ37+camera!$B$3/2, 0)*-1+camera!$B$3","v":570.78144731747375},{"$f":"IF( AND( (camera!$B$4) > (AP37+camera!$B$4/2), 0 < (AP37+camera!$B$4/2), AN37 >= 0 ), AP37+camera!$B$4/2, 0)","v":501.670951305237},null,null,null,221.81899999999999,-174.1825,2942.3982999999998,null,{"$f":"MMULT(               MMULT(AX37:AZ37-$B$2:$D$2, TRANSPOSE($A$16:$C$18)),     TRANSPOSE($A$12:$C$14))","v":-2164.3847106541684},-5292.2210960040748,3599.833594293777,null,-735.06468526669687,-300.62288352509," ",800.62288352508995,0]
["instrumentOrigin",0,0,10000,null,null,null,null,null,null,null,null,null,null,null,null,null,null,null,null,20,120,null,null,null,"''",null,8.1588759999999994,-47.336587999999999,null,-47.336587999999999,122.38314,null,{"$f":"camera!$B$5*COS(RADIANS(AE38))*COS(RADIANS(AF38))","v":-181.47809641607392},{"$f":"camera!$B$5*COS(RADIANS(AE38))*SIN(RADIANS(AF38))","v":286.14980721551041},{"$f":"camera!$B$5*SIN(RADIANS(AE38))","v":-367.67375260103137},null,{"$f":"TRANSPOSE(MMULT(camera!$A$12:$C$14,MMULT(camera!$A$16:$C$18,TRANSPOSE(AH38:AJ38))))","v":315.33422133591631},205.72711645444247,328.9995173397852,null,{"$f":"camera!$B$5*AM38/AN38","v":312.65565086220317},{"$f":"camera!$B$5*AL38/AN38","v":479.23204247476815},null,{"$f":"IF( AND( (camera!$B$3) > (AQ38+camera!$B$3/2), 0 < (AQ38+camera!$B$3/2), AN38 >= 0 ), AQ38+camera!$B$3/2, 0)*-1+camera!$B$3","v":20.76795752523185},{"$f":"IF( AND( (camera!$B$4) > (AP38+camera!$B$4/2), 0 < (AP38+camera!$B$4/2), AN38 >= 0 ), AP38+camera!$B$4/2, 0)","v":812.65565086220317},null,null,null,327.97539999999998,-12.5693,2942.3982999999998,null,{"$f":"MMULT(               MMULT(AX38:AZ38-$B$2:$D$2, TRANSPOSE($A$16:$C$18)),     TRANSPOSE($A$12:$C$14))","v":-2193.9483741773797},-5383.888020368755,3767.4974617542589,null,-714.51780326639641,-291.16786360830247," ",791.16786360830247,0]
["instrumentHeight",0,null,null,null,null,null,null,null,null,null,null,null,null,null,null,null,null,null,null,20,530,null,null,null,"'Alioth'",null,12.900472000000001,55.959820999999998,null,55.959820999999998,-166.49292,null,{"$f":"camera!$B$5*COS(RADIANS(AE39))*COS(RADIANS(AF39))","v":-272.14568886078524},{"$f":"camera!$B$5*COS(RADIANS(AE39))*SIN(RADIANS(AF39))","v":-65.371967474926279},{"$f":"camera!$B$5*SIN(RADIANS(AE39))","v":414.32261572709962},null,{"$f":"TRANSPOSE(MMULT(camera!$A$12:$C$14,MMULT(camera!$A$16:$C$18,TRANSPOSE(AH39:AJ39))))","v":-392.60082644321307},265.41254997148712,-159.43892057380125,null,{"$f":"camera!$B$5*AM39/AN39","v":-832.33299942165843},{"$f":"camera!$B$5*AL39/AN39","v":1231.1950715367693},null,{"$f":"IF( AND( (camera!$B$3) > (AQ39+camera!$B$3/2), 0 < (AQ39+camera!$B$3/2), AN39 >= 0 ), AQ39+camera!$B$3/2, 0)*-1+camera!$B$3","v":1000},{"$f":"IF( AND( (camera!$B$4) > (AP39+camera!$B$4/2), 0 < (AP39+camera!$B$4/2), AN39 >= 0 ), AP39+camera!$B$4/2, 0)","v":0},null,null,null,226.92699999999999,29.286300000000001,2917.8798999999999,null,{"$f":"MMULT(               MMULT(AX39:AZ39-$B$2:$D$2, TRANSPOSE($A$16:$C$18)),     TRANSPOSE($A$12:$C$14))","v":-2175.5136443983633},-5279.5761841319509,3804.1447521228674,null,-693.92419691518478,-285.93991371967883," ",785.93991371967877,0]
[null,null,null,null,null,null,null,null,null,null,null,null,null,null,null,null,null,null,null,null,21.898700000000002,75,null,null,null,"'Mirphak'",null,3.4053779999999998,49.861179999999997,null,49.861179999999997,51.080669999999998,null,{"$f":"camera!$B$5*COS(RADIANS(AE40))*COS(RADIANS(AF40))","v":202.49021667676845},{"$f":"camera!$B$5*COS(RADIANS(AE40))*SIN(RADIANS(AF40))","v":250.77571008710748},{"$f":"camera!$B$5*SIN(RADIANS(AE40))","v":382.24240395396009},null,{"$f":"TRANSPOSE(MMULT(camera!$A$12:$C$14,MMULT(camera!$A$16:$C$18,TRANSPOSE(AH40:AJ40))))","v":-422.88089469650942},-179.86313699313223,197.0304566600542,null,{"$f":"camera!$B$5*AM40/AN40","v":-456.43485794548621},{"$f":"camera!$B$5*AL40/AN40","v":-1073.1358538800057},null,{"$f":"IF( AND( (camera!$B$3) > (AQ40+camera!$B$3/2), 0 < (AQ40+camera!$B$3/2), AN40 >= 0 ), AQ40+camera!$B$3/2, 0)*-1+camera!$B$3","v":1000},{"$f":"IF( AND( (camera!$B$4) > (AP40+camera!$B$4/2), 0 < (AP40+camera!$B$4/2), AN40 >= 0 ), AP40+camera!$B$4/2, 0)","v":43.565142054513785},null,null,null,144.23740000000001,-96.600899999999996,2917.8798999999999,null,{"$f":"MMULT(               MMULT(AX40:AZ40-$B$2:$D$2, TRANSPOSE($A$16:$C$18)),     TRANSPOSE($A$12:$C$14))","v":-2152.4852852909294},-5208.1730354430474,3673.5444377812491,null,-708.87573617983571,-292.97117834662561," ",792.97117834662561,0]
[null,null,null,null,null,null,null,null,null,null,null,null,null,null,null,null,null,null,null,null,21.898700000000002,105,null,null,null,"'Kaus Australis'",null,18.402868000000002,-34.384616000000001,null,-34.384616000000001,-83.956979999999987,null,{"$f":"camera!$B$5*COS(RADIANS(AE41))*COS(RADIANS(AF41))","v":43.439961530838232},{"$f":"camera!$B$5*COS(RADIANS(AE41))*SIN(RADIANS(AF41))","v":-410.33963622275161},{"$f":"camera!$B$5*SIN(RADIANS(AE41))","v":-282.37271944502567},null,{"$f":"TRANSPOSE(MMULT(camera!$A$12:$C$14,MMULT(camera!$A$16:$C$18,TRANSPOSE(AH41:AJ41))))","v":348.40898832960028},-79.038115136128198,-349.80587932004886,null,{"$f":"camera!$B$5*AM41/AN41","v":112.97425201909434},{"$f":"camera!$B$5*AL41/AN41","v":-498.00333403034296},null,{"$f":"IF( AND( (camera!$B$3) > (AQ41+camera!$B$3/2), 0 < (AQ41+camera!$B$3/2), AN41 >= 0 ), AQ41+camera!$B$3/2, 0)*-1+camera!$B$3","v":1000},{"$f":"IF( AND( (camera!$B$4) > (AP41+camera!$B$4/2), 0 < (AP41+camera!$B$4/2), AN41 >= 0 ), AP41+camera!$B$4/2, 0)","v":0},null,null,null,257.47230000000002,176.7723,2917.8798999999999,null,{"$f":"MMULT(               MMULT(AX41:AZ41-$B$2:$D$2, TRANSPOSE($A$16:$C$18)),     TRANSPOSE($A$12:$C$14))","v":-2201.489149063736},-5297.1509981686931,3951.4591594869908,null,-670.27783716944839,-278.5666079552181," ",778.56660795521816,0]
[null,null,null,null,null,null,null,null,null,null,null,null,null,null,null,null,null,null,null,null,21.898700000000002,90,null,null,null,"'Dubhe'",null,11.062155000000001,61.751033,null,61.751033,165.93232500000002,null,{"$f":"camera!$B$5*COS(RADIANS(AE42))*COS(RADIANS(AF42))","v":-229.55453746479117},{"$f":"camera!$B$5*COS(RADIANS(AE42))*SIN(RADIANS(AF42))","v":57.522453232956856},{"$f":"camera!$B$5*SIN(RADIANS(AE42))","v":440.44963583069074},null,{"$f":"TRANSPOSE(MMULT(camera!$A$12:$C$14,MMULT(camera!$A$16:$C$18,TRANSPOSE(AH42:AJ42))))","v":-440.23469702129256},233.69442528151373,-39.753328551376995,null,{"$f":"camera!$B$5*AM42/AN42","v":-2939.306390149045},{"$f":"camera!$B$5*AL42/AN42","v":5537.0796995317705},null,{"$f":"IF( AND( (camera!$B$3) > (AQ42+camera!$B$3/2), 0 < (AQ42+camera!$B$3/2), AN42 >= 0 ), AQ42+camera!$B$3/2, 0)*-1+camera!$B$3","v":1000},{"$f":"IF( AND( (camera!$B$4) > (AP42+camera!$B$4/2), 0 < (AP42+camera!$B$4/2), AN42 >= 0 ), AP42+camera!$B$4/2, 0)","v":0},null,null,null,367.1893,176.7723,2942.3982999999998,null,{"$f":"MMULT(               MMULT(AX42:AZ42-$B$2:$D$2, TRANSPOSE($A$16:$C$18)),     TRANSPOSE($A$12:$C$14))","v":-2227.2955643789778},-5406.4504918592247,3956.6187752799169,null,-683.21599816964135,-281.464514384685," ",781.464514384685,0]
[null,null,null,null,null,null,null,null,null,null,null,null,null,null,null,null,null,null,null,null,21.898700000000002,485,null,null,null,"'Wezen'",null,7.1398570000000001,-26.3932,null,-26.3932,107.097855,null,{"$f":"camera!$B$5*COS(RADIANS(AE43))*COS(RADIANS(AF43))","v":-131.67941966834226},{"$f":"camera!$B$5*COS(RADIANS(AE43))*SIN(RADIANS(AF43))","v":428.08766763688038},{"$f":"camera!$B$5*SIN(RADIANS(AE43))","v":-222.26443542101924},null,{"$f":"TRANSPOSE(MMULT(camera!$A$12:$C$14,MMULT(camera!$A$16:$C$18,TRANSPOSE(AH43:AJ43))))","v":146.8268629620232},168.48863835540539,447.27335160712698,null,{"$f":"camera!$B$5*AM43/AN43","v":188.35085719951559},{"$f":"camera!$B$5*AL43/AN43","v":164.13549167913766},null,{"$f":"IF( AND( (camera!$B$3) > (AQ43+camera!$B$3/2), 0 < (AQ43+camera!$B$3/2), AN43 >= 0 ), AQ43+camera!$B$3/2, 0)*-1+camera!$B$3","v":335.86450832086234},{"$f":"IF( AND( (camera!$B$4) > (AP43+camera!$B$4/2), 0 < (AP43+camera!$B$4/2), AN43 >= 0 ), AP43+camera!$B$4/2, 0)","v":688.35085719951553},null,null,null,365.6207,-317.98410000000001,2851.5057999999999,null,{"$f":"MMULT(               MMULT(AX43:AZ43-$B$2:$D$2, TRANSPOSE($A$16:$C$18)),     TRANSPOSE($A$12:$C$14))","v":-2052.1735655484017},-5448.008722376956,3486.8816132360894,null,-781.21504063924795,-294.27061098926009," ",794.27061098926015,0]
["calculated values",null,null,null,null,null,null,null,null,null,null,null,null,null,null,null,null,null,null,null,21.898700000000002,515,null,null,null,"'Alkaid'",null,13.792354,49.313265000000001,null,49.313265000000001,-153.11469,null,{"$f":"camera!$B$5*COS(RADIANS(AE44))*COS(RADIANS(AF44))","v":-290.7294018195484},{"$f":"camera!$B$5*COS(RADIANS(AE44))*SIN(RADIANS(AF44))","v":-147.40173094823842},{"$f":"camera!$B$5*SIN(RADIANS(AE44))","v":379.14264417381315},null,{"$f":"TRANSPOSE(MMULT(camera!$A$12:$C$14,MMULT(camera!$A$16:$C$18,TRANSPOSE(AH44:AJ44))))","v":-343.48394868666463},276.77618132893463,-235.40119465200135,null,{"$f":"camera!$B$5*AM44/AN44","v":-587.88185365435129},{"$f":"camera!$B$5*AL44/AN44","v":729.57137960672708},null,{"$f":"IF( AND( (camera!$B$3) > (AQ44+camera!$B$3/2), 0 < (AQ44+camera!$B$3/2), AN44 >= 0 ), AQ44+camera!$B$3/2, 0)*-1+camera!$B$3","v":1000},{"$f":"IF( AND( (camera!$B$4) > (AP44+camera!$B$4/2), 0 < (AP44+camera!$B$4/2), AN44 >= 0 ), AP44+camera!$B$4/2, 0)","v":0},null,null,null,515.27390000000003,-90.150899999999993,2851.5057999999999,null,{"$f":"MMULT(               MMULT(AX44:AZ44-$B$2:$D$2, TRANSPOSE($A$16:$C$18)),     TRANSPOSE($A$12:$C$14))","v":-2093.8507538288459},-5577.2354750008435,3723.2446934237551,null,-748.97514590589913,-281.18629397728625," ",781.18629397728625,0]
["variable names",null,null,null,null,null,null,null,null,null,null,null,null,null,null,null,null,null,null,null,21.898700000000002,500,null,null,null,"'Avior'",null,8.3752359999999992,-59.509483000000003,null,-59.509483000000003,125.62853999999999,null,{"$f":"camera!$B$5*COS(RADIANS(AE45))*COS(RADIANS(AF45))","v":-147.78609418084403},{"$f":"camera!$B$5*COS(RADIANS(AE45))*SIN(RADIANS(AF45))","v":206.20834530452072},{"$f":"camera!$B$5*SIN(RADIANS(AE45))","v":-430.85657554868794},null,{"$f":"TRANSPOSE(MMULT(camera!$A$12:$C$14,MMULT(camera!$A$16:$C$18,TRANSPOSE(AH45:AJ45))))","v":390.87611094629324},165.19596497042528,264.43554800554159,null,{"$f":"camera!$B$5*AM45/AN45","v":312.35582019207828},{"$f":"camera!$B$5*AL45/AN45","v":739.07633427957637},null,{"$f":"IF( AND( (camera!$B$3) > (AQ45+camera!$B$3/2), 0 < (AQ45+camera!$B$3/2), AN45 >= 0 ), AQ45+camera!$B$3/2, 0)*-1+camera!$B$3","v":1000},{"$f":"IF( AND( (camera!$B$4) > (AP45+camera!$B$4/2), 0 < (AP45+camera!$B$4/2), AN45 >= 0 ), AP45+camera!$B$4/2, 0)","v":812.35582019207823},null,null,null,429.02370000000002,-54.424900000000001,2917.8798999999999,null,{"$f":"MMULT(               MMULT(AX45:AZ45-$B$2:$D$2, TRANSPOSE($A$16:$C$18)),     TRANSPOSE($A$12:$C$14))","v":-2164.0912816200434},-5488.1997569860878,3739.3653137611032,null,-733.84107949939562,-289.36612232777168," ",789.36612232777168,0]
["not in use yet",null,null,null,null,null,null,null,null,null,null,null,null,null,null,null,null,null,null,null,23.3477,60,null,null,null,"'Sargas'",null,17.621980000000001,-42.997824000000001,null,-42.997824000000001,-95.670299999999997,null,{"$f":"camera!$B$5*COS(RADIANS(AE46))*COS(RADIANS(AF46))","v":-36.131591942836678},{"$f":"camera!$B$5*COS(RADIANS(AE46))*SIN(RADIANS(AF46))","v":-363.9004516613212},{"$f":"camera!$B$5*SIN(RADIANS(AE46))","v":-340.9852919765936},null,{"$f":"TRANSPOSE(MMULT(camera!$A$12:$C$14,MMULT(camera!$A$16:$C$18,TRANSPOSE(AH46:AJ46))))","v":399.30198124500794},4.2780861763176148,-300.89803215122447,null,{"$f":"camera!$B$5*AM46/AN46","v":-7.1088636667579568},{"$f":"camera!$B$5*AL46/AN46","v":-663.51710310343253},null,{"$f":"IF( AND( (camera!$B$3) > (AQ46+camera!$B$3/2), 0 < (AQ46+camera!$B$3/2), AN46 >= 0 ), AQ46+camera!$B$3/2, 0)*-1+camera!$B$3","v":1000},{"$f":"IF( AND( (camera!$B$4) > (AP46+camera!$B$4/2), 0 < (AP46+camera!$B$4/2), AN46 >= 0 ), AP46+camera!$B$4/2, 0)","v":0},null,null,null,299.4006,-251.76410000000001,2917.8798999999999,null,{"$f":"MMULT(               MMULT(AX46:AZ46-$B$2:$D$2, TRANSPOSE($A$16:$C$18)),     TRANSPOSE($A$12:$C$14))","v":-2127.9923151944986},-5376.2691565651003,3534.637901764921,null,-760.51201084566719,-301.01984620998184," ",801.01984620998178,0]
["input here",null,null,null,null,null,null,null,null,null,null,null,null,null,null,null,null,null,null,null,23.3477,470,null,null,null,"'Menkalinan'",null,5.9921490000000004,44.947432999999997,null,44.947432999999997,89.882235000000009,null,{"$f":"camera!$B$5*COS(RADIANS(AE47))*COS(RADIANS(AF47))","v":0.72735493588193478},{"$f":"camera!$B$5*COS(RADIANS(AE47))*SIN(RADIANS(AF47))","v":353.87686789766133},{"$f":"camera!$B$5*SIN(RADIANS(AE47))","v":353.22886818851373},null,{"$f":"TRANSPOSE(MMULT(camera!$A$12:$C$14,MMULT(camera!$A$16:$C$18,TRANSPOSE(AH47:AJ47))))","v":-409.08977323441979},30.117814132079129,285.89941361765068,null,{"$f":"camera!$B$5*AM47/AN47","v":52.67204600209039},{"$f":"camera!$B$5*AL47/AN47","v":-715.44353319576669},null,{"$f":"IF( AND( (camera!$B$3) > (AQ47+camera!$B$3/2), 0 < (AQ47+camera!$B$3/2), AN47 >= 0 ), AQ47+camera!$B$3/2, 0)*-1+camera!$B$3","v":1000},{"$f":"IF( AND( (camera!$B$4) > (AP47+camera!$B$4/2), 0 < (AP47+camera!$B$4/2), AN47 >= 0 ), AP47+camera!$B$4/2, 0)","v":552.67204600209038},null,null,null,476.90620000000001,176.7723,2917.8798999999999,null,{"$f":"MMULT(               MMULT(AX47:AZ47-$B$2:$D$2, TRANSPOSE($A$16:$C$18)),     TRANSPOSE($A$12:$C$14))","v":-2204.810157357867},-5515.7498859302868,3970.2935334482954,null,-694.62746764969359,-277.6633690661829," ",777.6633690661829,0]
["notes",null,null,null,null,null,null,null,null,null,null,null,null,null,null,null,null,null,null,null,25,120,null,null,null,"'Atria'",null,16.811077000000001,-69.027715000000001,null,-69.027715000000001,-107.833845,null,{"$f":"camera!$B$5*COS(RADIANS(AE48))*COS(RADIANS(AF48))","v":-54.807310731185346},{"$f":"camera!$B$5*COS(RADIANS(AE48))*SIN(RADIANS(AF48))","v":-170.35897792357568},{"$f":"camera!$B$5*SIN(RADIANS(AE48))","v":-466.87683314901153},null,{"$f":"TRANSPOSE(MMULT(camera!$A$12:$C$14,MMULT(camera!$A$16:$C$18,TRANSPOSE(AH48:AJ48))))","v":490.08335834086063},39.75098911241254,-90.76431425361173,null,{"$f":"camera!$B$5*AM48/AN48","v":-218.97917391487786},{"$f":"camera!$B$5*AL48/AN48","v":-2699.7579520706786},null,{"$f":"IF( AND( (camera!$B$3) > (AQ48+camera!$B$3/2), 0 < (AQ48+camera!$B$3/2), AN48 >= 0 ), AQ48+camera!$B$3/2, 0)*-1+camera!$B$3","v":1000},{"$f":"IF( AND( (camera!$B$4) > (AP48+camera!$B$4/2), 0 < (AP48+camera!$B$4/2), AN48 >= 0 ), AP48+camera!$B$4/2, 0)","v":0},null,null,null,570.55550000000005,176.7723,2851.5057999999999,null,{"$f":"MMULT(               MMULT(AX48:AZ48-$B$2:$D$2, TRANSPOSE($A$16:$C$18)),     TRANSPOSE($A$12:$C$14))","v":-2140.8617584067147},-5609.0428220702906,3989.8573490081876,null,-702.91270231310466,-268.2880077077063," ",768.28800770770636,0]
[null,null,null,null,null,null,null,null,null,null,null,null,null,null,null,null,null,null,null,null,25,530,null,null,null,"'Alhena'",null,6.6285280000000002,16.399252000000001,null,16.399252000000001,99.42792,null,{"$f":"camera!$B$5*COS(RADIANS(AE49))*COS(RADIANS(AF49))","v":-78.571327911180461},{"$f":"camera!$B$5*COS(RADIANS(AE49))*SIN(RADIANS(AF49))","v":473.1798176593075},{"$f":"camera!$B$5*SIN(RADIANS(AE49))","v":141.1644664573146},null,{"$f":"TRANSPOSE(MMULT(camera!$A$12:$C$14,MMULT(camera!$A$16:$C$18,TRANSPOSE(AH49:AJ49))))","v":-219.684871805873},119.51267874844436,432.96105681459193,null,{"$f":"camera!$B$5*AM49/AN49","v":138.01781576815534},{"$f":"camera!$B$5*AL49/AN49","v":-253.7004984029652},null,{"$f":"IF( AND( (camera!$B$3) > (AQ49+camera!$B$3/2), 0 < (AQ49+camera!$B$3/2), AN49 >= 0 ), AQ49+camera!$B$3/2, 0)*-1+camera!$B$3","v":753.7004984029652},{"$f":"IF( AND( (camera!$B$4) > (AP49+camera!$B$4/2), 0 < (AP49+camera!$B$4/2), AN49 >= 0 ), AP49+camera!$B$4/2, 0)","v":638.01781576815529},null,null,null,571.92769999999996,-113.6177,2750.4573999999998,null,{"$f":"MMULT(               MMULT(AX49:AZ49-$B$2:$D$2, TRANSPOSE($A$16:$C$18)),     TRANSPOSE($A$12:$C$14))","v":-1991.1354688082729},-5635.7189565715043,3722.6319081786205,null,-756.95356075762322,-267.43652312678955," ",767.43652312678955,0]
[null,null,null,null,null,null,null,null,null,null,null,null,null,null,null,null,null,null,null,null,26.898700000000002,75,null,null,null,"''",null,8.7450589999999995,-54.708821,null,-54.708821,131.17588499999999,null,{"$f":"camera!$B$5*COS(RADIANS(AE50))*COS(RADIANS(AF50))","v":-190.18148404544937},{"$f":"camera!$B$5*COS(RADIANS(AE50))*SIN(RADIANS(AF50))","v":217.42713729482591},{"$f":"camera!$B$5*SIN(RADIANS(AE50))","v":-408.11327238163602},null,{"$f":"TRANSPOSE(MMULT(camera!$A$12:$C$14,MMULT(camera!$A$16:$C$18,TRANSPOSE(AH50:AJ50))))","v":367.17925037930092},208.40780972572415,267.85365955353495,null,{"$f":"camera!$B$5*AM50/AN50","v":389.03297060249878},{"$f":"camera!$B$5*AL50/AN50","v":685.41018067724792},null,{"$f":"IF( AND( (camera!$B$3) > (AQ50+camera!$B$3/2), 0 < (AQ50+camera!$B$3/2), AN50 >= 0 ), AQ50+camera!$B$3/2, 0)*-1+camera!$B$3","v":1000},{"$f":"IF( AND( (camera!$B$4) > (AP50+camera!$B$4/2), 0 < (AP50+camera!$B$4/2), AN50 >= 0 ), AP50+camera!$B$4/2, 0)","v":889.03297060249884},null,null,null,409.11759999999998,-361.48110000000003,2750.4573999999998,null,{"$f":"MMULT(               MMULT(AX50:AZ50-$B$2:$D$2, TRANSPOSE($A$16:$C$18)),     TRANSPOSE($A$12:$C$14))","v":-1945.7941861703202},-5495.1311168826769,3465.4887162758523,null,-792.83638856974221,-280.73878541744983," ",780.73878541744989,0]
[null,null,null,null,null,null,null,null,null,null,null,null,null,null,null,null,null,null,null,null,26.898700000000002,105,null,null,null,"'Peacock'",null,20.427458999999999,-56.73509,null,-56.73509,-53.588115000000016,null,{"$f":"camera!$B$5*COS(RADIANS(AE51))*COS(RADIANS(AF51))","v":162.79413141657477},{"$f":"camera!$B$5*COS(RADIANS(AE51))*SIN(RADIANS(AF51))","v":-220.71272102339475},{"$f":"camera!$B$5*SIN(RADIANS(AE51))","v":-418.07172297917032},null,{"$f":"TRANSPOSE(MMULT(camera!$A$12:$C$14,MMULT(camera!$A$16:$C$18,TRANSPOSE(AH51:AJ51))))","v":447.43699517397312},-181.41103173229328,-129.96219802508281,null,{"$f":"camera!$B$5*AM51/AN51","v":697.93768683906376},{"$f":"camera!$B$5*AL51/AN51","v":-1721.4120797172782},null,{"$f":"IF( AND( (camera!$B$3) > (AQ51+camera!$B$3/2), 0 < (AQ51+camera!$B$3/2), AN51 >= 0 ), AQ51+camera!$B$3/2, 0)*-1+camera!$B$3","v":1000},{"$f":"IF( AND( (camera!$B$4) > (AP51+camera!$B$4/2), 0 < (AP51+camera!$B$4/2), AN51 >= 0 ), AP51+camera!$B$4/2, 0)","v":0},null,null,null,632.06939999999997,176.7723,2750.4573999999998,null,{"$f":"MMULT(               MMULT(AX51:AZ51-$B$2:$D$2, TRANSPOSE($A$16:$C$18)),     TRANSPOSE($A$12:$C$14))","v":-2042.2794888338269},-5670.3226431092362,4012.68405913171,null,-706.54985036826156,-254.4779826592862," ",754.47798265928623,0]
[null,null,null,null,null,null,null,null,null,null,null,null,null,null,null,null,null,null,null,null,26.898700000000002,90,null,null,null,"'Polaris'",null,2.5297499999999999,89.264109000000005,null,89.264109000000005,37.946249999999999,null,{"$f":"camera!$B$5*COS(RADIANS(AE52))*COS(RADIANS(AF52))","v":5.0640626439845011},{"$f":"camera!$B$5*COS(RADIANS(AE52))*SIN(RADIANS(AF52))","v":3.9488344424049342},{"$f":"camera!$B$5*SIN(RADIANS(AE52))","v":499.9587602753694},null,{"$f":"TRANSPOSE(MMULT(camera!$A$12:$C$14,MMULT(camera!$A$16:$C$18,TRANSPOSE(AH52:AJ52))))","v":-493.12300361627473},-4.7006287579264896,-82.508226218624131,null,{"$f":"camera!$B$5*AM52/AN52","v":28.485818768368109},{"$f":"camera!$B$5*AL52/AN52","v":2988.3262931239988},null,{"$f":"IF( AND( (camera!$B$3) > (AQ52+camera!$B$3/2), 0 < (AQ52+camera!$B$3/2), AN52 >= 0 ), AQ52+camera!$B$3/2, 0)*-1+camera!$B$3","v":1000},{"$f":"IF( AND( (camera!$B$4) > (AP52+camera!$B$4/2), 0 < (AP52+camera!$B$4/2), AN52 >= 0 ), AP52+camera!$B$4/2, 0)","v":0},null,null,null,-129.13579999999999,-522.91899999999998,2412.6379999999999,null,{"$f":"MMULT(               MMULT(AX52:AZ52-$B$2:$D$2, TRANSPOSE($A$16:$C$18)),     TRANSPOSE($A$12:$C$14))","v":-1577.0341387496712},-4972.996173654944,3319.5709528910525,null,-749.0420063658986,-237.53583838541152," ",737.53583838541158,0]
[null,null,null,null,null,null,null,null,null,null,null,null,null,null,null,null,null,null,null,null,26.898700000000002,485,null,null,null,"'Mirzam'",null,6.3783289999999999,-17.955918,null,-17.955918,95.674935000000005,null,{"$f":"camera!$B$5*COS(RADIANS(AE53))*COS(RADIANS(AF53))","v":-47.034084829515358},{"$f":"camera!$B$5*COS(RADIANS(AE53))*SIN(RADIANS(AF53))","v":473.3158103917736},{"$f":"camera!$B$5*SIN(RADIANS(AE53))","v":-154.14259144515719},null,{"$f":"TRANSPOSE(MMULT(camera!$A$12:$C$14,MMULT(camera!$A$16:$C$18,TRANSPOSE(AH53:AJ53))))","v":70.634984923399799},88.107296945665354,487.08089998459133,null,{"$f":"camera!$B$5*AM53/AN53","v":90.444212602519016},{"$f":"camera!$B$5*AL53/AN53","v":72.508473362057842},null,{"$f":"IF( AND( (camera!$B$3) > (AQ53+camera!$B$3/2), 0 < (AQ53+camera!$B$3/2), AN53 >= 0 ), AQ53+camera!$B$3/2, 0)*-1+camera!$B$3","v":427.49152663794212},{"$f":"IF( AND( (camera!$B$4) > (AP53+camera!$B$4/2), 0 < (AP53+camera!$B$4/2), AN53 >= 0 ), AP53+camera!$B$4/2, 0)","v":590.44421260251897},null,null,null,137.78739999999999,-467.63740000000001,2412.6379999999999,null,{"$f":"MMULT(               MMULT(AX53:AZ53-$B$2:$D$2, TRANSPOSE($A$16:$C$18)),     TRANSPOSE($A$12:$C$14))","v":-1590.6368907266606},-5234.0855413843474,3396.7159928749211,null,-770.46263985030862,-234.14334522863263," ",734.1433452286326,0]
[null,null,null,null,null,null,null,null,null,null,null,null,null,null,null,null,null,null,null,null,26.898700000000002,515,null,null,null,"'Alphard'",null,9.4597899999999999,-8.6586029999999994,null,-8.6586029999999994,141.89685,null,{"$f":"camera!$B$5*COS(RADIANS(AE54))*COS(RADIANS(AF54))","v":-388.96636010413704},{"$f":"camera!$B$5*COS(RADIANS(AE54))*SIN(RADIANS(AF54))","v":305.0231179836594},{"$f":"camera!$B$5*SIN(RADIANS(AE54))","v":-75.273290102568097},null,{"$f":"TRANSPOSE(MMULT(camera!$A$12:$C$14,MMULT(camera!$A$16:$C$18,TRANSPOSE(AH54:AJ54))))","v":27.251351865620897},414.07074207485834,278.931504816276,null,{"$f":"camera!$B$5*AM54/AN54","v":742.24448462283704},{"$f":"camera!$B$5*AL54/AN54","v":48.849540828259187},null,{"$f":"IF( AND( (camera!$B$3) > (AQ54+camera!$B$3/2), 0 < (AQ54+camera!$B$3/2), AN54 >= 0 ), AQ54+camera!$B$3/2, 0)*-1+camera!$B$3","v":451.15045917174086},{"$f":"IF( AND( (camera!$B$4) > (AP54+camera!$B$4/2), 0 < (AP54+camera!$B$4/2), AN54 >= 0 ), AP54+camera!$B$4/2, 0)","v":0},null,null,null,161.2542,-524.2912,2513.6864,null,{"$f":"MMULT(               MMULT(AX54:AZ54-$B$2:$D$2, TRANSPOSE($A$16:$C$18)),     TRANSPOSE($A$12:$C$14))","v":-1680.7049020385959},-5262.4007471440045,3325.6025246685299,null,-791.19508541817083,-252.69178886705882," ",752.69178886705879,0]
[null,null,null,null,null,null,null,null,null,null,null,null,null,null,null,null,null,null,null,null,26.898700000000002,500,null,null,null,"'Hamal'",null,2.1195550000000001,23.462423000000001,null,23.462423000000001,31.793325000000003,null,{"$f":"camera!$B$5*COS(RADIANS(AE55))*COS(RADIANS(AF55))","v":389.84052967360611},{"$f":"camera!$B$5*COS(RADIANS(AE55))*SIN(RADIANS(AF55))","v":241.64849729965485},{"$f":"camera!$B$5*SIN(RADIANS(AE55))","v":199.07376817808245},null,{"$f":"TRANSPOSE(MMULT(camera!$A$12:$C$14,MMULT(camera!$A$16:$C$18,TRANSPOSE(AH55:AJ55))))","v":-243.75155062500096},-367.29601449611732,235.96359741107429,null,{"$f":"camera!$B$5*AM55/AN55","v":-778.28957204836911},{"$f":"camera!$B$5*AL55/AN55","v":-516.50244635056822},null,{"$f":"IF( AND( (camera!$B$3) > (AQ55+camera!$B$3/2), 0 < (AQ55+camera!$B$3/2), AN55 >= 0 ), AQ55+camera!$B$3/2, 0)*-1+camera!$B$3","v":1000},{"$f":"IF( AND( (camera!$B$4) > (AP55+camera!$B$4/2), 0 < (AP55+camera!$B$4/2), AN55 >= 0 ), AP55+camera!$B$4/2, 0)","v":0},null,null,null,-129.13579999999999,-584.43290000000002,2513.6864,null,{"$f":"MMULT(               MMULT(AX55:AZ55-$B$2:$D$2, TRANSPOSE($A$16:$C$18)),     TRANSPOSE($A$12:$C$14))","v":-1665.9062572479818},-4978.3574632987493,3241.6752395125391,null,-767.86801506485278,-256.95144241199336," ",756.95144241199341,0]
[null,null,null,null,null,null,null,null,null,null,null,null,null,null,null,null,null,null,null,null,28.3477,60,null,null,null,"'Algieba'",null,10.332872999999999,19.841488999999999,null,19.841488999999999,154.99309499999998,null,{"$f":"camera!$B$5*COS(RADIANS(AE56))*COS(RADIANS(AF56))","v":-426.22856212032815},{"$f":"camera!$B$5*COS(RADIANS(AE56))*SIN(RADIANS(AF56))","v":198.81618245511785},{"$f":"camera!$B$5*SIN(RADIANS(AE56))","v":169.70957081676582},null,{"$f":"TRANSPOSE(MMULT(camera!$A$12:$C$14,MMULT(camera!$A$16:$C$18,TRANSPOSE(AH56:AJ56))))","v":-195.07326552104144},441.93460581166886,128.99699711637538,null,{"$f":"camera!$B$5*AM56/AN56","v":1712.9647034069135},{"$f":"camera!$B$5*AL56/AN56","v":-756.11552936017176},null,{"$f":"IF( AND( (camera!$B$3) > (AQ56+camera!$B$3/2), 0 < (AQ56+camera!$B$3/2), AN56 >= 0 ), AQ56+camera!$B$3/2, 0)*-1+camera!$B$3","v":1000},{"$f":"IF( AND( (camera!$B$4) > (AP56+camera!$B$4/2), 0 < (AP56+camera!$B$4/2), AN56 >= 0 ), AP56+camera!$B$4/2, 0)","v":0},null,null,null,-129.13579999999999,-607.15599999999995,2632.0718999999999,null,{"$f":"MMULT(               MMULT(AX56:AZ56-$B$2:$D$2, TRANSPOSE($A$16:$C$18)),     TRANSPOSE($A$12:$C$14))","v":-1778.5624056413089},-4980.337911956778,3198.8250827315719,null,-778.46362072788281,-278.00244771785736," ",778.00244771785742,0]
[null,null,null,null,null,null,null,null,null,null,null,null,null,null,null,null,null,null,null,null,28.3477,470,null,null,null,"'Diphda'",null,0.72648999999999997,-17.986605000000001,null,-17.986605000000001,10.897349999999999,null,{"$f":"camera!$B$5*COS(RADIANS(AE57))*COS(RADIANS(AF57))","v":466.98873256416056},{"$f":"camera!$B$5*COS(RADIANS(AE57))*SIN(RADIANS(AF57))","v":89.905455982417422},{"$f":"camera!$B$5*SIN(RADIANS(AE57))","v":-154.39732071092584},null,{"$f":"TRANSPOSE(MMULT(camera!$A$12:$C$14,MMULT(camera!$A$16:$C$18,TRANSPOSE(AH57:AJ57))))","v":129.43155691074725},-457.37592265578638,155.09589759380512,null,{"$f":"camera!$B$5*AM57/AN57","v":-1474.493941334445},{"$f":"camera!$B$5*AL57/AN57","v":417.26299315062295},null,{"$f":"IF( AND( (camera!$B$3) > (AQ57+camera!$B$3/2), 0 < (AQ57+camera!$B$3/2), AN57 >= 0 ), AQ57+camera!$B$3/2, 0)*-1+camera!$B$3","v":82.737006849377053},{"$f":"IF( AND( (camera!$B$4) > (AP57+camera!$B$4/2), 0 < (AP57+camera!$B$4/2), AN57 >= 0 ), AP57+camera!$B$4/2, 0)","v":0},null,null,null,169.9228,-545.21900000000005,2632.0718999999999,null,{"$f":"MMULT(               MMULT(AX57:AZ57-$B$2:$D$2, TRANSPOSE($A$16:$C$18)),     TRANSPOSE($A$12:$C$14))","v":-1793.8028090712912},-5272.8603384569569,3285.25770562767,null,-802.50330581745675,-273.00792963646262," ",773.00792963646268,0]
[null,null,null,null,null,null,null,null,null,null,null,null,null,null,null,null,null,null,null,null,30,120,null,null,null,"'Nunki'",null,18.92109,-26.296721999999999,null,-26.296721999999999,-76.18365,null,{"$f":"camera!$B$5*COS(RADIANS(AE58))*COS(RADIANS(AF58))","v":107.04824525322725},{"$f":"camera!$B$5*COS(RADIANS(AE58))*SIN(RADIANS(AF58))","v":-435.28613020359194},{"$f":"camera!$B$5*SIN(RADIANS(AE58))","v":-221.50995020672667},null,{"$f":"TRANSPOSE(MMULT(camera!$A$12:$C$14,MMULT(camera!$A$16:$C$18,TRANSPOSE(AH58:AJ58))))","v":291.82361480245333},-144.57858034693774,-379.38899819116182,null,{"$f":"camera!$B$5*AM58/AN58","v":190.54134547424235},{"$f":"camera!$B$5*AL58/AN58","v":-384.59683358479055},null,{"$f":"IF( AND( (camera!$B$3) > (AQ58+camera!$B$3/2), 0 < (AQ58+camera!$B$3/2), AN58 >= 0 ), AQ58+camera!$B$3/2, 0)*-1+camera!$B$3","v":1000},{"$f":"IF( AND( (camera!$B$4) > (AP58+camera!$B$4/2), 0 < (AP58+camera!$B$4/2), AN58 >= 0 ), AP58+camera!$B$4/2, 0)","v":0},null,null,null,-129.13579999999999,-319.55279999999999,2321.7455,null,{"$f":"MMULT(               MMULT(AX58:AZ58-$B$2:$D$2, TRANSPOSE($A$16:$C$18)),     TRANSPOSE($A$12:$C$14))","v":-1522.7022890094577},-4955.2716414441747,3534.8687673723107,null,-700.9130985543967,-215.38314280071248," ",715.38314280071245,0]
[null,null,null,null,null,null,null,null,null,null,null,null,null,null,null,null,null,null,null,null,30,530,null,null,null,"'Menkent'",null,14.111395,-36.369954,null,-36.369954,-148.32907499999999,null,{"$f":"camera!$B$5*COS(RADIANS(AE59))*COS(RADIANS(AF59))","v":-342.64593816116616},{"$f":"camera!$B$5*COS(RADIANS(AE59))*SIN(RADIANS(AF59))","v":-211.38231796046037},{"$f":"camera!$B$5*SIN(RADIANS(AE59))","v":-296.49835870594148},null,{"$f":"TRANSPOSE(MMULT(camera!$A$12:$C$14,MMULT(camera!$A$16:$C$18,TRANSPOSE(AH59:AJ59))))","v":333.74611170278479},322.91888399326024,-185.30225925179553,null,{"$f":"camera!$B$5*AM59/AN59","v":-871.33013190752888},{"$f":"camera!$B$5*AL59/AN59","v":-900.54517697293227},null,{"$f":"IF( AND( (camera!$B$3) > (AQ59+camera!$B$3/2), 0 < (AQ59+camera!$B$3/2), AN59 >= 0 ), AQ59+camera!$B$3/2, 0)*-1+camera!$B$3","v":1000},{"$f":"IF( AND( (camera!$B$4) > (AP59+camera!$B$4/2), 0 < (AP59+camera!$B$4/2), AN59 >= 0 ), AP59+camera!$B$4/2, 0)","v":0},null,null,null,60.205800000000004,-280.33879999999999,2321.7455,null,{"$f":"MMULT(               MMULT(AX59:AZ59-$B$2:$D$2, TRANSPOSE($A$16:$C$18)),     TRANSPOSE($A$12:$C$14))","v":-1532.351394983493},-5140.4750141962759,3589.5915666584215,null,-716.02505727156915,-213.44369777561781," ",713.44369777561781,0]
[null,null,null,null,null,null,null,null,null,null,null,null,null,null,null,null,null,null,null,null,31.898700000000002,75,null,null,null,"'Alpheratz'",null,0.139791,29.090432,null,29.090432,2.0968650000000002,null,{"$f":"camera!$B$5*COS(RADIANS(AE60))*COS(RADIANS(AF60))","v":436.63414543879605},{"$f":"camera!$B$5*COS(RADIANS(AE60))*SIN(RADIANS(AF60))","v":15.986724306815091},{"$f":"camera!$B$5*SIN(RADIANS(AE60))","v":243.09472985416653},null,{"$f":"TRANSPOSE(MMULT(camera!$A$12:$C$14,MMULT(camera!$A$16:$C$18,TRANSPOSE(AH60:AJ60))))","v":-248.7752879385055},-433.57928586088622,10.948012763857562,null,{"$f":"camera!$B$5*AM60/AN60","v":-19801.734580190303},{"$f":"camera!$B$5*AL60/AN60","v":-11361.664135055724},null,{"$f":"IF( AND( (camera!$B$3) > (AQ60+camera!$B$3/2), 0 < (AQ60+camera!$B$3/2), AN60 >= 0 ), AQ60+camera!$B$3/2, 0)*-1+camera!$B$3","v":1000},{"$f":"IF( AND( (camera!$B$4) > (AP60+camera!$B$4/2), 0 < (AP60+camera!$B$4/2), AN60 >= 0 ), AP60+camera!$B$4/2, 0)","v":0},null,null,null,102.0615,-381.38720000000001,2346.2640000000001,null,{"$f":"MMULT(               MMULT(AX60:AZ60-$B$2:$D$2, TRANSPOSE($A$16:$C$18)),     TRANSPOSE($A$12:$C$14))","v":-1539.6507669081786},-5190.9783889766577,3489.7919478585613,null,-743.7375159516306,-220.59348951345845," ",720.59348951345851,0]
[null,null,null,null,null,null,null,null,null,null,null,null,null,null,null,null,null,null,null,null,31.898700000000002,105,null,null,null,"'Mirach'",null,1.1621939999999999,35.620558000000003,null,35.620558000000003,17.43291,null,{"$f":"camera!$B$5*COS(RADIANS(AE61))*COS(RADIANS(AF61))","v":387.77721100020182},{"$f":"camera!$B$5*COS(RADIANS(AE61))*SIN(RADIANS(AF61))","v":121.76666455205465},{"$f":"camera!$B$5*SIN(RADIANS(AE61))","v":291.20733856270238},null,{"$f":"TRANSPOSE(MMULT(camera!$A$12:$C$14,MMULT(camera!$A$16:$C$18,TRANSPOSE(AH61:AJ61))))","v":-313.71613206229318},-375.68893754826593,102.17637049596647,null,{"$f":"camera!$B$5*AM61/AN61","v":-1838.4335621076727},{"$f":"camera!$B$5*AL61/AN61","v":-1535.1696803258317},null,{"$f":"IF( AND( (camera!$B$3) > (AQ61+camera!$B$3/2), 0 < (AQ61+camera!$B$3/2), AN61 >= 0 ), AQ61+camera!$B$3/2, 0)*-1+camera!$B$3","v":1000},{"$f":"IF( AND( (camera!$B$4) > (AP61+camera!$B$4/2), 0 < (AP61+camera!$B$4/2), AN61 >= 0 ), AP61+camera!$B$4/2, 0)","v":0},null,null,null,-129.13579999999999,-429.2697,2346.2640000000001,null,{"$f":"MMULT(               MMULT(AX61:AZ61-$B$2:$D$2, TRANSPOSE($A$16:$C$18)),     TRANSPOSE($A$12:$C$14))","v":-1527.868657301148},-4964.8340993556458,3422.9722838474654,null,-725.22265558269544,-223.1786486427234," ",723.17864864272337,0]
[null,null,null,null,null,null,null,null,null,null,null,null,null,null,null,null,null,null,null,null,31.898700000000002,90,null,null,null,"'Saiph'",null,5.795941,-9.6696050000000007,null,-9.6696050000000007,86.939115000000001,null,{"$f":"camera!$B$5*COS(RADIANS(AE62))*COS(RADIANS(AF62))","v":26.319242879847586},{"$f":"camera!$B$5*COS(RADIANS(AE62))*SIN(RADIANS(AF62))","v":492.19316899238635},{"$f":"camera!$B$5*SIN(RADIANS(AE62))","v":-83.983223631055054},null,{"$f":"TRANSPOSE(MMULT(camera!$A$12:$C$14,MMULT(camera!$A$16:$C$18,TRANSPOSE(AH62:AJ62))))","v":-2.8342107512397519},16.67837100416196,499.71371723224195,null,{"$f":"camera!$B$5*AM62/AN62","v":16.687925935411823},{"$f":"camera!$B$5*AL62/AN62","v":-2.8358344523115746},null,{"$f":"IF( AND( (camera!$B$3) > (AQ62+camera!$B$3/2), 0 < (AQ62+camera!$B$3/2), AN62 >= 0 ), AQ62+camera!$B$3/2, 0)*-1+camera!$B$3","v":502.83583445231159},{"$f":"IF( AND( (camera!$B$4) > (AP62+camera!$B$4/2), 0 < (AP62+camera!$B$4/2), AN62 >= 0 ), AP62+camera!$B$4/2, 0)","v":516.68792593541184},null,null,null,-129.13579999999999,-116.1865,2412.6379999999999,null,{"$f":"MMULT(               MMULT(AX62:AZ62-$B$2:$D$2, TRANSPOSE($A$16:$C$18)),     TRANSPOSE($A$12:$C$14))","v":-1647.3937339493077},-4937.5471005178324,3718.6000459824127,null,-663.89864995731045,-221.50724917689888," ",721.50724917689888,0]
[null,null,null,null,null,null,null,null,null,null,null,null,null,null,null,null,null,null,null,null,31.898700000000002,485,null,null,null,"'Kochab'",null,14.845105,74.155505000000005,null,74.155505000000005,-137.32342499999999,null,{"$f":"camera!$B$5*COS(RADIANS(AE63))*COS(RADIANS(AF63))","v":-100.36375513392495},{"$f":"camera!$B$5*COS(RADIANS(AE63))*SIN(RADIANS(AF63))","v":-92.537063183771778},{"$f":"camera!$B$5*SIN(RADIANS(AE63))","v":481.00312742511369},null,{"$f":"TRANSPOSE(MMULT(camera!$A$12:$C$14,MMULT(camera!$A$16:$C$18,TRANSPOSE(AH63:AJ63))))","v":-456.1689148908369},91.916704271525646,-182.9241388203788,null,{"$f":"camera!$B$5*AM63/AN63","v":-251.24268689815364},{"$f":"camera!$B$5*AL63/AN63","v":1246.8800395413343},null,{"$f":"IF( AND( (camera!$B$3) > (AQ63+camera!$B$3/2), 0 < (AQ63+camera!$B$3/2), AN63 >= 0 ), AQ63+camera!$B$3/2, 0)*-1+camera!$B$3","v":1000},{"$f":"IF( AND( (camera!$B$4) > (AP63+camera!$B$4/2), 0 < (AP63+camera!$B$4/2), AN63 >= 0 ), AP63+camera!$B$4/2, 0)","v":0},null,null,null,-17.375800000000002,-93.040300000000002,2412.6379999999999,null,{"$f":"MMULT(               MMULT(AX63:AZ63-$B$2:$D$2, TRANSPOSE($A$16:$C$18)),     TRANSPOSE($A$12:$C$14))","v":-1653.0891593229103},-5046.8644957237793,3750.9004083587133,null,-672.75373194087854,-220.3589777589236," ",720.35897775892363,0]
[null,null,null,null,null,null,null,null,null,null,null,null,null,null,null,null,null,null,null,null,31.898700000000002,515,null,null,null,"''",null,22.711114999999999,-46.884577,null,-46.884577,-19.333275000000015,null,{"$f":"camera!$B$5*COS(RADIANS(AE64))*COS(RADIANS(AF64))","v":322.46430756394074},{"$f":"camera!$B$5*COS(RADIANS(AE64))*SIN(RADIANS(AF64))","v":-113.13567773196704},{"$f":"camera!$B$5*SIN(RADIANS(AE64))","v":-364.98916253970714},null,{"$f":"TRANSPOSE(MMULT(camera!$A$12:$C$14,MMULT(camera!$A$16:$C$18,TRANSPOSE(AH64:AJ64))))","v":374.1348876920423},-331.09765754301299,-19.935570751613731,null,{"$f":"camera!$B$5*AM64/AN64","v":8304.1930845198276},{"$f":"camera!$B$5*AL64/AN64","v":-9383.6011106368005},null,{"$f":"IF( AND( (camera!$B$3) > (AQ64+camera!$B$3/2), 0 < (AQ64+camera!$B$3/2), AN64 >= 0 ), AQ64+camera!$B$3/2, 0)*-1+camera!$B$3","v":1000},{"$f":"IF( AND( (camera!$B$4) > (AP64+camera!$B$4/2), 0 < (AP64+camera!$B$4/2), AN64 >= 0 ), AP64+camera!$B$4/2, 0)","v":0},null,null,null,18.350200000000001,-179.29050000000001,2346.2640000000001,null,{"$f":"MMULT(               MMULT(AX64:AZ64-$B$2:$D$2, TRANSPOSE($A$16:$C$18)),     TRANSPOSE($A$12:$C$14))","v":-1573.3440250579715},-5089.9717477509394,3680.8759102471677,null,-691.40768010964439,-213.71869949187214," ",713.71869949187214,0]
[null,null,null,null,null,null,null,null,null,null,null,null,null,null,null,null,null,null,null,null,31.898700000000002,500,null,null,null,"'Rasalhague'",null,17.582241,12.560034999999999,null,12.560034999999999,-96.266385000000014,null,{"$f":"camera!$B$5*COS(RADIANS(AE65))*COS(RADIANS(AF65))","v":-53.269506188847565},{"$f":"camera!$B$5*COS(RADIANS(AE65))*SIN(RADIANS(AF65))","v":-485.11841716101554},{"$f":"camera!$B$5*SIN(RADIANS(AE65))","v":108.7312330546622},null,{"$f":"TRANSPOSE(MMULT(camera!$A$12:$C$14,MMULT(camera!$A$16:$C$18,TRANSPOSE(AH65:AJ65))))","v":-22.353786650149047},10.785943667058795,-499.38359168239674,null,{"$f":"camera!$B$5*AM65/AN65","v":-10.799257170947012},{"$f":"camera!$B$5*AL65/AN65","v":22.381378786235576},null,{"$f":"IF( AND( (camera!$B$3) > (AQ65+camera!$B$3/2), 0 < (AQ65+camera!$B$3/2), AN65 >= 0 ), AQ65+camera!$B$3/2, 0)*-1+camera!$B$3","v":1000},{"$f":"IF( AND( (camera!$B$4) > (AP65+camera!$B$4/2), 0 < (AP65+camera!$B$4/2), AN65 >= 0 ), AP65+camera!$B$4/2, 0)","v":0},null,null,null,-129.13579999999999,-209.83580000000001,2346.2640000000001,null,{"$f":"MMULT(               MMULT(AX65:AZ65-$B$2:$D$2, TRANSPOSE($A$16:$C$18)),     TRANSPOSE($A$12:$C$14))","v":-1565.8279558009667},-4945.7091748171306,3638.2501633149291,null,-679.68239576892279,-215.18970459885716," ",715.18970459885713,0]
[null,null,null,null,null,null,null,null,null,null,null,null,null,null,null,null,null,null,null,null,33.347700000000003,60,null,null,null,"'Algol'",null,3.1361479999999999,40.955647999999997,null,40.955647999999997,47.04222,null,{"$f":"camera!$B$5*COS(RADIANS(AE66))*COS(RADIANS(AF66))","v":257.32487640061998},{"$f":"camera!$B$5*COS(RADIANS(AE66))*SIN(RADIANS(AF66))","v":276.35514007142723},{"$f":"camera!$B$5*SIN(RADIANS(AE66))","v":327.73731026770128},null,{"$f":"TRANSPOSE(MMULT(camera!$A$12:$C$14,MMULT(camera!$A$16:$C$18,TRANSPOSE(AH66:AJ66))))","v":-374.45866642946407},-232.25974006235302,236.29667852518702,null,{"$f":"camera!$B$5*AM66/AN66","v":-491.45790265011345},{"$f":"camera!$B$5*AL66/AN66","v":-792.34856106864459},null,{"$f":"IF( AND( (camera!$B$3) > (AQ66+camera!$B$3/2), 0 < (AQ66+camera!$B$3/2), AN66 >= 0 ), AQ66+camera!$B$3/2, 0)*-1+camera!$B$3","v":1000},{"$f":"IF( AND( (camera!$B$4) > (AP66+camera!$B$4/2), 0 < (AP66+camera!$B$4/2), AN66 >= 0 ), AP66+camera!$B$4/2, 0)","v":8.5420973498865465},null,null,null,-129.13579999999999,-31.9495,2632.0718999999999,null,{"$f":"MMULT(               MMULT(AX66:AZ66-$B$2:$D$2, TRANSPOSE($A$16:$C$18)),     TRANSPOSE($A$12:$C$14))","v":-1878.0658790450809},-4930.2053622159974,3763.1373224351983,null,-655.06583201507613,-249.53459283140756," ",749.53459283140751,0]
[null,null,null,null,null,null,null,null,null,null,null,null,null,null,null,null,null,null,null,null,33.347700000000003,470,null,null,null,"'Almaak'",null,2.0649839999999999,42.329725000000003,null,{"$f":"AC67","v":42.329725000000003},{"$f":"IF(AB67*15/1>180, (AB67*15/1)-360, AB67*15/1)","v":30.97476},null,{"$f":"camera!$B$5*COS(RADIANS(AE67))*COS(RADIANS(AF67))","v":316.92794369324974},{"$f":"camera!$B$5*COS(RADIANS(AE67))*SIN(RADIANS(AF67))","v":190.23955212877235},{"$f":"camera!$B$5*SIN(RADIANS(AE67))","v":336.69807144118363},null,{"$f":"TRANSPOSE(MMULT(camera!$A$12:$C$14,MMULT(camera!$A$16:$C$18,TRANSPOSE(AH67:AJ67))))","v":-369.28844117293698},-299.14146771856969,155.37190707216712,null,{"$f":"camera!$B$5*AM67/AN67","v":-962.66266326905702},{"$f":"camera!$B$5*AL67/AN67","v":-1188.4015847260275},null,{"$f":"IF( AND( (camera!$B$3) > (AQ67+camera!$B$3/2), 0 < (AQ67+camera!$B$3/2), AN67 >= 0 ), AQ67+camera!$B$3/2, 0)*-1+camera!$B$3","v":1000},{"$f":"IF( AND( (camera!$B$4) > (AP67+camera!$B$4/2), 0 < (AP67+camera!$B$4/2), AN67 >= 0 ), AP67+camera!$B$4/2, 0)","v":0},null,null,null,-49.511099999999999,-15.4587,2632.0718999999999,null,{"$f":"MMULT(               MMULT(AX67:AZ67-$B$2:$D$2, TRANSPOSE($A$16:$C$18)),     TRANSPOSE($A$12:$C$14))","v":-1882.1236544791341},-5008.089798270641,3786.1501104824351,null,-661.36968320472965,-248.55375507540455," ",748.55375507540452,0]
[null,null,null,null,null,null,null,null,null,null,null,null,null,null,null,null,null,null,null,null,35,120,null,null,null,"'Denebola'",null,11.817663,14.57206,null,14.57206,177.26494499999998,null,{"$f":"camera!$B$5*COS(RADIANS(AE68))*COS(RADIANS(AF68))","v":-483.36474326365698},{"$f":"camera!$B$5*COS(RADIANS(AE68))*SIN(RADIANS(AF68))","v":23.09130365041112},{"$f":"camera!$B$5*SIN(RADIANS(AE68))","v":125.79871487969754},null,{"$f":"TRANSPOSE(MMULT(camera!$A$12:$C$14,MMULT(camera!$A$16:$C$18,TRANSPOSE(AH68:AJ68))))","v":-120.56660144942506},483.53793420439615,-40.678751213385411,null,{"$f":"camera!$B$5*AM68/AN68","v":-5943.372396904937},{"$f":"camera!$B$5*AL68/AN68","v":1481.9358738051972},null,{"$f":"IF( AND( (camera!$B$3) > (AQ68+camera!$B$3/2), 0 < (AQ68+camera!$B$3/2), AN68 >= 0 ), AQ68+camera!$B$3/2, 0)*-1+camera!$B$3","v":1000},{"$f":"IF( AND( (camera!$B$4) > (AP68+camera!$B$4/2), 0 < (AP68+camera!$B$4/2), AN68 >= 0 ), AP68+camera!$B$4/2, 0)","v":0},null,null,null,-40.842500000000001,-36.386499999999998,2513.6864,null,{"$f":"MMULT(               MMULT(AX68:AZ68-$B$2:$D$2, TRANSPOSE($A$16:$C$18)),     TRANSPOSE($A$12:$C$14))","v":-1762.0476450233764},-5018.5493895835925,3786.9201441159516,null,{"$f":"$B$5*BC68/BD68","v":-662.61621563123322},{"$f":"$B$5*BB68/BD68","v":-232.64916844909106}," ",{"$f":"IF( AND( ($B$3) > (BG68+$B$3/2), 0 < (BG68+$B$3/2), BD68 >= 0 ), BG68+$B$3/2, 0)*-1+$B$3","v":732.64916844909112},{"$f":"IF( AND( ($B$4) > (BF68+$B$4/2), 0 < (BF68+$B$4/2), BD68 >= 0 ), BF68+$B$4/2, 0)","v":0}]
[null,null,null,null,null,null,null,null,null,null,null,null,null,null,null,null,null,null,null,null,35,530,null,null,null,"'Cih'",null,0.94514299999999996,60.716740000000001,null,60.716740000000001,14.177144999999999,null,{"$f":"camera!$B$5*COS(RADIANS(AE69))*COS(RADIANS(AF69))","v":237.11517023387663},{"$f":"camera!$B$5*COS(RADIANS(AE69))*SIN(RADIANS(AF69))","v":59.898732080184132},{"$f":"camera!$B$5*SIN(RADIANS(AE69))","v":436.10610857926082},null,{"$f":"TRANSPOSE(MMULT(camera!$A$12:$C$14,MMULT(camera!$A$16:$C$18,TRANSPOSE(AH69:AJ69))))","v":-443.43100677194764},-230.99235694001814,3.3872213556446269,null,{"$f":"camera!$B$5*AM69/AN69","v":-34097.617587802677},{"$f":"camera!$B$5*AL69/AN69","v":-65456.455338089014},null,{"$f":"IF( AND( (camera!$B$3) > (AQ69+camera!$B$3/2), 0 < (AQ69+camera!$B$3/2), AN69 >= 0 ), AQ69+camera!$B$3/2, 0)*-1+camera!$B$3","v":1000},{"$f":"IF( AND( (camera!$B$4) > (AP69+camera!$B$4/2), 0 < (AP69+camera!$B$4/2), AN69 >= 0 ), AP69+camera!$B$4/2, 0)","v":0},null,null,null,-129.13579999999999,-54.672600000000003,2513.6864,null,{"$f":"MMULT(               MMULT(AX69:AZ69-$B$2:$D$2, TRANSPOSE($A$16:$C$18)),     TRANSPOSE($A$12:$C$14))","v":-1757.5481109499551},-4932.1858108740271,3761.4020183286075,null,-655.63130274833816,-233.62938903974535," ",733.62938903974532,0]
[null,null,null,null,null,null,null,null,null,null,null,null,null,null,null,null,null,null,null,null,36.898699999999998,105,null,null,null,"''",null,12.691971000000001,-48.959887999999999,null,-48.959887999999999,-169.62043499999999,null,{"$f":"camera!$B$5*COS(RADIANS(AE70))*COS(RADIANS(AF70))","v":-322.92135002056716},{"$f":"camera!$B$5*COS(RADIANS(AE70))*SIN(RADIANS(AF70))","v":-59.148114054549879},{"$f":"camera!$B$5*SIN(RADIANS(AE70))","v":-377.1250486306688},null,{"$f":"TRANSPOSE(MMULT(camera!$A$12:$C$14,MMULT(camera!$A$16:$C$18,TRANSPOSE(AH70:AJ70))))","v":386.51478232552915},316.53743897857032,-20.257659507867189,null,{"$f":"camera!$B$5*AM70/AN70","v":-7812.7840695427094},{"$f":"camera!$B$5*AL70/AN70","v":-9539.9664056803722},null,{"$f":"IF( AND( (camera!$B$3) > (AQ70+camera!$B$3/2), 0 < (AQ70+camera!$B$3/2), AN70 >= 0 ), AQ70+camera!$B$3/2, 0)*-1+camera!$B$3","v":1000},{"$f":"IF( AND( (camera!$B$4) > (AP70+camera!$B$4/2), 0 < (AP70+camera!$B$4/2), AN70 >= 0 ), AP70+camera!$B$4/2, 0)","v":0},null,null,null,-129.13579999999999,-116.1865,2851.5057999999999,null,{"$f":"MMULT(               MMULT(AX70:AZ70-$B$2:$D$2, TRANSPOSE($A$16:$C$18)),     TRANSPOSE($A$12:$C$14))","v":-2079.5941459367186},-4937.5471005178324,3642.3914522757177,null,-677.7891894942976,-285.47098426741252," ",785.47098426741252,0]
[null,null,null,null,null,null,null,null,null,null,null,null,null,null,null,null,null,null,null,null,36.898699999999998,90,null,null,null,"'Naos'",null,8.0597370000000002,-40.003148000000003,null,-40.003148000000003,120.896055,null,{"$f":"camera!$B$5*COS(RADIANS(AE71))*COS(RADIANS(AF71))","v":-196.66601406307174},{"$f":"camera!$B$5*COS(RADIANS(AE71))*SIN(RADIANS(AF71))","v":328.65631581554584},{"$f":"camera!$B$5*SIN(RADIANS(AE71))","v":-321.41484873461565},null,{"$f":"TRANSPOSE(MMULT(camera!$A$12:$C$14,MMULT(camera!$A$16:$C$18,TRANSPOSE(AH71:AJ71))))","v":262.65486458095245},224.56192581808156,361.36458540487331,null,{"$f":"camera!$B$5*AM71/AN71","v":310.71379831878397},{"$f":"camera!$B$5*AL71/AN71","v":363.42087076224368},null,{"$f":"IF( AND( (camera!$B$3) > (AQ71+camera!$B$3/2), 0 < (AQ71+camera!$B$3/2), AN71 >= 0 ), AQ71+camera!$B$3/2, 0)*-1+camera!$B$3","v":136.57912923775632},{"$f":"IF( AND( (camera!$B$4) > (AP71+camera!$B$4/2), 0 < (AP71+camera!$B$4/2), AN71 >= 0 ), AP71+camera!$B$4/2, 0)","v":810.71379831878403},null,null,null,-17.375800000000002,-93.040300000000002,2851.5057999999999,null,{"$f":"MMULT(               MMULT(AX71:AZ71-$B$2:$D$2, TRANSPOSE($A$16:$C$18)),     TRANSPOSE($A$12:$C$14))","v":-2085.2895713103212},-5046.8644957237793,3674.6918146520184,null,-686.70581783219575,-283.73666098959529," ",783.73666098959529,0]
[null,null,null,null,null,null,null,null,null,null,null,null,null,null,null,null,null,null,null,null,36.898699999999998,75,null,null,null,"'Tureis'",null,9.2848380000000006,-59.275229000000003,null,-59.275229000000003,139.27257,null,{"$f":"camera!$B$5*COS(RADIANS(AE72))*COS(RADIANS(AF72))","v":-193.59118327692306},{"$f":"camera!$B$5*COS(RADIANS(AE72))*SIN(RADIANS(AF72))","v":166.67600209909187},{"$f":"camera!$B$5*SIN(RADIANS(AE72))","v":-429.81573270612643},null,{"$f":"TRANSPOSE(MMULT(camera!$A$12:$C$14,MMULT(camera!$A$16:$C$18,TRANSPOSE(AH72:AJ72))))","v":397.38291205701046},207.38128113893472,221.5396701231281,null,{"$f":"camera!$B$5*AM72/AN72","v":468.04547696508627},{"$f":"camera!$B$5*AL72/AN72","v":896.86626290485935},null,{"$f":"IF( AND( (camera!$B$3) > (AQ72+camera!$B$3/2), 0 < (AQ72+camera!$B$3/2), AN72 >= 0 ), AQ72+camera!$B$3/2, 0)*-1+camera!$B$3","v":1000},{"$f":"IF( AND( (camera!$B$4) > (AP72+camera!$B$4/2), 0 < (AP72+camera!$B$4/2), AN72 >= 0 ), AP72+camera!$B$4/2, 0)","v":968.04547696508621},null,null,null,-40.842500000000001,-36.386499999999998,2750.4573999999998,null,{"$f":"MMULT(               MMULT(AX72:AZ72-$B$2:$D$2, TRANSPOSE($A$16:$C$18)),     TRANSPOSE($A$12:$C$14))","v":-1995.2215615118298},-5018.5493895835925,3745.8052914415753,null,-669.88924932243356,-266.32745248004704," ",766.32745248004699,0]
[null,null,null,null,null,null,null,null,null,null,null,null,null,null,null,null,null,null,null,null,36.898699999999998,515,null,null,null,"'Alphekka'",null,15.578128,26.714693,null,26.714693,-126.32808,null,{"$f":"camera!$B$5*COS(RADIANS(AE73))*COS(RADIANS(AF73))","v":-264.58607766494026},{"$f":"camera!$B$5*COS(RADIANS(AE73))*SIN(RADIANS(AF73))","v":-359.82056389538462},{"$f":"camera!$B$5*SIN(RADIANS(AE73))","v":224.77404054714503},null,{"$f":"TRANSPOSE(MMULT(camera!$A$12:$C$14,MMULT(camera!$A$16:$C$18,TRANSPOSE(AH73:AJ73))))","v":-155.11043514498351},232.21881925652087,-414.74711920909238,null,{"$f":"camera!$B$5*AM73/AN73","v":-279.95229924604865},{"$f":"camera!$B$5*AL73/AN73","v":186.99398737328599},null,{"$f":"IF( AND( (camera!$B$3) > (AQ73+camera!$B$3/2), 0 < (AQ73+camera!$B$3/2), AN73 >= 0 ), AQ73+camera!$B$3/2, 0)*-1+camera!$B$3","v":1000},{"$f":"IF( AND( (camera!$B$4) > (AP73+camera!$B$4/2), 0 < (AP73+camera!$B$4/2), AN73 >= 0 ), AP73+camera!$B$4/2, 0)","v":0},null,null,null,-129.13579999999999,-54.672600000000003,2750.4573999999998,null,{"$f":"MMULT(               MMULT(AX73:AZ73-$B$2:$D$2, TRANSPOSE($A$16:$C$18)),     TRANSPOSE($A$12:$C$14))","v":-1990.7220274384085},-4932.1858108740271,3720.2871656542311,null,-662.87702954869587,-267.54951147545756," ",767.54951147545762,0]
[null,null,null,null,null,null,null,null,null,null,null,null,null,null,null,null,null,null,null,null,36.898699999999998,500,null,null,null,"''",null,9.1332679999999993,-43.432589,null,-43.432589,136.99902,null,{"$f":"camera!$B$5*COS(RADIANS(AE74))*COS(RADIANS(AF74))","v":-265.54435060805378},{"$f":"camera!$B$5*COS(RADIANS(AE74))*SIN(RADIANS(AF74))","v":247.63260463891851},{"$f":"camera!$B$5*SIN(RADIANS(AE74))","v":-343.75033233422783},null,{"$f":"TRANSPOSE(MMULT(camera!$A$12:$C$14,MMULT(camera!$A$16:$C$18,TRANSPOSE(AH74:AJ74))))","v":299.70953740914229},286.11647776980084,279.84201674266313,null,{"$f":"camera!$B$5*AM74/AN74","v":511.21072007015221},{"$f":"camera!$B$5*AL74/AN74","v":535.49774422321457},null,{"$f":"IF( AND( (camera!$B$3) > (AQ74+camera!$B$3/2), 0 < (AQ74+camera!$B$3/2), AN74 >= 0 ), AQ74+camera!$B$3/2, 0)*-1+camera!$B$3","v":1000},{"$f":"IF( AND( (camera!$B$4) > (AP74+camera!$B$4/2), 0 < (AP74+camera!$B$4/2), AN74 >= 0 ), AP74+camera!$B$4/2, 0)","v":0},null,null,null,-129.13579999999999,-319.55279999999999,2942.3982999999998,null,{"$f":"MMULT(               MMULT(AX74:AZ74-$B$2:$D$2, TRANSPOSE($A$16:$C$18)),     TRANSPOSE($A$12:$C$14))","v":-2133.9259783781931},-4955.2716414441747,3427.0935396884333,null,-722.95541164229098,-311.33173834703592," ",811.33173834703598,0]
[null,null,null,null,null,null,null,null,null,null,null,null,null,null,null,null,null,null,null,null,36.898699999999998,485,null,null,null,"'Mizar'",null,13.398747,54.925362,null,54.925362,-159.01879500000001,null,{"$f":"camera!$B$5*COS(RADIANS(AE75))*COS(RADIANS(AF75))","v":-268.27151009718449},{"$f":"camera!$B$5*COS(RADIANS(AE75))*SIN(RADIANS(AF75))","v":-102.87882742725198},{"$f":"camera!$B$5*SIN(RADIANS(AE75))","v":409.20208178523478},null,{"$f":"TRANSPOSE(MMULT(camera!$A$12:$C$14,MMULT(camera!$A$16:$C$18,TRANSPOSE(AH75:AJ75))))","v":-381.12850447040438},258.28417539045108,-195.01371188464589,null,{"$f":"camera!$B$5*AM75/AN75","v":-662.22055078678466},{"$f":"camera!$B$5*AL75/AN75","v":977.18386257846498},null,{"$f":"IF( AND( (camera!$B$3) > (AQ75+camera!$B$3/2), 0 < (AQ75+camera!$B$3/2), AN75 >= 0 ), AQ75+camera!$B$3/2, 0)*-1+camera!$B$3","v":1000},{"$f":"IF( AND( (camera!$B$4) > (AP75+camera!$B$4/2), 0 < (AP75+camera!$B$4/2), AN75 >= 0 ), AP75+camera!$B$4/2, 0)","v":0},null,null,null,60.205800000000004,-280.33879999999999,2942.3982999999998,null,{"$f":"MMULT(               MMULT(AX75:AZ75-$B$2:$D$2, TRANSPOSE($A$16:$C$18)),     TRANSPOSE($A$12:$C$14))","v":-2143.5750843522283},-5140.4750141962759,3481.8163389745441,null,-738.18870867126725,-307.82426119919188," ",807.82426119919182,0]
[null,null,null,null,null,null,null,null,null,null,null,null,null,null,null,null,null,null,null,null,37.995899999999999,124.3767,null,null,null,"'Sadr'",null,20.370473,40.256678999999998,null,40.256678999999998,-54.442904999999996,null,{"$f":"camera!$B$5*COS(RADIANS(AE76))*COS(RADIANS(AF76))","v":221.89325542723626},{"$f":"camera!$B$5*COS(RADIANS(AE76))*SIN(RADIANS(AF76))","v":-310.42807606042845},{"$f":"camera!$B$5*SIN(RADIANS(AE76))","v":323.10647283724307},null,{"$f":"TRANSPOSE(MMULT(camera!$A$12:$C$14,MMULT(camera!$A$16:$C$18,TRANSPOSE(AH76:AJ76))))","v":-267.85584487087533},-248.10447413770333,-341.61003539322911,null,{"$f":"camera!$B$5*AM76/AN76","v":363.13990871507764},{"$f":"camera!$B$5*AL76/AN76","v":392.04914539841474},null,{"$f":"IF( AND( (camera!$B$3) > (AQ76+camera!$B$3/2), 0 < (AQ76+camera!$B$3/2), AN76 >= 0 ), AQ76+camera!$B$3/2, 0)*-1+camera!$B$3","v":1000},{"$f":"IF( AND( (camera!$B$4) > (AP76+camera!$B$4/2), 0 < (AP76+camera!$B$4/2), AN76 >= 0 ), AP76+camera!$B$4/2, 0)","v":0},null,null,null,18.350200000000001,-179.29050000000001,2917.8798999999999,null,{"$f":"MMULT(               MMULT(AX76:AZ76-$B$2:$D$2, TRANSPOSE($A$16:$C$18)),     TRANSPOSE($A$12:$C$14))","v":-2136.2757951230224},-5089.9717477509394,3581.6158508867256,null,-710.56918994966759,-298.22793455000624," ",798.22793455000624,0]
[null,null,null,null,null,null,null,null,null,null,null,null,null,null,null,null,null,null,null,null,37.995899999999999,534.37670000000003,null,null,null,"'Shedir'",null,0.67511600000000005,56.537331000000002,null,56.537331000000002,10.126740000000002,null,{"$f":"camera!$B$5*COS(RADIANS(AE77))*COS(RADIANS(AF77))","v":271.40175846910239},{"$f":"camera!$B$5*COS(RADIANS(AE77))*SIN(RADIANS(AF77))","v":48.474709657375179},{"$f":"camera!$B$5*SIN(RADIANS(AE77))","v":417.12262947904446},null,{"$f":"TRANSPOSE(MMULT(camera!$A$12:$C$14,MMULT(camera!$A$16:$C$18,TRANSPOSE(AH77:AJ77))))","v":-423.27862567976752},-266.14414351503069,-1.581112044744458,null,{"$f":"camera!$B$5*AM77/AN77","v":84163.593718636606},{"$f":"camera!$B$5*AL77/AN77","v":133854.72177216213},null,{"$f":"IF( AND( (camera!$B$3) > (AQ77+camera!$B$3/2), 0 < (AQ77+camera!$B$3/2), AN77 >= 0 ), AQ77+camera!$B$3/2, 0)*-1+camera!$B$3","v":1000},{"$f":"IF( AND( (camera!$B$4) > (AP77+camera!$B$4/2), 0 < (AP77+camera!$B$4/2), AN77 >= 0 ), AP77+camera!$B$4/2, 0)","v":0},null,null,null,-129.13579999999999,-209.83580000000001,2917.8798999999999,null,{"$f":"MMULT(               MMULT(AX77:AZ77-$B$2:$D$2, TRANSPOSE($A$16:$C$18)),     TRANSPOSE($A$12:$C$14))","v":-2128.7597258660176},-4945.7091748171306,3538.990103954487,null,-698.74583278585158,-300.75807834095519," ",800.75807834095519,0]
[null,null,null,null,null,null,null,null,null,null,null,null,null,null,null,null,null,null,null,null,38.347700000000003,60,null,null,null,"'Etamin'",null,17.943436999999999,51.488894999999999,null,51.488894999999999,-90.848445000000027,null,{"$f":"camera!$B$5*COS(RADIANS(AE78))*COS(RADIANS(AF78))","v":-4.6101022944147347},{"$f":"camera!$B$5*COS(RADIANS(AE78))*SIN(RADIANS(AF78))","v":-311.29902037708513},{"$f":"camera!$B$5*SIN(RADIANS(AE78))","v":391.24374355266332},null,{"$f":"TRANSPOSE(MMULT(camera!$A$12:$C$14,MMULT(camera!$A$16:$C$18,TRANSPOSE(AH78:AJ78))))","v":-331.37929440404423},-22.538937874226669,-373.7375543342942,null,{"$f":"camera!$B$5*AM78/AN78","v":30.153429342113203},{"$f":"camera!$B$5*AL78/AN78","v":443.3315445036036},null,{"$f":"IF( AND( (camera!$B$3) > (AQ78+camera!$B$3/2), 0 < (AQ78+camera!$B$3/2), AN78 >= 0 ), AQ78+camera!$B$3/2, 0)*-1+camera!$B$3","v":1000},{"$f":"IF( AND( (camera!$B$4) > (AP78+camera!$B$4/2), 0 < (AP78+camera!$B$4/2), AN78 >= 0 ), AP78+camera!$B$4/2, 0)","v":0},null,null,null,-129.13579999999999,-522.91899999999998,2851.5057999999999,null,{"$f":"MMULT(               MMULT(AX78:AZ78-$B$2:$D$2, TRANSPOSE($A$16:$C$18)),     TRANSPOSE($A$12:$C$14))","v":-2009.2345507370824},-4972.996173654944,3243.3623591843575,null,-766.64208665626177,-309.7456170827557," ",809.74561708275564,0]
[null,null,null,null,null,null,null,null,null,null,null,null,null,null,null,null,null,null,null,null,38.347700000000003,470,null,null,null,"'Mintaka'",null,5.5334450000000004,-0.29909200000000002,null,-0.29909200000000002,83.001675000000006,null,{"$f":"camera!$B$5*COS(RADIANS(AE79))*COS(RADIANS(AF79))","v":60.919333466759973},{"$f":"camera!$B$5*COS(RADIANS(AE79))*SIN(RADIANS(AF79))","v":496.26809529326579},{"$f":"camera!$B$5*SIN(RADIANS(AE79))","v":-2.6100582291947383},null,{"$f":"TRANSPOSE(MMULT(camera!$A$12:$C$14,MMULT(camera!$A$16:$C$18,TRANSPOSE(AH79:AJ79))))","v":-84.199698660530629},-17.434902563619154,492.55094652032994,null,{"$f":"camera!$B$5*AM79/AN79","v":-17.698577869750913},{"$f":"camera!$B$5*AL79/AN79","v":-85.473085835452054},null,{"$f":"IF( AND( (camera!$B$3) > (AQ79+camera!$B$3/2), 0 < (AQ79+camera!$B$3/2), AN79 >= 0 ), AQ79+camera!$B$3/2, 0)*-1+camera!$B$3","v":585.47308583545203},{"$f":"IF( AND( (camera!$B$4) > (AP79+camera!$B$4/2), 0 < (AP79+camera!$B$4/2), AN79 >= 0 ), AP79+camera!$B$4/2, 0)","v":482.30142213024908},null,null,null,137.78739999999999,-467.63740000000001,2851.5057999999999,null,{"$f":"MMULT(               MMULT(AX79:AZ79-$B$2:$D$2, TRANSPOSE($A$16:$C$18)),     TRANSPOSE($A$12:$C$14))","v":-2022.8373027140719},-5234.0855413843474,3320.5073991682261,null,-788.14544167187603,-304.5976201138393," ",804.5976201138393,0]
[null,null,null,null,null,null,null,null,null,null,null,null,null,null,null,null,null,null,null,null,40,120,null,null,null,"'Caph'",null,0.152887,59.14978,null,59.14978,2.2933050000000001,null,{"$f":"camera!$B$5*COS(RADIANS(AE80))*COS(RADIANS(AF80))","v":256.19242038514528},{"$f":"camera!$B$5*COS(RADIANS(AE80))*SIN(RADIANS(AF80))","v":10.259766354226493},{"$f":"camera!$B$5*SIN(RADIANS(AE80))","v":429.2553796186574},null,{"$f":"TRANSPOSE(MMULT(camera!$A$12:$C$14,MMULT(camera!$A$16:$C$18,TRANSPOSE(AH80:AJ80))))","v":-428.38616387927812},-254.3233333219533,-42.484546894216855,null,{"$f":"camera!$B$5*AM80/AN80","v":2993.1275241701201},{"$f":"camera!$B$5*AL80/AN80","v":5041.6703860103016},null,{"$f":"IF( AND( (camera!$B$3) > (AQ80+camera!$B$3/2), 0 < (AQ80+camera!$B$3/2), AN80 >= 0 ), AQ80+camera!$B$3/2, 0)*-1+camera!$B$3","v":1000},{"$f":"IF( AND( (camera!$B$4) > (AP80+camera!$B$4/2), 0 < (AP80+camera!$B$4/2), AN80 >= 0 ), AP80+camera!$B$4/2, 0)","v":0},null,null,null,102.0615,-381.38720000000001,2917.8798999999999,null,{"$f":"MMULT(               MMULT(AX80:AZ80-$B$2:$D$2, TRANSPOSE($A$16:$C$18)),     TRANSPOSE($A$12:$C$14))","v":-2102.5825369732293},-5190.9783889766577,3390.5318884981193,null,-765.51092272370136,-310.06676918537931," ",810.06676918537937,0]
[null,null,null,null,null,null,null,null,null,null,null,null,null,null,null,null,null,null,null,null,40,530,null,null,null,"''",null,13.664796000000001,-53.466394000000001,null,-53.466394000000001,-155.02805999999998,null,{"$f":"camera!$B$5*COS(RADIANS(AE81))*COS(RADIANS(AF81))","v":-269.82144563288227},{"$f":"camera!$B$5*COS(RADIANS(AE81))*SIN(RADIANS(AF81))","v":-125.65896758920779},{"$f":"camera!$B$5*SIN(RADIANS(AE81))","v":-401.75391888691757},null,{"$f":"TRANSPOSE(MMULT(camera!$A$12:$C$14,MMULT(camera!$A$16:$C$18,TRANSPOSE(AH81:AJ81))))","v":421.47138682318587},257.8427929177862,-76.674404006134822,null,{"$f":"camera!$B$5*AM81/AN81","v":-1681.4137407390597},{"$f":"camera!$B$5*AL81/AN81","v":-2748.4490573246803},null,{"$f":"IF( AND( (camera!$B$3) > (AQ81+camera!$B$3/2), 0 < (AQ81+camera!$B$3/2), AN81 >= 0 ), AQ81+camera!$B$3/2, 0)*-1+camera!$B$3","v":1000},{"$f":"IF( AND( (camera!$B$4) > (AP81+camera!$B$4/2), 0 < (AP81+camera!$B$4/2), AN81 >= 0 ), AP81+camera!$B$4/2, 0)","v":0},null,null,null,-129.13579999999999,-429.2697,2917.8798999999999,null,{"$f":"MMULT(               MMULT(AX81:AZ81-$B$2:$D$2, TRANSPOSE($A$16:$C$18)),     TRANSPOSE($A$12:$C$14))","v":-2090.8004273661991},-4964.8340993556458,3323.7122244870234,null,-746.88086152252697,-314.52789624241461," ",814.52789624241461,0]
[null,null,null,null,null,null,null,null,null,null,null,null,null,null,null,null,null,null,null,null,40.413400000000003,128.7535,null,null,null,"'Dschubba'",null,16.005557,-22.62171,null,-22.62171,-119.91664500000002,null,{"$f":"camera!$B$5*COS(RADIANS(AE82))*COS(RADIANS(AF82))","v":-230.18440098076127},{"$f":"camera!$B$5*COS(RADIANS(AE82))*SIN(RADIANS(AF82))","v":-400.03396914438264},{"$f":"camera!$B$5*SIN(RADIANS(AE82))","v":-192.32255477639436},null,{"$f":"TRANSPOSE(MMULT(camera!$A$12:$C$14,MMULT(camera!$A$16:$C$18,TRANSPOSE(AH82:AJ82))))","v":262.08528788883598},194.44322213538635,-378.81807670415458,null,{"$f":"camera!$B$5*AM82/AN82","v":-256.64459287041967},{"$f":"camera!$B$5*AL82/AN82","v":-345.92500200764789},null,{"$f":"IF( AND( (camera!$B$3) > (AQ82+camera!$B$3/2), 0 < (AQ82+camera!$B$3/2), AN82 >= 0 ), AQ82+camera!$B$3/2, 0)*-1+camera!$B$3","v":1000},{"$f":"IF( AND( (camera!$B$4) > (AP82+camera!$B$4/2), 0 < (AP82+camera!$B$4/2), AN82 >= 0 ), AP82+camera!$B$4/2, 0)","v":0},null,null,null,161.2542,-524.2912,2750.4573999999998,null,{"$f":"MMULT(               MMULT(AX82:AZ82-$B$2:$D$2, TRANSPOSE($A$16:$C$18)),     TRANSPOSE($A$12:$C$14))","v":-1913.8788185270491},-5262.4007471440045,3284.4876719941535,null,-801.0991778131679,-291.3511953243306," ",791.35119532433055,0]
[null,null,null,null,null,null,null,null,null,null,null,null,null,null,null,null,null,null,null,null,40.413400000000003,538.75350000000003,null,null,null,"''",null,16.836079999999999,-34.293232000000003,null,-34.293232000000003,-107.45880000000002,null,{"$f":"camera!$B$5*COS(RADIANS(AE83))*COS(RADIANS(AF83))","v":-123.93295976154518},{"$f":"camera!$B$5*COS(RADIANS(AE83))*SIN(RADIANS(AF83))","v":-394.05293202326357},{"$f":"camera!$B$5*SIN(RADIANS(AE83))","v":-281.71423153368113},null,{"$f":"TRANSPOSE(MMULT(camera!$A$12:$C$14,MMULT(camera!$A$16:$C$18,TRANSPOSE(AH83:AJ83))))","v":347.47620456306447},89.117381460888964,-348.30788045061769,null,{"$f":"camera!$B$5*AM83/AN83","v":-127.92903414300416},{"$f":"camera!$B$5*AL83/AN83","v":-498.80611962256313},null,{"$f":"IF( AND( (camera!$B$3) > (AQ83+camera!$B$3/2), 0 < (AQ83+camera!$B$3/2), AN83 >= 0 ), AQ83+camera!$B$3/2, 0)*-1+camera!$B$3","v":1000},{"$f":"IF( AND( (camera!$B$4) > (AP83+camera!$B$4/2), 0 < (AP83+camera!$B$4/2), AN83 >= 0 ), AP83+camera!$B$4/2, 0)","v":0},null,null,null,-129.13579999999999,-584.43290000000002,2750.4573999999998,null,{"$f":"MMULT(               MMULT(AX83:AZ83-$B$2:$D$2, TRANSPOSE($A$16:$C$18)),     TRANSPOSE($A$12:$C$14))","v":-1899.080173736435},-4978.3574632987493,3200.5603868381627,null,-777.73215649539338,-296.67932240024669," ",796.67932240024675,0]
[null,null,null,null,null,null,null,null,null,null,null,null,null,null,null,null,null,null,null,null,41.898699999999998,105,null,null,null,"''",null,14.698823000000001,-47.388199999999998,null,-47.388199999999998,-139.51765499999999,null,{"$f":"camera!$B$5*COS(RADIANS(AE84))*COS(RADIANS(AF84))","v":-257.47562634707327},{"$f":"camera!$B$5*COS(RADIANS(AE84))*SIN(RADIANS(AF84))","v":-219.76778414162706},{"$f":"camera!$B$5*SIN(RADIANS(AE84))","v":-367.97883484062169},null,{"$f":"TRANSPOSE(MMULT(camera!$A$12:$C$14,MMULT(camera!$A$16:$C$18,TRANSPOSE(AH84:AJ84))))","v":404.3022141059015},237.34182939593521,-173.80614398822772,null,{"$f":"camera!$B$5*AM84/AN84","v":-682.7774437364277},{"$f":"camera!$B$5*AL84/AN84","v":-1163.0837806668267},null,{"$f":"IF( AND( (camera!$B$3) > (AQ84+camera!$B$3/2), 0 < (AQ84+camera!$B$3/2), AN84 >= 0 ), AQ84+camera!$B$3/2, 0)*-1+camera!$B$3","v":1000},{"$f":"IF( AND( (camera!$B$4) > (AP84+camera!$B$4/2), 0 < (AP84+camera!$B$4/2), AN84 >= 0 ), AP84+camera!$B$4/2, 0)","v":0},null,null,null,-623.8922,-317.98410000000001,2412.6379999999999,null,{"$f":"MMULT(               MMULT(AX84:AZ84-$B$2:$D$2, TRANSPOSE($A$16:$C$18)),     TRANSPOSE($A$12:$C$14))","v":-1604.997434002393},-4462.261217703568,3478.1586808744155,null,-641.46889591905381,-230.72515966966947," ",730.72515966966944,0]
[null,null,null,null,null,null,null,null,null,null,null,null,null,null,null,null,null,null,null,null,41.898699999999998,90,null,null,null,"''",null,14.591786000000001,-42.157823999999998,null,-42.157823999999998,-141.12321,null,{"$f":"camera!$B$5*COS(RADIANS(AE85))*COS(RADIANS(AF85))","v":-288.54964069910443},{"$f":"camera!$B$5*COS(RADIANS(AE85))*SIN(RADIANS(AF85))","v":-232.63727831913852},{"$f":"camera!$B$5*SIN(RADIANS(AE85))","v":-335.5875468319428},null,{"$f":"TRANSPOSE(MMULT(camera!$A$12:$C$14,MMULT(camera!$A$16:$C$18,TRANSPOSE(AH85:AJ85))))","v":375.09957048221304},267.17594741802782,-194.72371541581288,null,{"$f":"camera!$B$5*AM85/AN85","v":-686.03854144704576},{"$f":"camera!$B$5*AL85/AN85","v":-963.15841571024282},null,{"$f":"IF( AND( (camera!$B$3) > (AQ85+camera!$B$3/2), 0 < (AQ85+camera!$B$3/2), AN85 >= 0 ), AQ85+camera!$B$3/2, 0)*-1+camera!$B$3","v":1000},{"$f":"IF( AND( (camera!$B$4) > (AP85+camera!$B$4/2), 0 < (AP85+camera!$B$4/2), AN85 >= 0 ), AP85+camera!$B$4/2, 0)","v":0},null,null,null,-396.05900000000003,-467.63740000000001,2412.6379999999999,null,{"$f":"MMULT(               MMULT(AX85:AZ85-$B$2:$D$2, TRANSPOSE($A$16:$C$18)),     TRANSPOSE($A$12:$C$14))","v":-1582.5574266047001},-4702.2705881089814,3350.8950748877937,null,-701.64396124316704,-236.13950768925415," ",736.13950768925417,0]
[null,null,null,null,null,null,null,null,null,null,null,null,null,null,null,null,null,null,null,null,41.898699999999998,75,null,null,null,"'Merak'",null,11.030677000000001,56.382427,null,56.382427,165.46015500000001,null,{"$f":"camera!$B$5*COS(RADIANS(AE86))*COS(RADIANS(AF86))","v":-267.95774587399967},{"$f":"camera!$B$5*COS(RADIANS(AE86))*SIN(RADIANS(AF86))","v":69.497428959119659},{"$f":"camera!$B$5*SIN(RADIANS(AE86))","v":416.37573631780845},null,{"$f":"TRANSPOSE(MMULT(camera!$A$12:$C$14,MMULT(camera!$A$16:$C$18,TRANSPOSE(AH86:AJ86))))","v":-418.01684308287946},272.99518579227845,-27.120977734268536,null,{"$f":"camera!$B$5*AM86/AN86","v":-5032.9156357688598},{"$f":"camera!$B$5*AL86/AN86","v":7706.5223676412106},null,{"$f":"IF( AND( (camera!$B$3) > (AQ86+camera!$B$3/2), 0 < (AQ86+camera!$B$3/2), AN86 >= 0 ), AQ86+camera!$B$3/2, 0)*-1+camera!$B$3","v":1000},{"$f":"IF( AND( (camera!$B$4) > (AP86+camera!$B$4/2), 0 < (AP86+camera!$B$4/2), AN86 >= 0 ), AP86+camera!$B$4/2, 0)","v":0},null,null,null,-419.5258,-524.2912,2513.6864,null,{"$f":"MMULT(               MMULT(AX86:AZ86-$B$2:$D$2, TRANSPOSE($A$16:$C$18)),     TRANSPOSE($A$12:$C$14))","v":-1671.9151243558165},-4683.8307903862797,3275.7532182977011,null,-714.92424463224825,-255.19552495847881," ",755.19552495847881,0]
[null,null,null,null,null,null,null,null,null,null,null,null,null,null,null,null,null,null,null,null,41.898699999999998,515,null,null,null,"'Izar'",null,14.749784,27.074221999999999,null,27.074221999999999,-138.75324000000001,null,{"$f":"camera!$B$5*COS(RADIANS(AE87))*COS(RADIANS(AF87))","v":-334.74232361113394},{"$f":"camera!$B$5*COS(RADIANS(AE87))*SIN(RADIANS(AF87))","v":-293.52765316245342},{"$f":"camera!$B$5*SIN(RADIANS(AE87))","v":227.57217231542455},null,{"$f":"TRANSPOSE(MMULT(camera!$A$12:$C$14,MMULT(camera!$A$16:$C$18,TRANSPOSE(AH87:AJ87))))","v":-168.27211966038209},307.88590737997231,-356.21729573648315,null,{"$f":"camera!$B$5*AM87/AN87","v":-432.16024469476531},{"$f":"camera!$B$5*AL87/AN87","v":236.19307887967324},null,{"$f":"IF( AND( (camera!$B$3) > (AQ87+camera!$B$3/2), 0 < (AQ87+camera!$B$3/2), AN87 >= 0 ), AQ87+camera!$B$3/2, 0)*-1+camera!$B$3","v":1000},{"$f":"IF( AND( (camera!$B$4) > (AP87+camera!$B$4/2), 0 < (AP87+camera!$B$4/2), AN87 >= 0 ), AP87+camera!$B$4/2, 0)","v":0},null,null,null,-667.38919999999996,-361.48110000000003,2513.6864,null,{"$f":"MMULT(               MMULT(AX87:AZ87-$B$2:$D$2, TRANSPOSE($A$16:$C$18)),     TRANSPOSE($A$12:$C$14))","v":-1696.3279465199118},-4422.7207502629662,3414.2052128024957,null,-647.69404218568434,-248.42208373402198," ",748.42208373402195,0]
[null,null,null,null,null,null,null,null,null,null,null,null,null,null,null,null,null,null,null,null,41.898699999999998,500,null,null,null,"'Enif'",null,21.736433000000002,9.8750110000000006,null,9.8750110000000006,-33.95350499999995,null,{"$f":"camera!$B$5*COS(RADIANS(AE88))*COS(RADIANS(AF88))","v":408.6007600894834},{"$f":"camera!$B$5*COS(RADIANS(AE88))*SIN(RADIANS(AF88))","v":-275.12252641776888},{"$f":"camera!$B$5*SIN(RADIANS(AE88))","v":85.749719018784504},null,{"$f":"TRANSPOSE(MMULT(camera!$A$12:$C$14,MMULT(camera!$A$16:$C$18,TRANSPOSE(AH88:AJ88))))","v":-43.038201266033482},-431.02441897395352,-249.73118243413293,null,{"$f":"camera!$B$5*AM88/AN88","v":862.97677120805088},{"$f":"camera!$B$5*AL88/AN88","v":86.169057557289406},null,{"$f":"IF( AND( (camera!$B$3) > (AQ88+camera!$B$3/2), 0 < (AQ88+camera!$B$3/2), AN88 >= 0 ), AQ88+camera!$B$3/2, 0)*-1+camera!$B$3","v":1000},{"$f":"IF( AND( (camera!$B$4) > (AP88+camera!$B$4/2), 0 < (AP88+camera!$B$4/2), AN88 >= 0 ), AP88+camera!$B$4/2, 0)","v":0},null,null,null,-683.45680000000004,-377.5487,2632.0718999999999,null,{"$f":"MMULT(               MMULT(AX88:AZ88-$B$2:$D$2, TRANSPOSE($A$16:$C$18)),     TRANSPOSE($A$12:$C$14))","v":-1809.8922384512193},-4408.114675944079,3376.5053939580785,null,-652.7628659844529,-268.01263840564894," ",768.01263840564889,0]
[null,null,null,null,null,null,null,null,null,null,null,null,null,null,null,null,null,null,null,null,41.898699999999998,485,null,null,null,"''",null,17.708131999999999,-39.029983000000001,null,-39.029983000000001,-94.378019999999992,null,{"$f":"camera!$B$5*COS(RADIANS(AE89))*COS(RADIANS(AF89))","v":-29.649739093331583},{"$f":"camera!$B$5*COS(RADIANS(AE89))*SIN(RADIANS(AF89))","v":-387.27493263496626},{"$f":"camera!$B$5*SIN(RADIANS(AE89))","v":-314.8634934765854},null,{"$f":"TRANSPOSE(MMULT(camera!$A$12:$C$14,MMULT(camera!$A$16:$C$18,TRANSPOSE(AH89:AJ89))))","v":377.5224229210869},-4.2163215167692769,-327.8094611579404,null,{"$f":"camera!$B$5*AM89/AN89","v":6.4310552567270625},{"$f":"camera!$B$5*AL89/AN89","v":-575.82600207379994},null,{"$f":"IF( AND( (camera!$B$3) > (AQ89+camera!$B$3/2), 0 < (AQ89+camera!$B$3/2), AN89 >= 0 ), AQ89+camera!$B$3/2, 0)*-1+camera!$B$3","v":1000},{"$f":"IF( AND( (camera!$B$4) > (AP89+camera!$B$4/2), 0 < (AP89+camera!$B$4/2), AN89 >= 0 ), AP89+camera!$B$4/2, 0)","v":0},null,null,null,-428.19439999999997,-545.21900000000005,2632.0718999999999,null,{"$f":"MMULT(               MMULT(AX89:AZ89-$B$2:$D$2, TRANSPOSE($A$16:$C$18)),     TRANSPOSE($A$12:$C$14))","v":-1784.7506426464031},-4677.0191549794763,3233.9203187540479,null,-723.11910838629137,-275.94227233991109," ",775.94227233991114,0]
[null,null,null,null,null,null,null,null,null,null,null,null,null,null,null,null,null,null,null,null,42.123600000000003,55.577500000000001,null,null,null,"'Ankaa'",null,0.438056,-42.305981000000003,null,-42.305981000000003,6.5708400000000005,null,{"$f":"camera!$B$5*COS(RADIANS(AE90))*COS(RADIANS(AF90))","v":367.35137976273165},{"$f":"camera!$B$5*COS(RADIANS(AE90))*SIN(RADIANS(AF90))","v":42.314553985313317},{"$f":"camera!$B$5*SIN(RADIANS(AE90))","v":-336.54485927947457},null,{"$f":"TRANSPOSE(MMULT(camera!$A$12:$C$14,MMULT(camera!$A$16:$C$18,TRANSPOSE(AH90:AJ90))))","v":318.55244632551984},-362.26554047469477,131.4839044316987,null,{"$f":"camera!$B$5*AM90/AN90","v":-1377.6041335267735},{"$f":"camera!$B$5*AL90/AN90","v":1211.3743035787193},null,{"$f":"IF( AND( (camera!$B$3) > (AQ90+camera!$B$3/2), 0 < (AQ90+camera!$B$3/2), AN90 >= 0 ), AQ90+camera!$B$3/2, 0)*-1+camera!$B$3","v":1000},{"$f":"IF( AND( (camera!$B$4) > (AP90+camera!$B$4/2), 0 < (AP90+camera!$B$4/2), AN90 >= 0 ), AP90+camera!$B$4/2, 0)","v":0},null,null,null,-480.09059999999999,-174.1825,2321.7455,null,{"$f":"MMULT(               MMULT(AX90:AZ90-$B$2:$D$2, TRANSPOSE($A$16:$C$18)),     TRANSPOSE($A$12:$C$14))","v":-1542.538015435699},-4592.9824739443766,3647.3627620323637,null,-629.63060896431091,-211.45936339167073," ",711.45936339167076,0]
[null,null,null,null,null,null,null,null,null,null,null,null,null,null,null,null,null,null,null,null,42.123600000000003,465.57749999999999,null,null,null,"'Phad'",null,11.897168000000001,53.694760000000002,null,53.694760000000002,178.45752000000002,null,{"$f":"camera!$B$5*COS(RADIANS(AE91))*COS(RADIANS(AF91))","v":-295.93616770425922},{"$f":"camera!$B$5*COS(RADIANS(AE91))*SIN(RADIANS(AF91))","v":7.9689278013592082},{"$f":"camera!$B$5*SIN(RADIANS(AE91))","v":402.93706808162153},null,{"$f":"TRANSPOSE(MMULT(camera!$A$12:$C$14,MMULT(camera!$A$16:$C$18,TRANSPOSE(AH91:AJ91))))","v":-393.71524571451522},295.50457906200262,-87.55197910582929,null,{"$f":"camera!$B$5*AM91/AN91","v":-1687.5950839718232},{"$f":"camera!$B$5*AL91/AN91","v":2248.4657099447641},null,{"$f":"IF( AND( (camera!$B$3) > (AQ91+camera!$B$3/2), 0 < (AQ91+camera!$B$3/2), AN91 >= 0 ), AQ91+camera!$B$3/2, 0)*-1+camera!$B$3","v":1000},{"$f":"IF( AND( (camera!$B$4) > (AP91+camera!$B$4/2), 0 < (AP91+camera!$B$4/2), AN91 >= 0 ), AP91+camera!$B$4/2, 0)","v":0},null,null,null,-318.47739999999999,-280.33879999999999,2321.7455,null,{"$f":"MMULT(               MMULT(AX91:AZ91-$B$2:$D$2, TRANSPOSE($A$16:$C$18)),     TRANSPOSE($A$12:$C$14))","v":-1526.6202383661794},-4763.2328180998602,3557.0885623292684,null,-669.54093701012312,-214.58844946026747," ",714.5884494602675,0]
[null,null,null,null,null,null,null,null,null,null,null,null,null,null,null,null,null,null,null,null,42.8309,133.1302,null,null,null,"''",null,17.172968000000001,-15.724909999999999,null,-15.724909999999999,-102.40548000000001,null,{"$f":"camera!$B$5*COS(RADIANS(AE92))*COS(RADIANS(AF92))","v":-103.39428028470604},{"$f":"camera!$B$5*COS(RADIANS(AE92))*SIN(RADIANS(AF92))","v":-470.04978821663275},{"$f":"camera!$B$5*SIN(RADIANS(AE92))","v":-135.50948085616113},null,{"$f":"TRANSPOSE(MMULT(camera!$A$12:$C$14,MMULT(camera!$A$16:$C$18,TRANSPOSE(AH92:AJ92))))","v":216.32828933997629},62.033295412236015,-446.49069586222919,null,{"$f":"camera!$B$5*AM92/AN92","v":-69.467623835298511},{"$f":"camera!$B$5*AL92/AN92","v":-242.25397230531243},null,{"$f":"IF( AND( (camera!$B$3) > (AQ92+camera!$B$3/2), 0 < (AQ92+camera!$B$3/2), AN92 >= 0 ), AQ92+camera!$B$3/2, 0)*-1+camera!$B$3","v":1000},{"$f":"IF( AND( (camera!$B$4) > (AP92+camera!$B$4/2), 0 < (AP92+camera!$B$4/2), AN92 >= 0 ), AP92+camera!$B$4/2, 0)","v":0},null,null,null,-360.33300000000003,-381.38720000000001,2346.2640000000001,null,{"$f":"MMULT(               MMULT(AX92:AZ92-$B$2:$D$2, TRANSPOSE($A$16:$C$18)),     TRANSPOSE($A$12:$C$14))","v":-1532.6526869867971},-4730.3434396498742,3450.1038644281984,null,-685.53638173351862,-222.11689085493816," ",722.11689085493822,0]
[null,null,null,null,null,null,null,null,null,null,null,null,null,null,null,null,null,null,null,null,42.8309,543.13019999999995,null,null,null,"'Scheat'",null,23.062901,28.082788999999998,null,28.082788999999998,-14.056485000000009,null,{"$f":"camera!$B$5*COS(RADIANS(AE93))*COS(RADIANS(AF93))","v":427.92516885639691},{"$f":"camera!$B$5*COS(RADIANS(AE93))*SIN(RADIANS(AF93))","v":-107.14193302761215},{"$f":"camera!$B$5*SIN(RADIANS(AE93))","v":235.37343955155785},null,{"$f":"TRANSPOSE(MMULT(camera!$A$12:$C$14,MMULT(camera!$A$16:$C$18,TRANSPOSE(AH93:AJ93))))","v":-219.73979038760802},-435.63481914719893,-109.25533793365597,null,{"$f":"camera!$B$5*AM93/AN93","v":1993.6546231349039},{"$f":"camera!$B$5*AL93/AN93","v":1005.6249632445531},null,{"$f":"IF( AND( (camera!$B$3) > (AQ93+camera!$B$3/2), 0 < (AQ93+camera!$B$3/2), AN93 >= 0 ), AQ93+camera!$B$3/2, 0)*-1+camera!$B$3","v":1000},{"$f":"IF( AND( (camera!$B$4) > (AP93+camera!$B$4/2), 0 < (AP93+camera!$B$4/2), AN93 >= 0 ), AP93+camera!$B$4/2, 0)","v":0},null,null,null,-557.67219999999998,-251.76410000000001,2346.2640000000001,null,{"$f":"MMULT(               MMULT(AX93:AZ93-$B$2:$D$2, TRANSPOSE($A$16:$C$18)),     TRANSPOSE($A$12:$C$14))","v":-1552.089231775067},-4522.4577773264537,3560.3339875220986,null,-635.11706951880217,-217.96961144862726," ",717.96961144862723,0]
[null,null,null,null,null,null,null,null,null,null,null,null,null,null,null,null,null,null,null,null,43.347700000000003,60,null,null,null,"'Aludra'",null,7.4015839999999997,-29.303104000000001,null,-29.303104000000001,111.02376,null,{"$f":"camera!$B$5*COS(RADIANS(AE94))*COS(RADIANS(AF94))","v":-156.42487849212938},{"$f":"camera!$B$5*COS(RADIANS(AE94))*SIN(RADIANS(AF94))","v":406.99619249282995},{"$f":"camera!$B$5*SIN(RADIANS(AE94))","v":-244.71484770046519},null,{"$f":"TRANSPOSE(MMULT(camera!$A$12:$C$14,MMULT(camera!$A$16:$C$18,TRANSPOSE(AH94:AJ94))))","v":172.95927091276494},191.30169005568627,428.35587306253069,null,{"$f":"camera!$B$5*AM94/AN94","v":223.2976154709572},{"$f":"camera!$B$5*AL94/AN94","v":201.88735790663085},null,{"$f":"IF( AND( (camera!$B$3) > (AQ94+camera!$B$3/2), 0 < (AQ94+camera!$B$3/2), AN94 >= 0 ), AQ94+camera!$B$3/2, 0)*-1+camera!$B$3","v":298.11264209336912},{"$f":"IF( AND( (camera!$B$4) > (AP94+camera!$B$4/2), 0 < (AP94+camera!$B$4/2), AN94 >= 0 ), AP94+camera!$B$4/2, 0)","v":723.29761547095723},null,null,null,-336.28899999999999,-30.3809,2412.6379999999999,null,{"$f":"MMULT(               MMULT(AX94:AZ94-$B$2:$D$2, TRANSPOSE($A$16:$C$18)),     TRANSPOSE($A$12:$C$14))","v":-1659.1018742503293},-4723.7037301851851,3785.0002092131285,null,-624.00310027554872,-219.16800297816144," ",719.16800297816144,0]
[null,null,null,null,null,null,null,null,null,null,null,null,null,null,null,null,null,null,null,null,43.347700000000003,470,null,null,null,"'Alderamin'",null,21.309629999999999,62.585572999999997,null,62.585572999999997,-40.355549999999994,null,{"$f":"camera!$B$5*COS(RADIANS(AE95))*COS(RADIANS(AF95))","v":175.43069838877904},{"$f":"camera!$B$5*COS(RADIANS(AE95))*SIN(RADIANS(AF95))","v":-149.06870453604199},{"$f":"camera!$B$5*SIN(RADIANS(AE95))","v":443.84973965382864},null,{"$f":"TRANSPOSE(MMULT(camera!$A$12:$C$14,MMULT(camera!$A$16:$C$18,TRANSPOSE(AH95:AJ95))))","v":-413.97470272995349},-187.75532528170373,-208.26157429542363,null,{"$f":"camera!$B$5*AM95/AN95","v":450.76804474590369},{"$f":"camera!$B$5*AL95/AN95","v":993.88162249921652},null,{"$f":"IF( AND( (camera!$B$3) > (AQ95+camera!$B$3/2), 0 < (AQ95+camera!$B$3/2), AN95 >= 0 ), AQ95+camera!$B$3/2, 0)*-1+camera!$B$3","v":1000},{"$f":"IF( AND( (camera!$B$4) > (AP95+camera!$B$4/2), 0 < (AP95+camera!$B$4/2), AN95 >= 0 ), AP95+camera!$B$4/2, 0)","v":0},null,null,null,-240.89580000000001,-93.040300000000002,2412.6379999999999,null,{"$f":"MMULT(               MMULT(AX95:AZ95-$B$2:$D$2, TRANSPOSE($A$16:$C$18)),     TRANSPOSE($A$12:$C$14))","v":-1649.7063102102429},-4824.1950568063121,3731.7153176875336,null,-646.37769043376079,-221.03860688287062," ",721.03860688287068,0]
[null,null,null,null,null,null,null,null,null,null,null,null,null,null,null,null,null,null,null,null,44.456299999999999,51.155000000000001,null,null,null,"''",null,9.3685620000000007,-55.010668000000003,null,-55.010668000000003,140.52843000000001,null,{"$f":"camera!$B$5*COS(RADIANS(AE96))*COS(RADIANS(AF96))","v":-221.32445653905356},{"$f":"camera!$B$5*COS(RADIANS(AE96))*SIN(RADIANS(AF96))","v":182.26143102646108},{"$f":"camera!$B$5*SIN(RADIANS(AE96))","v":-409.62941263766589},null,{"$f":"TRANSPOSE(MMULT(camera!$A$12:$C$14,MMULT(camera!$A$16:$C$18,TRANSPOSE(AH96:AJ96))))","v":375.22691226197429},236.36738055760438,230.94420478262981,null,{"$f":"camera!$B$5*AM96/AN96","v":511.74131167326539},{"$f":"camera!$B$5*AL96/AN96","v":812.37568315504348},null,{"$f":"IF( AND( (camera!$B$3) > (AQ96+camera!$B$3/2), 0 < (AQ96+camera!$B$3/2), AN96 >= 0 ), AQ96+camera!$B$3/2, 0)*-1+camera!$B$3","v":1000},{"$f":"IF( AND( (camera!$B$4) > (AP96+camera!$B$4/2), 0 < (AP96+camera!$B$4/2), AN96 >= 0 ), AP96+camera!$B$4/2, 0)","v":0},null,null,null,-276.62180000000001,-179.29050000000001,2346.2640000000001,null,{"$f":"MMULT(               MMULT(AX96:AZ96-$B$2:$D$2, TRANSPOSE($A$16:$C$18)),     TRANSPOSE($A$12:$C$14))","v":-1568.8797902312817},-4796.1222052654211,3655.5579764360587,null,-656.00412251447062,-214.58827904582185," ",714.58827904582188,0]
[null,null,null,null,null,null,null,null,null,null,null,null,null,null,null,null,null,null,null,null,44.456299999999999,461.15499999999997,null,null,null,"'Gienah'",null,20.770178000000001,33.970255999999999,null,33.970255999999999,-48.447329999999965,null,{"$f":"camera!$B$5*COS(RADIANS(AE97))*COS(RADIANS(AF97))","v":275.04997378651001},{"$f":"camera!$B$5*COS(RADIANS(AE97))*SIN(RADIANS(AF97))","v":-310.31217063635353},{"$f":"camera!$B$5*SIN(RADIANS(AE97))","v":279.38122462863305},null,{"$f":"TRANSPOSE(MMULT(camera!$A$12:$C$14,MMULT(camera!$A$16:$C$18,TRANSPOSE(AH97:AJ97))))","v":-225.61942855663943},-301.0488133118443,-329.34098661008738,null,{"$f":"camera!$B$5*AM97/AN97","v":457.04729376465571},{"$f":"camera!$B$5*AL97/AN97","v":342.5316582654109},null,{"$f":"IF( AND( (camera!$B$3) > (AQ97+camera!$B$3/2), 0 < (AQ97+camera!$B$3/2), AN97 >= 0 ), AQ97+camera!$B$3/2, 0)*-1+camera!$B$3","v":1000},{"$f":"IF( AND( (camera!$B$4) > (AP97+camera!$B$4/2), 0 < (AP97+camera!$B$4/2), AN97 >= 0 ), AP97+camera!$B$4/2, 0)","v":0},null,null,null,-402.50900000000001,-96.600899999999996,2346.2640000000001,null,{"$f":"MMULT(               MMULT(AX97:AZ97-$B$2:$D$2, TRANSPOSE($A$16:$C$18)),     TRANSPOSE($A$12:$C$14))","v":-1581.2788168807911},-4663.5071705622986,3725.8763508543752,null,-625.82688358577934,-212.20226706103523," ",712.20226706103517,0]
[null,null,null,null,null,null,null,null,null,null,null,null,null,null,null,null,null,null,null,null,45,120,null,null,null,"'Markab'",null,23.079348,15.205264,null,15.205264,-13.809779999999989,null,{"$f":"camera!$B$5*COS(RADIANS(AE98))*COS(RADIANS(AF98))","v":468.5489485551492},{"$f":"camera!$B$5*COS(RADIANS(AE98))*SIN(RADIANS(AF98))","v":-115.17146688985136},{"$f":"camera!$B$5*SIN(RADIANS(AE98))","v":131.13891879340792},null,{"$f":"TRANSPOSE(MMULT(camera!$A$12:$C$14,MMULT(camera!$A$16:$C$18,TRANSPOSE(AH98:AJ98))))","v":-116.31463606612888},-476.80383308722401,-95.545853861560431,null,{"$f":"camera!$B$5*AM98/AN98","v":2495.1571094758383},{"$f":"camera!$B$5*AL98/AN98","v":608.68489508012055},null,{"$f":"IF( AND( (camera!$B$3) > (AQ98+camera!$B$3/2), 0 < (AQ98+camera!$B$3/2), AN98 >= 0 ), AQ98+camera!$B$3/2, 0)*-1+camera!$B$3","v":1000},{"$f":"IF( AND( (camera!$B$4) > (AP98+camera!$B$4/2), 0 < (AP98+camera!$B$4/2), AN98 >= 0 ), AP98+camera!$B$4/2, 0)","v":0},null,null,null,-276.7244,29.183700000000002,2632.0718999999999,null,{"$f":"MMULT(               MMULT(AX98:AZ98-$B$2:$D$2, TRANSPOSE($A$16:$C$18)),     TRANSPOSE($A$12:$C$14))","v":-1886.4074817889139},-4777.8502719446724,3810.4449024227711,null,-626.94126201730444,-247.53113220315709," ",747.53113220315709,0]
[null,null,null,null,null,null,null,null,null,null,null,null,null,null,null,null,null,null,null,null,45,530,null,null,null,"'Menkar'",null,3.037992,4.089734,null,4.089734,45.569879999999998,null,{"$f":"camera!$B$5*COS(RADIANS(AE99))*COS(RADIANS(AF99))","v":349.12812129428954},{"$f":"camera!$B$5*COS(RADIANS(AE99))*SIN(RADIANS(AF99))","v":356.14318011666484},{"$f":"camera!$B$5*SIN(RADIANS(AE99))","v":35.659363116980501},null,{"$f":"TRANSPOSE(MMULT(camera!$A$12:$C$14,MMULT(camera!$A$16:$C$18,TRANSPOSE(AH99:AJ99))))","v":-102.00975503073875},-316.75966000052216,373.1719813637169,null,{"$f":"camera!$B$5*AM99/AN99","v":-424.41511664803721},{"$f":"camera!$B$5*AL99/AN99","v":-136.67927942761816},null,{"$f":"IF( AND( (camera!$B$3) > (AQ99+camera!$B$3/2), 0 < (AQ99+camera!$B$3/2), AN99 >= 0 ), AQ99+camera!$B$3/2, 0)*-1+camera!$B$3","v":636.67927942761821},{"$f":"IF( AND( (camera!$B$4) > (AP99+camera!$B$4/2), 0 < (AP99+camera!$B$4/2), AN99 >= 0 ), AP99+camera!$B$4/2, 0)","v":75.584883351962787},null,null,null,-208.76050000000001,-15.4587,2632.0718999999999,null,{"$f":"MMULT(               MMULT(AX99:AZ99-$B$2:$D$2, TRANSPOSE($A$16:$C$18)),     TRANSPOSE($A$12:$C$14))","v":-1879.7135046425074},-4849.4463903163487,3772.4814715314201,null,-642.73959022888721,-249.13488890900331," ",749.13488890900328,0]
[null,null,null,null,null,null,null,null,null,null,null,null,null,null,null,null,null,null,null,null,45.248399999999997,137.5069,null,null,null,"''",null,16.619316000000001,-10.56709,null,-10.56709,-110.71025999999998,null,{"$f":"camera!$B$5*COS(RADIANS(AE100))*COS(RADIANS(AF100))","v":-173.82243694936037},{"$f":"camera!$B$5*COS(RADIANS(AE100))*SIN(RADIANS(AF100))","v":-459.75872677477543},{"$f":"camera!$B$5*SIN(RADIANS(AE100))","v":-91.693367085209786},null,{"$f":"TRANSPOSE(MMULT(camera!$A$12:$C$14,MMULT(camera!$A$16:$C$18,TRANSPOSE(AH100:AJ100))))","v":172.46350731461922},133.09037678156636,-450.04809771054579,null,{"$f":"camera!$B$5*AM100/AN100","v":-147.86239232941404},{"$f":"camera!$B$5*AL100/AN100","v":-191.60563969936092},null,{"$f":"IF( AND( (camera!$B$3) > (AQ100+camera!$B$3/2), 0 < (AQ100+camera!$B$3/2), AN100 >= 0 ), AQ100+camera!$B$3/2, 0)*-1+camera!$B$3","v":1000},{"$f":"IF( AND( (camera!$B$4) > (AP100+camera!$B$4/2), 0 < (AP100+camera!$B$4/2), AN100 >= 0 ), AP100+camera!$B$4/2, 0)","v":0},null,null,null,-217.42910000000001,-36.386499999999998,2513.6864,null,{"$f":"MMULT(               MMULT(AX100:AZ100-$B$2:$D$2, TRANSPOSE($A$16:$C$18)),     TRANSPOSE($A$12:$C$14))","v":-1759.375106444641},-4842.6347549095444,3771.7634246621428,null,-641.95897378469931,-233.22977986115842," ",733.22977986115848,0]
[null,null,null,null,null,null,null,null,null,null,null,null,null,null,null,null,null,null,null,null,45.248399999999997,547.50689999999997,null,null,null,"''",null,13.925667000000001,-47.288375000000002,null,-47.288375000000002,-151.11499499999999,null,{"$f":"camera!$B$5*COS(RADIANS(AE101))*COS(RADIANS(AF101))","v":-296.96051788617223},{"$f":"camera!$B$5*COS(RADIANS(AE101))*SIN(RADIANS(AF101))","v":-163.82962596568638},{"$f":"camera!$B$5*SIN(RADIANS(AE101))","v":-367.3884925698132},null,{"$f":"TRANSPOSE(MMULT(camera!$A$12:$C$14,MMULT(camera!$A$16:$C$18,TRANSPOSE(AH101:AJ101))))","v":394.64182581692285},281.55180072567333,-122.41900515857921,null,{"$f":"camera!$B$5*AM101/AN101","v":-1149.951350939981},{"$f":"camera!$B$5*AL101/AN101","v":-1611.8486884683937},null,{"$f":"IF( AND( (camera!$B$3) > (AQ101+camera!$B$3/2), 0 < (AQ101+camera!$B$3/2), AN101 >= 0 ), AQ101+camera!$B$3/2, 0)*-1+camera!$B$3","v":1000},{"$f":"IF( AND( (camera!$B$4) > (AP101+camera!$B$4/2), 0 < (AP101+camera!$B$4/2), AN101 >= 0 ), AP101+camera!$B$4/2, 0)","v":0},null,null,null,-292.7921,13.116,2513.6864,null,{"$f":"MMULT(               MMULT(AX101:AZ101-$B$2:$D$2, TRANSPOSE($A$16:$C$18)),     TRANSPOSE($A$12:$C$14))","v":-1766.7978384195853},-4763.2441067218915,3813.8598295635388,null,-624.46501963694357,-231.62857542955098," ",731.62857542955101,0]
[null,null,null,null,null,null,null,null,null,null,null,null,null,null,null,null,null,null,null,null,45.431399999999996,49.306199999999997,null,null,null,"'Zosma'",null,11.235137999999999,20.523717000000001,null,20.523717000000001,168.52706999999998,null,{"$f":"camera!$B$5*COS(RADIANS(AE102))*COS(RADIANS(AF102))","v":-458.90709877026507},{"$f":"camera!$B$5*COS(RADIANS(AE102))*SIN(RADIANS(AF102))","v":93.139936004741926},{"$f":"camera!$B$5*SIN(RADIANS(AE102))","v":175.29753854316021},null,{"$f":"TRANSPOSE(MMULT(camera!$A$12:$C$14,MMULT(camera!$A$16:$C$18,TRANSPOSE(AH102:AJ102))))","v":-181.8011097700626},465.27849901356569,21.547037895195196,null,{"$f":"camera!$B$5*AM102/AN102","v":10796.808853186238},{"$f":"camera!$B$5*AL102/AN102","v":-4218.7030684761239},null,{"$f":"IF( AND( (camera!$B$3) > (AQ102+camera!$B$3/2), 0 < (AQ102+camera!$B$3/2), AN102 >= 0 ), AQ102+camera!$B$3/2, 0)*-1+camera!$B$3","v":1000},{"$f":"IF( AND( (camera!$B$4) > (AP102+camera!$B$4/2), 0 < (AP102+camera!$B$4/2), AN102 >= 0 ), AP102+camera!$B$4/2, 0)","v":0},null,null,null,-336.28899999999999,-30.3809,2851.5057999999999,null,{"$f":"MMULT(               MMULT(AX102:AZ102-$B$2:$D$2, TRANSPOSE($A$16:$C$18)),     TRANSPOSE($A$12:$C$14))","v":-2091.3022862377402},-4723.7037301851851,3708.7916155064336,null,-636.82517378914076,-281.93849952286604," ",781.9384995228661,0]
[null,null,null,null,null,null,null,null,null,null,null,null,null,null,null,null,null,null,null,null,45.431399999999996,459.30619999999999,null,null,null,"'Graffias'",null,16.090620000000001,-19.805453,null,-19.805453,-118.64069999999998,null,{"$f":"camera!$B$5*COS(RADIANS(AE103))*COS(RADIANS(AF103))","v":-225.48159918857715},{"$f":"camera!$B$5*COS(RADIANS(AE103))*SIN(RADIANS(AF103))","v":-412.86442771507723},{"$f":"camera!$B$5*SIN(RADIANS(AE103))","v":-169.41373248607556},null,{"$f":"TRANSPOSE(MMULT(camera!$A$12:$C$14,MMULT(camera!$A$16:$C$18,TRANSPOSE(AH103:AJ103))))","v":241.67283542367889},188.64006777731421,-394.97995575376945,null,{"$f":"camera!$B$5*AM103/AN103","v":-238.79701365771643},{"$f":"camera!$B$5*AL103/AN103","v":-305.93050597020391},null,{"$f":"IF( AND( (camera!$B$3) > (AQ103+camera!$B$3/2), 0 < (AQ103+camera!$B$3/2), AN103 >= 0 ), AQ103+camera!$B$3/2, 0)*-1+camera!$B$3","v":1000},{"$f":"IF( AND( (camera!$B$4) > (AP103+camera!$B$4/2), 0 < (AP103+camera!$B$4/2), AN103 >= 0 ), AP103+camera!$B$4/2, 0)","v":0},null,null,null,-240.89580000000001,-93.040300000000002,2851.5057999999999,null,{"$f":"MMULT(               MMULT(AX103:AZ103-$B$2:$D$2, TRANSPOSE($A$16:$C$18)),     TRANSPOSE($A$12:$C$14))","v":-2081.9067221976538},-4824.1950568063121,3655.5067239808386,null,-659.8531231195185,-284.7630820290849," ",784.7630820290849,0]
[null,null,null,null,null,null,null,null,null,null,null,null,null,null,null,null,null,null,null,null,46.789000000000001,46.732399999999998,null,null,null,"'Arneb'",null,5.5455040000000002,-17.822289000000001,null,-17.822289000000001,83.182560000000009,null,{"$f":"camera!$B$5*COS(RADIANS(AE104))*COS(RADIANS(AF104))","v":56.504771836031601},{"$f":"camera!$B$5*COS(RADIANS(AE104))*SIN(RADIANS(AF104))","v":472.63956804631994},{"$f":"camera!$B$5*SIN(RADIANS(AE104))","v":-153.03283790332756},null,{"$f":"TRANSPOSE(MMULT(camera!$A$12:$C$14,MMULT(camera!$A$16:$C$18,TRANSPOSE(AH104:AJ104))))","v":68.09207024297244},-15.096501514929137,495.11166984028546,null,{"$f":"camera!$B$5*AM104/AN104","v":-15.245552099185028},{"$f":"camera!$B$5*AL104/AN104","v":68.764355993606216},null,{"$f":"IF( AND( (camera!$B$3) > (AQ104+camera!$B$3/2), 0 < (AQ104+camera!$B$3/2), AN104 >= 0 ), AQ104+camera!$B$3/2, 0)*-1+camera!$B$3","v":431.23564400639384},{"$f":"IF( AND( (camera!$B$4) > (AP104+camera!$B$4/2), 0 < (AP104+camera!$B$4/2), AN104 >= 0 ), AP104+camera!$B$4/2, 0)","v":484.75444790081497},null,null,null,-217.42910000000001,-36.386499999999998,2750.4573999999998,null,{"$f":"MMULT(               MMULT(AX104:AZ104-$B$2:$D$2, TRANSPOSE($A$16:$C$18)),     TRANSPOSE($A$12:$C$14))","v":-1992.5490229330944},-4842.6347549095444,3730.6485719877664,null,-649.03389604576034,-267.05128940507836," ",767.05128940507836,0]
[null,null,null,null,null,null,null,null,null,null,null,null,null,null,null,null,null,null,null,null,46.789000000000001,456.73239999999998,null,null,null,"''",null,12.13931,-50.722425000000001,null,-50.722425000000001,-177.91034999999999,null,{"$f":"camera!$B$5*COS(RADIANS(AE105))*COS(RADIANS(AF105))","v":-316.32847595337574},{"$f":"camera!$B$5*COS(RADIANS(AE105))*SIN(RADIANS(AF105))","v":-11.542020121379267},{"$f":"camera!$B$5*SIN(RADIANS(AE105))","v":-387.04402472139037},null,{"$f":"TRANSPOSE(MMULT(camera!$A$12:$C$14,MMULT(camera!$A$16:$C$18,TRANSPOSE(AH105:AJ105))))","v":387.94803332718681},314.1187972637079,28.735076877737875,null,{"$f":"camera!$B$5*AM105/AN105","v":5465.7726965586671},{"$f":"camera!$B$5*AL105/AN105","v":6750.4262295491626},null,{"$f":"IF( AND( (camera!$B$3) > (AQ105+camera!$B$3/2), 0 < (AQ105+camera!$B$3/2), AN105 >= 0 ), AQ105+camera!$B$3/2, 0)*-1+camera!$B$3","v":1000},{"$f":"IF( AND( (camera!$B$4) > (AP105+camera!$B$4/2), 0 < (AP105+camera!$B$4/2), AN105 >= 0 ), AP105+camera!$B$4/2, 0)","v":0},null,null,null,-292.7921,13.116,2750.4573999999998,null,{"$f":"MMULT(               MMULT(AX105:AZ105-$B$2:$D$2, TRANSPOSE($A$16:$C$18)),     TRANSPOSE($A$12:$C$14))","v":-1999.9717549080383},-4763.2441067218915,3772.7449768891624,null,-631.27035300560522,-265.05525382173141," ",765.05525382173141,0]
[null,null,null,null,null,null,null,null,null,null,null,null,null,null,null,null,null,null,null,null,46.898699999999998,105,null,null,null,"'Gienah Ghurab'",null,12.263437,-17.541929,null,-17.541929,-176.04844500000002,null,{"$f":"camera!$B$5*COS(RADIANS(AE106))*COS(RADIANS(AF106))","v":-475.61493364033618},{"$f":"camera!$B$5*COS(RADIANS(AE106))*SIN(RADIANS(AF106))","v":-32.854149228454681},{"$f":"camera!$B$5*SIN(RADIANS(AE106))","v":-150.70182406584553},null,{"$f":"TRANSPOSE(MMULT(camera!$A$12:$C$14,MMULT(camera!$A$16:$C$18,TRANSPOSE(AH106:AJ106))))","v":161.29384211468189},470.94164744741192,-46.88561821498854,null,{"$f":"camera!$B$5*AM106/AN106","v":-5022.2399253430322},{"$f":"camera!$B$5*AL106/AN106","v":-1720.0780138494472},null,{"$f":"IF( AND( (camera!$B$3) > (AQ106+camera!$B$3/2), 0 < (AQ106+camera!$B$3/2), AN106 >= 0 ), AQ106+camera!$B$3/2, 0)*-1+camera!$B$3","v":1000},{"$f":"IF( AND( (camera!$B$4) > (AP106+camera!$B$4/2), 0 < (AP106+camera!$B$4/2), AN106 >= 0 ), AP106+camera!$B$4/2, 0)","v":0},null,null,null,-480.09059999999999,-174.1825,2942.3982999999998,null,{"$f":"MMULT(               MMULT(AX106:AZ106-$B$2:$D$2, TRANSPOSE($A$16:$C$18)),     TRANSPOSE($A$12:$C$14))","v":-2153.7617048044344},-4592.9824739443766,3539.5875343484863,null,-648.80193375268266,-304.23907925770033," ",804.23907925770027,0]
[null,null,null,null,null,null,null,null,null,null,null,null,null,null,null,null,null,null,null,null,46.898699999999998,90,null,null,null,"''",null,19.043531999999999,-29.880105,null,-29.880105,-74.347020000000043,null,{"$f":"camera!$B$5*COS(RADIANS(AE107))*COS(RADIANS(AF107))","v":116.97218776568442},{"$f":"camera!$B$5*COS(RADIANS(AE107))*SIN(RADIANS(AF107))","v":-417.45659856776575},{"$f":"camera!$B$5*SIN(RADIANS(AE107))","v":-249.09334716435274},null,{"$f":"TRANSPOSE(MMULT(camera!$A$12:$C$14,MMULT(camera!$A$16:$C$18,TRANSPOSE(AH107:AJ107))))","v":315.75348049630702},-152.91081318945155,-356.25555822219667,null,{"$f":"camera!$B$5*AM107/AN107","v":214.60831930947873},{"$f":"camera!$B$5*AL107/AN107","v":-443.15586551406381},null,{"$f":"IF( AND( (camera!$B$3) > (AQ107+camera!$B$3/2), 0 < (AQ107+camera!$B$3/2), AN107 >= 0 ), AQ107+camera!$B$3/2, 0)*-1+camera!$B$3","v":1000},{"$f":"IF( AND( (camera!$B$4) > (AP107+camera!$B$4/2), 0 < (AP107+camera!$B$4/2), AN107 >= 0 ), AP107+camera!$B$4/2, 0)","v":0},null,null,null,-318.47739999999999,-280.33879999999999,2942.3982999999998,null,{"$f":"MMULT(               MMULT(AX107:AZ107-$B$2:$D$2, TRANSPOSE($A$16:$C$18)),     TRANSPOSE($A$12:$C$14))","v":-2137.8439277349144},-4763.2328180998602,3449.313334645391,null,-690.46102165571278,-309.89413258895729," ",809.89413258895729,0]
[null,null,null,null,null,null,null,null,null,null,null,null,null,null,null,null,null,null,null,null,46.898699999999998,75,null,null,null,"'Zubeneschemali'",null,15.283448999999999,-9.3829170000000008,null,-9.3829170000000008,-130.748265,null,{"$f":"camera!$B$5*COS(RADIANS(AE108))*COS(RADIANS(AF108))","v":-322.00186243168719},{"$f":"camera!$B$5*COS(RADIANS(AE108))*SIN(RADIANS(AF108))","v":-373.7244416876465},{"$f":"camera!$B$5*SIN(RADIANS(AE108))","v":-81.515901981034702},null,{"$f":"TRANSPOSE(MMULT(camera!$A$12:$C$14,MMULT(camera!$A$16:$C$18,TRANSPOSE(AH108:AJ108))))","v":149.80042602544523},288.20431683187371,-380.12906245388291,null,{"$f":"camera!$B$5*AM108/AN108","v":-379.08745383923196},{"$f":"camera!$B$5*AL108/AN108","v":-197.03890181195885},null,{"$f":"IF( AND( (camera!$B$3) > (AQ108+camera!$B$3/2), 0 < (AQ108+camera!$B$3/2), AN108 >= 0 ), AQ108+camera!$B$3/2, 0)*-1+camera!$B$3","v":1000},{"$f":"IF( AND( (camera!$B$4) > (AP108+camera!$B$4/2), 0 < (AP108+camera!$B$4/2), AN108 >= 0 ), AP108+camera!$B$4/2, 0)","v":0},null,null,null,-276.62180000000001,-179.29050000000001,2917.8798999999999,null,{"$f":"MMULT(               MMULT(AX108:AZ108-$B$2:$D$2, TRANSPOSE($A$16:$C$18)),     TRANSPOSE($A$12:$C$14))","v":-2131.8115602963326},-4796.1222052654211,3556.2979170756166,null,-674.31389567178417,-299.72342165998072," ",799.72342165998066,0]
[null,null,null,null,null,null,null,null,null,null,null,null,null,null,null,null,null,null,null,null,46.898699999999998,515,null,null,null,"'Unukalhai'",null,15.737798,6.4256270000000004,null,6.4256270000000004,-123.93303,null,{"$f":"camera!$B$5*COS(RADIANS(AE109))*COS(RADIANS(AF109))","v":-277.35836130268933},{"$f":"camera!$B$5*COS(RADIANS(AE109))*SIN(RADIANS(AF109))","v":-412.23923470569463},{"$f":"camera!$B$5*SIN(RADIANS(AE109))","v":55.956704555844404},null,{"$f":"TRANSPOSE(MMULT(camera!$A$12:$C$14,MMULT(camera!$A$16:$C$18,TRANSPOSE(AH109:AJ109))))","v":20.403256746638149},240.37391231065288,-437.954437578387,null,{"$f":"camera!$B$5*AM109/AN109","v":-274.427990317634},{"$f":"camera!$B$5*AL109/AN109","v":-23.293812090882493},null,{"$f":"IF( AND( (camera!$B$3) > (AQ109+camera!$B$3/2), 0 < (AQ109+camera!$B$3/2), AN109 >= 0 ), AQ109+camera!$B$3/2, 0)*-1+camera!$B$3","v":1000},{"$f":"IF( AND( (camera!$B$4) > (AP109+camera!$B$4/2), 0 < (AP109+camera!$B$4/2), AN109 >= 0 ), AP109+camera!$B$4/2, 0)","v":0},null,null,null,-402.50900000000001,-96.600899999999996,2917.8798999999999,null,{"$f":"MMULT(               MMULT(AX109:AZ109-$B$2:$D$2, TRANSPOSE($A$16:$C$18)),     TRANSPOSE($A$12:$C$14))","v":-2144.2105869458419},-4663.5071705622986,3626.6162914939332,null,-642.9556914389243,-295.62137466472427," ",795.62137466472427,0]
[null,null,null,null,null,null,null,null,null,null,null,null,null,null,null,null,null,null,null,null,46.898699999999998,500,null,null,null,"'Sheratan'",null,1.910668,20.808035,null,20.808035,28.660019999999999,null,{"$f":"camera!$B$5*COS(RADIANS(AE110))*COS(RADIANS(AF110))","v":410.12405122786993},{"$f":"camera!$B$5*COS(RADIANS(AE110))*SIN(RADIANS(AF110))","v":224.164545482242},{"$f":"camera!$B$5*SIN(RADIANS(AE110))","v":177.61902812812417},null,{"$f":"TRANSPOSE(MMULT(camera!$A$12:$C$14,MMULT(camera!$A$16:$C$18,TRANSPOSE(AH110:AJ110))))","v":-219.90523268135087},-389.02617793391545,224.27733171564719,null,{"$f":"camera!$B$5*AM110/AN110","v":-867.28822515854415},{"$f":"camera!$B$5*AL110/AN110","v":-490.25291811514961},null,{"$f":"IF( AND( (camera!$B$3) > (AQ110+camera!$B$3/2), 0 < (AQ110+camera!$B$3/2), AN110 >= 0 ), AQ110+camera!$B$3/2, 0)*-1+camera!$B$3","v":990.25291811514967},{"$f":"IF( AND( (camera!$B$4) > (AP110+camera!$B$4/2), 0 < (AP110+camera!$B$4/2), AN110 >= 0 ), AP110+camera!$B$4/2, 0)","v":0},null,null,null,-623.8922,-317.98410000000001,2851.5057999999999,null,{"$f":"MMULT(               MMULT(AX110:AZ110-$B$2:$D$2, TRANSPOSE($A$16:$C$18)),     TRANSPOSE($A$12:$C$14))","v":-2037.1978459898041},-4462.261217703568,3401.9500871677205,null,-655.83872534394015,-299.41618686208665," ",799.41618686208665,0]
[null,null,null,null,null,null,null,null,null,null,null,null,null,null,null,null,null,null,null,null,46.898699999999998,485,null,null,null,"'Phakt'",null,5.6608169999999998,-34.074108000000003,null,-34.074108000000003,84.912255000000002,null,{"$f":"camera!$B$5*COS(RADIANS(AE111))*COS(RADIANS(AF111))","v":36.727943487500703},{"$f":"camera!$B$5*COS(RADIANS(AE111))*SIN(RADIANS(AF111))","v":412.52504708706647},{"$f":"camera!$B$5*SIN(RADIANS(AE111))","v":-280.1323681636818},null,{"$f":"TRANSPOSE(MMULT(camera!$A$12:$C$14,MMULT(camera!$A$16:$C$18,TRANSPOSE(AH111:AJ111))))","v":203.95903850634807},-0.63425569317553254,456.50882612637594,null,{"$f":"camera!$B$5*AM111/AN111","v":-0.69468064676579844},{"$f":"camera!$B$5*AL111/AN111","v":223.3900275674909},null,{"$f":"IF( AND( (camera!$B$3) > (AQ111+camera!$B$3/2), 0 < (AQ111+camera!$B$3/2), AN111 >= 0 ), AQ111+camera!$B$3/2, 0)*-1+camera!$B$3","v":276.60997243250904},{"$f":"IF( AND( (camera!$B$4) > (AP111+camera!$B$4/2), 0 < (AP111+camera!$B$4/2), AN111 >= 0 ), AP111+camera!$B$4/2, 0)","v":499.30531935323421},null,null,null,-396.05900000000003,-467.63740000000001,2851.5057999999999,null,{"$f":"MMULT(               MMULT(AX111:AZ111-$B$2:$D$2, TRANSPOSE($A$16:$C$18)),     TRANSPOSE($A$12:$C$14))","v":-2014.7578385921115},-4702.2705881089814,3274.6864811810988,null,-717.97263877502371,-307.62606591050485," ",807.62606591050485,0]
[null,null,null,null,null,null,null,null,null,null,null,null,null,null,null,null,null,null,null,null,47.665900000000001,141.8837,null,null,null,"''",null,5.9953510000000003,37.212584999999997,null,37.212584999999997,89.930265000000006,null,{"$f":"camera!$B$5*COS(RADIANS(AE112))*COS(RADIANS(AF112))","v":0.48464946672850012},{"$f":"camera!$B$5*COS(RADIANS(AE112))*SIN(RADIANS(AF112))","v":398.19825446754521},{"$f":"camera!$B$5*SIN(RADIANS(AE112))","v":302.38702891145067},null,{"$f":"TRANSPOSE(MMULT(camera!$A$12:$C$14,MMULT(camera!$A$16:$C$18,TRANSPOSE(AH112:AJ112))))","v":-366.68370368447233},34.222459399751962,338.18912567507306,null,{"$f":"camera!$B$5*AM112/AN112","v":50.596628929802399},{"$f":"camera!$B$5*AL112/AN112","v":-542.12817007720184},null,{"$f":"IF( AND( (camera!$B$3) > (AQ112+camera!$B$3/2), 0 < (AQ112+camera!$B$3/2), AN112 >= 0 ), AQ112+camera!$B$3/2, 0)*-1+camera!$B$3","v":1000},{"$f":"IF( AND( (camera!$B$4) > (AP112+camera!$B$4/2), 0 < (AP112+camera!$B$4/2), AN112 >= 0 ), AP112+camera!$B$4/2, 0)","v":550.59662892980236},null,null,null,-360.33300000000003,-381.38720000000001,2917.8798999999999,null,{"$f":"MMULT(               MMULT(AX112:AZ112-$B$2:$D$2, TRANSPOSE($A$16:$C$18)),     TRANSPOSE($A$12:$C$14))","v":-2095.5844570518479},-4730.3434396498742,3350.8438050677564,null,-705.84361952290749,-312.69503727427156," ",812.6950372742715,0]
[null,null,null,null,null,null,null,null,null,null,null,null,null,null,null,null,null,null,null,null,47.665900000000001,551.88369999999998,null,null,null,"'Kraz'",null,12.573121,-23.396758999999999,null,-23.396758999999999,-171.40318500000001,null,{"$f":"camera!$B$5*COS(RADIANS(AE113))*COS(RADIANS(AF113))","v":-453.73279052875165},{"$f":"camera!$B$5*COS(RADIANS(AE113))*SIN(RADIANS(AF113))","v":-68.594833802347281},{"$f":"camera!$B$5*SIN(RADIANS(AE113))","v":-198.54798809008446},null,{"$f":"TRANSPOSE(MMULT(camera!$A$12:$C$14,MMULT(camera!$A$16:$C$18,TRANSPOSE(AH113:AJ113))))","v":214.26462938687629},446.0277665864192,-71.762803928185946,null,{"$f":"camera!$B$5*AM113/AN113","v":-3107.6528659106289},{"$f":"camera!$B$5*AL113/AN113","v":-1492.8669008062586},null,{"$f":"IF( AND( (camera!$B$3) > (AQ113+camera!$B$3/2), 0 < (AQ113+camera!$B$3/2), AN113 >= 0 ), AQ113+camera!$B$3/2, 0)*-1+camera!$B$3","v":1000},{"$f":"IF( AND( (camera!$B$4) > (AP113+camera!$B$4/2), 0 < (AP113+camera!$B$4/2), AN113 >= 0 ), AP113+camera!$B$4/2, 0)","v":0},null,null,null,-557.67219999999998,-251.76410000000001,2917.8798999999999,null,{"$f":"MMULT(               MMULT(AX113:AZ113-$B$2:$D$2, TRANSPOSE($A$16:$C$18)),     TRANSPOSE($A$12:$C$14))","v":-2115.0210018401176},-4522.4577773264537,3461.0739281616566,null,-653.33157730735752,-305.54403716009426," ",805.54403716009426,0]
[null,null,null,null,null,null,null,null,null,null,null,null,null,null,null,null,null,null,null,null,48.347700000000003,60,null,null,null,"'Ruchbah'",null,1.4302159999999999,60.235283000000003,null,60.235283000000003,21.453239999999997,null,{"$f":"camera!$B$5*COS(RADIANS(AE114))*COS(RADIANS(AF114))","v":231.0221803056717},{"$f":"camera!$B$5*COS(RADIANS(AE114))*SIN(RADIANS(AF114))","v":90.784330945077414},{"$f":"camera!$B$5*SIN(RADIANS(AE114))","v":434.03566381308849},null,{"$f":"TRANSPOSE(MMULT(camera!$A$12:$C$14,MMULT(camera!$A$16:$C$18,TRANSPOSE(AH114:AJ114))))","v":-446.64262200597528},-222.230695368738,33.524412650405125,null,{"$f":"camera!$B$5*AM114/AN114","v":-3314.4606840121992},{"$f":"camera!$B$5*AL114/AN114","v":-6661.4533513770275},null,{"$f":"IF( AND( (camera!$B$3) > (AQ114+camera!$B$3/2), 0 < (AQ114+camera!$B$3/2), AN114 >= 0 ), AQ114+camera!$B$3/2, 0)*-1+camera!$B$3","v":1000},{"$f":"IF( AND( (camera!$B$4) > (AP114+camera!$B$4/2), 0 < (AP114+camera!$B$4/2), AN114 >= 0 ), AP114+camera!$B$4/2, 0)","v":0},null,null,null,-419.5258,-524.2912,2750.4573999999998,null,{"$f":"MMULT(               MMULT(AX114:AZ114-$B$2:$D$2, TRANSPOSE($A$16:$C$18)),     TRANSPOSE($A$12:$C$14))","v":-1905.0890408442697},-4683.8307903862797,3234.6383656233247,null,-724.01150622655337,-294.48253954614074," ",794.48253954614074,0]
[null,null,null,null,null,null,null,null,null,null,null,null,null,null,null,null,null,null,null,null,48.347700000000003,470,null,null,null,"'Mufrid'",null,13.911410999999999,18.397717,null,18.397717,-151.328835,null,{"$f":"camera!$B$5*COS(RADIANS(AE115))*COS(RADIANS(AF115))","v":-416.27160345753748},{"$f":"camera!$B$5*COS(RADIANS(AE115))*SIN(RADIANS(AF115))","v":-227.62983187464621},{"$f":"camera!$B$5*SIN(RADIANS(AE115))","v":157.805613954672},null,{"$f":"TRANSPOSE(MMULT(camera!$A$12:$C$14,MMULT(camera!$A$16:$C$18,TRANSPOSE(AH115:AJ115))))","v":-109.73106479573562},394.848317261989,-286.45051889317591,null,{"$f":"camera!$B$5*AM115/AN115","v":-689.20859139591425},{"$f":"camera!$B$5*AL115/AN115","v":191.53581082647102},null,{"$f":"IF( AND( (camera!$B$3) > (AQ115+camera!$B$3/2), 0 < (AQ115+camera!$B$3/2), AN115 >= 0 ), AQ115+camera!$B$3/2, 0)*-1+camera!$B$3","v":1000},{"$f":"IF( AND( (camera!$B$4) > (AP115+camera!$B$4/2), 0 < (AP115+camera!$B$4/2), AN115 >= 0 ), AP115+camera!$B$4/2, 0)","v":0},null,null,null,-667.38919999999996,-361.48110000000003,2750.4573999999998,null,{"$f":"MMULT(               MMULT(AX115:AZ115-$B$2:$D$2, TRANSPOSE($A$16:$C$18)),     TRANSPOSE($A$12:$C$14))","v":-1929.501863008365},-4422.7207502629662,3373.0903601281193,null,-655.5888336912177,-286.01396004924652," ",786.01396004924652,0]
[null,null,null,null,null,null,null,null,null,null,null,null,null,null,null,null,null,null,null,null,49.121600000000001,42.309899999999999,null,null,null,"''",null,14.975536999999999,-43.133960000000002,null,-43.133960000000002,-135.36694500000002,null,{"$f":"camera!$B$5*COS(RADIANS(AE116))*COS(RADIANS(AF116))","v":-259.65520338330055},{"$f":"camera!$B$5*COS(RADIANS(AE116))*SIN(RADIANS(AF116))","v":-256.35045239178777},{"$f":"camera!$B$5*SIN(RADIANS(AE116))","v":-341.85321545146036},null,{"$f":"TRANSPOSE(MMULT(camera!$A$12:$C$14,MMULT(camera!$A$16:$C$18,TRANSPOSE(AH116:AJ116))))","v":384.93482869157754},236.3247228604734,-214.41968898659053,null,{"$f":"camera!$B$5*AM116/AN116","v":-551.07980982859453},{"$f":"camera!$B$5*AL116/AN116","v":-897.62006117742942},null,{"$f":"IF( AND( (camera!$B$3) > (AQ116+camera!$B$3/2), 0 < (AQ116+camera!$B$3/2), AN116 >= 0 ), AQ116+camera!$B$3/2, 0)*-1+camera!$B$3","v":1000},{"$f":"IF( AND( (camera!$B$4) > (AP116+camera!$B$4/2), 0 < (AP116+camera!$B$4/2), AN116 >= 0 ), AP116+camera!$B$4/2, 0)","v":0},null,null,null,-828.82709999999997,176.7723,2412.6379999999999,null,{"$f":"MMULT(               MMULT(AX116:AZ116-$B$2:$D$2, TRANSPOSE($A$16:$C$18)),     TRANSPOSE($A$12:$C$14))","v":-1687.4824801581549},-4214.9852953484478,3945.9546235279154,null,-534.08942796965096,-213.82436459056976," ",713.82436459056976,0]
[null,null,null,null,null,null,null,null,null,null,null,null,null,null,null,null,null,null,null,null,49.121600000000001,452.30990000000003,null,null,null,"'Hassaleh'",null,4.9498939999999996,33.166089999999997,null,33.166089999999997,74.248409999999993,null,{"$f":"camera!$B$5*COS(RADIANS(AE117))*COS(RADIANS(AF117))","v":113.62098264423027},{"$f":"camera!$B$5*COS(RADIANS(AE117))*SIN(RADIANS(AF117))","v":402.82682578935413},{"$f":"camera!$B$5*SIN(RADIANS(AE117))","v":273.53394803466875},null,{"$f":"TRANSPOSE(MMULT(camera!$A$12:$C$14,MMULT(camera!$A$16:$C$18,TRANSPOSE(AH117:AJ117))))","v":-340.78190501187282},-78.079949301803765,357.45099626872866,null,{"$f":"camera!$B$5*AM117/AN117","v":-109.21769713449604},{"$f":"camera!$B$5*AL117/AN117","v":-476.68338956828063},null,{"$f":"IF( AND( (camera!$B$3) > (AQ117+camera!$B$3/2), 0 < (AQ117+camera!$B$3/2), AN117 >= 0 ), AQ117+camera!$B$3/2, 0)*-1+camera!$B$3","v":976.68338956828063},{"$f":"IF( AND( (camera!$B$4) > (AP117+camera!$B$4/2), 0 < (AP117+camera!$B$4/2), AN117 >= 0 ), AP117+camera!$B$4/2, 0)","v":390.78230286550399},null,null,null,-773.54549999999995,-90.150899999999993,2412.6379999999999,null,{"$f":"MMULT(               MMULT(AX117:AZ117-$B$2:$D$2, TRANSPOSE($A$16:$C$18)),     TRANSPOSE($A$12:$C$14))","v":-1642.1447872437329},-4293.3204219230583,3688.8317899589438,null,-581.93496835631561,-222.58331102460079," ",722.58331102460079,0]
[null,null,null,null,null,null,null,null,null,null,null,null,null,null,null,null,null,null,null,null,50,120,null,null,null,"''",null,10.779488000000001,-49.420254999999997,null,-49.420254999999997,161.69232,null,{"$f":"camera!$B$5*COS(RADIANS(AE118))*COS(RADIANS(AF118))","v":-308.78967976149488},{"$f":"camera!$B$5*COS(RADIANS(AE118))*SIN(RADIANS(AF118))","v":102.1683423548922},{"$f":"camera!$B$5*SIN(RADIANS(AE118))","v":-379.75065963503863},null,{"$f":"TRANSPOSE(MMULT(camera!$A$12:$C$14,MMULT(camera!$A$16:$C$18,TRANSPOSE(AH118:AJ118))))","v":360.98091614981229},316.51919956708684,139.67238267120962,null,{"$f":"camera!$B$5*AM118/AN118","v":1133.077253762387},{"$f":"camera!$B$5*AL118/AN118","v":1292.2415628849315},null,{"$f":"IF( AND( (camera!$B$3) > (AQ118+camera!$B$3/2), 0 < (AQ118+camera!$B$3/2), AN118 >= 0 ), AQ118+camera!$B$3/2, 0)*-1+camera!$B$3","v":1000},{"$f":"IF( AND( (camera!$B$4) > (AP118+camera!$B$4/2), 0 < (AP118+camera!$B$4/2), AN118 >= 0 ), AP118+camera!$B$4/2, 0)","v":0},null,null,null,-830.19929999999999,-113.6177,2513.6864,null,{"$f":"MMULT(               MMULT(AX118:AZ118-$B$2:$D$2, TRANSPOSE($A$16:$C$18)),     TRANSPOSE($A$12:$C$14))","v":-1736.7411511127834},-4238.9274731202195,3643.3998852825384,null,-581.72690434603487,-238.340726491254," ",738.34072649125403,0]
[null,null,null,null,null,null,null,null,null,null,null,null,null,null,null,null,null,null,null,null,50,530,null,null,null,"''",null,12.619738999999999,-69.135564000000002,null,-69.135564000000002,-170.70391500000002,null,{"$f":"camera!$B$5*COS(RADIANS(AE119))*COS(RADIANS(AF119))","v":-175.74027551835454},{"$f":"camera!$B$5*COS(RADIANS(AE119))*SIN(RADIANS(AF119))","v":-28.766243633659897},{"$f":"camera!$B$5*SIN(RADIANS(AE119))","v":-467.21286239565552},null,{"$f":"TRANSPOSE(MMULT(camera!$A$12:$C$14,MMULT(camera!$A$16:$C$18,TRANSPOSE(AH119:AJ119))))","v":467.75077664858458},172.56438738261565,37.825165589967277,null,{"$f":"camera!$B$5*AM119/AN119","v":2281.0790738267979},{"$f":"camera!$B$5*AL119/AN119","v":6183.063171739961},null,{"$f":"IF( AND( (camera!$B$3) > (AQ119+camera!$B$3/2), 0 < (AQ119+camera!$B$3/2), AN119 >= 0 ), AQ119+camera!$B$3/2, 0)*-1+camera!$B$3","v":1000},{"$f":"IF( AND( (camera!$B$4) > (AP119+camera!$B$4/2), 0 < (AP119+camera!$B$4/2), AN119 >= 0 ), AP119+camera!$B$4/2, 0)","v":0},null,null,null,-890.34100000000001,176.7723,2513.6864,null,{"$f":"MMULT(               MMULT(AX119:AZ119-$B$2:$D$2, TRANSPOSE($A$16:$C$18)),     TRANSPOSE($A$12:$C$14))","v":-1786.0647497310424},-4153.7054743095023,3923.127913404393,null,-529.38695423583829,-227.63274473265133," ",727.6327447326513,0]
[null,null,null,null,null,null,null,null,null,null,null,null,null,null,null,null,null,null,null,null,50.058,137.16220000000001,null,null,null,"''",null,17.512732,-37.295811,null,-37.295811,-97.309020000000032,null,{"$f":"camera!$B$5*COS(RADIANS(AE120))*COS(RADIANS(AF120))","v":-50.603188386840472},{"$f":"camera!$B$5*COS(RADIANS(AE120))*SIN(RADIANS(AF120))","v":-394.52687279044409},{"$f":"camera!$B$5*SIN(RADIANS(AE120))","v":-302.96512005720837},null,{"$f":"TRANSPOSE(MMULT(camera!$A$12:$C$14,MMULT(camera!$A$16:$C$18,TRANSPOSE(AH120:AJ120))))","v":367.37642539309138},16.025345345546278,-338.78865148046253,null,{"$f":"camera!$B$5*AM120/AN120","v":-23.650947685994783},{"$f":"camera!$B$5*AL120/AN120","v":-542.19116223005699},null,{"$f":"IF( AND( (camera!$B$3) > (AQ120+camera!$B$3/2), 0 < (AQ120+camera!$B$3/2), AN120 >= 0 ), AQ120+camera!$B$3/2, 0)*-1+camera!$B$3","v":1000},{"$f":"IF( AND( (camera!$B$4) > (AP120+camera!$B$4/2), 0 < (AP120+camera!$B$4/2), AN120 >= 0 ), AP120+camera!$B$4/2, 0)","v":0},null,null,null,-913.06410000000005,176.7723,2632.0718999999999,null,{"$f":"MMULT(               MMULT(AX120:AZ120-$B$2:$D$2, TRANSPOSE($A$16:$C$18)),     TRANSPOSE($A$12:$C$14))","v":-1902.3078066748394},-4131.0688425652943,3900.6201258743354,null,-529.54001021046668,-243.84684297454262," ",743.8468429745426,0]
[null,null,null,null,null,null,null,null,null,null,null,null,null,null,null,null,null,null,null,null,50.058,547.16219999999998,null,null,null,"''",null,7.285711,-37.097470000000001,null,-37.097470000000001,109.28566499999999,null,{"$f":"camera!$B$5*COS(RADIANS(AE121))*COS(RADIANS(AF121))","v":-131.71671060809859},{"$f":"camera!$B$5*COS(RADIANS(AE121))*SIN(RADIANS(AF121))","v":376.42577092705085},{"$f":"camera!$B$5*SIN(RADIANS(AE121))","v":-301.58638418960135},null,{"$f":"TRANSPOSE(MMULT(camera!$A$12:$C$14,MMULT(camera!$A$16:$C$18,TRANSPOSE(AH121:AJ121))))","v":233.88115434775801},164.02315641237954,410.36082878544858,null,{"$f":"camera!$B$5*AM121/AN121","v":199.85235542320333},{"$f":"camera!$B$5*AL121/AN121","v":284.97012621791868},null,{"$f":"IF( AND( (camera!$B$3) > (AQ121+camera!$B$3/2), 0 < (AQ121+camera!$B$3/2), AN121 >= 0 ), AQ121+camera!$B$3/2, 0)*-1+camera!$B$3","v":215.02987378208127},{"$f":"IF( AND( (camera!$B$4) > (AP121+camera!$B$4/2), 0 < (AP121+camera!$B$4/2), AN121 >= 0 ), AP121+camera!$B$4/2, 0)","v":699.85235542320333},null,null,null,-851.12710000000004,-122.2863,2632.0718999999999,null,{"$f":"MMULT(               MMULT(AX121:AZ121-$B$2:$D$2, TRANSPOSE($A$16:$C$18)),     TRANSPOSE($A$12:$C$14))","v":-1851.5118203863747},-4218.8348279890779,3612.5417723270152,null,-583.91502353085866,-256.2616485945469," ",756.26164859454684,0]
[null,null,null,null,null,null,null,null,null,null,null,null,null,null,null,null,null,null,null,null,50.083300000000001,146.2604,null,null,null,"'Kaus Meridionalis'",null,18.349900000000002,-29.828102999999999,null,-29.828102999999999,-84.751499999999965,null,{"$f":"camera!$B$5*COS(RADIANS(AE122))*COS(RADIANS(AF122))","v":39.678506571195015},{"$f":"camera!$B$5*COS(RADIANS(AE122))*SIN(RADIANS(AF122))","v":-431.94217513052536},{"$f":"camera!$B$5*SIN(RADIANS(AE122))","v":-248.69976570111632},null,{"$f":"TRANSPOSE(MMULT(camera!$A$12:$C$14,MMULT(camera!$A$16:$C$18,TRANSPOSE(AH122:AJ122))))","v":319.04149682258054},-77.173758971962926,-377.16937074919633,null,{"$f":"camera!$B$5*AM122/AN122","v":102.30650333385717},{"$f":"camera!$B$5*AL122/AN122","v":-422.94194805485847},null,{"$f":"IF( AND( (camera!$B$3) > (AQ122+camera!$B$3/2), 0 < (AQ122+camera!$B$3/2), AN122 >= 0 ), AQ122+camera!$B$3/2, 0)*-1+camera!$B$3","v":1000},{"$f":"IF( AND( (camera!$B$4) > (AP122+camera!$B$4/2), 0 < (AP122+camera!$B$4/2), AN122 >= 0 ), AP122+camera!$B$4/2, 0)","v":0},null,null,null,-625.46090000000004,176.7723,2321.7455,null,{"$f":"MMULT(               MMULT(AX122:AZ122-$B$2:$D$2, TRANSPOSE($A$16:$C$18)),     TRANSPOSE($A$12:$C$14))","v":-1601.0486741858917},-4417.5776255595138,3979.193197256187,null,-555.0845870722751,-201.17754967136037," ",701.17754967136034,0]
[null,null,null,null,null,null,null,null,null,null,null,null,null,null,null,null,null,null,null,null,50.083300000000001,556.2604,null,null,null,"'Tarazed'",null,19.770994000000002,10.613261,null,10.613261,-63.435089999999946,null,{"$f":"camera!$B$5*COS(RADIANS(AE123))*COS(RADIANS(AF123))","v":219.78041674321153},{"$f":"camera!$B$5*COS(RADIANS(AE123))*SIN(RADIANS(AF123))","v":-439.56354119981779},{"$f":"camera!$B$5*SIN(RADIANS(AE123))","v":92.08942210729947},null,{"$f":"TRANSPOSE(MMULT(camera!$A$12:$C$14,MMULT(camera!$A$16:$C$18,TRANSPOSE(AH123:AJ123))))","v":-17.977678034611799},-257.25457282204258,-428.36536724463645,null,{"$f":"camera!$B$5*AM123/AN123","v":300.27470997104007},{"$f":"camera!$B$5*AL123/AN123","v":20.984047041721833},null,{"$f":"IF( AND( (camera!$B$3) > (AQ123+camera!$B$3/2), 0 < (AQ123+camera!$B$3/2), AN123 >= 0 ), AQ123+camera!$B$3/2, 0)*-1+camera!$B$3","v":1000},{"$f":"IF( AND( (camera!$B$4) > (AP123+camera!$B$4/2), 0 < (AP123+camera!$B$4/2), AN123 >= 0 ), AP123+camera!$B$4/2, 0)","v":0},null,null,null,-586.24689999999998,-12.5693,2321.7455,null,{"$f":"MMULT(               MMULT(AX123:AZ123-$B$2:$D$2, TRANSPOSE($A$16:$C$18)),     TRANSPOSE($A$12:$C$14))","v":-1568.8884460097199},-4473.1446122315128,3796.8034798859071,null,-589.06717663010693,-206.60648547141352," ",706.60648547141352,0]
[null,null,null,null,null,null,null,null,null,null,null,null,null,null,null,null,null,null,null,null,50.431399999999996,49.306199999999997,null,null,null,"''",null,16.239094000000001,-3.6943229999999998,null,-3.6943229999999998,-116.41358999999997,null,{"$f":"camera!$B$5*COS(RADIANS(AE124))*COS(RADIANS(AF124))","v":-221.96161534868179},{"$f":"camera!$B$5*COS(RADIANS(AE124))*SIN(RADIANS(AF124))","v":-446.8726043495044},{"$f":"camera!$B$5*SIN(RADIANS(AE124))","v":-32.216716060069814},null,{"$f":"TRANSPOSE(MMULT(camera!$A$12:$C$14,MMULT(camera!$A$16:$C$18,TRANSPOSE(AH124:AJ124))))","v":112.38986283554021},182.1694706445748,-451.86591229797796,null,{"$f":"camera!$B$5*AM124/AN124","v":-201.57469913823147},{"$f":"camera!$B$5*AL124/AN124","v":-124.36196200768732},null,{"$f":"IF( AND( (camera!$B$3) > (AQ124+camera!$B$3/2), 0 < (AQ124+camera!$B$3/2), AN124 >= 0 ), AQ124+camera!$B$3/2, 0)*-1+camera!$B$3","v":1000},{"$f":"IF( AND( (camera!$B$4) > (AP124+camera!$B$4/2), 0 < (AP124+camera!$B$4/2), AN124 >= 0 ), AP124+camera!$B$4/2, 0)","v":0},null,null,null,-687.2953,-54.424900000000001,2346.2640000000001,null,{"$f":"MMULT(               MMULT(AX124:AZ124-$B$2:$D$2, TRANSPOSE($A$16:$C$18)),     TRANSPOSE($A$12:$C$14))","v":-1584.2646532040462},-4376.1286878070086,3742.8098701108065,null,-584.60472742066543,-211.64108092366763," ",711.64108092366769,0]
[null,null,null,null,null,null,null,null,null,null,null,null,null,null,null,null,null,null,null,null,50.431399999999996,459.30619999999999,null,null,null,"''",null,16.39986,61.514212999999998,null,61.514212999999998,-114.00209999999998,null,{"$f":"camera!$B$5*COS(RADIANS(AE125))*COS(RADIANS(AF125))","v":-97.002623061137612},{"$f":"camera!$B$5*COS(RADIANS(AE125))*SIN(RADIANS(AF125))","v":-217.84996948207387},{"$f":"camera!$B$5*SIN(RADIANS(AE125))","v":439.46772568178238},null,{"$f":"TRANSPOSE(MMULT(camera!$A$12:$C$14,MMULT(camera!$A$16:$C$18,TRANSPOSE(AH125:AJ125))))","v":-393.6378449817168},77.64662289673258,-298.36261319220688,null,{"$f":"camera!$B$5*AM125/AN125","v":-130.12123413517662},{"$f":"camera!$B$5*AL125/AN125","v":659.66348928599348},null,{"$f":"IF( AND( (camera!$B$3) > (AQ125+camera!$B$3/2), 0 < (AQ125+camera!$B$3/2), AN125 >= 0 ), AQ125+camera!$B$3/2, 0)*-1+camera!$B$3","v":1000},{"$f":"IF( AND( (camera!$B$4) > (AP125+camera!$B$4/2), 0 < (AP125+camera!$B$4/2), AN125 >= 0 ), AP125+camera!$B$4/2, 0)","v":0},null,null,null,-735.17780000000005,176.7723,2346.2640000000001,null,{"$f":"MMULT(               MMULT(AX125:AZ125-$B$2:$D$2, TRANSPOSE($A$16:$C$18)),     TRANSPOSE($A$12:$C$14))","v":-1623.5341796877779},-4308.2782314884507,3965.5184217229908,null,-543.2175283675183,-204.70642259459777," ",704.70642259459783,0]
[null,null,null,null,null,null,null,null,null,null,null,null,null,null,null,null,null,null,null,null,51.454300000000003,37.8874,null,null,null,"''",null,10.715949,-64.394450000000006,null,-64.394450000000006,160.73923500000001,null,{"$f":"camera!$B$5*COS(RADIANS(AE126))*COS(RADIANS(AF126))","v":-203.99155212380941},{"$f":"camera!$B$5*COS(RADIANS(AE126))*SIN(RADIANS(AF126))","v":71.280042823997633},{"$f":"camera!$B$5*SIN(RADIANS(AE126))","v":-450.89533392698598},null,{"$f":"TRANSPOSE(MMULT(camera!$A$12:$C$14,MMULT(camera!$A$16:$C$18,TRANSPOSE(AH126:AJ126))))","v":434.80196887136452},209.4277677566553,130.71823881176408,null,{"$f":"camera!$B$5*AM126/AN126","v":801.06559597331295},{"$f":"camera!$B$5*AL126/AN126","v":1663.1266333747233},null,{"$f":"IF( AND( (camera!$B$3) > (AQ126+camera!$B$3/2), 0 < (AQ126+camera!$B$3/2), AN126 >= 0 ), AQ126+camera!$B$3/2, 0)*-1+camera!$B$3","v":1000},{"$f":"IF( AND( (camera!$B$4) > (AP126+camera!$B$4/2), 0 < (AP126+camera!$B$4/2), AN126 >= 0 ), AP126+camera!$B$4/2, 0)","v":0},null,null,null,-422.09460000000001,176.7723,2412.6379999999999,null,{"$f":"MMULT(               MMULT(AX126:AZ126-$B$2:$D$2, TRANSPOSE($A$16:$C$18)),     TRANSPOSE($A$12:$C$14))","v":-1693.638147108396},-4620.1700553900482,3980.8651455904396,null,-580.29723268920065,-212.72237128962033," ",712.72237128962036,0]
[null,null,null,null,null,null,null,null,null,null,null,null,null,null,null,null,null,null,null,null,51.454300000000003,447.88740000000001,null,null,null,"'Porrima'",null,12.694345,-1.4493750000000001,null,-1.4493750000000001,-169.584825,null,{"$f":"camera!$B$5*COS(RADIANS(AE127))*COS(RADIANS(AF127))","v":-491.60448026730745},{"$f":"camera!$B$5*COS(RADIANS(AE127))*SIN(RADIANS(AF127))","v":-90.360901778729001},{"$f":"camera!$B$5*SIN(RADIANS(AE127))","v":-12.646834024585079},null,{"$f":"TRANSPOSE(MMULT(camera!$A$12:$C$14,MMULT(camera!$A$16:$C$18,TRANSPOSE(AH127:AJ127))))","v":35.52615360530973},481.85830529056653,-128.64861457674206,null,{"$f":"camera!$B$5*AM127/AN127","v":-1872.769119496138},{"$f":"camera!$B$5*AL127/AN127","v":-138.07437305948409},null,{"$f":"IF( AND( (camera!$B$3) > (AQ127+camera!$B$3/2), 0 < (AQ127+camera!$B$3/2), AN127 >= 0 ), AQ127+camera!$B$3/2, 0)*-1+camera!$B$3","v":1000},{"$f":"IF( AND( (camera!$B$4) > (AP127+camera!$B$4/2), 0 < (AP127+camera!$B$4/2), AN127 >= 0 ), AP127+camera!$B$4/2, 0)","v":0},null,null,null,-398.94839999999999,65.012299999999996,2412.6379999999999,null,{"$f":"MMULT(               MMULT(AX127:AZ127-$B$2:$D$2, TRANSPOSE($A$16:$C$18)),     TRANSPOSE($A$12:$C$14))","v":-1674.6553806435877},-4652.9687029204988,3873.2085272525237,null,-600.66075324649535,-216.1845107048124," ",716.1845107048124,0]
[null,null,null,null,null,null,null,null,null,null,null,null,null,null,null,null,null,null,null,null,51.898699999999998,105,null,null,null,"'Hatsya'",null,5.5905509999999996,-5.9099009999999996,null,-5.9099009999999996,83.858264999999989,null,{"$f":"camera!$B$5*COS(RADIANS(AE128))*COS(RADIANS(AF128))","v":53.20984656885728},{"$f":"camera!$B$5*COS(RADIANS(AE128))*SIN(RADIANS(AF128))","v":494.4879109020718},{"$f":"camera!$B$5*SIN(RADIANS(AE128))","v":-51.482212460454171},null,{"$f":"TRANSPOSE(MMULT(camera!$A$12:$C$14,MMULT(camera!$A$16:$C$18,TRANSPOSE(AH128:AJ128))))","v":-35.64539407335068},-9.9099058837630167,498.62932088549553,null,{"$f":"camera!$B$5*AM128/AN128","v":-9.9371471639136839},{"$f":"camera!$B$5*AL128/AN128","v":-35.743379480823023},null,{"$f":"IF( AND( (camera!$B$3) > (AQ128+camera!$B$3/2), 0 < (AQ128+camera!$B$3/2), AN128 >= 0 ), AQ128+camera!$B$3/2, 0)*-1+camera!$B$3","v":535.74337948082302},{"$f":"IF( AND( (camera!$B$4) > (AP128+camera!$B$4/2), 0 < (AP128+camera!$B$4/2), AN128 >= 0 ), AP128+camera!$B$4/2, 0)","v":490.06285283608634},null,null,null,-485.1986,29.286300000000001,2346.2640000000001,null,{"$f":"MMULT(               MMULT(AX128:AZ128-$B$2:$D$2, TRANSPOSE($A$16:$C$18)),     TRANSPOSE($A$12:$C$14))","v":-1601.8042550864102},-4570.1604370365494,3842.2818953895899,null,-594.71956528233284,-208.44439563484897," ",708.444395634849,0]
[null,null,null,null,null,null,null,null,null,null,null,null,null,null,null,null,null,null,null,null,51.898699999999998,90,null,null,null,"''",null,13.343296,-36.712294999999997,null,-36.712294999999997,-159.85056,null,{"$f":"camera!$B$5*COS(RADIANS(AE129))*COS(RADIANS(AF129))","v":-376.29222384746316},{"$f":"camera!$B$5*COS(RADIANS(AE129))*SIN(RADIANS(AF129))","v":-138.07169776480382},{"$f":"camera!$B$5*SIN(RADIANS(AE129))","v":-298.89859241601545},null,{"$f":"TRANSPOSE(MMULT(camera!$A$12:$C$14,MMULT(camera!$A$16:$C$18,TRANSPOSE(AH129:AJ129))))","v":323.93728488886558},362.82657695887343,-115.85124302801674,null,{"$f":"camera!$B$5*AM129/AN129","v":-1565.9157704122765},{"$f":"camera!$B$5*AL129/AN129","v":-1398.0742736205543},null,{"$f":"IF( AND( (camera!$B$3) > (AQ129+camera!$B$3/2), 0 < (AQ129+camera!$B$3/2), AN129 >= 0 ), AQ129+camera!$B$3/2, 0)*-1+camera!$B$3","v":1000},{"$f":"IF( AND( (camera!$B$4) > (AP129+camera!$B$4/2), 0 < (AP129+camera!$B$4/2), AN129 >= 0 ), AP129+camera!$B$4/2, 0)","v":0},null,null,null,-515.74390000000005,176.7723,2346.2640000000001,null,{"$f":"MMULT(               MMULT(AX129:AZ129-$B$2:$D$2, TRANSPOSE($A$16:$C$18)),     TRANSPOSE($A$12:$C$14))","v":-1626.8551879819088},-4526.8771192500453,3984.3527956842936,null,-568.08186315145008,-204.15551425868452," ",704.15551425868455,0]
[null,null,null,null,null,null,null,null,null,null,null,null,null,null,null,null,null,null,null,null,51.898699999999998,75,null,null,null,"'Zubenelgenubi'",null,14.847977,-16.041778000000001,null,-16.041778000000001,-137.28034500000001,null,{"$f":"camera!$B$5*COS(RADIANS(AE130))*COS(RADIANS(AF130))","v":-353.03686703707893},{"$f":"camera!$B$5*COS(RADIANS(AE130))*SIN(RADIANS(AF130))","v":-325.99734719335373},{"$f":"camera!$B$5*SIN(RADIANS(AE130))","v":-138.16909978551573},null,{"$f":"TRANSPOSE(MMULT(camera!$A$12:$C$14,MMULT(camera!$A$16:$C$18,TRANSPOSE(AH130:AJ130))))","v":197.8064460479462},323.28091424485558,-326.1319677475534,null,{"$f":"camera!$B$5*AM130/AN130","v":-495.62898797933121},{"$f":"camera!$B$5*AL130/AN130","v":-303.26135676625972},null,{"$f":"IF( AND( (camera!$B$3) > (AQ130+camera!$B$3/2), 0 < (AQ130+camera!$B$3/2), AN130 >= 0 ), AQ130+camera!$B$3/2, 0)*-1+camera!$B$3","v":1000},{"$f":"IF( AND( (camera!$B$4) > (AP130+camera!$B$4/2), 0 < (AP130+camera!$B$4/2), AN130 >= 0 ), AP130+camera!$B$4/2, 0)","v":0},null,null,null,-337.85759999999999,176.7723,2632.0718999999999,null,{"$f":"MMULT(               MMULT(AX130:AZ130-$B$2:$D$2, TRANSPOSE($A$16:$C$18)),     TRANSPOSE($A$12:$C$14))","v":-1911.0132325791226},-4704.0865081732027,3949.9910495373265,null,-595.45533764237337,-241.90095732026595," ",741.90095732026589,0]
[null,null,null,null,null,null,null,null,null,null,null,null,null,null,null,null,null,null,null,null,51.898699999999998,515,null,null,null,"'Cebalrai'",null,17.724543000000001,4.5673029999999999,null,{"$f":"AC131","v":4.5673029999999999},{"$f":"IF(AB131*15/1>180, (AB131*15/1)-360, AB131*15/1)","v":-94.131854999999973},null,{"$f":"camera!$B$5*COS(RADIANS(AE131))*COS(RADIANS(AF131))","v":-35.91159137248048},{"$f":"camera!$B$5*COS(RADIANS(AE131))*SIN(RADIANS(AF131))","v":-497.11680742758966},{"$f":"camera!$B$5*SIN(RADIANS(AE131))","v":39.81503959682486},null,{"$f":"TRANSPOSE(MMULT(camera!$A$12:$C$14,MMULT(camera!$A$16:$C$18,TRANSPOSE(AH131:AJ131))))","v":47.328282989559959},-7.5516476583937902,-497.69770568780359,null,{"$f":"camera!$B$5*AM131/AN131","v":7.586580741775407},{"$f":"camera!$B$5*AL131/AN131","v":-47.547218370389778},null,{"$f":"IF( AND( (camera!$B$3) > (AQ131+camera!$B$3/2), 0 < (AQ131+camera!$B$3/2), AN131 >= 0 ), AQ131+camera!$B$3/2, 0)*-1+camera!$B$3","v":1000},{"$f":"IF( AND( (camera!$B$4) > (AP131+camera!$B$4/2), 0 < (AP131+camera!$B$4/2), AN131 >= 0 ), AP131+camera!$B$4/2, 0)","v":0},null,null,null,-321.36680000000001,97.147599999999997,2632.0718999999999,null,{"$f":"MMULT(               MMULT(AX131:AZ131-$B$2:$D$2, TRANSPOSE($A$16:$C$18)),     TRANSPOSE($A$12:$C$14))","v":-1897.4887421896174},-4727.4543055700551,3873.2898530717302,null,-610.26343042993869,-244.94535836051688," ",744.94535836051682,0]
[null,null,null,null,null,null,null,null,null,null,null,null,null,null,null,null,null,null,null,null,51.898699999999998,500,null,null,null,"'Cursa'",null,5.1308290000000003,-5.0864459999999996,null,-5.0864459999999996,76.962434999999999,null,{"$f":"camera!$B$5*COS(RADIANS(AE132))*COS(RADIANS(AF132))","v":112.35073864785328},{"$f":"camera!$B$5*COS(RADIANS(AE132))*SIN(RADIANS(AF132))","v":485.19297359773742},{"$f":"camera!$B$5*SIN(RADIANS(AE132))","v":-44.329334493843668},null,{"$f":"TRANSPOSE(MMULT(camera!$A$12:$C$14,MMULT(camera!$A$16:$C$18,TRANSPOSE(AH132:AJ132))))","v":-41.97676081056256},-69.635856177827108,493.3445034519325,null,{"$f":"camera!$B$5*AM132/AN132","v":-70.575283286410297},{"$f":"camera!$B$5*AL132/AN132","v":-42.543051069639048},null,{"$f":"IF( AND( (camera!$B$3) > (AQ132+camera!$B$3/2), 0 < (AQ132+camera!$B$3/2), AN132 >= 0 ), AQ132+camera!$B$3/2, 0)*-1+camera!$B$3","v":542.54305106963898},{"$f":"IF( AND( (camera!$B$4) > (AP132+camera!$B$4/2), 0 < (AP132+camera!$B$4/2), AN132 >= 0 ), AP132+camera!$B$4/2, 0)","v":429.4247167135897},null,null,null,-342.2946,88.478999999999999,2513.6864,null,{"$f":"MMULT(               MMULT(AX132:AZ132-$B$2:$D$2, TRANSPOSE($A$16:$C$18)),     TRANSPOSE($A$12:$C$14))","v":-1779.0854949747559},-4707.3616604389126,3883.5465927905839,null,{"$f":"$B$5*BC132/BD132","v":-606.06478485125672},{"$f":"$B$5*BB132/BD132","v":-229.05422304929343}," ",{"$f":"IF( AND( ($B$3) > (BG132+$B$3/2), 0 < (BG132+$B$3/2), BD132 >= 0 ), BG132+$B$3/2, 0)*-1+$B$3","v":729.05422304929346},{"$f":"IF( AND( ($B$4) > (BF132+$B$4/2), 0 < (BF132+$B$4/2), BD132 >= 0 ), BF132+$B$4/2, 0)","v":0}]
[null,null,null,null,null,null,null,null,null,null,null,null,null,null,null,null,null,null,null,null,51.898699999999998,485,null,null,null,"'Kornephoros'",null,16.503668000000001,21.489612999999999,null,21.489612999999999,-112.44497999999999,null,{"$f":"camera!$B$5*COS(RADIANS(AE133))*COS(RADIANS(AF133))","v":-177.62756753149878},{"$f":"camera!$B$5*COS(RADIANS(AE133))*SIN(RADIANS(AF133))","v":-429.99832949013512},{"$f":"camera!$B$5*SIN(RADIANS(AE133))","v":183.16627388396594},null,{"$f":"TRANSPOSE(MMULT(camera!$A$12:$C$14,MMULT(camera!$A$16:$C$18,TRANSPOSE(AH133:AJ133))))","v":-103.31098316553063},139.47481722284761,-468.90683095688064,null,{"$f":"camera!$B$5*AM133/AN133","v":-148.72337958718427},{"$f":"camera!$B$5*AL133/AN133","v":110.16152500349352},null,{"$f":"IF( AND( (camera!$B$3) > (AQ133+camera!$B$3/2), 0 < (AQ133+camera!$B$3/2), AN133 >= 0 ), AQ133+camera!$B$3/2, 0)*-1+camera!$B$3","v":1000},{"$f":"IF( AND( (camera!$B$4) > (AP133+camera!$B$4/2), 0 < (AP133+camera!$B$4/2), AN133 >= 0 ), AP133+camera!$B$4/2, 0)","v":0},null,null,null,-360.58069999999998,176.7723,2513.6864,null,{"$f":"MMULT(               MMULT(AX133:AZ133-$B$2:$D$2, TRANSPOSE($A$16:$C$18)),     TRANSPOSE($A$12:$C$14))","v":-1794.0823730344664},-4681.4498764289947,3968.5981146816443,null,-589.81153308396085,-226.03477615903483," ",726.03477615903489,0]
[null,null,null,null,null,null,null,null,null,null,null,null,null,null,null,null,null,null,null,null,52.500799999999998,150.6371,null,null,null,"'Rasalgethi'",null,17.244126999999999,14.390333,null,14.390333,-101.33809500000001,null,{"$f":"camera!$B$5*COS(RADIANS(AE134))*COS(RADIANS(AF134))","v":-95.214925393962858},{"$f":"camera!$B$5*COS(RADIANS(AE134))*SIN(RADIANS(AF134))","v":-474.86078721955147},{"$f":"camera!$B$5*SIN(RADIANS(AE134))","v":124.26323166347301},null,{"$f":"TRANSPOSE(MMULT(camera!$A$12:$C$14,MMULT(camera!$A$16:$C$18,TRANSPOSE(AH134:AJ134))))","v":-38.789439712988028},53.465759244809249,-495.61758640622162,null,{"$f":"camera!$B$5*AM134/AN134","v":-53.93852106065831},{"$f":"camera!$B$5*AL134/AN134","v":39.132428687866572},null,{"$f":"IF( AND( (camera!$B$3) > (AQ134+camera!$B$3/2), 0 < (AQ134+camera!$B$3/2), AN134 >= 0 ), AQ134+camera!$B$3/2, 0)*-1+camera!$B$3","v":1000},{"$f":"IF( AND( (camera!$B$4) > (AP134+camera!$B$4/2), 0 < (AP134+camera!$B$4/2), AN134 >= 0 ), AP134+camera!$B$4/2, 0)","v":0},null,null,null,-422.09460000000001,176.7723,2851.5057999999999,null,{"$f":"MMULT(               MMULT(AX134:AZ134-$B$2:$D$2, TRANSPOSE($A$16:$C$18)),     TRANSPOSE($A$12:$C$14))","v":-2125.8385590958069},-4620.1700553900482,3904.6565518837447,null,-591.62310359423475,-272.21837962550472," ",772.21837962550467,0]
[null,null,null,null,null,null,null,null,null,null,null,null,null,null,null,null,null,null,null,null,52.500799999999998,560.63710000000003,null,null,null,"''",null,12.252427000000001,-58.748927999999999,null,-58.748927999999999,-176.213595,null,{"$f":"camera!$B$5*COS(RADIANS(AE135))*COS(RADIANS(AF135))","v":-258.82841116752985},{"$f":"camera!$B$5*COS(RADIANS(AE135))*SIN(RADIANS(AF135))","v":-17.12967997595775},{"$f":"camera!$B$5*SIN(RADIANS(AE135))","v":-427.45108215609116},null,{"$f":"TRANSPOSE(MMULT(camera!$A$12:$C$14,MMULT(camera!$A$16:$C$18,TRANSPOSE(AH135:AJ135))))","v":427.8375804368489},256.35054093926931,35.205183227571496,null,{"$f":"camera!$B$5*AM135/AN135","v":3640.806799416177},{"$f":"camera!$B$5*AL135/AN135","v":6076.3436121215973},null,{"$f":"IF( AND( (camera!$B$3) > (AQ135+camera!$B$3/2), 0 < (AQ135+camera!$B$3/2), AN135 >= 0 ), AQ135+camera!$B$3/2, 0)*-1+camera!$B$3","v":1000},{"$f":"IF( AND( (camera!$B$4) > (AP135+camera!$B$4/2), 0 < (AP135+camera!$B$4/2), AN135 >= 0 ), AP135+camera!$B$4/2, 0)","v":0},null,null,null,-398.94839999999999,65.012299999999996,2851.5057999999999,null,{"$f":"MMULT(               MMULT(AX135:AZ135-$B$2:$D$2, TRANSPOSE($A$16:$C$18)),     TRANSPOSE($A$12:$C$14))","v":-2106.8557926309986},-4652.9687029204988,3796.9999335458288,null,-612.71645830334842,-277.43690143595961," ",777.43690143595961,0]
[null,null,null,null,null,null,null,null,null,null,null,null,null,null,null,null,null,null,null,null,53.343200000000003,152.16220000000001,null,null,null,"'Rastaban'",null,17.507213,52.301386999999998,null,52.301386999999998,-97.391804999999977,null,{"$f":"camera!$B$5*COS(RADIANS(AE136))*COS(RADIANS(AF136))","v":-39.336393442065557},{"$f":"camera!$B$5*COS(RADIANS(AE136))*SIN(RADIANS(AF136))","v":-303.21299757785005},{"$f":"camera!$B$5*SIN(RADIANS(AE136))","v":395.61916820450665},null,{"$f":"TRANSPOSE(MMULT(camera!$A$12:$C$14,MMULT(camera!$A$16:$C$18,TRANSPOSE(AH136:AJ136))))","v":-336.56146370769341},12.759952574395228,-369.54507811258168,null,{"$f":"camera!$B$5*AM136/AN136","v":-17.264406063213642},{"$f":"camera!$B$5*AL136/AN136","v":455.372677978355},null,{"$f":"IF( AND( (camera!$B$3) > (AQ136+camera!$B$3/2), 0 < (AQ136+camera!$B$3/2), AN136 >= 0 ), AQ136+camera!$B$3/2, 0)*-1+camera!$B$3","v":1000},{"$f":"IF( AND( (camera!$B$4) > (AP136+camera!$B$4/2), 0 < (AP136+camera!$B$4/2), AN136 >= 0 ), AP136+camera!$B$4/2, 0)","v":0},null,null,null,-342.2946,88.478999999999999,2750.4573999999998,null,{"$f":"MMULT(               MMULT(AX136:AZ136-$B$2:$D$2, TRANSPOSE($A$16:$C$18)),     TRANSPOSE($A$12:$C$14))","v":-2012.2594114632091},-4707.3616604389126,3842.4317401162075,null,-612.54980944652345,-261.84712540948766," ",761.84712540948772,0]
[null,null,null,null,null,null,null,null,null,null,null,null,null,null,null,null,null,null,null,null,53.343200000000003,562.16219999999998,null,null,null,"''",null,15.585680999999999,-41.166756999999997,null,-41.166756999999997,-126.21478500000001,null,{"$f":"camera!$B$5*COS(RADIANS(AE137))*COS(RADIANS(AF137))","v":-222.3814451381362},{"$f":"camera!$B$5*COS(RADIANS(AE137))*SIN(RADIANS(AF137))","v":-303.68125764208435},{"$f":"camera!$B$5*SIN(RADIANS(AE137))","v":-329.12639914658337},null,{"$f":"TRANSPOSE(MMULT(camera!$A$12:$C$14,MMULT(camera!$A$16:$C$18,TRANSPOSE(AH137:AJ137))))","v":380.02487667103384},195.06765103225288,-259.86478143820244,null,{"$f":"camera!$B$5*AM137/AN137","v":-375.32529408691966},{"$f":"camera!$B$5*AL137/AN137","v":-731.1973453420934},null,{"$f":"IF( AND( (camera!$B$3) > (AQ137+camera!$B$3/2), 0 < (AQ137+camera!$B$3/2), AN137 >= 0 ), AQ137+camera!$B$3/2, 0)*-1+camera!$B$3","v":1000},{"$f":"IF( AND( (camera!$B$4) > (AP137+camera!$B$4/2), 0 < (AP137+camera!$B$4/2), AN137 >= 0 ), AP137+camera!$B$4/2, 0)","v":0},null,null,null,-360.58069999999998,176.7723,2750.4573999999998,null,{"$f":"MMULT(               MMULT(AX137:AZ137-$B$2:$D$2, TRANSPOSE($A$16:$C$18)),     TRANSPOSE($A$12:$C$14))","v":-2027.2562895229196},-4681.4498764289947,3927.483262007268,null,-595.98597423893125,-258.08592351413665," ",758.08592351413665,0]
[null,null,null,null,null,null,null,null,null,null,null,null,null,null,null,null,null,null,null,null,53.347700000000003,60,null,null,null,"'Nihal'",null,5.4707559999999997,-20.759440999999999,null,-20.759440999999999,82.061340000000001,null,{"$f":"camera!$B$5*COS(RADIANS(AE138))*COS(RADIANS(AF138))","v":64.573064640087566},{"$f":"camera!$B$5*COS(RADIANS(AE138))*SIN(RADIANS(AF138))","v":463.05775371921607},{"$f":"camera!$B$5*SIN(RADIANS(AE138))","v":-177.22256076329816},null,{"$f":"TRANSPOSE(MMULT(camera!$A$12:$C$14,MMULT(camera!$A$16:$C$18,TRANSPOSE(AH138:AJ138))))","v":93.449720887931676},-23.96920217353037,490.60434875073429,null,{"$f":"camera!$B$5*AM138/AN138","v":-24.428240632767626},{"$f":"camera!$B$5*AL138/AN138","v":95.239393134090932},null,{"$f":"IF( AND( (camera!$B$3) > (AQ138+camera!$B$3/2), 0 < (AQ138+camera!$B$3/2), AN138 >= 0 ), AQ138+camera!$B$3/2, 0)*-1+camera!$B$3","v":404.76060686590904},{"$f":"IF( AND( (camera!$B$4) > (AP138+camera!$B$4/2), 0 < (AP138+camera!$B$4/2), AN138 >= 0 ), AP138+camera!$B$4/2, 0)","v":475.5717593672324},null,null,null,-625.46090000000004,176.7723,2942.3982999999998,null,{"$f":"MMULT(               MMULT(AX138:AZ138-$B$2:$D$2, TRANSPOSE($A$16:$C$18)),     TRANSPOSE($A$12:$C$14))","v":-2212.2723635546272},-4417.5776255595138,3871.4179695723096,null,-570.53741810878921,-285.71861536808251," ",785.71861536808251,0]
[null,null,null,null,null,null,null,null,null,null,null,null,null,null,null,null,null,null,null,null,53.347700000000003,470,null,null,null,"''",null,16.688113000000001,31.602726000000001,null,31.602726000000001,-109.67830499999997,null,{"$f":"camera!$B$5*COS(RADIANS(AE139))*COS(RADIANS(AF139))","v":-143.40053277028048},{"$f":"camera!$B$5*COS(RADIANS(AE139))*SIN(RADIANS(AF139))","v":-400.98050169883908},{"$f":"camera!$B$5*SIN(RADIANS(AE139))","v":262.01321428230875},null,{"$f":"TRANSPOSE(MMULT(camera!$A$12:$C$14,MMULT(camera!$A$16:$C$18,TRANSPOSE(AH139:AJ139))))","v":-186.49778664177995},107.9070969963941,-451.19245782207832,null,{"$f":"camera!$B$5*AM139/AN139","v":-119.57989891637973},{"$f":"camera!$B$5*AL139/AN139","v":206.67210123814044},null,{"$f":"IF( AND( (camera!$B$3) > (AQ139+camera!$B$3/2), 0 < (AQ139+camera!$B$3/2), AN139 >= 0 ), AQ139+camera!$B$3/2, 0)*-1+camera!$B$3","v":1000},{"$f":"IF( AND( (camera!$B$4) > (AP139+camera!$B$4/2), 0 < (AP139+camera!$B$4/2), AN139 >= 0 ), AP139+camera!$B$4/2, 0)","v":0},null,null,null,-586.24689999999998,-12.5693,2942.3982999999998,null,{"$f":"MMULT(               MMULT(AX139:AZ139-$B$2:$D$2, TRANSPOSE($A$16:$C$18)),     TRANSPOSE($A$12:$C$14))","v":-2180.1121353784552},-4473.1446122315128,3689.0282522020298,null,-606.27681687737595,-295.48596355654331," ",795.48596355654331,0]
[null,null,null,null,null,null,null,null,null,null,null,null,null,null,null,null,null,null,null,null,54.294400000000003,34.306199999999997,null,null,null,"''",null,0.42791600000000002,-77.254247000000007,null,-77.254247000000007,6.4187400000000006,null,{"$f":"camera!$B$5*COS(RADIANS(AE140))*COS(RADIANS(AF140))","v":109.62106444492393},{"$f":"camera!$B$5*COS(RADIANS(AE140))*SIN(RADIANS(AF140))","v":12.332279211951031},{"$f":"camera!$B$5*SIN(RADIANS(AE140))","v":-487.67933841757161},null,{"$f":"TRANSPOSE(MMULT(camera!$A$12:$C$14,MMULT(camera!$A$16:$C$18,TRANSPOSE(AH140:AJ140))))","v":476.47801164217867},-108.12909424471769,106.19229444424292,null,{"$f":"camera!$B$5*AM140/AN140","v":-509.11930479801293},{"$f":"camera!$B$5*AL140/AN140","v":2243.4679189098656},null,{"$f":"IF( AND( (camera!$B$3) > (AQ140+camera!$B$3/2), 0 < (AQ140+camera!$B$3/2), AN140 >= 0 ), AQ140+camera!$B$3/2, 0)*-1+camera!$B$3","v":1000},{"$f":"IF( AND( (camera!$B$4) > (AP140+camera!$B$4/2), 0 < (AP140+camera!$B$4/2), AN140 >= 0 ), AP140+camera!$B$4/2, 0)","v":0},null,null,null,-485.1986,29.286300000000001,2917.8798999999999,null,{"$f":"MMULT(               MMULT(AX140:AZ140-$B$2:$D$2, TRANSPOSE($A$16:$C$18)),     TRANSPOSE($A$12:$C$14))","v":-2164.736025151461},-4570.1604370365494,3743.0218360291478,null,-610.49075282511399,-289.16956939903406," ",789.16956939903412,0]
[null,null,null,null,null,null,null,null,null,null,null,null,null,null,null,null,null,null,null,null,54.294400000000003,444.30619999999999,null,null,null,"''",null,16.598043000000001,-28.216016,null,-28.216016,-111.02935499999998,null,{"$f":"camera!$B$5*COS(RADIANS(AE141))*COS(RADIANS(AF141))","v":-158.1024970338554},{"$f":"camera!$B$5*COS(RADIANS(AE141))*SIN(RADIANS(AF141))","v":-411.24120204419683},{"$f":"camera!$B$5*SIN(RADIANS(AE141))","v":-236.39854943062542},null,{"$f":"TRANSPOSE(MMULT(camera!$A$12:$C$14,MMULT(camera!$A$16:$C$18,TRANSPOSE(AH141:AJ141))))","v":306.33946020356683},121.65883688759095,-375.97242256493473,null,{"$f":"camera!$B$5*AM141/AN141","v":-161.79223473043302},{"$f":"camera!$B$5*AL141/AN141","v":-407.39618362655108},null,{"$f":"IF( AND( (camera!$B$3) > (AQ141+camera!$B$3/2), 0 < (AQ141+camera!$B$3/2), AN141 >= 0 ), AQ141+camera!$B$3/2, 0)*-1+camera!$B$3","v":1000},{"$f":"IF( AND( (camera!$B$4) > (AP141+camera!$B$4/2), 0 < (AP141+camera!$B$4/2), AN141 >= 0 ), AP141+camera!$B$4/2, 0)","v":0},null,null,null,-515.74390000000005,176.7723,2917.8798999999999,null,{"$f":"MMULT(               MMULT(AX141:AZ141-$B$2:$D$2, TRANSPOSE($A$16:$C$18)),     TRANSPOSE($A$12:$C$14))","v":-2189.7869580469596},-4526.8771192500453,3885.0927363238516,null,-582.5957610903082,-281.81913620406624," ",781.81913620406624,0]
[null,null,null,null,null,null,null,null,null,null,null,null,null,null,null,null,null,null,null,null,55,120,null,null,null,"'Kaus Borealis'",null,18.466179,-25.421700000000001,null,-25.421700000000001,-83.007315000000006,null,{"$f":"camera!$B$5*COS(RADIANS(AE142))*COS(RADIANS(AF142))","v":54.977311405512935},{"$f":"camera!$B$5*COS(RADIANS(AE142))*SIN(RADIANS(AF142))","v":-448.22735355539027},{"$f":"camera!$B$5*SIN(RADIANS(AE142))","v":-214.63861431567335},null,{"$f":"TRANSPOSE(MMULT(camera!$A$12:$C$14,MMULT(camera!$A$16:$C$18,TRANSPOSE(AH142:AJ142))))","v":288.08340265586418},-93.833694056448039,-397.74764735186062,null,{"$f":"camera!$B$5*AM142/AN142","v":117.95631562018978},{"$f":"camera!$B$5*AL142/AN142","v":-362.14344016096237},null,{"$f":"IF( AND( (camera!$B$3) > (AQ142+camera!$B$3/2), 0 < (AQ142+camera!$B$3/2), AN142 >= 0 ), AQ142+camera!$B$3/2, 0)*-1+camera!$B$3","v":1000},{"$f":"IF( AND( (camera!$B$4) > (AP142+camera!$B$4/2), 0 < (AP142+camera!$B$4/2), AN142 >= 0 ), AP142+camera!$B$4/2, 0)","v":0},null,null,null,-828.82709999999997,176.7723,2851.5057999999999,null,{"$f":"MMULT(               MMULT(AX142:AZ142-$B$2:$D$2, TRANSPOSE($A$16:$C$18)),     TRANSPOSE($A$12:$C$14))","v":-2119.6828921455663},-4214.9852953484478,3869.7460298212204,null,-544.60748365225106,-273.87881217666035," ",773.8788121766604,0]
[null,null,null,null,null,null,null,null,null,null,null,null,null,null,null,null,null,null,null,null,55,530,null,null,null,"'Algenib'",null,0.22059799999999999,15.183596,null,15.183596,3.30897,null,{"$f":"camera!$B$5*COS(RADIANS(AE143))*COS(RADIANS(AF143))","v":481.74125637369485},{"$f":"camera!$B$5*COS(RADIANS(AE143))*SIN(RADIANS(AF143))","v":27.852696998956809},{"$f":"camera!$B$5*SIN(RADIANS(AE143))","v":130.9564399996363},null,{"$f":"TRANSPOSE(MMULT(camera!$A$12:$C$14,MMULT(camera!$A$16:$C$18,TRANSPOSE(AH143:AJ143))))","v":-141.07596505177258},-477.48056295706158,45.933474535665439,null,{"$f":"camera!$B$5*AM143/AN143","v":-5197.5228064482444},{"$f":"camera!$B$5*AL143/AN143","v":-1535.6552762216252},null,{"$f":"IF( AND( (camera!$B$3) > (AQ143+camera!$B$3/2), 0 < (AQ143+camera!$B$3/2), AN143 >= 0 ), AQ143+camera!$B$3/2, 0)*-1+camera!$B$3","v":1000},{"$f":"IF( AND( (camera!$B$4) > (AP143+camera!$B$4/2), 0 < (AP143+camera!$B$4/2), AN143 >= 0 ), AP143+camera!$B$4/2, 0)","v":0},null,null,null,-773.54549999999995,-90.150899999999993,2851.5057999999999,null,{"$f":"MMULT(               MMULT(AX143:AZ143-$B$2:$D$2, TRANSPOSE($A$16:$C$18)),     TRANSPOSE($A$12:$C$14))","v":-2074.3451992311439},-4293.3204219230583,3612.6231962522488,null,-594.2109360280042,-287.09681117353711," ",787.09681117353716,0]
[null,null,null,null,null,null,null,null,null,null,null,null,null,null,null,null,null,null,null,null,55.058,137.16220000000001,null,null,null,"''",null,8.1257370000000009,-24.304324000000001,null,-24.304324000000001,121.88605500000001,null,{"$f":"camera!$B$5*COS(RADIANS(AE144))*COS(RADIANS(AF144))","v":-240.70784393538688},{"$f":"camera!$B$5*COS(RADIANS(AE144))*SIN(RADIANS(AF144))","v":386.92320134545105},{"$f":"camera!$B$5*SIN(RADIANS(AE144))","v":-205.79156962462051},null,{"$f":"TRANSPOSE(MMULT(camera!$A$12:$C$14,MMULT(camera!$A$16:$C$18,TRANSPOSE(AH144:AJ144))))","v":139.37527445596518},273.51445691709216,394.6699567077186,null,{"$f":"camera!$B$5*AM144/AN144","v":346.5103591855729},{"$f":"camera!$B$5*AL144/AN144","v":176.5719331902207},null,{"$f":"IF( AND( (camera!$B$3) > (AQ144+camera!$B$3/2), 0 < (AQ144+camera!$B$3/2), AN144 >= 0 ), AQ144+camera!$B$3/2, 0)*-1+camera!$B$3","v":323.42806680977924},{"$f":"IF( AND( (camera!$B$4) > (AP144+camera!$B$4/2), 0 < (AP144+camera!$B$4/2), AN144 >= 0 ), AP144+camera!$B$4/2, 0)","v":846.51035918557295},null,null,null,-687.2953,-54.424900000000001,2917.8798999999999,null,{"$f":"MMULT(               MMULT(AX144:AZ144-$B$2:$D$2, TRANSPOSE($A$16:$C$18)),     TRANSPOSE($A$12:$C$14))","v":-2147.1964232690971},-4376.1286878070086,3643.5498107503645,null,-600.53092658362402,-294.65720722875153," ",794.65720722875153,0]
[null,null,null,null,null,null,null,null,null,null,null,null,null,null,null,null,null,null,null,null,55.058,547.16219999999998,null,null,null,"''",null,15.919083000000001,-63.430726999999997,null,-63.430726999999997,-121.21375499999999,null,{"$f":"camera!$B$5*COS(RADIANS(AE145))*COS(RADIANS(AF145))","v":-115.89735132894302},{"$f":"camera!$B$5*COS(RADIANS(AE145))*SIN(RADIANS(AF145))","v":-191.26563128639384},{"$f":"camera!$B$5*SIN(RADIANS(AE145))","v":-447.19711788377259},null,{"$f":"TRANSPOSE(MMULT(camera!$A$12:$C$14,MMULT(camera!$A$16:$C$18,TRANSPOSE(AH145:AJ145))))","v":475.24377295514671},98.786428759903984,-119.93580683107673,null,{"$f":"camera!$B$5*AM145/AN145","v":-411.83042566695474},{"$f":"camera!$B$5*AL145/AN145","v":-1981.2422391275634},null,{"$f":"IF( AND( (camera!$B$3) > (AQ145+camera!$B$3/2), 0 < (AQ145+camera!$B$3/2), AN145 >= 0 ), AQ145+camera!$B$3/2, 0)*-1+camera!$B$3","v":1000},{"$f":"IF( AND( (camera!$B$4) > (AP145+camera!$B$4/2), 0 < (AP145+camera!$B$4/2), AN145 >= 0 ), AP145+camera!$B$4/2, 0)","v":0},null,null,null,-735.17780000000005,176.7723,2917.8798999999999,null,{"$f":"MMULT(               MMULT(AX145:AZ145-$B$2:$D$2, TRANSPOSE($A$16:$C$18)),     TRANSPOSE($A$12:$C$14))","v":-2186.4659497528287},-4308.2782314884507,3866.2583623625487,null,-557.16377796022368,-282.76252449108807," ",782.76252449108802,0]
[null,null,null,null,null,null,null,null,null,null,null,null,null,null,null,null,null,null,null,null,55.431399999999996,49.306199999999997,null,null,null,"''",null,3.9022000000000001,31.883635000000002,null,31.883635000000002,58.533000000000001,null,{"$f":"camera!$B$5*COS(RADIANS(AE146))*COS(RADIANS(AF146))","v":221.62413387292841},{"$f":"camera!$B$5*COS(RADIANS(AE146))*SIN(RADIANS(AF146))","v":362.12571755185076},{"$f":"camera!$B$5*SIN(RADIANS(AE146))","v":264.09791360900886},null,{"$f":"TRANSPOSE(MMULT(camera!$A$12:$C$14,MMULT(camera!$A$16:$C$18,TRANSPOSE(AH146:AJ146))))","v":-326.0830132773375},-189.21945125212631,328.42939533454665,null,{"$f":"camera!$B$5*AM146/AN146","v":-288.06716746438377},{"$f":"camera!$B$5*AL146/AN146","v":-496.42787446778465},null,{"$f":"IF( AND( (camera!$B$3) > (AQ146+camera!$B$3/2), 0 < (AQ146+camera!$B$3/2), AN146 >= 0 ), AQ146+camera!$B$3/2, 0)*-1+camera!$B$3","v":996.4278744677847},{"$f":"IF( AND( (camera!$B$4) > (AP146+camera!$B$4/2), 0 < (AP146+camera!$B$4/2), AN146 >= 0 ), AP146+camera!$B$4/2, 0)","v":211.93283253561623},null,null,null,-830.19929999999999,-113.6177,2750.4573999999998,null,{"$f":"MMULT(               MMULT(AX146:AZ146-$B$2:$D$2, TRANSPOSE($A$16:$C$18)),     TRANSPOSE($A$12:$C$14))","v":-1969.9150676012364},-4238.9274731202195,3602.2850326081621,null,-588.36647221820601,-273.42576306003178," ",773.42576306003184,0]
[null,null,null,null,null,null,null,null,null,null,null,null,null,null,null,null,null,null,null,null,55.431399999999996,459.30619999999999,null,null,null,"''",null,17.421665000000001,-55.529884000000003,null,-55.529884000000003,-98.675025000000005,null,{"$f":"camera!$B$5*COS(RADIANS(AE147))*COS(RADIANS(AF147))","v":-42.683082825746688},{"$f":"camera!$B$5*COS(RADIANS(AE147))*SIN(RADIANS(AF147))","v":-279.75069665227272},{"$f":"camera!$B$5*SIN(RADIANS(AE147))","v":-412.21074969371978},null,{"$f":"TRANSPOSE(MMULT(camera!$A$12:$C$14,MMULT(camera!$A$16:$C$18,TRANSPOSE(AH147:AJ147))))","v":454.98767051705255},18.138781058316063,-206.53620578287092,null,{"$f":"camera!$B$5*AM147/AN147","v":-43.911867630087947},{"$f":"camera!$B$5*AL147/AN147","v":-1101.4719399739911},null,{"$f":"IF( AND( (camera!$B$3) > (AQ147+camera!$B$3/2), 0 < (AQ147+camera!$B$3/2), AN147 >= 0 ), AQ147+camera!$B$3/2, 0)*-1+camera!$B$3","v":1000},{"$f":"IF( AND( (camera!$B$4) > (AP147+camera!$B$4/2), 0 < (AP147+camera!$B$4/2), AN147 >= 0 ), AP147+camera!$B$4/2, 0)","v":0},null,null,null,-890.34100000000001,176.7723,2750.4573999999998,null,{"$f":"MMULT(               MMULT(AX147:AZ147-$B$2:$D$2, TRANSPOSE($A$16:$C$18)),     TRANSPOSE($A$12:$C$14))","v":-2019.2386662194956},-4153.7054743095023,3882.0130607300166,null,-534.993753154503,-260.07623295319053," ",760.07623295319058,0]
[null,null,null,null,null,null,null,null,null,null,null,null,null,null,null,null,null,null,null,null,56.898699999999998,105,null,null,null,"''",null,17.530695000000001,-49.876145000000001,null,-49.876145000000001,-97.039574999999957,null,{"$f":"camera!$B$5*COS(RADIANS(AE148))*COS(RADIANS(AF148))","v":-39.489758860674449},{"$f":"camera!$B$5*COS(RADIANS(AE148))*SIN(RADIANS(AF148))","v":-319.79203732726688},{"$f":"camera!$B$5*SIN(RADIANS(AE148))","v":-382.32657742720653},null,{"$f":"TRANSPOSE(MMULT(camera!$A$12:$C$14,MMULT(camera!$A$16:$C$18,TRANSPOSE(AH148:AJ148))))","v":432.43582399241029},11.467775867880654,-250.7344177504342,null,{"$f":"camera!$B$5*AM148/AN148","v":-22.868371982531297},{"$f":"camera!$B$5*AL148/AN148","v":-862.33838152772194},null,{"$f":"IF( AND( (camera!$B$3) > (AQ148+camera!$B$3/2), 0 < (AQ148+camera!$B$3/2), AN148 >= 0 ), AQ148+camera!$B$3/2, 0)*-1+camera!$B$3","v":1000},{"$f":"IF( AND( (camera!$B$4) > (AP148+camera!$B$4/2), 0 < (AP148+camera!$B$4/2), AN148 >= 0 ), AP148+camera!$B$4/2, 0)","v":0},null,null,null,-623.8922,671.52880000000005,2412.6379999999999,null,{"$f":"MMULT(               MMULT(AX148:AZ148-$B$2:$D$2, TRANSPOSE($A$16:$C$18)),     TRANSPOSE($A$12:$C$14))","v":-1776.1706918286507},-4376.0194859456788,4448.9304659892059,null,-491.80578561511459,-199.61771771968171," ",699.61771771968165,8.194214384885413]
[null,null,null,null,null,null,null,null,null,null,null,null,null,null,null,null,null,null,null,null,56.898699999999998,90,null,null,null,"'Alcyone'",null,3.7914099999999999,24.105136999999999,null,24.105136999999999,56.87115,null,{"$f":"camera!$B$5*COS(RADIANS(AE149))*COS(RADIANS(AF149))","v":249.43275373414343},{"$f":"camera!$B$5*COS(RADIANS(AE149))*SIN(RADIANS(AF149))","v":382.20825398716738},{"$f":"camera!$B$5*SIN(RADIANS(AE149))","v":204.20615061423368},null,{"$f":"TRANSPOSE(MMULT(camera!$A$12:$C$14,MMULT(camera!$A$16:$C$18,TRANSPOSE(AH149:AJ149))))","v":-270.9960341546585},-215.17194253984059,360.91852905618282,null,{"$f":"camera!$B$5*AM149/AN149","v":-298.08935426857175},{"$f":"camera!$B$5*AL149/AN149","v":-375.42549403507292},null,{"$f":"IF( AND( (camera!$B$3) > (AQ149+camera!$B$3/2), 0 < (AQ149+camera!$B$3/2), AN149 >= 0 ), AQ149+camera!$B$3/2, 0)*-1+camera!$B$3","v":875.42549403507292},{"$f":"IF( AND( (camera!$B$4) > (AP149+camera!$B$4/2), 0 < (AP149+camera!$B$4/2), AN149 >= 0 ), AP149+camera!$B$4/2, 0)","v":201.91064573142825},null,null,null,-773.54549999999995,443.69549999999998,2412.6379999999999,null,{"$f":"MMULT(               MMULT(AX149:AZ149-$B$2:$D$2, TRANSPOSE($A$16:$C$18)),     TRANSPOSE($A$12:$C$14))","v":-1734.4934847360237},-4246.792642417895,4212.5672791123479,null,-504.06229278227204,-205.87130956179149," ",705.87130956179146,0]
[null,null,null,null,null,null,null,null,null,null,null,null,null,null,null,null,null,null,null,null,56.898699999999998,75,null,null,null,"'Vindemiatrix'",null,13.036277999999999,10.959149999999999,null,10.959149999999999,-164.45583000000002,null,{"$f":"camera!$B$5*COS(RADIANS(AE150))*COS(RADIANS(AF150))","v":-472.92707940515015},{"$f":"camera!$B$5*COS(RADIANS(AE150))*SIN(RADIANS(AF150))","v":-131.54699567569358},{"$f":"camera!$B$5*SIN(RADIANS(AE150))","v":95.054539576044604},null,{"$f":"TRANSPOSE(MMULT(camera!$A$12:$C$14,MMULT(camera!$A$16:$C$18,TRANSPOSE(AH150:AJ150))))","v":-63.696991003616731},459.66237297308646,-186.15368975616968,null,{"$f":"camera!$B$5*AM150/AN150","v":-1234.6313779092093},{"$f":"camera!$B$5*AL150/AN150","v":171.08710304654497},null,{"$f":"IF( AND( (camera!$B$3) > (AQ150+camera!$B$3/2), 0 < (AQ150+camera!$B$3/2), AN150 >= 0 ), AQ150+camera!$B$3/2, 0)*-1+camera!$B$3","v":1000},{"$f":"IF( AND( (camera!$B$4) > (AP150+camera!$B$4/2), 0 < (AP150+camera!$B$4/2), AN150 >= 0 ), AP150+camera!$B$4/2, 0)","v":0},null,null,null,-830.19929999999999,467.16230000000002,2513.6864,null,{"$f":"MMULT(               MMULT(AX150:AZ150-$B$2:$D$2, TRANSPOSE($A$16:$C$18)),     TRANSPOSE($A$12:$C$14))","v":-1837.2087697565967},-4188.309160847235,4213.1800643574834,null,-497.04844047366379,-218.03112396013557," ",718.03112396013557,2.9515595263362115]
[null,null,null,null,null,null,null,null,null,null,null,null,null,null,null,null,null,null,null,null,56.898699999999998,515,null,null,null,"''",null,21.784011,-16.127286000000002,null,-16.127286000000002,-33.239835000000028,null,{"$f":"camera!$B$5*COS(RADIANS(AE151))*COS(RADIANS(AF151))","v":401.73460156633126},{"$f":"camera!$B$5*COS(RADIANS(AE151))*SIN(RADIANS(AF151))","v":-263.28684872689678},{"$f":"camera!$B$5*SIN(RADIANS(AE151))","v":-138.88608710666901},null,{"$f":"TRANSPOSE(MMULT(camera!$A$12:$C$14,MMULT(camera!$A$16:$C$18,TRANSPOSE(AH151:AJ151))))","v":176.24137460743617},-423.15284097686202,-199.70140472638604,null,{"$f":"camera!$B$5*AM151/AN151","v":1059.4638569433955},{"$f":"camera!$B$5*AL151/AN151","v":-441.26223060099949},null,{"$f":"IF( AND( (camera!$B$3) > (AQ151+camera!$B$3/2), 0 < (AQ151+camera!$B$3/2), AN151 >= 0 ), AQ151+camera!$B$3/2, 0)*-1+camera!$B$3","v":1000},{"$f":"IF( AND( (camera!$B$4) > (AP151+camera!$B$4/2), 0 < (AP151+camera!$B$4/2), AN151 >= 0 ), AP151+camera!$B$4/2, 0)","v":0},null,null,null,-667.38919999999996,715.02570000000003,2513.6864,null,{"$f":"MMULT(               MMULT(AX151:AZ151-$B$2:$D$2, TRANSPOSE($A$16:$C$18)),     TRANSPOSE($A$12:$C$14))","v":-1882.5500523945493},-4328.8970005360616,4470.3232562602516,null,-484.18165224112863,-210.56084140651592," ",710.56084140651592,15.818347758871369]
[null,null,null,null,null,null,null,null,null,null,null,null,null,null,null,null,null,null,null,null,56.898699999999998,500,null,null,null,"''",null,7.5768269999999998,31.890519999999999,null,31.890519999999999,113.652405,null,{"$f":"camera!$B$5*COS(RADIANS(AE152))*COS(RADIANS(AF152))","v":-170.3157414567755},{"$f":"camera!$B$5*COS(RADIANS(AE152))*SIN(RADIANS(AF152))","v":388.86744689670348},{"$f":"camera!$B$5*SIN(RADIANS(AE152))","v":264.14892950013689},null,{"$f":"TRANSPOSE(MMULT(camera!$A$12:$C$14,MMULT(camera!$A$16:$C$18,TRANSPOSE(AH152:AJ152))))","v":-324.82744727050726},203.55966980547197,321.01493785868126,null,{"$f":"camera!$B$5*AM152/AN152","v":317.05638242772983},{"$f":"camera!$B$5*AL152/AN152","v":-505.93821184343824},null,{"$f":"IF( AND( (camera!$B$3) > (AQ152+camera!$B$3/2), 0 < (AQ152+camera!$B$3/2), AN152 >= 0 ), AQ152+camera!$B$3/2, 0)*-1+camera!$B$3","v":1000},{"$f":"IF( AND( (camera!$B$4) > (AP152+camera!$B$4/2), 0 < (AP152+camera!$B$4/2), AN152 >= 0 ), AP152+camera!$B$4/2, 0)","v":817.05638242772989},null,null,null,-683.45680000000004,731.09339999999997,2632.0718999999999,null,{"$f":"MMULT(               MMULT(AX152:AZ152-$B$2:$D$2, TRANSPOSE($A$16:$C$18)),     TRANSPOSE($A$12:$C$14))","v":-2001.6733461258577},-4311.4901502772555,4464.1501032594024,null,-482.90156586909052,-224.19422508490243," ",724.19422508490243,17.098434130909482]
[null,null,null,null,null,null,null,null,null,null,null,null,null,null,null,null,null,null,null,null,56.898699999999998,485,null,null,null,"''",null,1.9794510000000001,-61.569859000000001,null,-61.569859000000001,29.691765,null,{"$f":"camera!$B$5*COS(RADIANS(AE153))*COS(RADIANS(AF153))","v":206.78898774751696},{"$f":"camera!$B$5*COS(RADIANS(AE153))*SIN(RADIANS(AF153))","v":117.91096838836386},{"$f":"camera!$B$5*SIN(RADIANS(AE153))","v":-439.69912221890502},null,{"$f":"TRANSPOSE(MMULT(camera!$A$12:$C$14,MMULT(camera!$A$16:$C$18,TRANSPOSE(AH153:AJ153))))","v":409.49235873698592},-195.72547518985184,209.77975712095372,null,{"$f":"camera!$B$5*AM153/AN153","v":-466.50229239468865},{"$f":"camera!$B$5*AL153/AN153","v":976.00541719781609},null,{"$f":"IF( AND( (camera!$B$3) > (AQ153+camera!$B$3/2), 0 < (AQ153+camera!$B$3/2), AN153 >= 0 ), AQ153+camera!$B$3/2, 0)*-1+camera!$B$3","v":1000},{"$f":"IF( AND( (camera!$B$4) > (AP153+camera!$B$4/2), 0 < (AP153+camera!$B$4/2), AN153 >= 0 ), AP153+camera!$B$4/2, 0)","v":33.497707605311348},null,null,null,-851.12710000000004,475.83089999999999,2632.0718999999999,null,{"$f":"MMULT(               MMULT(AX153:AZ153-$B$2:$D$2, TRANSPOSE($A$16:$C$18)),     TRANSPOSE($A$12:$C$14))","v":-1954.9785560761463},-4166.7054791729288,4199.3307893796082,null,-496.11541554559227,-232.77263141789396," ",732.77263141789399,3.8845844544077295]
[null,null,null,null,null,null,null,null,null,null,null,null,null,null,null,null,null,null,null,null,58.343200000000003,152.16220000000001,null,null,null,"''",null,19.749573999999999,45.130809999999997,null,45.130809999999997,-63.75639000000001,null,{"$f":"camera!$B$5*COS(RADIANS(AE154))*COS(RADIANS(AF154))","v":155.97996547255354},{"$f":"camera!$B$5*COS(RADIANS(AE154))*SIN(RADIANS(AF154))","v":-316.38502817914014},{"$f":"camera!$B$5*SIN(RADIANS(AE154))","v":354.3596539044276},null,{"$f":"TRANSPOSE(MMULT(camera!$A$12:$C$14,MMULT(camera!$A$16:$C$18,TRANSPOSE(AH154:AJ154))))","v":-296.60618180751499},-182.96118673748308,-358.53866885062644,null,{"$f":"camera!$B$5*AM154/AN154","v":255.14847160559401},{"$f":"camera!$B$5*AL154/AN154","v":413.63206757914077},null,{"$f":"IF( AND( (camera!$B$3) > (AQ154+camera!$B$3/2), 0 < (AQ154+camera!$B$3/2), AN154 >= 0 ), AQ154+camera!$B$3/2, 0)*-1+camera!$B$3","v":1000},{"$f":"IF( AND( (camera!$B$4) > (AP154+camera!$B$4/2), 0 < (AP154+camera!$B$4/2), AN154 >= 0 ), AP154+camera!$B$4/2, 0)","v":0},null,null,null,-480.09059999999999,527.72709999999995,2321.7455,null,{"$f":"MMULT(               MMULT(AX154:AZ154-$B$2:$D$2, TRANSPOSE($A$16:$C$18)),     TRANSPOSE($A$12:$C$14))","v":-1663.9595279107011},-4531.8070214146646,4335.9783782423274,null,-522.58182883879147,-191.87820864840421," ",691.87820864840421,0]
[null,null,null,null,null,null,null,null,null,null,null,null,null,null,null,null,null,null,null,null,58.343200000000003,562.16219999999998,null,null,null,"''",null,6.3826729999999996,22.513586,null,22.513586,95.740094999999997,null,{"$f":"camera!$B$5*COS(RADIANS(AE155))*COS(RADIANS(AF155))","v":-46.196853970614818},{"$f":"camera!$B$5*COS(RADIANS(AE155))*SIN(RADIANS(AF155))","v":459.57836222700485},{"$f":"camera!$B$5*SIN(RADIANS(AE155))","v":191.45124615933307},null,{"$f":"TRANSPOSE(MMULT(camera!$A$12:$C$14,MMULT(camera!$A$16:$C$18,TRANSPOSE(AH155:AJ155))))","v":-267.34477140230848},86.075954504691964,413.66375628033154,null,{"$f":"camera!$B$5*AM155/AN155","v":104.04096708723986},{"$f":"camera!$B$5*AL155/AN155","v":-323.14260959949115},null,{"$f":"IF( AND( (camera!$B$3) > (AQ155+camera!$B$3/2), 0 < (AQ155+camera!$B$3/2), AN155 >= 0 ), AQ155+camera!$B$3/2, 0)*-1+camera!$B$3","v":823.14260959949115},{"$f":"IF( AND( (camera!$B$4) > (AP155+camera!$B$4/2), 0 < (AP155+camera!$B$4/2), AN155 >= 0 ), AP155+camera!$B$4/2, 0)","v":604.04096708723989},null,null,null,-586.24689999999998,366.1139,2321.7455,null,{"$f":"MMULT(               MMULT(AX155:AZ155-$B$2:$D$2, TRANSPOSE($A$16:$C$18)),     TRANSPOSE($A$12:$C$14))","v":-1634.3958659009336},-4440.140196669453,4168.3145193650098,null,-532.60618603054127,-196.04996915514823," ",696.04996915514823,0]
[null,null,null,null,null,null,null,null,null,null,null,null,null,null,null,null,null,null,null,null,58.347700000000003,60,null,null,null,"''",null,15.315181000000001,-68.679545000000005,null,-68.679545000000005,-130.27228499999998,null,{"$f":"camera!$B$5*COS(RADIANS(AE156))*COS(RADIANS(AF156))","v":-117.51407210351877},{"$f":"camera!$B$5*COS(RADIANS(AE156))*SIN(RADIANS(AF156))","v":-138.70379518486334},{"$f":"camera!$B$5*SIN(RADIANS(AE156))","v":-465.78074247328482},null,{"$f":"TRANSPOSE(MMULT(camera!$A$12:$C$14,MMULT(camera!$A$16:$C$18,TRANSPOSE(AH156:AJ156))))","v":484.47700363977845},104.97806328944068,-65.281231393259588,null,{"$f":"camera!$B$5*AM156/AN156","v":-804.04475412729323},{"$f":"camera!$B$5*AL156/AN156","v":-3710.6913679465433},null,{"$f":"IF( AND( (camera!$B$3) > (AQ156+camera!$B$3/2), 0 < (AQ156+camera!$B$3/2), AN156 >= 0 ), AQ156+camera!$B$3/2, 0)*-1+camera!$B$3","v":1000},{"$f":"IF( AND( (camera!$B$4) > (AP156+camera!$B$4/2), 0 < (AP156+camera!$B$4/2), AN156 >= 0 ), AP156+camera!$B$4/2, 0)","v":0},null,null,null,-687.2953,407.96949999999998,2346.2640000000001,null,{"$f":"MMULT(               MMULT(AX156:AZ156-$B$2:$D$2, TRANSPOSE($A$16:$C$18)),     TRANSPOSE($A$12:$C$14))","v":-1664.2530554256016},-4335.8283604326507,4196.4466414101826,null,-516.60711203224423,-198.29312721421169," ",698.29312721421172,0]
[null,null,null,null,null,null,null,null,null,null,null,null,null,null,null,null,null,null,null,null,58.347700000000003,470,null,null,null,"''",null,22.308371000000001,-60.259587000000003,null,-60.259587000000003,-25.374435000000005,null,{"$f":"camera!$B$5*COS(RADIANS(AE157))*COS(RADIANS(AF157))","v":224.10677167697662},{"$f":"camera!$B$5*COS(RADIANS(AE157))*SIN(RADIANS(AF157))","v":-106.29120428359441},{"$f":"camera!$B$5*SIN(RADIANS(AE157))","v":-434.14091581013957},null,{"$f":"TRANSPOSE(MMULT(camera!$A$12:$C$14,MMULT(camera!$A$16:$C$18,TRANSPOSE(AH157:AJ157))))","v":442.54064864482291},-232.51786660794122,-9.6548436088358045,null,{"$f":"camera!$B$5*AM157/AN157","v":12041.513877819227},{"$f":"camera!$B$5*AL157/AN157","v":-22918.064060603934},null,{"$f":"IF( AND( (camera!$B$3) > (AQ157+camera!$B$3/2), 0 < (AQ157+camera!$B$3/2), AN157 >= 0 ), AQ157+camera!$B$3/2, 0)*-1+camera!$B$3","v":1000},{"$f":"IF( AND( (camera!$B$4) > (AP157+camera!$B$4/2), 0 < (AP157+camera!$B$4/2), AN157 >= 0 ), AP157+camera!$B$4/2, 0)","v":0},null,null,null,-557.67219999999998,605.30870000000004,2346.2640000000001,null,{"$f":"MMULT(               MMULT(AX157:AZ157-$B$2:$D$2, TRANSPOSE($A$16:$C$18)),     TRANSPOSE($A$12:$C$14))","v":-1700.3520218511462},-4447.7589608536391,4401.1740534063647,null,-505.29232732925198,-193.17027697815419," ",693.17027697815422,0]
[null,null,null,null,null,null,null,null,null,null,null,null,null,null,null,null,null,null,null,null,59.294400000000003,34.306199999999997,null,null,null,"'Acamar'",null,2.9710230000000002,-40.304671999999997,null,-40.304671999999997,44.565345000000001,null,{"$f":"camera!$B$5*COS(RADIANS(AE158))*COS(RADIANS(AF158))","v":271.66296949113558},{"$f":"camera!$B$5*COS(RADIANS(AE158))*SIN(RADIANS(AF158))","v":267.5721665324437},{"$f":"camera!$B$5*SIN(RADIANS(AE158))","v":-323.42598334764716},null,{"$f":"TRANSPOSE(MMULT(camera!$A$12:$C$14,MMULT(camera!$A$16:$C$18,TRANSPOSE(AH158:AJ158))))","v":268.11433835249187},-247.30875896219371,341.98403370681666,null,{"$f":"camera!$B$5*AM158/AN158","v":-361.57939346111669},{"$f":"camera!$B$5*AL158/AN158","v":391.99832729961099},null,{"$f":"IF( AND( (camera!$B$3) > (AQ158+camera!$B$3/2), 0 < (AQ158+camera!$B$3/2), AN158 >= 0 ), AQ158+camera!$B$3/2, 0)*-1+camera!$B$3","v":108.00167270038901},{"$f":"IF( AND( (camera!$B$4) > (AP158+camera!$B$4/2), 0 < (AP158+camera!$B$4/2), AN158 >= 0 ), AP158+camera!$B$4/2, 0)","v":138.42060653888331},null,null,null,-336.28899999999999,383.9255,2412.6379999999999,null,{"$f":"MMULT(               MMULT(AX158:AZ158-$B$2:$D$2, TRANSPOSE($A$16:$C$18)),     TRANSPOSE($A$12:$C$14))","v":-1730.7716586728147},-4687.5945481680765,4191.4597546242921,null,-559.18401017645647,-206.4640674127092," ",706.46406741270926,0]
[null,null,null,null,null,null,null,null,null,null,null,null,null,null,null,null,null,null,null,null,59.294400000000003,444.30619999999999,null,null,null,"'Albaldah'",null,19.162731000000001,-21.023614999999999,null,-21.023614999999999,-72.559034999999994,null,{"$f":"camera!$B$5*COS(RADIANS(AE159))*COS(RADIANS(AF159))","v":139.88560330389976},{"$f":"camera!$B$5*COS(RADIANS(AE159))*SIN(RADIANS(AF159))","v":-445.25963491625396},{"$f":"camera!$B$5*SIN(RADIANS(AE159))","v":-179.37635156995526},null,{"$f":"TRANSPOSE(MMULT(camera!$A$12:$C$14,MMULT(camera!$A$16:$C$18,TRANSPOSE(AH159:AJ159))))","v":251.55843590061204},-178.16023054738733,-393.67154529955474,null,{"$f":"camera!$B$5*AM159/AN159","v":226.28029975067241},{"$f":"camera!$B$5*AL159/AN159","v":-319.50294465554373},null,{"$f":"IF( AND( (camera!$B$3) > (AQ159+camera!$B$3/2), 0 < (AQ159+camera!$B$3/2), AN159 >= 0 ), AQ159+camera!$B$3/2, 0)*-1+camera!$B$3","v":1000},{"$f":"IF( AND( (camera!$B$4) > (AP159+camera!$B$4/2), 0 < (AP159+camera!$B$4/2), AN159 >= 0 ), AP159+camera!$B$4/2, 0)","v":0},null,null,null,-398.94839999999999,288.53230000000002,2412.6379999999999,null,{"$f":"MMULT(               MMULT(AX159:AZ159-$B$2:$D$2, TRANSPOSE($A$16:$C$18)),     TRANSPOSE($A$12:$C$14))","v":-1713.3215229337236},-4633.4876513015424,4092.4951170573227,null,-566.09568475590709,-209.32480967328243," ",709.3248096732824,0]
[null,null,null,null,null,null,null,null,null,null,null,null,null,null,null,null,null,null,null,null,60,120,null,null,null,"'Gomeisa'",null,7.4525119999999996,8.2893150000000002,null,8.2893150000000002,111.78767999999999,null,{"$f":"camera!$B$5*COS(RADIANS(AE160))*COS(RADIANS(AF160))","v":-183.64523582239207},{"$f":"camera!$B$5*COS(RADIANS(AE160))*SIN(RADIANS(AF160))","v":459.43232388379982},{"$f":"camera!$B$5*SIN(RADIANS(AE160))","v":72.085831690210014},null,{"$f":"TRANSPOSE(MMULT(camera!$A$12:$C$14,MMULT(camera!$A$16:$C$18,TRANSPOSE(AH160:AJ160))))","v":-147.68731927431787},222.98857568645047,422.45064899807397,null,{"$f":"camera!$B$5*AM160/AN160","v":263.92263358490794},{"$f":"camera!$B$5*AL160/AN160","v":-174.79831031694215},null,{"$f":"IF( AND( (camera!$B$3) > (AQ160+camera!$B$3/2), 0 < (AQ160+camera!$B$3/2), AN160 >= 0 ), AQ160+camera!$B$3/2, 0)*-1+camera!$B$3","v":674.79831031694221},{"$f":"IF( AND( (camera!$B$4) > (AP160+camera!$B$4/2), 0 < (AP160+camera!$B$4/2), AN160 >= 0 ), AP160+camera!$B$4/2, 0)","v":763.922633584908},null,null,null,-485.1986,324.25830000000002,2346.2640000000001,null,{"$f":"MMULT(               MMULT(AX160:AZ160-$B$2:$D$2, TRANSPOSE($A$16:$C$18)),     TRANSPOSE($A$12:$C$14))","v":-1652.8306926472815},-4544.4519332867867,4131.6672030484187,null,-549.95377289025214,-200.01982388946928," ",700.01982388946931,0]
[null,null,null,null,null,null,null,null,null,null,null,null,null,null,null,null,null,null,null,null,60,530,null,null,null,"'Cor Caroli'",null,12.933807,38.318379999999998,null,38.318379999999998,-165.992895,null,{"$f":"camera!$B$5*COS(RADIANS(AE161))*COS(RADIANS(AF161))","v":-380.62433112505158},{"$f":"camera!$B$5*COS(RADIANS(AE161))*SIN(RADIANS(AF161))","v":-94.950439563474418},{"$f":"camera!$B$5*SIN(RADIANS(AE161))","v":310.01537475149536},null,{"$f":"TRANSPOSE(MMULT(camera!$A$12:$C$14,MMULT(camera!$A$16:$C$18,TRANSPOSE(AH161:AJ161))))","v":-283.11978097422866},370.90046454712211,-179.65532282633274,null,{"$f":"camera!$B$5*AM161/AN161","v":-1032.2557069618811},{"$f":"camera!$B$5*AL161/AN161","v":787.95266547129199},null,{"$f":"IF( AND( (camera!$B$3) > (AQ161+camera!$B$3/2), 0 < (AQ161+camera!$B$3/2), AN161 >= 0 ), AQ161+camera!$B$3/2, 0)*-1+camera!$B$3","v":1000},{"$f":"IF( AND( (camera!$B$4) > (AP161+camera!$B$4/2), 0 < (AP161+camera!$B$4/2), AN161 >= 0 ), AP161+camera!$B$4/2, 0)","v":0},null,null,null,-402.50900000000001,450.14550000000003,2346.2640000000001,null,{"$f":"MMULT(               MMULT(AX161:AZ161-$B$2:$D$2, TRANSPOSE($A$16:$C$18)),     TRANSPOSE($A$12:$C$14))","v":-1675.8590517547154},-4615.8550819756902,4262.267517390037,null,-541.47880947676526,-196.59242937206736," ",696.59242937206739,0]
[null,null,null,null,null,null,null,null,null,null,null,null,null,null,null,null,null,null,null,null,60.058,137.16220000000001,null,null,null,"''",null,15.980865,-26.114104999999999,null,-26.114104999999999,-120.287025,null,{"$f":"camera!$B$5*COS(RADIANS(AE162))*COS(RADIANS(AF162))","v":-226.42474443360092},{"$f":"camera!$B$5*COS(RADIANS(AE162))*SIN(RADIANS(AF162))","v":-387.68102571439005},{"$f":"camera!$B$5*SIN(RADIANS(AE162))","v":-220.08011588786698},null,{"$f":"TRANSPOSE(MMULT(camera!$A$12:$C$14,MMULT(camera!$A$16:$C$18,TRANSPOSE(AH162:AJ162))))","v":287.22734550384183},191.7745021762201,-361.55634735111425,null,{"$f":"camera!$B$5*AM162/AN162","v":-265.20693604361509},{"$f":"camera!$B$5*AL162/AN162","v":-397.20965709517731},null,{"$f":"IF( AND( (camera!$B$3) > (AQ162+camera!$B$3/2), 0 < (AQ162+camera!$B$3/2), AN162 >= 0 ), AQ162+camera!$B$3/2, 0)*-1+camera!$B$3","v":1000},{"$f":"IF( AND( (camera!$B$4) > (AP162+camera!$B$4/2), 0 < (AP162+camera!$B$4/2), AN162 >= 0 ), AP162+camera!$B$4/2, 0)","v":0},null,null,null,-276.7244,324.36090000000002,2632.0718999999999,null,{"$f":"MMULT(               MMULT(AX162:AZ162-$B$2:$D$2, TRANSPOSE($A$16:$C$18)),     TRANSPOSE($A$12:$C$14))","v":-1937.4694163630188},-4752.1238838364989,4100.0315236474016,null,-579.52284713276947,-236.27494144721106," ",736.27494144721106,0]
[null,null,null,null,null,null,null,null,null,null,null,null,null,null,null,null,null,null,null,null,60.058,547.16219999999998,null,null,null,"''",null,3.9642300000000001,40.010215000000002,null,40.010215000000002,59.463450000000002,null,{"$f":"camera!$B$5*COS(RADIANS(AE163))*COS(RADIANS(AF163))","v":194.5798429355313},{"$f":"camera!$B$5*COS(RADIANS(AE163))*SIN(RADIANS(AF163))","v":329.84967992362806},{"$f":"camera!$B$5*SIN(RADIANS(AE163))","v":321.46208699855117},null,{"$f":"TRANSPOSE(MMULT(camera!$A$12:$C$14,MMULT(camera!$A$16:$C$18,TRANSPOSE(AH163:AJ163))))","v":-376.58304825327178},-165.09111403907977,284.48221707799161,null,{"$f":"camera!$B$5*AM163/AN163","v":-290.1606921775001},{"$f":"camera!$B$5*AL163/AN163","v":-661.87449627129149},null,{"$f":"IF( AND( (camera!$B$3) > (AQ163+camera!$B$3/2), 0 < (AQ163+camera!$B$3/2), AN163 >= 0 ), AQ163+camera!$B$3/2, 0)*-1+camera!$B$3","v":1000},{"$f":"IF( AND( (camera!$B$4) > (AP163+camera!$B$4/2), 0 < (AP163+camera!$B$4/2), AN163 >= 0 ), AP163+camera!$B$4/2, 0)","v":209.8393078224999},null,null,null,-321.36680000000001,256.39699999999999,2632.0718999999999,null,{"$f":"MMULT(               MMULT(AX163:AZ163-$B$2:$D$2, TRANSPOSE($A$16:$C$18)),     TRANSPOSE($A$12:$C$14))","v":-1925.0368808797516},-4713.5748058309364,4029.523111189395,null,-584.87998154695151,-238.86658889413073," ",738.8665888941307,0]
[null,null,null,null,null,null,null,null,null,null,null,null,null,null,null,null,null,null,null,null,60.431399999999996,49.306199999999997,null,null,null,"''",null,16.353142999999999,-25.592796,null,-25.592796,-114.702855,null,{"$f":"camera!$B$5*COS(RADIANS(AE164))*COS(RADIANS(AF164))","v":-188.45482287558559},{"$f":"camera!$B$5*COS(RADIANS(AE164))*SIN(RADIANS(AF164))","v":-409.67639778856608},{"$f":"camera!$B$5*SIN(RADIANS(AE164))","v":-215.98617740475029},null,{"$f":"TRANSPOSE(MMULT(camera!$A$12:$C$14,MMULT(camera!$A$16:$C$18,TRANSPOSE(AH164:AJ164))))","v":286.42587189483925},152.03204464302985,-380.58701673985269,null,{"$f":"camera!$B$5*AM164/AN164","v":-199.73361932489436},{"$f":"camera!$B$5*AL164/AN164","v":-376.29485412875158},null,{"$f":"IF( AND( (camera!$B$3) > (AQ164+camera!$B$3/2), 0 < (AQ164+camera!$B$3/2), AN164 >= 0 ), AQ164+camera!$B$3/2, 0)*-1+camera!$B$3","v":1000},{"$f":"IF( AND( (camera!$B$4) > (AP164+camera!$B$4/2), 0 < (AP164+camera!$B$4/2), AN164 >= 0 ), AP164+camera!$B$4/2, 0)","v":0},null,null,null,-342.2946,265.06560000000002,2513.6864,null,{"$f":"MMULT(               MMULT(AX164:AZ164-$B$2:$D$2, TRANSPOSE($A$16:$C$18)),     TRANSPOSE($A$12:$C$14))","v":-1809.6327507108481},-4691.9711241566292,4056.788688885897,null,-578.28635948070178,-223.03759075109994," ",723.03759075109997,0]
[null,null,null,null,null,null,null,null,null,null,null,null,null,null,null,null,null,null,null,null,60.431399999999996,459.30619999999999,null,null,null,"'Sadalsuud'",null,21.525981999999999,-5.5711719999999998,null,-5.5711719999999998,-37.110270000000014,null,{"$f":"camera!$B$5*COS(RADIANS(AE165))*COS(RADIANS(AF165))","v":396.85440749336146},{"$f":"camera!$B$5*COS(RADIANS(AE165))*SIN(RADIANS(AF165))","v":-300.2504679816974},{"$f":"camera!$B$5*SIN(RADIANS(AE165))","v":-48.541072607274067},null,{"$f":"TRANSPOSE(MMULT(camera!$A$12:$C$14,MMULT(camera!$A$16:$C$18,TRANSPOSE(AH165:AJ165))))","v":93.737003031742347},-421.51280920650453,-252.07206496846874,null,{"$f":"camera!$B$5*AM165/AN165","v":836.09583882139191},{"$f":"camera!$B$5*AL165/AN165","v":-185.9329454921309},null,{"$f":"IF( AND( (camera!$B$3) > (AQ165+camera!$B$3/2), 0 < (AQ165+camera!$B$3/2), AN165 >= 0 ), AQ165+camera!$B$3/2, 0)*-1+camera!$B$3","v":1000},{"$f":"IF( AND( (camera!$B$4) > (AP165+camera!$B$4/2), 0 < (AP165+camera!$B$4/2), AN165 >= 0 ), AP165+camera!$B$4/2, 0)","v":0},null,null,null,-292.7921,340.42860000000002,2513.6864,null,{"$f":"MMULT(               MMULT(AX165:AZ165-$B$2:$D$2, TRANSPOSE($A$16:$C$18)),     TRANSPOSE($A$12:$C$14))","v":-1823.4187920924305},-4734.7169339582242,4134.9732147377636,null,-572.52087112473544,-220.48737650747637," ",720.48737650747637,0]
[null,null,null,null,null,null,null,null,null,null,null,null,null,null,null,null,null,null,null,null,61.898699999999998,105,null,null,null,"''",null,3.079942,53.506439999999998,null,53.506439999999998,46.199129999999997,null,{"$f":"camera!$B$5*COS(RADIANS(AE166))*COS(RADIANS(AF166))","v":205.82325484700704},{"$f":"camera!$B$5*COS(RADIANS(AE166))*SIN(RADIANS(AF166))","v":214.62398194096744},{"$f":"camera!$B$5*SIN(RADIANS(AE166))","v":401.96185657346552},null,{"$f":"TRANSPOSE(MMULT(camera!$A$12:$C$14,MMULT(camera!$A$16:$C$18,TRANSPOSE(AH166:AJ166))))","v":-436.09741493601035},-186.3343226650496,158.42526592398821,null,{"$f":"camera!$B$5*AM166/AN166","v":-588.08272019708033},{"$f":"camera!$B$5*AL166/AN166","v":-1376.350585219305},null,{"$f":"IF( AND( (camera!$B$3) > (AQ166+camera!$B$3/2), 0 < (AQ166+camera!$B$3/2), AN166 >= 0 ), AQ166+camera!$B$3/2, 0)*-1+camera!$B$3","v":1000},{"$f":"IF( AND( (camera!$B$4) > (AP166+camera!$B$4/2), 0 < (AP166+camera!$B$4/2), AN166 >= 0 ), AP166+camera!$B$4/2, 0)","v":0},null,null,null,-336.28899999999999,383.9255,2851.5057999999999,null,{"$f":"MMULT(               MMULT(AX166:AZ166-$B$2:$D$2, TRANSPOSE($A$16:$C$18)),     TRANSPOSE($A$12:$C$14))","v":-2162.9720706602261},-4687.5945481680765,4115.2511609175981,null,-569.53930208270208,-262.79952135144254," ",762.79952135144254,0]
[null,null,null,null,null,null,null,null,null,null,null,null,null,null,null,null,null,null,null,null,61.898699999999998,90,null,null,null,"''",null,9.7850359999999998,-65.072006999999999,null,-65.072006999999999,146.77554000000001,null,{"$f":"camera!$B$5*COS(RADIANS(AE167))*COS(RADIANS(AF167))","v":-176.28998028094114},{"$f":"camera!$B$5*COS(RADIANS(AE167))*SIN(RADIANS(AF167))","v":115.46844742079169},{"$f":"camera!$B$5*SIN(RADIANS(AE167))","v":-453.41910028446887},null,{"$f":"TRANSPOSE(MMULT(camera!$A$12:$C$14,MMULT(camera!$A$16:$C$18,TRANSPOSE(AH167:AJ167))))","v":429.22410893067598},185.68288198144995,176.88564569158828,null,{"$f":"camera!$B$5*AM167/AN167","v":524.86701579279145},{"$f":"camera!$B$5*AL167/AN167","v":1213.2813469755945},null,{"$f":"IF( AND( (camera!$B$3) > (AQ167+camera!$B$3/2), 0 < (AQ167+camera!$B$3/2), AN167 >= 0 ), AQ167+camera!$B$3/2, 0)*-1+camera!$B$3","v":1000},{"$f":"IF( AND( (camera!$B$4) > (AP167+camera!$B$4/2), 0 < (AP167+camera!$B$4/2), AN167 >= 0 ), AP167+camera!$B$4/2, 0)","v":0},null,null,null,-398.94839999999999,288.53230000000002,2851.5057999999999,null,{"$f":"MMULT(               MMULT(AX167:AZ167-$B$2:$D$2, TRANSPOSE($A$16:$C$18)),     TRANSPOSE($A$12:$C$14))","v":-2145.5219349211347},-4633.4876513015424,4016.2865233506277,null,-576.83728792287559,-267.10269828199552," ",767.10269828199557,0]
[null,null,null,null,null,null,null,null,null,null,null,null,null,null,null,null,null,null,null,null,61.898699999999998,75,null,null,null,"'Matar'",null,22.716704,30.221245,null,30.221245,-19.249439999999993,null,{"$f":"camera!$B$5*COS(RADIANS(AE168))*COS(RADIANS(AF168))","v":407.88949518885585},{"$f":"camera!$B$5*COS(RADIANS(AE168))*SIN(RADIANS(AF168))","v":-142.43691561745266},{"$f":"camera!$B$5*SIN(RADIANS(AE168))","v":251.67019049535244},null,{"$f":"TRANSPOSE(MMULT(camera!$A$12:$C$14,MMULT(camera!$A$16:$C$18,TRANSPOSE(AH168:AJ168))))","v":-229.38014139025648},-418.75154768978138,-148.43143886386972,null,{"$f":"camera!$B$5*AM168/AN168","v":1410.5891275292061},{"$f":"camera!$B$5*AL168/AN168","v":772.68044811122161},null,{"$f":"IF( AND( (camera!$B$3) > (AQ168+camera!$B$3/2), 0 < (AQ168+camera!$B$3/2), AN168 >= 0 ), AQ168+camera!$B$3/2, 0)*-1+camera!$B$3","v":1000},{"$f":"IF( AND( (camera!$B$4) > (AP168+camera!$B$4/2), 0 < (AP168+camera!$B$4/2), AN168 >= 0 ), AP168+camera!$B$4/2, 0)","v":0},null,null,null,-342.2946,265.06560000000002,2750.4573999999998,null,{"$f":"MMULT(               MMULT(AX168:AZ168-$B$2:$D$2, TRANSPOSE($A$16:$C$18)),     TRANSPOSE($A$12:$C$14))","v":-2042.8066671993013},-4691.9711241566292,4015.6738362115207,null,-584.20719853372646,-254.35415705058011," ",754.35415705058017,0]
[null,null,null,null,null,null,null,null,null,null,null,null,null,null,null,null,null,null,null,null,61.898699999999998,515,null,null,null,"''",null,6.8322659999999997,-50.614559999999997,null,-50.614559999999997,102.48398999999999,null,{"$f":"camera!$B$5*COS(RADIANS(AE169))*COS(RADIANS(AF169))","v":-68.582606299033145},{"$f":"camera!$B$5*COS(RADIANS(AE169))*SIN(RADIANS(AF169))","v":309.76574259123856},{"$f":"camera!$B$5*SIN(RADIANS(AE169))","v":-386.44742311229135},null,{"$f":"TRANSPOSE(MMULT(camera!$A$12:$C$14,MMULT(camera!$A$16:$C$18,TRANSPOSE(AH169:AJ169))))","v":328.02880893342467},95.319492149729641,365.1181930909994,null,{"$f":"camera!$B$5*AM169/AN169","v":130.53237821810336},{"$f":"camera!$B$5*AL169/AN169","v":449.20907139194395},null,{"$f":"IF( AND( (camera!$B$3) > (AQ169+camera!$B$3/2), 0 < (AQ169+camera!$B$3/2), AN169 >= 0 ), AQ169+camera!$B$3/2, 0)*-1+camera!$B$3","v":50.790928608055992},{"$f":"IF( AND( (camera!$B$4) > (AP169+camera!$B$4/2), 0 < (AP169+camera!$B$4/2), AN169 >= 0 ), AP169+camera!$B$4/2, 0)","v":630.5323782181033},null,null,null,-292.7921,340.42860000000002,2750.4573999999998,null,{"$f":"MMULT(               MMULT(AX169:AZ169-$B$2:$D$2, TRANSPOSE($A$16:$C$18)),     TRANSPOSE($A$12:$C$14))","v":-2056.5927085808835},-4734.7169339582242,4093.8583620633867,null,-578.2707308383566,-251.18024693266617," ",751.18024693266614,0]
[null,null,null,null,null,null,null,null,null,null,null,null,null,null,null,null,null,null,null,null,61.898699999999998,500,null,null,null,"'Algorab'",null,12.497738999999999,-16.515432000000001,null,-16.515432000000001,-172.53391500000001,null,{"$f":"camera!$B$5*COS(RADIANS(AE170))*COS(RADIANS(AF170))","v":-475.30746532605764},{"$f":"camera!$B$5*COS(RADIANS(AE170))*SIN(RADIANS(AF170))","v":-62.289212776719452},{"$f":"camera!$B$5*SIN(RADIANS(AE170))","v":-142.13679107456687},null,{"$f":"TRANSPOSE(MMULT(camera!$A$12:$C$14,MMULT(camera!$A$16:$C$18,TRANSPOSE(AH170:AJ170))))","v":157.94617279380489},468.0699143165229,-77.224101234733851,null,{"$f":"camera!$B$5*AM170/AN170","v":-3030.594767906437},{"$f":"camera!$B$5*AL170/AN170","v":-1022.6481776311298},null,{"$f":"IF( AND( (camera!$B$3) > (AQ170+camera!$B$3/2), 0 < (AQ170+camera!$B$3/2), AN170 >= 0 ), AQ170+camera!$B$3/2, 0)*-1+camera!$B$3","v":1000},{"$f":"IF( AND( (camera!$B$4) > (AP170+camera!$B$4/2), 0 < (AP170+camera!$B$4/2), AN170 >= 0 ), AP170+camera!$B$4/2, 0)","v":0},null,null,null,-480.09059999999999,527.72709999999995,2942.3982999999998,null,{"$f":"MMULT(               MMULT(AX170:AZ170-$B$2:$D$2, TRANSPOSE($A$16:$C$18)),     TRANSPOSE($A$12:$C$14))","v":-2275.1832172794366},-4531.8070214146646,4228.20315055845,null,-535.90223317629795,-269.04847476154691," ",769.04847476154691,0]
[null,null,null,null,null,null,null,null,null,null,null,null,null,null,null,null,null,null,null,null,61.898699999999998,485,null,null,null,"'Sadalmelik'",null,22.096399000000002,-0.319851,null,-0.319851,-28.554014999999993,null,{"$f":"camera!$B$5*COS(RADIANS(AE171))*COS(RADIANS(AF171))","v":439.17659958126615},{"$f":"camera!$B$5*COS(RADIANS(AE171))*SIN(RADIANS(AF171))","v":-238.98979793206595},{"$f":"camera!$B$5*SIN(RADIANS(AE171))","v":-2.7912120353914767},null,{"$f":"TRANSPOSE(MMULT(camera!$A$12:$C$14,MMULT(camera!$A$16:$C$18,TRANSPOSE(AH171:AJ171))))","v":37.444339475975795},-458.3347333767008,-196.28345223608761,null,{"$f":"camera!$B$5*AM171/AN171","v":1167.5327903480645},{"$f":"camera!$B$5*AL171/AN171","v":-95.383332240708071},null,{"$f":"IF( AND( (camera!$B$3) > (AQ171+camera!$B$3/2), 0 < (AQ171+camera!$B$3/2), AN171 >= 0 ), AQ171+camera!$B$3/2, 0)*-1+camera!$B$3","v":1000},{"$f":"IF( AND( (camera!$B$4) > (AP171+camera!$B$4/2), 0 < (AP171+camera!$B$4/2), AN171 >= 0 ), AP171+camera!$B$4/2, 0)","v":0},null,null,null,-586.24689999999998,366.1139,2942.3982999999998,null,{"$f":"MMULT(               MMULT(AX171:AZ171-$B$2:$D$2, TRANSPOSE($A$16:$C$18)),     TRANSPOSE($A$12:$C$14))","v":-2245.6195552696686},-4440.140196669453,4060.5392916811325,null,-546.74267107401386,-276.5174024876809," ",776.5174024876809,0]
[null,null,null,null,null,null,null,null,null,null,null,null,null,null,null,null,null,null,null,null,62.923299999999998,61.0246,null,null,null,"'Zaurak'",null,3.9671569999999998,-13.508514999999999,null,-13.508514999999999,59.507354999999997,null,{"$f":"camera!$B$5*COS(RADIANS(AE172))*COS(RADIANS(AF172))","v":246.69493664284067},{"$f":"camera!$B$5*COS(RADIANS(AE172))*SIN(RADIANS(AF172))","v":418.9278594383386},{"$f":"camera!$B$5*SIN(RADIANS(AE172))","v":-116.79493491242015},null,{"$f":"TRANSPOSE(MMULT(camera!$A$12:$C$14,MMULT(camera!$A$16:$C$18,TRANSPOSE(AH172:AJ172))))","v":38.817730061647339},-209.24421918264204,452.44893697687871,null,{"$f":"camera!$B$5*AM172/AN172","v":-231.23517604079922},{"$f":"camera!$B$5*AL172/AN172","v":42.897360220376669},null,{"$f":"IF( AND( (camera!$B$3) > (AQ172+camera!$B$3/2), 0 < (AQ172+camera!$B$3/2), AN172 >= 0 ), AQ172+camera!$B$3/2, 0)*-1+camera!$B$3","v":457.10263977962336},{"$f":"IF( AND( (camera!$B$4) > (AP172+camera!$B$4/2), 0 < (AP172+camera!$B$4/2), AN172 >= 0 ), AP172+camera!$B$4/2, 0)","v":268.76482395920078},null,null,null,-485.1986,324.25830000000002,2917.8798999999999,null,{"$f":"MMULT(               MMULT(AX172:AZ172-$B$2:$D$2, TRANSPOSE($A$16:$C$18)),     TRANSPOSE($A$12:$C$14))","v":-2215.7624627123323},-4544.4519332867867,4032.4071436879767,null,-563.49120653656291,-274.74438762721644," ",774.74438762721638,0]
[null,null,null,null,null,null,null,null,null,null,null,null,null,null,null,null,null,null,null,null,62.923299999999998,471.02460000000002,null,null,null,"''",null,5.6274129999999998,21.142548999999999,null,21.142548999999999,84.411194999999992,null,{"$f":"camera!$B$5*COS(RADIANS(AE173))*COS(RADIANS(AF173))","v":45.416414568367777},{"$f":"camera!$B$5*COS(RADIANS(AE173))*SIN(RADIANS(AF173))","v":464.1261826527064},{"$f":"camera!$B$5*SIN(RADIANS(AE173))","v":180.34476943892986},null,{"$f":"TRANSPOSE(MMULT(camera!$A$12:$C$14,MMULT(camera!$A$16:$C$18,TRANSPOSE(AH173:AJ173))))","v":-258.58025776330254},-4.7923292216128246,427.9173797308257,null,{"$f":"camera!$B$5*AM173/AN173","v":-5.599596380763221},{"$f":"camera!$B$5*AL173/AN173","v":-302.13806450903928},null,{"$f":"IF( AND( (camera!$B$3) > (AQ173+camera!$B$3/2), 0 < (AQ173+camera!$B$3/2), AN173 >= 0 ), AQ173+camera!$B$3/2, 0)*-1+camera!$B$3","v":802.13806450903928},{"$f":"IF( AND( (camera!$B$4) > (AP173+camera!$B$4/2), 0 < (AP173+camera!$B$4/2), AN173 >= 0 ), AP173+camera!$B$4/2, 0)","v":494.40040361923678},null,null,null,-402.50900000000001,450.14550000000003,2917.8798999999999,null,{"$f":"MMULT(               MMULT(AX173:AZ173-$B$2:$D$2, TRANSPOSE($A$16:$C$18)),     TRANSPOSE($A$12:$C$14))","v":-2238.7908218197663},-4615.8550819756902,4163.007458029595,null,-554.38948026295793,-268.89104143947594," ",768.89104143947588,0]
[null,null,null,null,null,null,null,null,null,null,null,null,null,null,null,null,null,null,null,null,63.343200000000003,152.16220000000001,null,null,null,"'Ras Elased Australis'",null,9.7641880000000008,23.774255,null,23.774255,146.46282000000002,null,{"$f":"camera!$B$5*COS(RADIANS(AE174))*COS(RADIANS(AF174))","v":-381.39754845508747},{"$f":"camera!$B$5*COS(RADIANS(AE174))*SIN(RADIANS(AF174))","v":252.79760262721766},{"$f":"camera!$B$5*SIN(RADIANS(AE174))","v":201.5670661055039},null,{"$f":"TRANSPOSE(MMULT(camera!$A$12:$C$14,MMULT(camera!$A$16:$C$18,TRANSPOSE(AH174:AJ174))))","v":-236.46337117159601},401.97897845795023,180.2719472687495,null,{"$f":"camera!$B$5*AM174/AN174","v":1114.9238263307818},{"$f":"camera!$B$5*AL174/AN174","v":-655.85182485180655},null,{"$f":"IF( AND( (camera!$B$3) > (AQ174+camera!$B$3/2), 0 < (AQ174+camera!$B$3/2), AN174 >= 0 ), AQ174+camera!$B$3/2, 0)*-1+camera!$B$3","v":1000},{"$f":"IF( AND( (camera!$B$4) > (AP174+camera!$B$4/2), 0 < (AP174+camera!$B$4/2), AN174 >= 0 ), AP174+camera!$B$4/2, 0)","v":0},null,null,null,-623.8922,671.52880000000005,2851.5057999999999,null,{"$f":"MMULT(               MMULT(AX174:AZ174-$B$2:$D$2, TRANSPOSE($A$16:$C$18)),     TRANSPOSE($A$12:$C$14))","v":-2208.3711038160618},-4376.0194859456788,4372.7218722825119,null,-500.37706647706881,-252.51675824780011," ",752.51675824780011,0]
[null,null,null,null,null,null,null,null,null,null,null,null,null,null,null,null,null,null,null,null,63.343200000000003,562.16219999999998,null,null,null,"'Nash'",null,18.096803000000001,-30.424091000000001,null,-30.424091000000001,-88.547955000000002,null,{"$f":"camera!$B$5*COS(RADIANS(AE175))*COS(RADIANS(AF175))","v":10.925460674054815},{"$f":"camera!$B$5*COS(RADIANS(AE175))*SIN(RADIANS(AF175))","v":-431.0119619674125},{"$f":"camera!$B$5*SIN(RADIANS(AE175))","v":-253.19818907342412},null,{"$f":"TRANSPOSE(MMULT(camera!$A$12:$C$14,MMULT(camera!$A$16:$C$18,TRANSPOSE(AH175:AJ175))))","v":323.74582501517739},-48.449053676098494,-377.94355396425618,null,{"$f":"camera!$B$5*AM175/AN175","v":64.095621115793037},{"$f":"camera!$B$5*AL175/AN175","v":-428.29917539193627},null,{"$f":"IF( AND( (camera!$B$3) > (AQ175+camera!$B$3/2), 0 < (AQ175+camera!$B$3/2), AN175 >= 0 ), AQ175+camera!$B$3/2, 0)*-1+camera!$B$3","v":1000},{"$f":"IF( AND( (camera!$B$4) > (AP175+camera!$B$4/2), 0 < (AP175+camera!$B$4/2), AN175 >= 0 ), AP175+camera!$B$4/2, 0)","v":0},null,null,null,-773.54549999999995,443.69549999999998,2851.5057999999999,null,{"$f":"MMULT(               MMULT(AX175:AZ175-$B$2:$D$2, TRANSPOSE($A$16:$C$18)),     TRANSPOSE($A$12:$C$14))","v":-2166.693896723435},-4246.792642417895,4136.3586854056539,null,-513.34917561693646,-261.90836693734974," ",761.90836693734968,0]
[null,null,null,null,null,null,null,null,null,null,null,null,null,null,null,null,null,null,null,null,64.0916,117.807,null,null,null,"''",null,13.315359000000001,-23.171512,null,-23.171512,-160.26961499999999,null,{"$f":"camera!$B$5*COS(RADIANS(AE176))*COS(RADIANS(AF176))","v":-432.67934025581752},{"$f":"camera!$B$5*COS(RADIANS(AE176))*SIN(RADIANS(AF176))","v":-155.180556482311},{"$f":"camera!$B$5*SIN(RADIANS(AE176))","v":-196.74242909355067},null,{"$f":"TRANSPOSE(MMULT(camera!$A$12:$C$14,MMULT(camera!$A$16:$C$18,TRANSPOSE(AH176:AJ176))))","v":227.14610731243857},417.50798807646902,-155.21509535204737,null,{"$f":"camera!$B$5*AM176/AN176","v":-1344.933581136256},{"$f":"camera!$B$5*AL176/AN176","v":-731.7139702077385},null,{"$f":"IF( AND( (camera!$B$3) > (AQ176+camera!$B$3/2), 0 < (AQ176+camera!$B$3/2), AN176 >= 0 ), AQ176+camera!$B$3/2, 0)*-1+camera!$B$3","v":1000},{"$f":"IF( AND( (camera!$B$4) > (AP176+camera!$B$4/2), 0 < (AP176+camera!$B$4/2), AN176 >= 0 ), AP176+camera!$B$4/2, 0)","v":0},null,null,null,-687.2953,407.96949999999998,2917.8798999999999,null,{"$f":"MMULT(               MMULT(AX176:AZ176-$B$2:$D$2, TRANSPOSE($A$16:$C$18)),     TRANSPOSE($A$12:$C$14))","v":-2227.1848254906527},-4335.8283604326507,4097.1865820497405,null,-529.12263984125457,-271.79441073640788," ",771.79441073640783,0]
[null,null,null,null,null,null,null,null,null,null,null,null,null,null,null,null,null,null,null,null,64.0916,527.80700000000002,null,null,null,"''",null,17.793078000000001,-40.126997000000003,null,-40.126997000000003,-93.103829999999959,null,{"$f":"camera!$B$5*COS(RADIANS(AE177))*COS(RADIANS(AF177))","v":-20.700330294672238},{"$f":"camera!$B$5*COS(RADIANS(AE177))*SIN(RADIANS(AF177))","v":-381.7480799653041},{"$f":"camera!$B$5*SIN(RADIANS(AE177))","v":-322.24198945589831},null,{"$f":"TRANSPOSE(MMULT(camera!$A$12:$C$14,MMULT(camera!$A$16:$C$18,TRANSPOSE(AH177:AJ177))))","v":383.69730287333266},-12.649978163568043,-320.33788071377268,null,{"$f":"camera!$B$5*AM177/AN177","v":19.744742856170376},{"$f":"camera!$B$5*AL177/AN177","v":-598.89467648718801},null,{"$f":"IF( AND( (camera!$B$3) > (AQ177+camera!$B$3/2), 0 < (AQ177+camera!$B$3/2), AN177 >= 0 ), AQ177+camera!$B$3/2, 0)*-1+camera!$B$3","v":1000},{"$f":"IF( AND( (camera!$B$4) > (AP177+camera!$B$4/2), 0 < (AP177+camera!$B$4/2), AN177 >= 0 ), AP177+camera!$B$4/2, 0)","v":0},null,null,null,-557.67219999999998,605.30870000000004,2917.8798999999999,null,{"$f":"MMULT(               MMULT(AX177:AZ177-$B$2:$D$2, TRANSPOSE($A$16:$C$18)),     TRANSPOSE($A$12:$C$14))","v":-2263.2837919161971},-4447.7589608536391,4301.9139940459227,null,-516.95117185159597,-263.05544404754511," ",763.05544404754505,0]
[null,null,null,null,null,null,null,null,null,null,null,null,null,null,null,null,null,null,null,null,64.294399999999996,34.306199999999997,null,null,null,"''",null,19.090168999999999,13.863478000000001,null,13.863478000000001,-73.647465000000011,null,{"$f":"camera!$B$5*COS(RADIANS(AE178))*COS(RADIANS(AF178))","v":136.6725127767516},{"$f":"camera!$B$5*COS(RADIANS(AE178))*SIN(RADIANS(AF178))","v":-465.79767967228355},{"$f":"camera!$B$5*SIN(RADIANS(AE178))","v":119.80461536687729},null,{"$f":"TRANSPOSE(MMULT(camera!$A$12:$C$14,MMULT(camera!$A$16:$C$18,TRANSPOSE(AH178:AJ178))))","v":-39.47584874117895},-176.74937534504991,-466.04861943932229,null,{"$f":"camera!$B$5*AM178/AN178","v":189.62546821583493},{"$f":"camera!$B$5*AL178/AN178","v":42.351642183459525},null,{"$f":"IF( AND( (camera!$B$3) > (AQ178+camera!$B$3/2), 0 < (AQ178+camera!$B$3/2), AN178 >= 0 ), AQ178+camera!$B$3/2, 0)*-1+camera!$B$3","v":1000},{"$f":"IF( AND( (camera!$B$4) > (AP178+camera!$B$4/2), 0 < (AP178+camera!$B$4/2), AN178 >= 0 ), AP178+camera!$B$4/2, 0)","v":0},null,null,null,-830.19929999999999,467.16230000000002,2750.4573999999998,null,{"$f":"MMULT(               MMULT(AX178:AZ178-$B$2:$D$2, TRANSPOSE($A$16:$C$18)),     TRANSPOSE($A$12:$C$14))","v":-2070.3826862450496},-4188.309160847235,4172.0652116831061,null,-501.94675158943352,-248.12443971960474," ",748.12443971960477,0]
[null,null,null,null,null,null,null,null,null,null,null,null,null,null,null,null,null,null,null,null,64.294399999999996,444.30619999999999,null,null,null,"''",null,2.1590579999999999,34.987296999999998,null,34.987296999999998,32.385869999999997,null,{"$f":"camera!$B$5*COS(RADIANS(AE179))*COS(RADIANS(AF179))","v":345.92427046564706},{"$f":"camera!$B$5*COS(RADIANS(AE179))*SIN(RADIANS(AF179))","v":219.41056818830376},{"$f":"camera!$B$5*SIN(RADIANS(AE179))","v":286.69740436581492},null,{"$f":"TRANSPOSE(MMULT(camera!$A$12:$C$14,MMULT(camera!$A$16:$C$18,TRANSPOSE(AH179:AJ179))))","v":-325.53245767652805},-325.4850331419953,195.16175906061548,null,{"$f":"camera!$B$5*AM179/AN179","v":-833.8852721677473},{"$f":"camera!$B$5*AL179/AN179","v":-834.00677274952375},null,{"$f":"IF( AND( (camera!$B$3) > (AQ179+camera!$B$3/2), 0 < (AQ179+camera!$B$3/2), AN179 >= 0 ), AQ179+camera!$B$3/2, 0)*-1+camera!$B$3","v":1000},{"$f":"IF( AND( (camera!$B$4) > (AP179+camera!$B$4/2), 0 < (AP179+camera!$B$4/2), AN179 >= 0 ), AP179+camera!$B$4/2, 0)","v":0},null,null,null,-667.38919999999996,715.02570000000003,2750.4573999999998,null,{"$f":"MMULT(               MMULT(AX179:AZ179-$B$2:$D$2, TRANSPOSE($A$16:$C$18)),     TRANSPOSE($A$12:$C$14))","v":-2115.7239688830023},-4328.8970005360616,4429.2084035858743,null,-488.67614775491251,-238.83770824264198," ",738.83770824264195,11.323852245087494]
[null,null,null,null,null,null,null,null,null,null,null,null,null,null,null,null,null,null,null,null,65.058000000000007,137.16220000000001,null,null,null,"''",null,11.161061999999999,44.498486999999997,null,44.498486999999997,167.41593,null,{"$f":"camera!$B$5*COS(RADIANS(AE180))*COS(RADIANS(AF180))","v":-348.06718242712481},{"$f":"camera!$B$5*COS(RADIANS(AE180))*SIN(RADIANS(AF180))","v":77.700630765014409},{"$f":"camera!$B$5*SIN(RADIANS(AE180))","v":350.44521468549334},null,{"$f":"TRANSPOSE(MMULT(camera!$A$12:$C$14,MMULT(camera!$A$16:$C$18,TRANSPOSE(AH180:AJ180))))","v":-353.29459358887414},353.51473789992048,-14.500352699943356,null,{"$f":"camera!$B$5*AM180/AN180","v":-12189.866867903891},{"$f":"camera!$B$5*AL180/AN180","v":12182.275869408826},null,{"$f":"IF( AND( (camera!$B$3) > (AQ180+camera!$B$3/2), 0 < (AQ180+camera!$B$3/2), AN180 >= 0 ), AQ180+camera!$B$3/2, 0)*-1+camera!$B$3","v":1000},{"$f":"IF( AND( (camera!$B$4) > (AP180+camera!$B$4/2), 0 < (AP180+camera!$B$4/2), AN180 >= 0 ), AP180+camera!$B$4/2, 0)","v":0},null,null,null,-129.13579999999999,876.46360000000004,2412.6379999999999,null,{"$f":"MMULT(               MMULT(AX180:AZ180-$B$2:$D$2, TRANSPOSE($A$16:$C$18)),     TRANSPOSE($A$12:$C$14))","v":-1819.1096878277872},-4851.0319437637954,4692.4496133517459,null,-516.89760609904306,-193.83369430880521," ",693.83369430880521,0]
[null,null,null,null,null,null,null,null,null,null,null,null,null,null,null,null,null,null,null,null,65.058000000000007,547.16219999999998,null,null,null,"''",null,15.345483,71.834016000000005,null,71.834016000000005,-129.81775500000001,null,{"$f":"camera!$B$5*COS(RADIANS(AE181))*COS(RADIANS(AF181))","v":-99.820888184765636},{"$f":"camera!$B$5*COS(RADIANS(AE181))*SIN(RADIANS(AF181))","v":-119.73328553831699},{"$f":"camera!$B$5*SIN(RADIANS(AE181))","v":475.07865729393103},null,{"$f":"TRANSPOSE(MMULT(camera!$A$12:$C$14,MMULT(camera!$A$16:$C$18,TRANSPOSE(AH181:AJ181))))","v":-445.63806312848402},89.005596135763042,-208.52990324557953,null,{"$f":"camera!$B$5*AM181/AN181","v":-213.41206884593373},{"$f":"camera!$B$5*AL181/AN181","v":1068.5231618883677},null,{"$f":"IF( AND( (camera!$B$3) > (AQ181+camera!$B$3/2), 0 < (AQ181+camera!$B$3/2), AN181 >= 0 ), AQ181+camera!$B$3/2, 0)*-1+camera!$B$3","v":1000},{"$f":"IF( AND( (camera!$B$4) > (AP181+camera!$B$4/2), 0 < (AP181+camera!$B$4/2), AN181 >= 0 ), AP181+camera!$B$4/2, 0)","v":0},null,null,null,-396.05900000000003,821.18200000000002,2412.6379999999999,null,{"$f":"MMULT(               MMULT(AX181:AZ181-$B$2:$D$2, TRANSPOSE($A$16:$C$18)),     TRANSPOSE($A$12:$C$14))","v":-1805.5069358507976},-4589.9425760343902,4615.3045733678755,null,-497.25240263883842,-195.59997689743852," ",695.59997689743852,2.7475973611615814]
[null,null,null,null,null,null,null,null,null,null,null,null,null,null,null,null,null,null,null,null,65.431399999999996,49.306199999999997,null,null,null,"''",null,16.864509000000002,-38.047379999999997,null,-38.047379999999997,-107.03236499999997,null,{"$f":"camera!$B$5*COS(RADIANS(AE182))*COS(RADIANS(AF182))","v":-115.33424230627958},{"$f":"camera!$B$5*COS(RADIANS(AE182))*SIN(RADIANS(AF182))","v":-376.480563742475},{"$f":"camera!$B$5*SIN(RADIANS(AE182))","v":-308.15644999867294},null,{"$f":"TRANSPOSE(MMULT(camera!$A$12:$C$14,MMULT(camera!$A$16:$C$18,TRANSPOSE(AH182:AJ182))))","v":370.34677138208508},82.082917530911942,-325.73864305065052,null,{"$f":"camera!$B$5*AM182/AN182","v":-125.99505659227007},{"$f":"camera!$B$5*AL182/AN182","v":-568.47226953741915},null,{"$f":"IF( AND( (camera!$B$3) > (AQ182+camera!$B$3/2), 0 < (AQ182+camera!$B$3/2), AN182 >= 0 ), AQ182+camera!$B$3/2, 0)*-1+camera!$B$3","v":1000},{"$f":"IF( AND( (camera!$B$4) > (AP182+camera!$B$4/2), 0 < (AP182+camera!$B$4/2), AN182 >= 0 ), AP182+camera!$B$4/2, 0)","v":0},null,null,null,-419.5258,877.83579999999995,2513.6864,null,{"$f":"MMULT(               MMULT(AX182:AZ182-$B$2:$D$2, TRANSPOSE($A$16:$C$18)),     TRANSPOSE($A$12:$C$14))","v":-1914.4654200378204},-4561.6273702747339,4651.3243005419499,null,-490.35791481398479,-205.79788640137994," ",705.79788640137997,9.6420851860152084]
[null,null,null,null,null,null,null,null,null,null,null,null,null,null,null,null,null,null,null,null,65.431399999999996,459.30619999999999,null,null,null,"''",null,21.898807999999999,-37.364851999999999,null,-37.364851999999999,-31.517879999999991,null,{"$f":"camera!$B$5*COS(RADIANS(AE183))*COS(RADIANS(AF183))","v":338.76887386507582},{"$f":"camera!$B$5*COS(RADIANS(AE183))*SIN(RADIANS(AF183))","v":-207.74327826584201},{"$f":"camera!$B$5*SIN(RADIANS(AE183))","v":-303.44419657582722},null,{"$f":"TRANSPOSE(MMULT(camera!$A$12:$C$14,MMULT(camera!$A$16:$C$18,TRANSPOSE(AH183:AJ183))))","v":329.64408990021815},-355.58577574099274,-122.03905147342505,null,{"$f":"camera!$B$5*AM183/AN183","v":1456.8524232525042},{"$f":"camera!$B$5*AL183/AN183","v":-1350.5680596509744},null,{"$f":"IF( AND( (camera!$B$3) > (AQ183+camera!$B$3/2), 0 < (AQ183+camera!$B$3/2), AN183 >= 0 ), AQ183+camera!$B$3/2, 0)*-1+camera!$B$3","v":1000},{"$f":"IF( AND( (camera!$B$4) > (AP183+camera!$B$4/2), 0 < (AP183+camera!$B$4/2), AN183 >= 0 ), AP183+camera!$B$4/2, 0)","v":0},null,null,null,-129.13579999999999,937.97749999999996,2513.6864,null,{"$f":"MMULT(               MMULT(AX183:AZ183-$B$2:$D$2, TRANSPOSE($A$16:$C$18)),     TRANSPOSE($A$12:$C$14))","v":-1929.2640648284346},-4845.6706541199901,4735.2515856979417,null,-511.65926101535462,-203.7129421650439," ",703.71294216504384,0]
[null,null,null,null,null,null,null,null,null,null,null,null,null,null,null,null,null,null,null,null,66.458799999999997,64.560100000000006,null,null,null,"''",null,3.7154159999999998,47.787551000000001,null,47.787551000000001,55.73124,null,{"$f":"camera!$B$5*COS(RADIANS(AE184))*COS(RADIANS(AF184))","v":189.16002927043124},{"$f":"camera!$B$5*COS(RADIANS(AE184))*SIN(RADIANS(AF184))","v":277.62327311169008},{"$f":"camera!$B$5*SIN(RADIANS(AE184))","v":370.32931500647038},null,{"$f":"TRANSPOSE(MMULT(camera!$A$12:$C$14,MMULT(camera!$A$16:$C$18,TRANSPOSE(AH184:AJ184))))","v":-415.59133743270559},-164.24375567799771,224.29406807064973,null,{"$f":"camera!$B$5*AM184/AN184","v":-366.13486279597697},{"$f":"camera!$B$5*AL184/AN184","v":-926.44299737298377},null,{"$f":"IF( AND( (camera!$B$3) > (AQ184+camera!$B$3/2), 0 < (AQ184+camera!$B$3/2), AN184 >= 0 ), AQ184+camera!$B$3/2, 0)*-1+camera!$B$3","v":1000},{"$f":"IF( AND( (camera!$B$4) > (AP184+camera!$B$4/2), 0 < (AP184+camera!$B$4/2), AN184 >= 0 ), AP184+camera!$B$4/2, 0)","v":133.86513720402303},null,null,null,-129.13579999999999,960.70069999999998,2632.0718999999999,null,{"$f":"MMULT(               MMULT(AX184:AZ184-$B$2:$D$2, TRANSPOSE($A$16:$C$18)),     TRANSPOSE($A$12:$C$14))","v":-2049.7818502222999},-4843.6901967463864,4736.9869879105572,null,-511.2627720012901,-216.35924433121994," ",716.35924433122,0]
[null,null,null,null,null,null,null,null,null,null,null,null,null,null,null,null,null,null,null,null,66.458799999999997,474.56009999999998,null,null,null,"''",null,6.3385530000000001,-30.063367,null,-30.063367,95.078294999999997,null,{"$f":"camera!$B$5*COS(RADIANS(AE185))*COS(RADIANS(AF185))","v":-38.30447328274871},{"$f":"camera!$B$5*COS(RADIANS(AE185))*SIN(RADIANS(AF185))","v":431.03731469597557},{"$f":"camera!$B$5*SIN(RADIANS(AE185))","v":-250.47874294281687},null,{"$f":"TRANSPOSE(MMULT(camera!$A$12:$C$14,MMULT(camera!$A$16:$C$18,TRANSPOSE(AH185:AJ185))))","v":172.6891028567448},75.72609051175499,463.08102203646621,null,{"$f":"camera!$B$5*AM185/AN185","v":81.763327482886766},{"$f":"camera!$B$5*AL185/AN185","v":186.45668321422389},null,{"$f":"IF( AND( (camera!$B$3) > (AQ185+camera!$B$3/2), 0 < (AQ185+camera!$B$3/2), AN185 >= 0 ), AQ185+camera!$B$3/2, 0)*-1+camera!$B$3","v":313.54331678577614},{"$f":"IF( AND( (camera!$B$4) > (AP185+camera!$B$4/2), 0 < (AP185+camera!$B$4/2), AN185 >= 0 ), AP185+camera!$B$4/2, 0)","v":581.76332748288678},null,null,null,-428.19439999999997,898.7636,2632.0718999999999,null,{"$f":"MMULT(               MMULT(AX185:AZ185-$B$2:$D$2, TRANSPOSE($A$16:$C$18)),     TRANSPOSE($A$12:$C$14))","v":-2034.5414294935781},-4551.1677789617816,4650.5542669084334,null,-489.31455454096641,-218.74182223510402," ",718.741822235104,10.685445459033588]
[null,null,null,null,null,null,null,null,null,null,null,null,null,null,null,null,null,null,null,null,66.898700000000005,105,null,null,null,"''",null,7.0504090000000001,-23.833290999999999,null,-23.833290999999999,105.756135,null,{"$f":"camera!$B$5*COS(RADIANS(AE186))*COS(RADIANS(AF186))","v":-124.1938211209883},{"$f":"camera!$B$5*COS(RADIANS(AE186))*SIN(RADIANS(AF186))","v":440.17765593339618},{"$f":"camera!$B$5*SIN(RADIANS(AE186))","v":-202.03842706858663},null,{"$f":"TRANSPOSE(MMULT(camera!$A$12:$C$14,MMULT(camera!$A$16:$C$18,TRANSPOSE(AH186:AJ186))))","v":124.70342724466072},162.08523668028144,456.26465048668047,null,{"$f":"camera!$B$5*AM186/AN186","v":177.62195307853804},{"$f":"camera!$B$5*AL186/AN186","v":136.65690198840107},null,{"$f":"IF( AND( (camera!$B$3) > (AQ186+camera!$B$3/2), 0 < (AQ186+camera!$B$3/2), AN186 >= 0 ), AQ186+camera!$B$3/2, 0)*-1+camera!$B$3","v":363.34309801159895},{"$f":"IF( AND( (camera!$B$4) > (AP186+camera!$B$4/2), 0 < (AP186+camera!$B$4/2), AN186 >= 0 ), AP186+camera!$B$4/2, 0)","v":677.62195307853801},null,null,null,-129.13579999999999,673.09739999999999,2321.7455,null,{"$f":"MMULT(               MMULT(AX186:AZ186-$B$2:$D$2, TRANSPOSE($A$16:$C$18)),     TRANSPOSE($A$12:$C$14))","v":-1694.4182601866764},-4868.7564759745637,4508.7184328476706,null,-539.92687151451764,-187.90464357257449," ",687.90464357257451,0]
[null,null,null,null,null,null,null,null,null,null,null,null,null,null,null,null,null,null,null,null,66.898700000000005,90,null,null,null,"''",null,12.168746000000001,-22.619765999999998,null,-22.619765999999998,-177.46880999999999,null,{"$f":"camera!$B$5*COS(RADIANS(AE187))*COS(RADIANS(AF187))","v":-461.088483422531},{"$f":"camera!$B$5*COS(RADIANS(AE187))*SIN(RADIANS(AF187))","v":-20.383044336808386},{"$f":"camera!$B$5*SIN(RADIANS(AE187))","v":-192.30689524474684},null,{"$f":"TRANSPOSE(MMULT(camera!$A$12:$C$14,MMULT(camera!$A$16:$C$18,TRANSPOSE(AH187:AJ187))))","v":199.88964521202098},457.55740316805611,-26.179238780325846,null,{"$f":"camera!$B$5*AM187/AN187","v":-8738.9363573076553},{"$f":"camera!$B$5*AL187/AN187","v":-3817.7130910743199},null,{"$f":"IF( AND( (camera!$B$3) > (AQ187+camera!$B$3/2), 0 < (AQ187+camera!$B$3/2), AN187 >= 0 ), AQ187+camera!$B$3/2, 0)*-1+camera!$B$3","v":1000},{"$f":"IF( AND( (camera!$B$4) > (AP187+camera!$B$4/2), 0 < (AP187+camera!$B$4/2), AN187 >= 0 ), AP187+camera!$B$4/2, 0)","v":0},null,null,null,-318.47739999999999,633.88340000000005,2321.7455,null,{"$f":"MMULT(               MMULT(AX187:AZ187-$B$2:$D$2, TRANSPOSE($A$16:$C$18)),     TRANSPOSE($A$12:$C$14))","v":-1684.7691542126413},-4683.5531032224626,4453.9956335615589,null,-525.76983550804937,-189.1300859746741," ",689.1300859746741,0]
[null,null,null,null,null,null,null,null,null,null,null,null,null,null,null,null,null,null,null,null,66.898700000000005,75,null,null,null,"''",null,5.0328150000000003,43.823307999999997,null,43.823307999999997,75.492225000000005,null,{"$f":"camera!$B$5*COS(RADIANS(AE188))*COS(RADIANS(AF188))","v":90.369299866165647},{"$f":"camera!$B$5*COS(RADIANS(AE188))*SIN(RADIANS(AF188))","v":349.23664399593912},{"$f":"camera!$B$5*SIN(RADIANS(AE188))","v":346.218364810639},null,{"$f":"TRANSPOSE(MMULT(camera!$A$12:$C$14,MMULT(camera!$A$16:$C$18,TRANSPOSE(AH188:AJ188))))","v":-402.7397551850014},-59.587438294771772,290.25855162422329,null,{"$f":"camera!$B$5*AM188/AN188","v":-102.64544827591386},{"$f":"camera!$B$5*AL188/AN188","v":-693.76036111831661},null,{"$f":"IF( AND( (camera!$B$3) > (AQ188+camera!$B$3/2), 0 < (AQ188+camera!$B$3/2), AN188 >= 0 ), AQ188+camera!$B$3/2, 0)*-1+camera!$B$3","v":1000},{"$f":"IF( AND( (camera!$B$4) > (AP188+camera!$B$4/2), 0 < (AP188+camera!$B$4/2), AN188 >= 0 ), AP188+camera!$B$4/2, 0)","v":397.35455172408615},null,null,null,-360.33300000000003,734.93179999999995,2346.2640000000001,null,{"$f":"MMULT(               MMULT(AX188:AZ188-$B$2:$D$2, TRANSPOSE($A$16:$C$18)),     TRANSPOSE($A$12:$C$14))","v":-1725.7618015858591},-4633.0498280615511,4545.2800752563317,null,-509.65504340238806,-189.84108492902217," ",689.84108492902214,0]
[null,null,null,null,null,null,null,null,null,null,null,null,null,null,null,null,null,null,null,null,66.898700000000005,515,null,null,null,"''",null,12.771345999999999,-68.108119000000002,null,-68.108119000000002,-168.42981,null,{"$f":"camera!$B$5*COS(RADIANS(AE189))*COS(RADIANS(AF189))","v":-182.63988115076569},{"$f":"camera!$B$5*COS(RADIANS(AE189))*SIN(RADIANS(AF189))","v":-37.391565688514},{"$f":"camera!$B$5*SIN(RADIANS(AE189))","v":-463.94454908813805},null,{"$f":"TRANSPOSE(MMULT(camera!$A$12:$C$14,MMULT(camera!$A$16:$C$18,TRANSPOSE(AH189:AJ189))))","v":466.12860998729047},178.68599158241904,28.20346367955748,null,{"$f":"camera!$B$5*AM189/AN189","v":3167.8022531667757},{"$f":"camera!$B$5*AL189/AN189","v":8263.6766760876817},null,{"$f":"IF( AND( (camera!$B$3) > (AQ189+camera!$B$3/2), 0 < (AQ189+camera!$B$3/2), AN189 >= 0 ), AQ189+camera!$B$3/2, 0)*-1+camera!$B$3","v":1000},{"$f":"IF( AND( (camera!$B$4) > (AP189+camera!$B$4/2), 0 < (AP189+camera!$B$4/2), AN189 >= 0 ), AP189+camera!$B$4/2, 0)","v":0},null,null,null,-129.13579999999999,782.8143,2346.2640000000001,null,{"$f":"MMULT(               MMULT(AX189:AZ189-$B$2:$D$2, TRANSPOSE($A$16:$C$18)),     TRANSPOSE($A$12:$C$14))","v":-1737.5439096794462},-4859.1940180630936,4612.0997306842628,null,-526.78761321388117,-188.36798975958612," ",688.36798975958618,0]
[null,null,null,null,null,null,null,null,null,null,null,null,null,null,null,null,null,null,null,null,66.898700000000005,500,null,null,null,"''",null,14.534636000000001,38.308253000000001,null,38.308253000000001,-141.98045999999999,null,{"$f":"camera!$B$5*COS(RADIANS(AE190))*COS(RADIANS(AF190))","v":-309.08853602498192},{"$f":"camera!$B$5*COS(RADIANS(AE190))*SIN(RADIANS(AF190))","v":-241.65622996667989},{"$f":"camera!$B$5*SIN(RADIANS(AE190))","v":309.94603307063727},null,{"$f":"TRANSPOSE(MMULT(camera!$A$12:$C$14,MMULT(camera!$A$16:$C$18,TRANSPOSE(AH190:AJ190))))","v":-258.75589429933507},286.85063261668159,-317.43046755590564,null,{"$f":"camera!$B$5*AM190/AN190","v":-451.8322308903156},{"$f":"camera!$B$5*AL190/AN190","v":407.57885701970804},null,{"$f":"IF( AND( (camera!$B$3) > (AQ190+camera!$B$3/2), 0 < (AQ190+camera!$B$3/2), AN190 >= 0 ), AQ190+camera!$B$3/2, 0)*-1+camera!$B$3","v":1000},{"$f":"IF( AND( (camera!$B$4) > (AP190+camera!$B$4/2), 0 < (AP190+camera!$B$4/2), AN190 >= 0 ), AP190+camera!$B$4/2, 0)","v":0},null,null,null,-129.13579999999999,469.7312,2412.6379999999999,null,{"$f":"MMULT(               MMULT(AX190:AZ190-$B$2:$D$2, TRANSPOSE($A$16:$C$18)),     TRANSPOSE($A$12:$C$14))","v":-1748.75010992689},-4886.4810081853329,4293.4206183664119,null,-569.06618784121974,-203.65464572071971," ",703.65464572071971,0]
[null,null,null,null,null,null,null,null,null,null,null,null,null,null,null,null,null,null,null,null,66.898700000000005,485,null,null,null,"'Albireo'",null,19.512022999999999,27.959681,null,27.959681,-67.319655000000012,null,{"$f":"camera!$B$5*COS(RADIANS(AE191))*COS(RADIANS(AF191))","v":170.29133247791026},{"$f":"camera!$B$5*COS(RADIANS(AE191))*SIN(RADIANS(AF191))","v":-407.48712130770798},{"$f":"camera!$B$5*SIN(RADIANS(AE191))","v":234.42505849685764},null,{"$f":"TRANSPOSE(MMULT(camera!$A$12:$C$14,MMULT(camera!$A$16:$C$18,TRANSPOSE(AH191:AJ191))))","v":-162.95074319092907},-205.15816526315123,-425.860520029013,null,{"$f":"camera!$B$5*AM191/AN191","v":240.87483532069868},{"$f":"camera!$B$5*AL191/AN191","v":191.31938220033587},null,{"$f":"IF( AND( (camera!$B$3) > (AQ191+camera!$B$3/2), 0 < (AQ191+camera!$B$3/2), AN191 >= 0 ), AQ191+camera!$B$3/2, 0)*-1+camera!$B$3","v":1000},{"$f":"IF( AND( (camera!$B$4) > (AP191+camera!$B$4/2), 0 < (AP191+camera!$B$4/2), AN191 >= 0 ), AP191+camera!$B$4/2, 0)","v":0},null,null,null,-240.89580000000001,446.5849,2412.6379999999999,null,{"$f":"MMULT(               MMULT(AX191:AZ191-$B$2:$D$2, TRANSPOSE($A$16:$C$18)),     TRANSPOSE($A$12:$C$14))","v":-1743.0546672545481},-4777.1636216949591,4261.1201578840846,null,-560.55255950199751,-204.5301003809389," ",704.53010038093885,0]
[null,null,null,null,null,null,null,null,null,null,null,null,null,null,null,null,null,null,null,null,67.627200000000002,114.2715,null,null,null,"''",null,20.350186999999998,-14.781366999999999,null,-14.781366999999999,-54.747195000000033,null,{"$f":"camera!$B$5*COS(RADIANS(AE192))*COS(RADIANS(AF192))","v":279.04202003043451},{"$f":"camera!$B$5*COS(RADIANS(AE192))*SIN(RADIANS(AF192))","v":-394.79431684873657},{"$f":"camera!$B$5*SIN(RADIANS(AE192))","v":-127.56566325337704},null,{"$f":"TRANSPOSE(MMULT(camera!$A$12:$C$14,MMULT(camera!$A$16:$C$18,TRANSPOSE(AH192:AJ192))))","v":189.69895063223854},-312.38877281663548,-341.21483371498385,null,{"$f":"camera!$B$5*AM192/AN192","v":457.75966041026999},{"$f":"camera!$B$5*AL192/AN192","v":-277.9758262073297},null,{"$f":"IF( AND( (camera!$B$3) > (AQ192+camera!$B$3/2), 0 < (AQ192+camera!$B$3/2), AN192 >= 0 ), AQ192+camera!$B$3/2, 0)*-1+camera!$B$3","v":1000},{"$f":"IF( AND( (camera!$B$4) > (AP192+camera!$B$4/2), 0 < (AP192+camera!$B$4/2), AN192 >= 0 ), AP192+camera!$B$4/2, 0)","v":0},null,null,null,-276.62180000000001,532.83510000000001,2346.2640000000001,null,{"$f":"MMULT(               MMULT(AX192:AZ192-$B$2:$D$2, TRANSPOSE($A$16:$C$18)),     TRANSPOSE($A$12:$C$14))","v":-1692.0685419226227},-4734.0563696677991,4354.1961042845596,null,-543.62002265004264,-194.30320791679722," ",694.30320791679719,0]
[null,null,null,null,null,null,null,null,null,null,null,null,null,null,null,null,null,null,null,null,67.627200000000002,524.27149999999995,null,null,null,"''",null,6.732202,25.131124,null,25.131124,100.98303,null,{"$f":"camera!$B$5*COS(RADIANS(AE193))*COS(RADIANS(AF193))","v":-86.241726285122795},{"$f":"camera!$B$5*COS(RADIANS(AE193))*SIN(RADIANS(AF193))","v":444.37787282139317},{"$f":"camera!$B$5*SIN(RADIANS(AE193))","v":212.34563992249917},null,{"$f":"TRANSPOSE(MMULT(camera!$A$12:$C$14,MMULT(camera!$A$16:$C$18,TRANSPOSE(AH193:AJ193))))","v":-284.68618277288044},124.64363404589176,391.685769246267,null,{"$f":"camera!$B$5*AM193/AN193","v":159.11177253866964},{"$f":"camera!$B$5*AL193/AN193","v":-363.41144499672635},null,{"$f":"IF( AND( (camera!$B$3) > (AQ193+camera!$B$3/2), 0 < (AQ193+camera!$B$3/2), AN193 >= 0 ), AQ193+camera!$B$3/2, 0)*-1+camera!$B$3","v":863.41144499672635},{"$f":"IF( AND( (camera!$B$4) > (AP193+camera!$B$4/2), 0 < (AP193+camera!$B$4/2), AN193 >= 0 ), AP193+camera!$B$4/2, 0)","v":659.11177253866958},null,null,null,-129.13579999999999,563.38040000000001,2346.2640000000001,null,{"$f":"MMULT(               MMULT(AX193:AZ193-$B$2:$D$2, TRANSPOSE($A$16:$C$18)),     TRANSPOSE($A$12:$C$14))","v":-1699.5846111796272},-4878.3189426016088,4396.8218512167987,null,-554.75512855399847,-193.27421813886724," ",693.27421813886724,0]
[null,null,null,null,null,null,null,null,null,null,null,null,null,null,null,null,null,null,null,null,68.343199999999996,152.16220000000001,null,null,null,"''",null,10.372154999999999,41.499516,null,41.499516,155.582325,null,{"$f":"camera!$B$5*COS(RADIANS(AE194))*COS(RADIANS(AF194))","v":-340.98567847946362},{"$f":"camera!$B$5*COS(RADIANS(AE194))*SIN(RADIANS(AF194))","v":154.80481614719324},{"$f":"camera!$B$5*SIN(RADIANS(AE194))","v":331.30686073417428},null,{"$f":"TRANSPOSE(MMULT(camera!$A$12:$C$14,MMULT(camera!$A$16:$C$18,TRANSPOSE(AH194:AJ194))))","v":-347.89222089528437},353.1802537586816,65.074657090913263,null,{"$f":"camera!$B$5*AM194/AN194","v":2713.6543590638307},{"$f":"camera!$B$5*AL194/AN194","v":-2673.0238502006837},null,{"$f":"IF( AND( (camera!$B$3) > (AQ194+camera!$B$3/2), 0 < (AQ194+camera!$B$3/2), AN194 >= 0 ), AQ194+camera!$B$3/2, 0)*-1+camera!$B$3","v":1000},{"$f":"IF( AND( (camera!$B$4) > (AP194+camera!$B$4/2), 0 < (AP194+camera!$B$4/2), AN194 >= 0 ), AP194+camera!$B$4/2, 0)","v":0},null,null,null,-129.13579999999999,385.4941,2632.0718999999999,null,{"$f":"MMULT(               MMULT(AX194:AZ194-$B$2:$D$2, TRANSPOSE($A$16:$C$18)),     TRANSPOSE($A$12:$C$14))","v":-1950.2783595197884},-4893.8227552027411,4172.6746501009056,null,-586.41317207470229,-233.6964325115338," ",733.69643251153377,0]
[null,null,null,null,null,null,null,null,null,null,null,null,null,null,null,null,null,null,null,null,68.343199999999996,562.16219999999998,null,null,null,"''",null,19.209225,67.661541,null,{"$f":"AC195","v":67.661541},{"$f":"IF(AB195*15/1>180, (AB195*15/1)-360, AB195*15/1)","v":-71.861625000000004},null,{"$f":"camera!$B$5*COS(RADIANS(AE195))*COS(RADIANS(AF195))","v":59.161469911369394},{"$f":"camera!$B$5*COS(RADIANS(AE195))*SIN(RADIANS(AF195))","v":-180.59505122968017},{"$f":"camera!$B$5*SIN(RADIANS(AE195))","v":462.4774026363616},null,{"$f":"TRANSPOSE(MMULT(camera!$A$12:$C$14,MMULT(camera!$A$16:$C$18,TRANSPOSE(AH195:AJ195))))","v":-425.10603991544968},-74.676238483494672,-252.40505984104263,null,{"$f":"camera!$B$5*AM195/AN195","v":147.92936110417833},{"$f":"camera!$B$5*AL195/AN195","v":842.11077262708034},null,{"$f":"IF( AND( (camera!$B$3) > (AQ195+camera!$B$3/2), 0 < (AQ195+camera!$B$3/2), AN195 >= 0 ), AQ195+camera!$B$3/2, 0)*-1+camera!$B$3","v":1000},{"$f":"IF( AND( (camera!$B$4) > (AP195+camera!$B$4/2), 0 < (AP195+camera!$B$4/2), AN195 >= 0 ), AP195+camera!$B$4/2, 0)","v":0},null,null,null,-208.76050000000001,369.00330000000002,2632.0718999999999,null,{"$f":"MMULT(               MMULT(AX195:AZ195-$B$2:$D$2, TRANSPOSE($A$16:$C$18)),     TRANSPOSE($A$12:$C$14))","v":-1946.2205840857353},-4815.9383191480983,4149.6618620536683,null,-580.28081314132544,-234.50351483850184," ",734.50351483850181,0]
[null,null,null,null,null,null,null,null,null,null,null,null,null,null,null,null,null,null,null,null,69.294399999999996,34.306199999999997,null,null,null,"''",null,18.293793000000001,-36.761685999999997,null,-36.761685999999997,-85.59310499999998,null,{"$f":"camera!$B$5*COS(RADIANS(AE196))*COS(RADIANS(AF196))","v":30.779087086602281},{"$f":"camera!$B$5*COS(RADIANS(AE196))*SIN(RADIANS(AF196))","v":-399.3816131382257},{"$f":"camera!$B$5*SIN(RADIANS(AE196))","v":-299.24400559614219},null,{"$f":"TRANSPOSE(MMULT(camera!$A$12:$C$14,MMULT(camera!$A$16:$C$18,TRANSPOSE(AH196:AJ196))))","v":363.31997707127545},-65.470364500597228,-337.21243398351555,null,{"$f":"camera!$B$5*AM196/AN196","v":97.075845820972475},{"$f":"camera!$B$5*AL196/AN196","v":-538.71082507152767},null,{"$f":"IF( AND( (camera!$B$3) > (AQ196+camera!$B$3/2), 0 < (AQ196+camera!$B$3/2), AN196 >= 0 ), AQ196+camera!$B$3/2, 0)*-1+camera!$B$3","v":1000},{"$f":"IF( AND( (camera!$B$4) > (AP196+camera!$B$4/2), 0 < (AP196+camera!$B$4/2), AN196 >= 0 ), AP196+camera!$B$4/2, 0)","v":0},null,null,null,-217.42910000000001,389.93110000000001,2513.6864,null,{"$f":"MMULT(               MMULT(AX196:AZ196-$B$2:$D$2, TRANSPOSE($A$16:$C$18)),     TRANSPOSE($A$12:$C$14))","v":-1833.1226770530398},-4805.478727835145,4190.0066810945282,null,{"$f":"$B$5*BC196/BD196","v":-573.44523452881947},{"$f":"$B$5*BB196/BD196","v":-218.74937399553085}," ",{"$f":"IF( AND( ($B$3) > (BG196+$B$3/2), 0 < (BG196+$B$3/2), BD196 >= 0 ), BG196+$B$3/2, 0)*-1+$B$3","v":718.74937399553085},{"$f":"IF( AND( ($B$4) > (BF196+$B$4/2), 0 < (BF196+$B$4/2), BD196 >= 0 ), BF196+$B$4/2, 0)","v":0}]
[null,null,null,null,null,null,null,null,null,null,null,null,null,null,null,null,null,null,null,null,69.294399999999996,444.30619999999999,null,null,null,"''",null,8.9232300000000002,5.9455629999999999,null,5.9455629999999999,133.84845000000001,null,{"$f":"camera!$B$5*COS(RADIANS(AE197))*COS(RADIANS(AF197))","v":-344.51338453994174},{"$f":"camera!$B$5*COS(RADIANS(AE197))*SIN(RADIANS(AF197))","v":358.64765671880383},{"$f":"camera!$B$5*SIN(RADIANS(AE197))","v":51.791758059997349},null,{"$f":"TRANSPOSE(MMULT(camera!$A$12:$C$14,MMULT(camera!$A$16:$C$18,TRANSPOSE(AH197:AJ197))))","v":-107.8324326172709},374.46061000636718,313.29126708145111,null,{"$f":"camera!$B$5*AM197/AN197","v":597.62375998341008},{"$f":"camera!$B$5*AL197/AN197","v":-172.09613536600122},null,{"$f":"IF( AND( (camera!$B$3) > (AQ197+camera!$B$3/2), 0 < (AQ197+camera!$B$3/2), AN197 >= 0 ), AQ197+camera!$B$3/2, 0)*-1+camera!$B$3","v":672.09613536600125},{"$f":"IF( AND( (camera!$B$4) > (AP197+camera!$B$4/2), 0 < (AP197+camera!$B$4/2), AN197 >= 0 ), AP197+camera!$B$4/2, 0)","v":0},null,null,null,-129.13579999999999,408.21719999999999,2513.6864,null,{"$f":"MMULT(               MMULT(AX197:AZ197-$B$2:$D$2, TRANSPOSE($A$16:$C$18)),     TRANSPOSE($A$12:$C$14))","v":-1837.622211126461},-4891.8423065447123,4215.5248068818719,null,-580.21747358226287,-217.95888949894572," ",717.95888949894572,0]
[null,null,null,null,null,null,null,null,null,null,null,null,null,null,null,null,null,null,null,null,69.994299999999996,68.095699999999994,null,null,null,"''",null,10.827078999999999,-16.193648,null,-16.193648,162.40618499999999,null,{"$f":"camera!$B$5*COS(RADIANS(AE198))*COS(RADIANS(AF198))","v":-457.70189801524037},{"$f":"camera!$B$5*COS(RADIANS(AE198))*SIN(RADIANS(AF198))","v":145.13721621315403},{"$f":"camera!$B$5*SIN(RADIANS(AE198))","v":-139.44232149223109},null,{"$f":"TRANSPOSE(MMULT(camera!$A$12:$C$14,MMULT(camera!$A$16:$C$18,TRANSPOSE(AH198:AJ198))))","v":119.14403054674693},468.6097459886962,127.31695075474251,null,{"$f":"camera!$B$5*AM198/AN198","v":1840.3274002823252},{"$f":"camera!$B$5*AL198/AN198","v":467.90325184688282},null,{"$f":"IF( AND( (camera!$B$3) > (AQ198+camera!$B$3/2), 0 < (AQ198+camera!$B$3/2), AN198 >= 0 ), AQ198+camera!$B$3/2, 0)*-1+camera!$B$3","v":32.096748153117233},{"$f":"IF( AND( (camera!$B$4) > (AP198+camera!$B$4/2), 0 < (AP198+camera!$B$4/2), AN198 >= 0 ), AP198+camera!$B$4/2, 0)","v":0},null,null,null,-129.13579999999999,469.7312,2851.5057999999999,null,{"$f":"MMULT(               MMULT(AX198:AZ198-$B$2:$D$2, TRANSPOSE($A$16:$C$18)),     TRANSPOSE($A$12:$C$14))","v":-2180.9505219143011},-4886.4810081853329,4217.2120246597178,null,-579.3496959142833,-258.57729101138557," ",758.57729101138557,0]
[null,null,null,null,null,null,null,null,null,null,null,null,null,null,null,null,null,null,null,null,69.994299999999996,478.09570000000002,null,null,null,"''",null,11.596363,-63.019841,null,-63.019841,173.94544500000001,null,{"$f":"camera!$B$5*COS(RADIANS(AE199))*COS(RADIANS(AF199))","v":-225.57562471118987},{"$f":"camera!$B$5*COS(RADIANS(AE199))*SIN(RADIANS(AF199))","v":23.926133112702402},{"$f":"camera!$B$5*SIN(RADIANS(AE199))","v":-445.58184174226585},null,{"$f":"TRANSPOSE(MMULT(camera!$A$12:$C$14,MMULT(camera!$A$16:$C$18,TRANSPOSE(AH199:AJ199))))","v":438.08749276846686},226.80254125853759,81.4859249104274,null,{"$f":"camera!$B$5*AM199/AN199","v":1391.6669750502804},{"$f":"camera!$B$5*AL199/AN199","v":2688.1175690772993},null,{"$f":"IF( AND( (camera!$B$3) > (AQ199+camera!$B$3/2), 0 < (AQ199+camera!$B$3/2), AN199 >= 0 ), AQ199+camera!$B$3/2, 0)*-1+camera!$B$3","v":1000},{"$f":"IF( AND( (camera!$B$4) > (AP199+camera!$B$4/2), 0 < (AP199+camera!$B$4/2), AN199 >= 0 ), AP199+camera!$B$4/2, 0)","v":0},null,null,null,-240.89580000000001,446.5849,2851.5057999999999,null,{"$f":"MMULT(               MMULT(AX199:AZ199-$B$2:$D$2, TRANSPOSE($A$16:$C$18)),     TRANSPOSE($A$12:$C$14))","v":-2175.2550792419593},-4777.1636216949591,4184.9115641773906,null,-570.76040299001932,-259.8925981927577," ",759.89259819275776,0]
[null,null,null,null,null,null,null,null,null,null,null,null,null,null,null,null,null,null,null,null,70.058000000000007,137.16220000000001,null,null,null,"''",null,20.626116,-47.291502000000001,null,-47.291502000000001,-50.60826000000003,null,{"$f":"camera!$B$5*COS(RADIANS(AE200))*COS(RADIANS(AF200))","v":215.22112646992568},{"$f":"camera!$B$5*COS(RADIANS(AE200))*SIN(RADIANS(AF200))","v":-262.09151398460801},{"$f":"camera!$B$5*SIN(RADIANS(AE200))","v":-367.40700186342707},null,{"$f":"TRANSPOSE(MMULT(camera!$A$12:$C$14,MMULT(camera!$A$16:$C$18,TRANSPOSE(AH200:AJ200))))","v":403.90654157697924},-237.24492567585975,-174.85522843878516,null,{"$f":"camera!$B$5*AM200/AN200","v":678.40386528366378},{"$f":"camera!$B$5*AL200/AN200","v":-1154.9741611483535},null,{"$f":"IF( AND( (camera!$B$3) > (AQ200+camera!$B$3/2), 0 < (AQ200+camera!$B$3/2), AN200 >= 0 ), AQ200+camera!$B$3/2, 0)*-1+camera!$B$3","v":1000},{"$f":"IF( AND( (camera!$B$4) > (AP200+camera!$B$4/2), 0 < (AP200+camera!$B$4/2), AN200 >= 0 ), AP200+camera!$B$4/2, 0)","v":0},null,null,null,-217.42910000000001,389.93110000000001,2750.4573999999998,null,{"$f":"MMULT(               MMULT(AX200:AZ200-$B$2:$D$2, TRANSPOSE($A$16:$C$18)),     TRANSPOSE($A$12:$C$14))","v":-2066.2965935414932},-4805.478727835145,4148.8918284201509,null,-579.12798484131781,-249.0178918846764," ",749.01789188467637,0]
[null,null,null,null,null,null,null,null,null,null,null,null,null,null,null,null,null,null,null,null,70.058000000000007,547.16219999999998,null,null,null,"''",null,5.849329,-35.768309000000002,null,-35.768309000000002,87.739935000000003,null,{"$f":"camera!$B$5*COS(RADIANS(AE201))*COS(RADIANS(AF201))","v":15.99866876752138},{"$f":"camera!$B$5*COS(RADIANS(AE201))*SIN(RADIANS(AF201))","v":405.37804182530471},{"$f":"camera!$B$5*SIN(RADIANS(AE201))","v":-292.2544880811048},null,{"$f":"TRANSPOSE(MMULT(camera!$A$12:$C$14,MMULT(camera!$A$16:$C$18,TRANSPOSE(AH201:AJ201))))","v":217.4470638781018},19.393235326144854,449.82293942658981,null,{"$f":"camera!$B$5*AM201/AN201","v":21.556521051223303},{"$f":"camera!$B$5*AL201/AN201","v":241.70295111593427},null,{"$f":"IF( AND( (camera!$B$3) > (AQ201+camera!$B$3/2), 0 < (AQ201+camera!$B$3/2), AN201 >= 0 ), AQ201+camera!$B$3/2, 0)*-1+camera!$B$3","v":258.2970488840657},{"$f":"IF( AND( (camera!$B$4) > (AP201+camera!$B$4/2), 0 < (AP201+camera!$B$4/2), AN201 >= 0 ), AP201+camera!$B$4/2, 0)","v":521.55652105122329},null,null,null,-129.13579999999999,408.21719999999999,2750.4573999999998,null,{"$f":"MMULT(               MMULT(AX201:AZ201-$B$2:$D$2, TRANSPOSE($A$16:$C$18)),     TRANSPOSE($A$12:$C$14))","v":-2070.7961276149144},-4891.8423065447123,4174.4099542074946,null,-585.93218684883834,-248.03459055664933," ",748.03459055664939,0]
[null,null,null,null,null,null,null,null,null,null,null,null,null,null,null,null,null,null,null,null,70.431399999999996,49.306199999999997,null,null,null,"''",null,8.9868279999999992,48.041826,null,48.041826,134.80241999999998,null,{"$f":"camera!$B$5*COS(RADIANS(AE202))*COS(RADIANS(AF202))","v":-235.56498301580504},{"$f":"camera!$B$5*COS(RADIANS(AE202))*SIN(RADIANS(AF202))","v":237.19526610250819},{"$f":"camera!$B$5*SIN(RADIANS(AE202))","v":371.81654685519823},null,{"$f":"TRANSPOSE(MMULT(camera!$A$12:$C$14,MMULT(camera!$A$16:$C$18,TRANSPOSE(AH202:AJ202))))","v":-403.63446583961445},255.3415167298096,147.91865271320395,null,{"$f":"camera!$B$5*AM202/AN202","v":863.11466487220298},{"$f":"camera!$B$5*AL202/AN202","v":-1364.3798751406016},null,{"$f":"IF( AND( (camera!$B$3) > (AQ202+camera!$B$3/2), 0 < (AQ202+camera!$B$3/2), AN202 >= 0 ), AQ202+camera!$B$3/2, 0)*-1+camera!$B$3","v":1000},{"$f":"IF( AND( (camera!$B$4) > (AP202+camera!$B$4/2), 0 < (AP202+camera!$B$4/2), AN202 >= 0 ), AP202+camera!$B$4/2, 0)","v":0},null,null,null,-129.13579999999999,673.09739999999999,2942.3982999999998,null,{"$f":"MMULT(               MMULT(AX202:AZ202-$B$2:$D$2, TRANSPOSE($A$16:$C$18)),     TRANSPOSE($A$12:$C$14))","v":-2305.6419495554119},-4868.7564759745637,4400.9432051637932,null,-553.14920563640396,-261.94861442998342," ",761.94861442998342,0]
[null,null,null,null,null,null,null,null,null,null,null,null,null,null,null,null,null,null,null,null,70.431399999999996,459.30619999999999,null,null,null,"''",null,16.977005999999999,-55.990141000000001,null,-55.990141000000001,-105.34491,null,{"$f":"camera!$B$5*COS(RADIANS(AE203))*COS(RADIANS(AF203))","v":-74.008207832221913},{"$f":"camera!$B$5*COS(RADIANS(AE203))*SIN(RADIANS(AF203))","v":-269.69769996459365},{"$f":"camera!$B$5*SIN(RADIANS(AE203))","v":-414.4706694173554},null,{"$f":"TRANSPOSE(MMULT(camera!$A$12:$C$14,MMULT(camera!$A$16:$C$18,TRANSPOSE(AH203:AJ203))))","v":455.94830338044693},50.220880899982248,-198.96986647761958,null,{"$f":"camera!$B$5*AM203/AN203","v":-126.20222797815258},{"$f":"camera!$B$5*AL203/AN203","v":-1145.7722504722408},null,{"$f":"IF( AND( (camera!$B$3) > (AQ203+camera!$B$3/2), 0 < (AQ203+camera!$B$3/2), AN203 >= 0 ), AQ203+camera!$B$3/2, 0)*-1+camera!$B$3","v":1000},{"$f":"IF( AND( (camera!$B$4) > (AP203+camera!$B$4/2), 0 < (AP203+camera!$B$4/2), AN203 >= 0 ), AP203+camera!$B$4/2, 0)","v":0},null,null,null,-318.47739999999999,633.88340000000005,2942.3982999999998,null,{"$f":"MMULT(               MMULT(AX203:AZ203-$B$2:$D$2, TRANSPOSE($A$16:$C$18)),     TRANSPOSE($A$12:$C$14))","v":-2295.9928435813763},-4683.5531032224626,4346.2204058776815,null,-538.80759209640905,-264.13672446021758," ",764.13672446021758,0]
[null,null,null,null,null,null,null,null,null,null,null,null,null,null,null,null,null,null,null,null,71.162700000000001,110.736,null,null,null,"''",null,17.250530999999999,24.839203999999999,null,24.839203999999999,-101.24203500000004,null,{"$f":"camera!$B$5*COS(RADIANS(AE204))*COS(RADIANS(AF204))","v":-88.459417154697562},{"$f":"camera!$B$5*COS(RADIANS(AE204))*SIN(RADIANS(AF204))","v":-445.03884639535903},{"$f":"camera!$B$5*SIN(RADIANS(AE204))","v":210.0365604263678},null,{"$f":"TRANSPOSE(MMULT(camera!$A$12:$C$14,MMULT(camera!$A$16:$C$18,TRANSPOSE(AH204:AJ204))))","v":-128.52073951174523},49.335111156647265,-480.67501112759692,null,{"$f":"camera!$B$5*AM204/AN204","v":-51.318572855403843},{"$f":"camera!$B$5*AL204/AN204","v":133.68776880064289},null,{"$f":"IF( AND( (camera!$B$3) > (AQ204+camera!$B$3/2), 0 < (AQ204+camera!$B$3/2), AN204 >= 0 ), AQ204+camera!$B$3/2, 0)*-1+camera!$B$3","v":1000},{"$f":"IF( AND( (camera!$B$4) > (AP204+camera!$B$4/2), 0 < (AP204+camera!$B$4/2), AN204 >= 0 ), AP204+camera!$B$4/2, 0)","v":0},null,null,null,-276.62180000000001,532.83510000000001,2917.8798999999999,null,{"$f":"MMULT(               MMULT(AX204:AZ204-$B$2:$D$2, TRANSPOSE($A$16:$C$18)),     TRANSPOSE($A$12:$C$14))","v":-2255.0003119876737},-4734.0563696677991,4254.9360449241176,null,-556.30170696869152,-264.98639323589288," ",764.98639323589282,0]
[null,null,null,null,null,null,null,null,null,null,null,null,null,null,null,null,null,null,null,null,71.162700000000001,520.73599999999999,null,null,null,"''",null,14.986025,-42.104194,null,-42.104194,-135.20962500000002,null,{"$f":"camera!$B$5*COS(RADIANS(AE205))*COS(RADIANS(AF205))","v":-263.26866756011401},{"$f":"camera!$B$5*COS(RADIANS(AE205))*SIN(RADIANS(AF205))","v":-261.34926745328465},{"$f":"camera!$B$5*SIN(RADIANS(AE205))","v":-335.24046456648637},null,{"$f":"TRANSPOSE(MMULT(camera!$A$12:$C$14,MMULT(camera!$A$16:$C$18,TRANSPOSE(AH205:AJ205))))","v":379.34196008348442},239.48876127561653,-220.78226953877157,null,{"$f":"camera!$B$5*AM205/AN205","v":-542.36411686482802},{"$f":"camera!$B$5*AL205/AN205","v":-859.08610522927017},null,{"$f":"IF( AND( (camera!$B$3) > (AQ205+camera!$B$3/2), 0 < (AQ205+camera!$B$3/2), AN205 >= 0 ), AQ205+camera!$B$3/2, 0)*-1+camera!$B$3","v":1000},{"$f":"IF( AND( (camera!$B$4) > (AP205+camera!$B$4/2), 0 < (AP205+camera!$B$4/2), AN205 >= 0 ), AP205+camera!$B$4/2, 0)","v":0},null,null,null,-129.13579999999999,563.38040000000001,2917.8798999999999,null,{"$f":"MMULT(               MMULT(AX205:AZ205-$B$2:$D$2, TRANSPOSE($A$16:$C$18)),     TRANSPOSE($A$12:$C$14))","v":-2262.5163812446781},-4878.3189426016088,4297.5617918563566,null,-567.56821412617671,-263.23255962625393," ",763.23255962625399,0]
[null,null,null,null,null,null,null,null,null,null,null,null,null,null,null,null,null,null,null,null,71.898700000000005,105,null,null,null,"''",null,9.3509250000000002,34.392561999999998,null,34.392561999999998,140.26387500000001,null,{"$f":"camera!$B$5*COS(RADIANS(AE206))*COS(RADIANS(AF206))","v":-317.28295915440776},{"$f":"camera!$B$5*COS(RADIANS(AE206))*SIN(RADIANS(AF206))","v":263.75149587017137},{"$f":"camera!$B$5*SIN(RADIANS(AE206))","v":282.42994220951391},null,{"$f":"TRANSPOSE(MMULT(camera!$A$12:$C$14,MMULT(camera!$A$16:$C$18,TRANSPOSE(AH206:AJ206))))","v":-318.96298207723464},339.06305922785157,182.47974663355953,null,{"$f":"camera!$B$5*AM206/AN206","v":929.04299102499704},{"$f":"camera!$B$5*AL206/AN206","v":-873.96817444554347},null,{"$f":"IF( AND( (camera!$B$3) > (AQ206+camera!$B$3/2), 0 < (AQ206+camera!$B$3/2), AN206 >= 0 ), AQ206+camera!$B$3/2, 0)*-1+camera!$B$3","v":1000},{"$f":"IF( AND( (camera!$B$4) > (AP206+camera!$B$4/2), 0 < (AP206+camera!$B$4/2), AN206 >= 0 ), AP206+camera!$B$4/2, 0)","v":0},null,null,null,-129.13579999999999,876.46360000000004,2851.5057999999999,null,{"$f":"MMULT(               MMULT(AX206:AZ206-$B$2:$D$2, TRANSPOSE($A$16:$C$18)),     TRANSPOSE($A$12:$C$14))","v":-2251.3100998151986},-4851.0319437637954,4616.2410196450519,null,-525.43096462246649,-243.84668069046194," ",743.84668069046188,0]
[null,null,null,null,null,null,null,null,null,null,null,null,null,null,null,null,null,null,null,null,71.898700000000005,90,null,null,null,"''",null,9.5203710000000008,-57.034376999999999,null,-57.034376999999999,142.805565,null,{"$f":"camera!$B$5*COS(RADIANS(AE207))*COS(RADIANS(AF207))","v":-216.72617447866008},{"$f":"camera!$B$5*COS(RADIANS(AE207))*SIN(RADIANS(AF207))","v":164.47094453196024},{"$f":"camera!$B$5*SIN(RADIANS(AE207))","v":-419.49859797216277},null,{"$f":"TRANSPOSE(MMULT(camera!$A$12:$C$14,MMULT(camera!$A$16:$C$18,TRANSPOSE(AH207:AJ207))))","v":387.9540999855451},230.23605328443963,215.5991096280556,null,{"$f":"camera!$B$5*AM207/AN207","v":533.94481471105144},{"$f":"camera!$B$5*AL207/AN207","v":899.71173966077731},null,{"$f":"IF( AND( (camera!$B$3) > (AQ207+camera!$B$3/2), 0 < (AQ207+camera!$B$3/2), AN207 >= 0 ), AQ207+camera!$B$3/2, 0)*-1+camera!$B$3","v":1000},{"$f":"IF( AND( (camera!$B$4) > (AP207+camera!$B$4/2), 0 < (AP207+camera!$B$4/2), AN207 >= 0 ), AP207+camera!$B$4/2, 0)","v":0},null,null,null,-396.05900000000003,821.18200000000002,2851.5057999999999,null,{"$f":"MMULT(               MMULT(AX207:AZ207-$B$2:$D$2, TRANSPOSE($A$16:$C$18)),     TRANSPOSE($A$12:$C$14))","v":-2237.707347838209},-4589.9425760343902,4539.0959796611814,null,-505.60096069801597,-246.49262296555818," ",746.49262296555821,0]
[null,null,null,null,null,null,null,null,null,null,null,null,null,null,null,null,null,null,null,null,71.898700000000005,75,null,null,null,"''",null,17.250788,36.809162000000001,null,36.809162000000001,-101.23818,null,{"$f":"camera!$B$5*COS(RADIANS(AE208))*COS(RADIANS(AF208))","v":-78.017126293943278},{"$f":"camera!$B$5*COS(RADIANS(AE208))*SIN(RADIANS(AF208))","v":-392.6418954151286},{"$f":"camera!$B$5*SIN(RADIANS(AE208))","v":299.57581673033974},null,{"$f":"TRANSPOSE(MMULT(camera!$A$12:$C$14,MMULT(camera!$A$16:$C$18,TRANSPOSE(AH208:AJ208))))","v":-225.92174350022995},43.499251545626571,-443.92249428113752,null,{"$f":"camera!$B$5*AM208/AN208","v":-48.994196178396805},{"$f":"camera!$B$5*AL208/AN208","v":254.4607971106247},null,{"$f":"IF( AND( (camera!$B$3) > (AQ208+camera!$B$3/2), 0 < (AQ208+camera!$B$3/2), AN208 >= 0 ), AQ208+camera!$B$3/2, 0)*-1+camera!$B$3","v":1000},{"$f":"IF( AND( (camera!$B$4) > (AP208+camera!$B$4/2), 0 < (AP208+camera!$B$4/2), AN208 >= 0 ), AP208+camera!$B$4/2, 0)","v":0},null,null,null,-360.33300000000003,734.93179999999995,2917.8798999999999,null,{"$f":"MMULT(               MMULT(AX208:AZ208-$B$2:$D$2, TRANSPOSE($A$16:$C$18)),     TRANSPOSE($A$12:$C$14))","v":-2288.6935716509097},-4633.0498280615511,4446.0200158958896,null,-521.03339745401195,-257.38678227584739," ",757.38678227584739,0]
[null,null,null,null,null,null,null,null,null,null,null,null,null,null,null,null,null,null,null,null,71.898700000000005,515,null,null,null,"''",null,6.6293530000000001,-43.195934000000001,null,-43.195934000000001,99.440295000000006,null,{"$f":"camera!$B$5*COS(RADIANS(AE209))*COS(RADIANS(AF209))","v":-59.786612980328862},{"$f":"camera!$B$5*COS(RADIANS(AE209))*SIN(RADIANS(AF209))","v":359.57208183324002},{"$f":"camera!$B$5*SIN(RADIANS(AE209))","v":-342.24768644134048},null,{"$f":"TRANSPOSE(MMULT(camera!$A$12:$C$14,MMULT(camera!$A$16:$C$18,TRANSPOSE(AH209:AJ209))))","v":275.75157435528098},90.8978787313645,407.06098423052299,null,{"$f":"camera!$B$5*AM209/AN209","v":111.65142601813204},{"$f":"camera!$B$5*AL209/AN209","v":338.71039603137189},null,{"$f":"IF( AND( (camera!$B$3) > (AQ209+camera!$B$3/2), 0 < (AQ209+camera!$B$3/2), AN209 >= 0 ), AQ209+camera!$B$3/2, 0)*-1+camera!$B$3","v":161.28960396862817},{"$f":"IF( AND( (camera!$B$4) > (AP209+camera!$B$4/2), 0 < (AP209+camera!$B$4/2), AN209 >= 0 ), AP209+camera!$B$4/2, 0)","v":611.65142601813204},null,null,null,-129.13579999999999,782.8143,2917.8798999999999,null,{"$f":"MMULT(               MMULT(AX209:AZ209-$B$2:$D$2, TRANSPOSE($A$16:$C$18)),     TRANSPOSE($A$12:$C$14))","v":-2300.475679744497},-4859.1940180630936,4512.8396713238208,null,-538.37432436832739,-254.88116654825265," ",754.88116654825262,0]
[null,null,null,null,null,null,null,null,null,null,null,null,null,null,null,null,null,null,null,null,71.898700000000005,500,null,null,null,"''",null,9.5477150000000002,51.677300000000002,null,51.677300000000002,143.21572499999999,null,{"$f":"camera!$B$5*COS(RADIANS(AE210))*COS(RADIANS(AF210))","v":-248.3136824964017},{"$f":"camera!$B$5*COS(RADIANS(AE210))*SIN(RADIANS(AF210))","v":185.65609924802527},{"$f":"camera!$B$5*SIN(RADIANS(AE210))","v":392.26537942709598},null,{"$f":"TRANSPOSE(MMULT(camera!$A$12:$C$14,MMULT(camera!$A$16:$C$18,TRANSPOSE(AH210:AJ210))))","v":-414.66406416212612},263.54976919214704,92.710479727559132,null,{"$f":"camera!$B$5*AM210/AN210","v":1421.3591061475447},{"$f":"camera!$B$5*AL210/AN210","v":-2236.3386824265508},null,{"$f":"IF( AND( (camera!$B$3) > (AQ210+camera!$B$3/2), 0 < (AQ210+camera!$B$3/2), AN210 >= 0 ), AQ210+camera!$B$3/2, 0)*-1+camera!$B$3","v":1000},{"$f":"IF( AND( (camera!$B$4) > (AP210+camera!$B$4/2), 0 < (AP210+camera!$B$4/2), AN210 >= 0 ), AP210+camera!$B$4/2, 0)","v":0},null,null,null,-419.5258,877.83579999999995,2750.4573999999998,null,{"$f":"MMULT(               MMULT(AX210:AZ210-$B$2:$D$2, TRANSPOSE($A$16:$C$18)),     TRANSPOSE($A$12:$C$14))","v":-2147.6393365262734},-4561.6273702747339,4610.2094478675726,null,-494.73103357426521,-232.92210048283729," ",732.92210048283732,5.2689664257347886]
[null,null,null,null,null,null,null,null,null,null,null,null,null,null,null,null,null,null,null,null,71.898700000000005,485,null,null,null,"''",null,17.146447999999999,65.714682999999994,null,65.714682999999994,-102.80328000000003,null,{"$f":"camera!$B$5*COS(RADIANS(AE211))*COS(RADIANS(AF211))","v":-45.570799394953355},{"$f":"camera!$B$5*COS(RADIANS(AE211))*SIN(RADIANS(AF211))","v":-200.52748643433594},{"$f":"camera!$B$5*SIN(RADIANS(AE211))","v":455.75435206570671},null,{"$f":"TRANSPOSE(MMULT(camera!$A$12:$C$14,MMULT(camera!$A$16:$C$18,TRANSPOSE(AH211:AJ211))))","v":-413.45200375232321},27.92026672354957,-279.78187807517975,null,{"$f":"camera!$B$5*AM211/AN211","v":-49.896488857021616},{"$f":"camera!$B$5*AL211/AN211","v":738.88274429487024},null,{"$f":"IF( AND( (camera!$B$3) > (AQ211+camera!$B$3/2), 0 < (AQ211+camera!$B$3/2), AN211 >= 0 ), AQ211+camera!$B$3/2, 0)*-1+camera!$B$3","v":1000},{"$f":"IF( AND( (camera!$B$4) > (AP211+camera!$B$4/2), 0 < (AP211+camera!$B$4/2), AN211 >= 0 ), AP211+camera!$B$4/2, 0)","v":0},null,null,null,-129.13579999999999,937.97749999999996,2750.4573999999998,null,{"$f":"MMULT(               MMULT(AX211:AZ211-$B$2:$D$2, TRANSPOSE($A$16:$C$18)),     TRANSPOSE($A$12:$C$14))","v":-2162.437981316888},-4845.6706541199901,4694.1367330235644,null,-516.14076556722068,-230.33393617446129," ",730.33393617446131,0]
[null,null,null,null,null,null,null,null,null,null,null,null,null,null,null,null,null,null,null,null,73.343199999999996,152.16220000000001,null,null,null,"''",null,18.760940000000002,-26.990777999999999,null,-26.990777999999999,-78.585899999999981,null,{"$f":"camera!$B$5*COS(RADIANS(AE212))*COS(RADIANS(AF212))","v":88.171688071232396},{"$f":"camera!$B$5*COS(RADIANS(AE212))*SIN(RADIANS(AF212))","v":-436.72813034596345},{"$f":"camera!$B$5*SIN(RADIANS(AE212))","v":-226.92354128029211},null,{"$f":"TRANSPOSE(MMULT(camera!$A$12:$C$14,MMULT(camera!$A$16:$C$18,TRANSPOSE(AH212:AJ212))))","v":297.69009515471561},-125.89953275745943,-381.48383307583271,null,{"$f":"camera!$B$5*AM212/AN212","v":165.01293350016311},{"$f":"camera!$B$5*AL212/AN212","v":-390.17393313170851},null,{"$f":"IF( AND( (camera!$B$3) > (AQ212+camera!$B$3/2), 0 < (AQ212+camera!$B$3/2), AN212 >= 0 ), AQ212+camera!$B$3/2, 0)*-1+camera!$B$3","v":1000},{"$f":"IF( AND( (camera!$B$4) > (AP212+camera!$B$4/2), 0 < (AP212+camera!$B$4/2), AN212 >= 0 ), AP212+camera!$B$4/2, 0)","v":0},null,null,null,365.6207,671.52880000000005,2412.6379999999999,null,{"$f":"MMULT(               MMULT(AX212:AZ212-$B$2:$D$2, TRANSPOSE($A$16:$C$18)),     TRANSPOSE($A$12:$C$14))","v":-1791.1464113872482},-5361.7669906190667,4533.8619920575729,null,-591.30240400036655,-197.52987789714172," ",697.52987789714166,0]
[null,null,null,null,null,null,null,null,null,null,null,null,null,null,null,null,null,null,null,null,73.343199999999996,562.16219999999998,null,null,null,"''",null,5.1085799999999999,41.234473999999999,null,41.234473999999999,76.628699999999995,null,{"$f":"camera!$B$5*COS(RADIANS(AE213))*COS(RADIANS(AF213))","v":86.956119560296301},{"$f":"camera!$B$5*COS(RADIANS(AE213))*SIN(RADIANS(AF213))","v":365.81630675317496},{"$f":"camera!$B$5*SIN(RADIANS(AE213))","v":329.57102873960639},null,{"$f":"TRANSPOSE(MMULT(camera!$A$12:$C$14,MMULT(camera!$A$16:$C$18,TRANSPOSE(AH213:AJ213))))","v":-389.16174564922085},-54.742233348320994,309.12202058619033,null,{"$f":"camera!$B$5*AM213/AN213","v":-88.544700316905448},{"$f":"camera!$B$5*AL213/AN213","v":-629.46299476053275},null,{"$f":"IF( AND( (camera!$B$3) > (AQ213+camera!$B$3/2), 0 < (AQ213+camera!$B$3/2), AN213 >= 0 ), AQ213+camera!$B$3/2, 0)*-1+camera!$B$3","v":1000},{"$f":"IF( AND( (camera!$B$4) > (AP213+camera!$B$4/2), 0 < (AP213+camera!$B$4/2), AN213 >= 0 ), AP213+camera!$B$4/2, 0)","v":411.45529968309455},null,null,null,137.78739999999999,821.18200000000002,2412.6379999999999,null,{"$f":"MMULT(               MMULT(AX213:AZ213-$B$2:$D$2, TRANSPOSE($A$16:$C$18)),     TRANSPOSE($A$12:$C$14))","v":-1813.586399972758},-5121.7575293097561,4661.1254913550029,null,-549.41210430925844,-194.54382888171747," ",694.54382888171745,0]
[null,null,null,null,null,null,null,null,null,null,null,null,null,null,null,null,null,null,null,null,73.529899999999998,71.631200000000007,null,null,null,"''",null,14.708492,-64.975138000000001,null,-64.975138000000001,-139.37262000000001,null,{"$f":"camera!$B$5*COS(RADIANS(AE214))*COS(RADIANS(AF214))","v":-160.52444996873737},{"$f":"camera!$B$5*COS(RADIANS(AE214))*SIN(RADIANS(AF214))","v":-137.71921151235546},{"$f":"camera!$B$5*SIN(RADIANS(AE214))","v":-453.06215880676842},null,{"$f":"TRANSPOSE(MMULT(camera!$A$12:$C$14,MMULT(camera!$A$16:$C$18,TRANSPOSE(AH214:AJ214))))","v":472.43226108094382},147.91058580296868,-70.215506103492487,null,{"$f":"camera!$B$5*AM214/AN214","v":-1053.2615515507314},{"$f":"camera!$B$5*AL214/AN214","v":-3364.1590533052158},null,{"$f":"IF( AND( (camera!$B$3) > (AQ214+camera!$B$3/2), 0 < (AQ214+camera!$B$3/2), AN214 >= 0 ), AQ214+camera!$B$3/2, 0)*-1+camera!$B$3","v":1000},{"$f":"IF( AND( (camera!$B$4) > (AP214+camera!$B$4/2), 0 < (AP214+camera!$B$4/2), AN214 >= 0 ), AP214+camera!$B$4/2, 0)","v":0},null,null,null,161.2542,877.83579999999995,2513.6864,null,{"$f":"MMULT(               MMULT(AX214:AZ214-$B$2:$D$2, TRANSPOSE($A$16:$C$18)),     TRANSPOSE($A$12:$C$14))","v":-1923.2551977205999},-5140.1973270324588,4701.1736069127792,null,-546.69299166851897,-204.55053977293824," ",704.55053977293824,0]
[null,null,null,null,null,null,null,null,null,null,null,null,null,null,null,null,null,null,null,null,73.529899999999998,481.63119999999998,null,null,null,"''",null,4.8306690000000003,6.9612759999999998,null,6.9612759999999998,72.460035000000005,null,{"$f":"camera!$B$5*COS(RADIANS(AE215))*COS(RADIANS(AF215))","v":149.57467245637085},{"$f":"camera!$B$5*COS(RADIANS(AE215))*SIN(RADIANS(AF215))","v":473.23899748260754},{"$f":"camera!$B$5*SIN(RADIANS(AE215))","v":60.599246045029112},null,{"$f":"TRANSPOSE(MMULT(camera!$A$12:$C$14,MMULT(camera!$A$16:$C$18,TRANSPOSE(AH215:AJ215))))","v":-143.80671650283196},-107.7599993470923,466.59126741655678,null,{"$f":"camera!$B$5*AM215/AN215","v":-115.47579956194063},{"$f":"camera!$B$5*AL215/AN215","v":-154.10352330324071},null,{"$f":"IF( AND( (camera!$B$3) > (AQ215+camera!$B$3/2), 0 < (AQ215+camera!$B$3/2), AN215 >= 0 ), AQ215+camera!$B$3/2, 0)*-1+camera!$B$3","v":654.10352330324076},{"$f":"IF( AND( (camera!$B$4) > (AP215+camera!$B$4/2), 0 < (AP215+camera!$B$4/2), AN215 >= 0 ), AP215+camera!$B$4/2, 0)","v":384.52420043805938},null,null,null,409.11759999999998,715.02570000000003,2513.6864,null,{"$f":"MMULT(               MMULT(AX215:AZ215-$B$2:$D$2, TRANSPOSE($A$16:$C$18)),     TRANSPOSE($A$12:$C$14))","v":-1898.8423755565045},-5401.3073671557722,4562.7216124079841,null,-591.8953451452436,-208.08220803924823," ",708.08220803924826,0]
[null,null,null,null,null,null,null,null,null,null,null,null,null,null,null,null,null,null,null,null,74.294399999999996,34.306199999999997,null,null,null,"''",null,5.091018,-22.371032,null,-22.371032,76.365269999999995,null,{"$f":"camera!$B$5*COS(RADIANS(AE216))*COS(RADIANS(AF216))","v":108.99487992528847},{"$f":"camera!$B$5*COS(RADIANS(AE216))*SIN(RADIANS(AF216))","v":449.33893257464263},{"$f":"camera!$B$5*SIN(RADIANS(AE216))","v":-190.30144461551708},null,{"$f":"TRANSPOSE(MMULT(camera!$A$12:$C$14,MMULT(camera!$A$16:$C$18,TRANSPOSE(AH216:AJ216))))","v":108.03079110781226},-69.417653086735953,483.22928058277859,null,{"$f":"camera!$B$5*AM216/AN216","v":-71.826828253264864},{"$f":"camera!$B$5*AL216/AN216","v":111.78005498500237},null,{"$f":"IF( AND( (camera!$B$3) > (AQ216+camera!$B$3/2), 0 < (AQ216+camera!$B$3/2), AN216 >= 0 ), AQ216+camera!$B$3/2, 0)*-1+camera!$B$3","v":388.21994501499762},{"$f":"IF( AND( (camera!$B$4) > (AP216+camera!$B$4/2), 0 < (AP216+camera!$B$4/2), AN216 >= 0 ), AP216+camera!$B$4/2, 0)","v":428.17317174673514},null,null,null,425.18529999999998,731.09339999999997,2632.0718999999999,null,{"$f":"MMULT(               MMULT(AX216:AZ216-$B$2:$D$2, TRANSPOSE($A$16:$C$18)),     TRANSPOSE($A$12:$C$14))","v":-2018.452018925833},-5415.9135323785549,4559.3066852672164,null,-593.94047233972526,-221.3551487387532," ",721.3551487387532,0]
[null,null,null,null,null,null,null,null,null,null,null,null,null,null,null,null,null,null,null,null,74.294399999999996,444.30619999999999,null,null,null,"''",null,16.961138999999999,9.3750330000000002,null,9.3750330000000002,-105.58291500000001,null,{"$f":"camera!$B$5*COS(RADIANS(AE217))*COS(RADIANS(AF217))","v":-132.52227100737201},{"$f":"camera!$B$5*COS(RADIANS(AE217))*SIN(RADIANS(AF217))","v":-475.1884548154531},{"$f":"camera!$B$5*SIN(RADIANS(AE217))","v":81.448020830163216},null,{"$f":"TRANSPOSE(MMULT(camera!$A$12:$C$14,MMULT(camera!$A$16:$C$18,TRANSPOSE(AH217:AJ217))))","v":3.9966198568316855},90.602581032068642,-491.70641580118451,null,{"$f":"camera!$B$5*AM217/AN217","v":-92.130769622398716},{"$f":"camera!$B$5*AL217/AN217","v":-4.064030617049819},null,{"$f":"IF( AND( (camera!$B$3) > (AQ217+camera!$B$3/2), 0 < (AQ217+camera!$B$3/2), AN217 >= 0 ), AQ217+camera!$B$3/2, 0)*-1+camera!$B$3","v":1000},{"$f":"IF( AND( (camera!$B$4) > (AP217+camera!$B$4/2), 0 < (AP217+camera!$B$4/2), AN217 >= 0 ), AP217+camera!$B$4/2, 0)","v":0},null,null,null,169.9228,898.7636,2632.0718999999999,null,{"$f":"MMULT(               MMULT(AX217:AZ217-$B$2:$D$2, TRANSPOSE($A$16:$C$18)),     TRANSPOSE($A$12:$C$14))","v":-2043.5935959184662},-5147.0089624392622,4701.8916537820569,null,-547.33385426896928,-217.31610874898217," ",717.31610874898217,0]
[null,null,null,null,null,null,null,null,null,null,null,null,null,null,null,null,null,null,null,null,74.6982,107.2004,null,null,null,"''",null,17.830964999999999,-37.043303999999999,null,-37.043303999999999,-92.535525000000007,null,{"$f":"camera!$B$5*COS(RADIANS(AE218))*COS(RADIANS(AF218))","v":-17.655279038439808},{"$f":"camera!$B$5*COS(RADIANS(AE218))*SIN(RADIANS(AF218))","v":-398.69950029773912},{"$f":"camera!$B$5*SIN(RADIANS(AE218))","v":-301.20922891639282},null,{"$f":"TRANSPOSE(MMULT(camera!$A$12:$C$14,MMULT(camera!$A$16:$C$18,TRANSPOSE(AH218:AJ218))))","v":365.87037412036142},-17.160855710145533,-340.35918435135886,null,{"$f":"camera!$B$5*AM218/AN218","v":25.209920136061431},{"$f":"camera!$B$5*AL218/AN218","v":-537.47686406291723},null,{"$f":"IF( AND( (camera!$B$3) > (AQ218+camera!$B$3/2), 0 < (AQ218+camera!$B$3/2), AN218 >= 0 ), AQ218+camera!$B$3/2, 0)*-1+camera!$B$3","v":1000},{"$f":"IF( AND( (camera!$B$4) > (AP218+camera!$B$4/2), 0 < (AP218+camera!$B$4/2), AN218 >= 0 ), AP218+camera!$B$4/2, 0)","v":0},null,null,null,221.81899999999999,527.72709999999995,2321.7455,null,{"$f":"MMULT(               MMULT(AX218:AZ218-$B$2:$D$2, TRANSPOSE($A$16:$C$18)),     TRANSPOSE($A$12:$C$14))","v":-1674.5825337604351},-5231.0456434743628,4396.2244381876171,null,-594.94751883401432,-190.45689742478172," ",690.45689742478169,0]
[null,null,null,null,null,null,null,null,null,null,null,null,null,null,null,null,null,null,null,null,74.6982,517.20039999999995,null,null,null,"''",null,21.215606999999999,30.226915999999999,null,30.226915999999999,-41.765895,null,{"$f":"camera!$B$5*COS(RADIANS(AE219))*COS(RADIANS(AF219))","v":322.23129203194196},{"$f":"camera!$B$5*COS(RADIANS(AE219))*SIN(RADIANS(AF219))","v":-287.76306964294935},{"$f":"camera!$B$5*SIN(RADIANS(AE219))","v":251.71295196134113},null,{"$f":"TRANSPOSE(MMULT(camera!$A$12:$C$14,MMULT(camera!$A$16:$C$18,TRANSPOSE(AH219:AJ219))))","v":-202.98627197436335},-346.08530875155088,-298.36476409974,null,{"$f":"camera!$B$5*AM219/AN219","v":579.9701412393631},{"$f":"camera!$B$5*AL219/AN219","v":340.16461794145926},null,{"$f":"IF( AND( (camera!$B$3) > (AQ219+camera!$B$3/2), 0 < (AQ219+camera!$B$3/2), AN219 >= 0 ), AQ219+camera!$B$3/2, 0)*-1+camera!$B$3","v":1000},{"$f":"IF( AND( (camera!$B$4) > (AP219+camera!$B$4/2), 0 < (AP219+camera!$B$4/2), AN219 >= 0 ), AP219+camera!$B$4/2, 0)","v":0},null,null,null,60.205800000000004,633.88340000000005,2321.7455,null,{"$f":"MMULT(               MMULT(AX219:AZ219-$B$2:$D$2, TRANSPOSE($A$16:$C$18)),     TRANSPOSE($A$12:$C$14))","v":-1690.500310829955},-5060.7952993188783,4486.4986378907124,null,-564.00276783524964,-188.39862075882951," ",688.39862075882957,0]
[null,null,null,null,null,null,null,null,null,null,null,null,null,null,null,null,null,null,null,null,75.058000000000007,137.16220000000001,null,null,null,"''",null,23.655819999999999,77.632276000000005,null,77.632276000000005,-5.1627000000000294,null,{"$f":"camera!$B$5*COS(RADIANS(AE220))*COS(RADIANS(AF220))","v":106.65810170148346},{"$f":"camera!$B$5*COS(RADIANS(AE220))*SIN(RADIANS(AF220))","v":-9.6366414456455125},{"$f":"camera!$B$5*SIN(RADIANS(AE220))","v":488.39654429887611},null,{"$f":"TRANSPOSE(MMULT(camera!$A$12:$C$14,MMULT(camera!$A$16:$C$18,TRANSPOSE(AH220:AJ220))))","v":-480.92389608359031},-107.0921240663361,-85.10865489913725,null,{"$f":"camera!$B$5*AM220/AN220","v":629.14943370478352},{"$f":"camera!$B$5*AL220/AN220","v":2825.3524665237392},null,{"$f":"IF( AND( (camera!$B$3) > (AQ220+camera!$B$3/2), 0 < (AQ220+camera!$B$3/2), AN220 >= 0 ), AQ220+camera!$B$3/2, 0)*-1+camera!$B$3","v":1000},{"$f":"IF( AND( (camera!$B$4) > (AP220+camera!$B$4/2), 0 < (AP220+camera!$B$4/2), AN220 >= 0 ), AP220+camera!$B$4/2, 0)","v":0},null,null,null,102.0615,734.93179999999995,2346.2640000000001,null,{"$f":"MMULT(               MMULT(AX220:AZ220-$B$2:$D$2, TRANSPOSE($A$16:$C$18)),     TRANSPOSE($A$12:$C$14))","v":-1732.7598815072406},-5093.6847773883346,4584.9681586866936,null,-555.47657051203555,-188.96095038570212," ",688.96095038570206,0]
[null,null,null,null,null,null,null,null,null,null,null,null,null,null,null,null,null,null,null,null,75.058000000000007,547.16219999999998,null,null,null,"''",null,15.356201,-40.647517999999998,null,-40.647517999999998,-129.65698499999999,null,{"$f":"camera!$B$5*COS(RADIANS(AE221))*COS(RADIANS(AF221))","v":-242.10737673668612},{"$f":"camera!$B$5*COS(RADIANS(AE221))*SIN(RADIANS(AF221))","v":-292.06561890965463},{"$f":"camera!$B$5*SIN(RADIANS(AE221))","v":-325.70184583542158},null,{"$f":"TRANSPOSE(MMULT(camera!$A$12:$C$14,MMULT(camera!$A$16:$C$18,TRANSPOSE(AH221:AJ221))))","v":374.94153179387217},215.73088912686211,-250.75691657977896,null,{"$f":"camera!$B$5*AM221/AN221","v":-430.15939912912984},{"$f":"camera!$B$5*AL221/AN221","v":-747.61952114406301},null,{"$f":"IF( AND( (camera!$B$3) > (AQ221+camera!$B$3/2), 0 < (AQ221+camera!$B$3/2), AN221 >= 0 ), AQ221+camera!$B$3/2, 0)*-1+camera!$B$3","v":1000},{"$f":"IF( AND( (camera!$B$4) > (AP221+camera!$B$4/2), 0 < (AP221+camera!$B$4/2), AN221 >= 0 ), AP221+camera!$B$4/2, 0)","v":0},null,null,null,299.4006,605.30870000000004,2346.2640000000001,null,{"$f":"MMULT(               MMULT(AX221:AZ221-$B$2:$D$2, TRANSPOSE($A$16:$C$18)),     TRANSPOSE($A$12:$C$14))","v":-1713.3233352055272},-5301.5703400922857,4474.7380270096291,null,-592.38890724908094,-191.44398229168561," ",691.44398229168564,0]
[null,null,null,null,null,null,null,null,null,null,null,null,null,null,null,null,null,null,null,null,75.431399999999996,49.306199999999997,null,null,null,"''",null,16.305357999999998,-4.6925109999999997,null,-4.6925109999999997,-115.41963000000004,null,{"$f":"camera!$B$5*COS(RADIANS(AE222))*COS(RADIANS(AF222))","v":-213.90290412442062},{"$f":"camera!$B$5*COS(RADIANS(AE222))*SIN(RADIANS(AF222))","v":-450.08043790494548},{"$f":"camera!$B$5*SIN(RADIANS(AE222))","v":-40.904119871125701},null,{"$f":"TRANSPOSE(MMULT(camera!$A$12:$C$14,MMULT(camera!$A$16:$C$18,TRANSPOSE(AH222:AJ222))))","v":121.3782361806461},173.86184413337804,-452.81274599575511,null,{"$f":"camera!$B$5*AM222/AN222","v":-191.97984781882431},{"$f":"camera!$B$5*AL222/AN222","v":-134.02696506889401},null,{"$f":"IF( AND( (camera!$B$3) > (AQ222+camera!$B$3/2), 0 < (AQ222+camera!$B$3/2), AN222 >= 0 ), AQ222+camera!$B$3/2, 0)*-1+camera!$B$3","v":1000},{"$f":"IF( AND( (camera!$B$4) > (AP222+camera!$B$4/2), 0 < (AP222+camera!$B$4/2), AN222 >= 0 ), AP222+camera!$B$4/2, 0)","v":0},null,null,null,78.017399999999995,383.9255,2412.6379999999999,null,{"$f":"MMULT(               MMULT(AX222:AZ222-$B$2:$D$2, TRANSPOSE($A$16:$C$18)),     TRANSPOSE($A$12:$C$14))","v":-1737.0419523271291},-5100.3243872335543,4227.020357029669,null,-603.30019214971992,-205.46884159646561," ",705.46884159646561,0]
[null,null,null,null,null,null,null,null,null,null,null,null,null,null,null,null,null,null,null,null,75.431399999999996,459.30619999999999,null,null,null,"''",null,18.355167000000002,-2.898825,null,-2.898825,-84.672494999999969,null,{"$f":"camera!$B$5*COS(RADIANS(AE223))*COS(RADIANS(AF223))","v":46.36488383808836},{"$f":"camera!$B$5*COS(RADIANS(AE223))*SIN(RADIANS(AF223))","v":-497.20308139801324},{"$f":"camera!$B$5*SIN(RADIANS(AE223))","v":-25.286229355149825},null,{"$f":"TRANSPOSE(MMULT(camera!$A$12:$C$14,MMULT(camera!$A$16:$C$18,TRANSPOSE(AH223:AJ223))))","v":110.21023365344229},-89.522555312811448,-479.41570321415037,null,{"$f":"camera!$B$5*AM223/AN223","v":93.366315196420047},{"$f":"camera!$B$5*AL223/AN223","v":-114.94224418866443},null,{"$f":"IF( AND( (camera!$B$3) > (AQ223+camera!$B$3/2), 0 < (AQ223+camera!$B$3/2), AN223 >= 0 ), AQ223+camera!$B$3/2, 0)*-1+camera!$B$3","v":1000},{"$f":"IF( AND( (camera!$B$4) > (AP223+camera!$B$4/2), 0 < (AP223+camera!$B$4/2), AN223 >= 0 ), AP223+camera!$B$4/2, 0)","v":0},null,null,null,-17.375800000000002,446.5849,2412.6379999999999,null,{"$f":"MMULT(               MMULT(AX223:AZ223-$B$2:$D$2, TRANSPOSE($A$16:$C$18)),     TRANSPOSE($A$12:$C$14))","v":-1746.4375163672153},-4999.8330606124255,4280.3052485552635,null,-584.05099289355883,-204.00852450379472," ",704.00852450379466,0]
[null,null,null,null,null,null,null,null,null,null,null,null,null,null,null,null,null,null,null,null,76.898700000000005,90,null,null,null,"''",null,21.477661999999999,70.560715999999999,null,70.560715999999999,-37.83507000000003,null,{"$f":"camera!$B$5*COS(RADIANS(AE224))*COS(RADIANS(AF224))","v":131.42240855865103},{"$f":"camera!$B$5*COS(RADIANS(AE224))*SIN(RADIANS(AF224))","v":-102.07057297707716},{"$f":"camera!$B$5*SIN(RADIANS(AE224))","v":471.49734745889521},null,{"$f":"TRANSPOSE(MMULT(camera!$A$12:$C$14,MMULT(camera!$A$16:$C$18,TRANSPOSE(AH224:AJ224))))","v":-448.66632490479611},-139.8183432170716,-170.73183591954097,null,{"$f":"camera!$B$5*AM224/AN224","v":409.46769670702292},{"$f":"camera!$B$5*AL224/AN224","v":1313.9503903543637},null,{"$f":"IF( AND( (camera!$B$3) > (AQ224+camera!$B$3/2), 0 < (AQ224+camera!$B$3/2), AN224 >= 0 ), AQ224+camera!$B$3/2, 0)*-1+camera!$B$3","v":1000},{"$f":"IF( AND( (camera!$B$4) > (AP224+camera!$B$4/2), 0 < (AP224+camera!$B$4/2), AN224 >= 0 ), AP224+camera!$B$4/2, 0)","v":0},null,null,null,18.350200000000001,532.83510000000001,2346.2640000000001,null,{"$f":"MMULT(               MMULT(AX224:AZ224-$B$2:$D$2, TRANSPOSE($A$16:$C$18)),     TRANSPOSE($A$12:$C$14))","v":-1696.5327767493122},-5027.9059121533173,4379.5140380956691,null,-574.02555037129036,-193.68961510247954," ",693.68961510247959,0]
[null,null,null,null,null,null,null,null,null,null,null,null,null,null,null,null,null,null,null,null,76.898700000000005,500,null,null,null,"''",null,6.8031940000000004,-61.941391000000003,null,-61.941391000000003,102.04791,null,{"$f":"camera!$B$5*COS(RADIANS(AE225))*COS(RADIANS(AF225))","v":-49.090524947621972},{"$f":"camera!$B$5*COS(RADIANS(AE225))*SIN(RADIANS(AF225))","v":230.00687672642778},{"$f":"camera!$B$5*SIN(RADIANS(AE225))","v":-441.23344956940963},null,{"$f":"TRANSPOSE(MMULT(camera!$A$12:$C$14,MMULT(camera!$A$16:$C$18,TRANSPOSE(AH225:AJ225))))","v":395.48478923770455},68.950140857522427,298.05647041682596,null,{"$f":"camera!$B$5*AM225/AN225","v":115.6662372756026},{"$f":"camera!$B$5*AL225/AN225","v":663.4393621527945},null,{"$f":"IF( AND( (camera!$B$3) > (AQ225+camera!$B$3/2), 0 < (AQ225+camera!$B$3/2), AN225 >= 0 ), AQ225+camera!$B$3/2, 0)*-1+camera!$B$3","v":1000},{"$f":"IF( AND( (camera!$B$4) > (AP225+camera!$B$4/2), 0 < (AP225+camera!$B$4/2), AN225 >= 0 ), AP225+camera!$B$4/2, 0)","v":615.66623727560261},null,null,null,144.23740000000001,450.14550000000003,2346.2640000000001,null,{"$f":"MMULT(               MMULT(AX225:AZ225-$B$2:$D$2, TRANSPOSE($A$16:$C$18)),     TRANSPOSE($A$12:$C$14))","v":-1684.1337500998031},-5160.520946856439,4309.1956636773521,null,-598.78006821029203,-195.41161292530037," ",695.41161292530035,0]
[null,null,null,null,null,null,null,null,null,null,null,null,null,null,null,null,null,null,null,null,77.134500000000003,75.001900000000006,null,null,null,"''",null,20.188413000000001,-0.821461,null,-0.821461,-57.173805000000016,null,{"$f":"camera!$B$5*COS(RADIANS(AE226))*COS(RADIANS(AF226))","v":271.01836871482612},{"$f":"camera!$B$5*COS(RADIANS(AE226))*SIN(RADIANS(AF226))","v":-420.11624405685535},{"$f":"camera!$B$5*SIN(RADIANS(AE226))","v":-7.1683539753063705},null,{"$f":"TRANSPOSE(MMULT(camera!$A$12:$C$14,MMULT(camera!$A$16:$C$18,TRANSPOSE(AH226:AJ226))))","v":75.63255464680995},-306.60260529031524,-387.65262685397664,null,{"$f":"camera!$B$5*AM226/AN226","v":395.46050258780804},{"$f":"camera!$B$5*AL226/AN226","v":-97.551969737199386},null,{"$f":"IF( AND( (camera!$B$3) > (AQ226+camera!$B$3/2), 0 < (AQ226+camera!$B$3/2), AN226 >= 0 ), AQ226+camera!$B$3/2, 0)*-1+camera!$B$3","v":1000},{"$f":"IF( AND( (camera!$B$4) > (AP226+camera!$B$4/2), 0 < (AP226+camera!$B$4/2), AN226 >= 0 ), AP226+camera!$B$4/2, 0)","v":0},null,null,null,18.4528,324.36090000000002,2632.0718999999999,null,{"$f":"MMULT(               MMULT(AX226:AZ226-$B$2:$D$2, TRANSPOSE($A$16:$C$18)),     TRANSPOSE($A$12:$C$14))","v":-1941.9367567759555},-5046.1778454740652,4125.3670701133324,null,-611.60349609028083,-235.36532916604273," ",735.36532916604278,0]
[null,null,null,null,null,null,null,null,null,null,null,null,null,null,null,null,null,null,null,null,77.134500000000003,485.00189999999998,null,null,null,"''",null,7.4871790000000003,-43.301431999999998,null,-43.301431999999998,112.30768500000001,null,{"$f":"camera!$B$5*COS(RADIANS(AE227))*COS(RADIANS(AF227))","v":-138.12083061005501},{"$f":"camera!$B$5*COS(RADIANS(AE227))*SIN(RADIANS(AF227))","v":336.64476166821368},{"$f":"camera!$B$5*SIN(RADIANS(AE227))","v":-342.91827101065945},null,{"$f":"TRANSPOSE(MMULT(camera!$A$12:$C$14,MMULT(camera!$A$16:$C$18,TRANSPOSE(AH227:AJ227))))","v":281.56365279882931},166.93576339506637,377.96079204368095,null,{"$f":"camera!$B$5*AM227/AN227","v":220.83740815075549},{"$f":"camera!$B$5*AL227/AN227","v":372.47732929701471},null,{"$f":"IF( AND( (camera!$B$3) > (AQ227+camera!$B$3/2), 0 < (AQ227+camera!$B$3/2), AN227 >= 0 ), AQ227+camera!$B$3/2, 0)*-1+camera!$B$3","v":127.52267070298535},{"$f":"IF( AND( (camera!$B$4) > (AP227+camera!$B$4/2), 0 < (AP227+camera!$B$4/2), AN227 >= 0 ), AP227+camera!$B$4/2, 0)","v":720.83740815075544},null,null,null,-49.511099999999999,369.00330000000002,2632.0718999999999,null,{"$f":"MMULT(               MMULT(AX227:AZ227-$B$2:$D$2, TRANSPOSE($A$16:$C$18)),     TRANSPOSE($A$12:$C$14))","v":-1948.6307339223617},-4974.5817271023907,4163.3305010046843,null,-597.42815588408575,-234.02306560242133," ",734.0230656024213,0]
[null,null,null,null,null,null,null,null,null,null,null,null,null,null,null,null,null,null,null,null,78.343199999999996,152.16220000000001,null,null,null,"''",null,14.106192999999999,-26.682361,null,-26.682361,-148.407105,null,{"$f":"camera!$B$5*COS(RADIANS(AE228))*COS(RADIANS(AF228))","v":-380.54215304331746},{"$f":"camera!$B$5*COS(RADIANS(AE228))*SIN(RADIANS(AF228))","v":-234.04605010173955},{"$f":"camera!$B$5*SIN(RADIANS(AE228))","v":-224.52197261945304},null,{"$f":"TRANSPOSE(MMULT(camera!$A$12:$C$14,MMULT(camera!$A$16:$C$18,TRANSPOSE(AH228:AJ228))))","v":267.35728644578433},358.69561792839772,-223.28800922421198,null,{"$f":"camera!$B$5*AM228/AN228","v":-803.21289793984818},{"$f":"camera!$B$5*AL228/AN228","v":-598.68258796046837},null,{"$f":"IF( AND( (camera!$B$3) > (AQ228+camera!$B$3/2), 0 < (AQ228+camera!$B$3/2), AN228 >= 0 ), AQ228+camera!$B$3/2, 0)*-1+camera!$B$3","v":1000},{"$f":"IF( AND( (camera!$B$4) > (AP228+camera!$B$4/2), 0 < (AP228+camera!$B$4/2), AN228 >= 0 ), AP228+camera!$B$4/2, 0)","v":0},null,null,null,-40.842500000000001,389.93110000000001,2513.6864,null,{"$f":"MMULT(               MMULT(AX228:AZ228-$B$2:$D$2, TRANSPOSE($A$16:$C$18)),     TRANSPOSE($A$12:$C$14))","v":-1835.7952156317751},-4981.393362509194,4205.1634005483374,null,-592.29486324593699,-218.27870177320509," ",718.27870177320506,0]
[null,null,null,null,null,null,null,null,null,null,null,null,null,null,null,null,null,null,null,null,78.343199999999996,562.16219999999998,null,null,null,"''",null,15.067838999999999,-25.281965,null,-25.281965,-133.982415,null,{"$f":"camera!$B$5*COS(RADIANS(AE229))*COS(RADIANS(AF229))","v":-313.96113238993013},{"$f":"camera!$B$5*COS(RADIANS(AE229))*SIN(RADIANS(AF229))","v":-325.31602194535344},{"$f":"camera!$B$5*SIN(RADIANS(AE229))","v":-213.53663201915288},null,{"$f":"TRANSPOSE(MMULT(camera!$A$12:$C$14,MMULT(camera!$A$16:$C$18,TRANSPOSE(AH229:AJ229))))","v":271.31972623664763},284.41325597336822,-309.0221771677526,null,{"$f":"camera!$B$5*AM229/AN229","v":-460.18259689332035},{"$f":"camera!$B$5*AL229/AN229","v":-438.99717606571937},null,{"$f":"IF( AND( (camera!$B$3) > (AQ229+camera!$B$3/2), 0 < (AQ229+camera!$B$3/2), AN229 >= 0 ), AQ229+camera!$B$3/2, 0)*-1+camera!$B$3","v":1000},{"$f":"IF( AND( (camera!$B$4) > (AP229+camera!$B$4/2), 0 < (AP229+camera!$B$4/2), AN229 >= 0 ), AP229+camera!$B$4/2, 0)","v":0},null,null,null,34.520499999999998,340.42860000000002,2513.6864,null,{"$f":"MMULT(               MMULT(AX229:AZ229-$B$2:$D$2, TRANSPOSE($A$16:$C$18)),     TRANSPOSE($A$12:$C$14))","v":-1828.372483656831},-5060.7840106968479,4163.0669956469419,null,-607.81918907245461,-219.59441027115892," ",719.59441027115895,0]
[null,null,null,null,null,null,null,null,null,null,null,null,null,null,null,null,null,null,null,null,78.781800000000004,104.8813,null,null,null,"''",null,18.982395,32.689557000000001,null,32.689557000000001,-75.264074999999991,null,{"$f":"camera!$B$5*COS(RADIANS(AE230))*COS(RADIANS(AF230))","v":107.0377059191127},{"$f":"camera!$B$5*COS(RADIANS(AE230))*SIN(RADIANS(AF230))","v":-406.96370293343125},{"$f":"camera!$B$5*SIN(RADIANS(AE230))","v":270.04346688317321},null,{"$f":"TRANSPOSE(MMULT(camera!$A$12:$C$14,MMULT(camera!$A$16:$C$18,TRANSPOSE(AH230:AJ230))))","v":-197.16126474354502},-142.09961893302403,-436.96124997969224,null,{"$f":"camera!$B$5*AM230/AN230","v":162.59979453513111},{"$f":"camera!$B$5*AL230/AN230","v":225.60497613084462},null,{"$f":"IF( AND( (camera!$B$3) > (AQ230+camera!$B$3/2), 0 < (AQ230+camera!$B$3/2), AN230 >= 0 ), AQ230+camera!$B$3/2, 0)*-1+camera!$B$3","v":1000},{"$f":"IF( AND( (camera!$B$4) > (AP230+camera!$B$4/2), 0 < (AP230+camera!$B$4/2), AN230 >= 0 ), AP230+camera!$B$4/2, 0)","v":0},null,null,null,78.017399999999995,383.9255,2851.5057999999999,null,{"$f":"MMULT(               MMULT(AX230:AZ230-$B$2:$D$2, TRANSPOSE($A$16:$C$18)),     TRANSPOSE($A$12:$C$14))","v":-2169.2423643145403},-5100.3243872335543,4150.8117633229749,null,-614.37673858166454,-261.30338931317027," ",761.30338931317033,0]
[null,null,null,null,null,null,null,null,null,null,null,null,null,null,null,null,null,null,null,null,78.781800000000004,514.88130000000001,null,null,null,"''",null,3.7872949999999999,-74.238962000000001,null,-74.238962000000001,56.809424999999997,null,{"$f":"camera!$B$5*COS(RADIANS(AE231))*COS(RADIANS(AF231))","v":74.34747105773161},{"$f":"camera!$B$5*COS(RADIANS(AE231))*SIN(RADIANS(AF231))","v":113.65564516538525},{"$f":"camera!$B$5*SIN(RADIANS(AE231))","v":-481.20146287117603},null,{"$f":"TRANSPOSE(MMULT(camera!$A$12:$C$14,MMULT(camera!$A$16:$C$18,TRANSPOSE(AH231:AJ231))))","v":453.10473049916578},-64.158814312388301,201.44416036536484,null,{"$f":"camera!$B$5*AM231/AN231","v":-159.24714371471896},{"$f":"camera!$B$5*AL231/AN231","v":1124.6410163425865},null,{"$f":"IF( AND( (camera!$B$3) > (AQ231+camera!$B$3/2), 0 < (AQ231+camera!$B$3/2), AN231 >= 0 ), AQ231+camera!$B$3/2, 0)*-1+camera!$B$3","v":1000},{"$f":"IF( AND( (camera!$B$4) > (AP231+camera!$B$4/2), 0 < (AP231+camera!$B$4/2), AN231 >= 0 ), AP231+camera!$B$4/2, 0)","v":340.75285628528104},null,null,null,-17.375800000000002,446.5849,2851.5057999999999,null,{"$f":"MMULT(               MMULT(AX231:AZ231-$B$2:$D$2, TRANSPOSE($A$16:$C$18)),     TRANSPOSE($A$12:$C$14))","v":-2178.6379283546266},-4999.8330606124255,4204.0966548485694,null,-594.63821494757212,-259.10892484382003," ",759.10892484381998,0]
[null,null,null,null,null,null,null,null,null,null,null,null,null,null,null,null,null,null,null,null,79.294399999999996,34.306199999999997,null,null,null,"''",null,0.65546199999999999,30.861024,null,30.861024,9.8319299999999998,null,{"$f":"camera!$B$5*COS(RADIANS(AE232))*COS(RADIANS(AF232))","v":422.90321368404932},{"$f":"camera!$B$5*COS(RADIANS(AE232))*SIN(RADIANS(AF232))","v":73.290801042081867},{"$f":"camera!$B$5*SIN(RADIANS(AE232))","v":256.4787132264845},null,{"$f":"TRANSPOSE(MMULT(camera!$A$12:$C$14,MMULT(camera!$A$16:$C$18,TRANSPOSE(AH232:AJ232))))","v":-271.66101151895998},-414.90622507661698,63.664112443095526,null,{"$f":"camera!$B$5*AM232/AN232","v":-3258.556580424096},{"$f":"camera!$B$5*AL232/AN232","v":-2133.5490364510852},null,{"$f":"IF( AND( (camera!$B$3) > (AQ232+camera!$B$3/2), 0 < (AQ232+camera!$B$3/2), AN232 >= 0 ), AQ232+camera!$B$3/2, 0)*-1+camera!$B$3","v":1000},{"$f":"IF( AND( (camera!$B$4) > (AP232+camera!$B$4/2), 0 < (AP232+camera!$B$4/2), AN232 >= 0 ), AP232+camera!$B$4/2, 0)","v":0},null,null,null,-40.842500000000001,389.93110000000001,2750.4573999999998,null,{"$f":"MMULT(               MMULT(AX232:AZ232-$B$2:$D$2, TRANSPOSE($A$16:$C$18)),     TRANSPOSE($A$12:$C$14))","v":-2068.9691321202286},-4981.393362509194,4164.0485478739602,null,-598.14304579284328,-248.43239798159689," ",748.43239798159686,0]
[null,null,null,null,null,null,null,null,null,null,null,null,null,null,null,null,null,null,null,null,79.294399999999996,444.30619999999999,null,null,null,"''",null,17.366827000000001,-24.999545000000001,null,-24.999545000000001,-99.49759499999999,null,{"$f":"camera!$B$5*COS(RADIANS(AE233))*COS(RADIANS(AF233))","v":-74.773481686851852},{"$f":"camera!$B$5*COS(RADIANS(AE233))*SIN(RADIANS(AF233))","v":-446.9439545114725},{"$f":"camera!$B$5*SIN(RADIANS(AE233))","v":-211.30553225619246},null,{"$f":"TRANSPOSE(MMULT(camera!$A$12:$C$14,MMULT(camera!$A$16:$C$18,TRANSPOSE(AH233:AJ233))))","v":286.54265080749246},35.535213692279129,-408.20406398768182,null,{"$f":"camera!$B$5*AM233/AN233","v":-43.526286026088485},{"$f":"camera!$B$5*AL233/AN233","v":-350.97966444564759},null,{"$f":"IF( AND( (camera!$B$3) > (AQ233+camera!$B$3/2), 0 < (AQ233+camera!$B$3/2), AN233 >= 0 ), AQ233+camera!$B$3/2, 0)*-1+camera!$B$3","v":1000},{"$f":"IF( AND( (camera!$B$4) > (AP233+camera!$B$4/2), 0 < (AP233+camera!$B$4/2), AN233 >= 0 ), AP233+camera!$B$4/2, 0)","v":0},null,null,null,34.520499999999998,340.42860000000002,2750.4573999999998,null,{"$f":"MMULT(               MMULT(AX233:AZ233-$B$2:$D$2, TRANSPOSE($A$16:$C$18)),     TRANSPOSE($A$12:$C$14))","v":-2061.5464001452842},-5060.7840106968479,4121.9521429725646,null,-613.88194660688623,-250.06918186325552," ",750.06918186325549,0]
[null,null,null,null,null,null,null,null,null,null,null,null,null,null,null,null,null,null,null,null,80.058000000000007,137.16220000000001,null,null,null,"''",null,22.910837000000001,-15.820819999999999,null,-15.820819999999999,-16.337445000000002,null,{"$f":"camera!$B$5*COS(RADIANS(AE234))*COS(RADIANS(AF234))","v":461.63511114177368},{"$f":"camera!$B$5*COS(RADIANS(AE234))*SIN(RADIANS(AF234))","v":-135.31911039567396},{"$f":"camera!$B$5*SIN(RADIANS(AE234))","v":-136.31493873690297},null,{"$f":"TRANSPOSE(MMULT(camera!$A$12:$C$14,MMULT(camera!$A$16:$C$18,TRANSPOSE(AH234:AJ234))))","v":150.66592177571283},-471.67228774691597,-69.462457392934624,null,{"$f":"camera!$B$5*AM234/AN234","v":3395.1598132986014},{"$f":"camera!$B$5*AL234/AN234","v":-1084.5133287138631},null,{"$f":"IF( AND( (camera!$B$3) > (AQ234+camera!$B$3/2), 0 < (AQ234+camera!$B$3/2), AN234 >= 0 ), AQ234+camera!$B$3/2, 0)*-1+camera!$B$3","v":1000},{"$f":"IF( AND( (camera!$B$4) > (AP234+camera!$B$4/2), 0 < (AP234+camera!$B$4/2), AN234 >= 0 ), AP234+camera!$B$4/2, 0)","v":0},null,null,null,221.81899999999999,527.72709999999995,2942.3982999999998,null,{"$f":"MMULT(               MMULT(AX234:AZ234-$B$2:$D$2, TRANSPOSE($A$16:$C$18)),     TRANSPOSE($A$12:$C$14))","v":-2285.8062231291706},-5231.0456434743628,4288.4492105037398,null,-609.89945160851062,-266.50732128650645," ",766.50732128650645,0]
[null,null,null,null,null,null,null,null,null,null,null,null,null,null,null,null,null,null,null,null,80.058000000000007,547.16219999999998,null,null,null,"''",null,5.2155279999999999,-16.205468,null,-16.205468,78.232919999999993,null,{"$f":"camera!$B$5*COS(RADIANS(AE235))*COS(RADIANS(AF235))","v":97.915357746564766},{"$f":"camera!$B$5*COS(RADIANS(AE235))*SIN(RADIANS(AF235))","v":470.04338882519789},{"$f":"camera!$B$5*SIN(RADIANS(AE235))","v":-139.54137500786643},null,{"$f":"TRANSPOSE(MMULT(camera!$A$12:$C$14,MMULT(camera!$A$16:$C$18,TRANSPOSE(AH235:AJ235))))","v":54.627953403570316},-56.575779572197952,493.77623259198629,null,{"$f":"camera!$B$5*AM235/AN235","v":-57.288884962338045},{"$f":"camera!$B$5*AL235/AN235","v":55.316507557290741},null,{"$f":"IF( AND( (camera!$B$3) > (AQ235+camera!$B$3/2), 0 < (AQ235+camera!$B$3/2), AN235 >= 0 ), AQ235+camera!$B$3/2, 0)*-1+camera!$B$3","v":444.68349244270928},{"$f":"IF( AND( (camera!$B$4) > (AP235+camera!$B$4/2), 0 < (AP235+camera!$B$4/2), AN235 >= 0 ), AP235+camera!$B$4/2, 0)","v":442.71111503766195},null,null,null,60.205800000000004,633.88340000000005,2942.3982999999998,null,{"$f":"MMULT(               MMULT(AX235:AZ235-$B$2:$D$2, TRANSPOSE($A$16:$C$18)),     TRANSPOSE($A$12:$C$14))","v":-2301.7240001986902},-5060.7952993188783,4378.7234102068351,null,-577.88478800946052,-262.83048557410081," ",762.83048557410075,0]
[null,null,null,null,null,null,null,null,null,null,null,null,null,null,null,null,null,null,null,null,80.431399999999996,49.306199999999997,null,null,null,"''",null,10.228961,-70.037903,null,-70.037903,153.434415,null,{"$f":"camera!$B$5*COS(RADIANS(AE236))*COS(RADIANS(AF236))","v":-152.67730886439344},{"$f":"camera!$B$5*COS(RADIANS(AE236))*SIN(RADIANS(AF236))","v":76.340432552407293},{"$f":"camera!$B$5*SIN(RADIANS(AE236))","v":-469.95933623627263},null,{"$f":"TRANSPOSE(MMULT(camera!$A$12:$C$14,MMULT(camera!$A$16:$C$18,TRANSPOSE(AH236:AJ236))))","v":451.92435039219441},158.74983271040716,143.39760157342513,null,{"$f":"camera!$B$5*AM236/AN236","v":553.53029258694073},{"$f":"camera!$B$5*AL236/AN236","v":1575.7737417971794},null,{"$f":"IF( AND( (camera!$B$3) > (AQ236+camera!$B$3/2), 0 < (AQ236+camera!$B$3/2), AN236 >= 0 ), AQ236+camera!$B$3/2, 0)*-1+camera!$B$3","v":1000},{"$f":"IF( AND( (camera!$B$4) > (AP236+camera!$B$4/2), 0 < (AP236+camera!$B$4/2), AN236 >= 0 ), AP236+camera!$B$4/2, 0)","v":0},null,null,null,18.350200000000001,532.83510000000001,2917.8798999999999,null,{"$f":"MMULT(               MMULT(AX236:AZ236-$B$2:$D$2, TRANSPOSE($A$16:$C$18)),     TRANSPOSE($A$12:$C$14))","v":-2259.4645468143631},-5027.9059121533173,4280.2539787352271,null,-587.33733291675071,-263.9404762006684," ",763.9404762006684,0]
[null,null,null,null,null,null,null,null,null,null,null,null,null,null,null,null,null,null,null,null,80.431399999999996,459.30619999999999,null,null,null,"''",null,15.415494000000001,58.966065,null,58.966065,-128.76758999999998,null,{"$f":"camera!$B$5*COS(RADIANS(AE237))*COS(RADIANS(AF237))","v":-161.40777671227153},{"$f":"camera!$B$5*COS(RADIANS(AE237))*SIN(RADIANS(AF237))","v":-200.98348913271508},{"$f":"camera!$B$5*SIN(RADIANS(AE237))","v":428.4310524610014},null,{"$f":"TRANSPOSE(MMULT(camera!$A$12:$C$14,MMULT(camera!$A$16:$C$18,TRANSPOSE(AH237:AJ237))))","v":-384.71179643710485},143.27670611616355,-285.42708204835458,null,{"$f":"camera!$B$5*AM237/AN237","v":-250.9865305841771},{"$f":"camera!$B$5*AL237/AN237","v":673.92307989178539},null,{"$f":"IF( AND( (camera!$B$3) > (AQ237+camera!$B$3/2), 0 < (AQ237+camera!$B$3/2), AN237 >= 0 ), AQ237+camera!$B$3/2, 0)*-1+camera!$B$3","v":1000},{"$f":"IF( AND( (camera!$B$4) > (AP237+camera!$B$4/2), 0 < (AP237+camera!$B$4/2), AN237 >= 0 ), AP237+camera!$B$4/2, 0)","v":0},null,null,null,144.23740000000001,450.14550000000003,2917.8798999999999,null,{"$f":"MMULT(               MMULT(AX237:AZ237-$B$2:$D$2, TRANSPOSE($A$16:$C$18)),     TRANSPOSE($A$12:$C$14))","v":-2247.0655201648542},-5160.520946856439,4209.93560431691,null,-612.89784831444797,-266.87647168055145," ",766.8764716805515,0]
[null,null,null,null,null,null,null,null,null,null,null,null,null,null,null,null,null,null,null,null,81.898700000000005,90,null,null,null,"''",null,4.5665979999999999,-55.044975000000001,null,-55.044975000000001,68.49897,null,{"$f":"camera!$B$5*COS(RADIANS(AE238))*COS(RADIANS(AF238))","v":104.99516211940598},{"$f":"camera!$B$5*COS(RADIANS(AE238))*SIN(RADIANS(AF238))","v":266.53169617645767},{"$f":"camera!$B$5*SIN(RADIANS(AE238))","v":-409.80101374303615},null,{"$f":"TRANSPOSE(MMULT(camera!$A$12:$C$14,MMULT(camera!$A$16:$C$18,TRANSPOSE(AH238:AJ238))))","v":355.87954945535847},-81.36585588258319,341.65676310581898,null,{"$f":"camera!$B$5*AM238/AN238","v":-119.07543574277543},{"$f":"camera!$B$5*AL238/AN238","v":520.81443701018497},null,{"$f":"IF( AND( (camera!$B$3) > (AQ238+camera!$B$3/2), 0 < (AQ238+camera!$B$3/2), AN238 >= 0 ), AQ238+camera!$B$3/2, 0)*-1+camera!$B$3","v":1000},{"$f":"IF( AND( (camera!$B$4) > (AP238+camera!$B$4/2), 0 < (AP238+camera!$B$4/2), AN238 >= 0 ), AP238+camera!$B$4/2, 0)","v":380.92456425722457},null,null,null,365.6207,671.52880000000005,2851.5057999999999,null,{"$f":"MMULT(               MMULT(AX238:AZ238-$B$2:$D$2, TRANSPOSE($A$16:$C$18)),     TRANSPOSE($A$12:$C$14))","v":-2223.3468233746594},-5361.7669906190667,4457.6533983508789,null,-601.41138301630485,-249.38534074869892," ",749.38534074869892,0]
[null,null,null,null,null,null,null,null,null,null,null,null,null,null,null,null,null,null,null,null,81.898700000000005,500,null,null,null,"''",null,10.533742999999999,-61.685332000000002,null,-61.685332000000002,158.006145,null,{"$f":"camera!$B$5*COS(RADIANS(AE239))*COS(RADIANS(AF239))","v":-219.89748289252523},{"$f":"camera!$B$5*COS(RADIANS(AE239))*SIN(RADIANS(AF239))","v":88.816917357119408},{"$f":"camera!$B$5*SIN(RADIANS(AE239))","v":-440.17797787793768},null,{"$f":"TRANSPOSE(MMULT(camera!$A$12:$C$14,MMULT(camera!$A$16:$C$18,TRANSPOSE(AH239:AJ239))))","v":421.4545026090637},226.80161098207105,144.69668789051113,null,{"$f":"camera!$B$5*AM239/AN239","v":783.7138993592132},{"$f":"camera!$B$5*AL239/AN239","v":1456.3377667910729},null,{"$f":"IF( AND( (camera!$B$3) > (AQ239+camera!$B$3/2), 0 < (AQ239+camera!$B$3/2), AN239 >= 0 ), AQ239+camera!$B$3/2, 0)*-1+camera!$B$3","v":1000},{"$f":"IF( AND( (camera!$B$4) > (AP239+camera!$B$4/2), 0 < (AP239+camera!$B$4/2), AN239 >= 0 ), AP239+camera!$B$4/2, 0)","v":0},null,null,null,137.78739999999999,821.18200000000002,2851.5057999999999,null,{"$f":"MMULT(               MMULT(AX239:AZ239-$B$2:$D$2, TRANSPOSE($A$16:$C$18)),     TRANSPOSE($A$12:$C$14))","v":-2245.786811960169},-5121.7575293097561,4584.9168976483088,null,-558.54420523268402,-244.91030721975309," ",744.91030721975312,0]
[null,null,null,null,null,null,null,null,null,null,null,null,null,null,null,null,null,null,null,null,82.028800000000004,75.904499999999999,null,null,null,"''",null,6.2479610000000001,22.506799000000001,null,22.506799000000001,93.719414999999998,null,{"$f":"camera!$B$5*COS(RADIANS(AE240))*COS(RADIANS(AF240))","v":-29.964769186201089},{"$f":"camera!$B$5*COS(RADIANS(AE240))*SIN(RADIANS(AF240))","v":460.94411870818965},{"$f":"camera!$B$5*SIN(RADIANS(AE240))","v":191.39653088796587},null,{"$f":"TRANSPOSE(MMULT(camera!$A$12:$C$14,MMULT(camera!$A$16:$C$18,TRANSPOSE(AH240:AJ240))))","v":-267.77280947998912},70.024671224013403,416.40637353811269,null,{"$f":"camera!$B$5*AM240/AN240","v":84.082131871600922},{"$f":"camera!$B$5*AL240/AN240","v":-321.5282311901027},null,{"$f":"IF( AND( (camera!$B$3) > (AQ240+camera!$B$3/2), 0 < (AQ240+camera!$B$3/2), AN240 >= 0 ), AQ240+camera!$B$3/2, 0)*-1+camera!$B$3","v":821.5282311901027},{"$f":"IF( AND( (camera!$B$4) > (AP240+camera!$B$4/2), 0 < (AP240+camera!$B$4/2), AN240 >= 0 ), AP240+camera!$B$4/2, 0)","v":584.08213187160095},null,null,null,102.0615,734.93179999999995,2917.8798999999999,null,{"$f":"MMULT(               MMULT(AX240:AZ240-$B$2:$D$2, TRANSPOSE($A$16:$C$18)),     TRANSPOSE($A$12:$C$14))","v":-2295.6916515722914},-5093.6847773883346,4485.7080993262516,null,-567.76819451909944,-255.88954973654009," ",755.88954973654006,0]
[null,null,null,null,null,null,null,null,null,null,null,null,null,null,null,null,null,null,null,null,82.028800000000004,485.90449999999998,null,null,null,"''",null,17.423238999999999,-56.377727,null,-56.377727,-98.651415000000043,null,{"$f":"camera!$B$5*COS(RADIANS(AE241))*COS(RADIANS(AF241))","v":-41.645634579266257},{"$f":"camera!$B$5*COS(RADIANS(AE241))*SIN(RADIANS(AF241))","v":-273.70750458550469},{"$f":"camera!$B$5*SIN(RADIANS(AE241))","v":-416.3530269543698},null,{"$f":"TRANSPOSE(MMULT(camera!$A$12:$C$14,MMULT(camera!$A$16:$C$18,TRANSPOSE(AH241:AJ241))))","v":458.00592003786056},17.6319795087736,-199.79912539567098,null,{"$f":"camera!$B$5*AM241/AN241","v":-44.124265994298568},{"$f":"camera!$B$5*AL241/AN241","v":-1146.1659782815648},null,{"$f":"IF( AND( (camera!$B$3) > (AQ241+camera!$B$3/2), 0 < (AQ241+camera!$B$3/2), AN241 >= 0 ), AQ241+camera!$B$3/2, 0)*-1+camera!$B$3","v":1000},{"$f":"IF( AND( (camera!$B$4) > (AP241+camera!$B$4/2), 0 < (AP241+camera!$B$4/2), AN241 >= 0 ), AP241+camera!$B$4/2, 0)","v":0},null,null,null,299.4006,605.30870000000004,2917.8798999999999,null,{"$f":"MMULT(               MMULT(AX241:AZ241-$B$2:$D$2, TRANSPOSE($A$16:$C$18)),     TRANSPOSE($A$12:$C$14))","v":-2276.255105270578},-5301.5703400922857,4375.4779676491871,null,-605.82756664418309,-260.11502310152662," ",760.11502310152662,0]
[null,null,null,null,null,null,null,null,null,null,null,null,null,null,null,null,null,null,null,null,83.343199999999996,152.16220000000001,null,null,null,"''",null,1.101407,-46.718414000000003,null,-46.718414000000003,16.521104999999999,null,{"$f":"camera!$B$5*COS(RADIANS(AE242))*COS(RADIANS(AF242))","v":328.64005264101036},{"$f":"camera!$B$5*COS(RADIANS(AE242))*SIN(RADIANS(AF242))","v":97.479309759216775},{"$f":"camera!$B$5*SIN(RADIANS(AE242))","v":-363.99656587525737},null,{"$f":"TRANSPOSE(MMULT(camera!$A$12:$C$14,MMULT(camera!$A$16:$C$18,TRANSPOSE(AH242:AJ242))))","v":336.63016657560104},-318.89359637697311,187.04813589299212,null,{"$f":"camera!$B$5*AM242/AN242","v":-852.43724791624788},{"$f":"camera!$B$5*AL242/AN242","v":899.84902808168829},null,{"$f":"IF( AND( (camera!$B$3) > (AQ242+camera!$B$3/2), 0 < (AQ242+camera!$B$3/2), AN242 >= 0 ), AQ242+camera!$B$3/2, 0)*-1+camera!$B$3","v":1000},{"$f":"IF( AND( (camera!$B$4) > (AP242+camera!$B$4/2), 0 < (AP242+camera!$B$4/2), AN242 >= 0 ), AP242+camera!$B$4/2, 0)","v":0},null,null,null,161.2542,877.83579999999995,2750.4573999999998,null,{"$f":"MMULT(               MMULT(AX242:AZ242-$B$2:$D$2, TRANSPOSE($A$16:$C$18)),     TRANSPOSE($A$12:$C$14))","v":-2156.4291142090533},-5140.1973270324588,4660.0587542384019,null,-551.51636471936786,-231.37359719421397," ",731.37359719421397,0]
[null,null,null,null,null,null,null,null,null,null,null,null,null,null,null,null,null,null,null,null,83.343199999999996,562.16219999999998,null,null,null,"''",null,3.0862699999999998,38.840274000000001,null,38.840274000000001,46.294049999999999,null,{"$f":"camera!$B$5*COS(RADIANS(AE243))*COS(RADIANS(AF243))","v":269.09246815012295},{"$f":"camera!$B$5*COS(RADIANS(AE243))*SIN(RADIANS(AF243))","v":281.53064465879129},{"$f":"camera!$B$5*SIN(RADIANS(AE243))","v":313.5757320056519},null,{"$f":"TRANSPOSE(MMULT(camera!$A$12:$C$14,MMULT(camera!$A$16:$C$18,TRANSPOSE(AH243:AJ243))))","v":-361.58562727597013},-243.53147762611042,244.84332450096824,null,{"$f":"camera!$B$5*AM243/AN243","v":-497.32104831215725},{"$f":"camera!$B$5*AL243/AN243","v":-738.40205366624207},null,{"$f":"IF( AND( (camera!$B$3) > (AQ243+camera!$B$3/2), 0 < (AQ243+camera!$B$3/2), AN243 >= 0 ), AQ243+camera!$B$3/2, 0)*-1+camera!$B$3","v":1000},{"$f":"IF( AND( (camera!$B$4) > (AP243+camera!$B$4/2), 0 < (AP243+camera!$B$4/2), AN243 >= 0 ), AP243+camera!$B$4/2, 0)","v":2.6789516878427548},null,null,null,409.11759999999998,715.02570000000003,2750.4573999999998,null,{"$f":"MMULT(               MMULT(AX243:AZ243-$B$2:$D$2, TRANSPOSE($A$16:$C$18)),     TRANSPOSE($A$12:$C$14))","v":-2132.0162920449575},-5401.3073671557722,4521.6067597336069,null,-597.27743412542952,-235.75870319277462," ",735.75870319277465,0]
[null,null,null,null,null,null,null,null,null,null,null,null,null,null,null,null,null,null,null,null,83.547300000000007,103.4461,null,null,null,"'Megrez'",null,12.257085999999999,57.032617000000002,null,57.032617000000002,-176.14371,null,{"$f":"camera!$B$5*COS(RADIANS(AE244))*COS(RADIANS(AF244))","v":-271.46473219839703},{"$f":"camera!$B$5*COS(RADIANS(AE244))*SIN(RADIANS(AF244))","v":-18.298561154200243},{"$f":"camera!$B$5*SIN(RADIANS(AE244))","v":419.49024044921299},null,{"$f":"TRANSPOSE(MMULT(camera!$A$12:$C$14,MMULT(camera!$A$16:$C$18,TRANSPOSE(AH244:AJ244))))","v":-405.84335511176562},268.83690224633091,-114.09597320774274,null,{"$f":"camera!$B$5*AM244/AN244","v":-1178.1173983977517},{"$f":"camera!$B$5*AL244/AN244","v":1778.5174344970853},null,{"$f":"IF( AND( (camera!$B$3) > (AQ244+camera!$B$3/2), 0 < (AQ244+camera!$B$3/2), AN244 >= 0 ), AQ244+camera!$B$3/2, 0)*-1+camera!$B$3","v":1000},{"$f":"IF( AND( (camera!$B$4) > (AP244+camera!$B$4/2), 0 < (AP244+camera!$B$4/2), AN244 >= 0 ), AP244+camera!$B$4/2, 0)","v":0},null,null,null,515.27390000000003,443.69549999999998,2412.6379999999999,null,{"$f":"MMULT(               MMULT(AX244:AZ244-$B$2:$D$2, TRANSPOSE($A$16:$C$18)),     TRANSPOSE($A$12:$C$14))","v":-1753.9990393337255},-5530.7076954956801,4323.1887762838542,null,-639.6560480814569,-202.85940888769562," ",702.85940888769562,0]
[null,null,null,null,null,null,null,null,null,null,null,null,null,null,null,null,null,null,null,null,83.547300000000007,513.4461,null,null,null,"''",null,17.202552000000001,-43.239189000000003,null,-43.239189000000003,-101.96172000000001,null,{"$f":"camera!$B$5*COS(RADIANS(AE245))*COS(RADIANS(AF245))","v":-75.493799802683654},{"$f":"camera!$B$5*COS(RADIANS(AE245))*SIN(RADIANS(AF245))","v":-356.34089996798798},{"$f":"camera!$B$5*SIN(RADIANS(AE245))","v":-342.52277179971071},null,{"$f":"TRANSPOSE(MMULT(camera!$A$12:$C$14,MMULT(camera!$A$16:$C$18,TRANSPOSE(AH245:AJ245))))","v":400.10412096003182},44.149367294154175,-296.59319911003706,null,{"$f":"camera!$B$5*AM245/AN245","v":-74.427477478629939},{"$f":"camera!$B$5*AL245/AN245","v":-674.49982359776197},null,{"$f":"IF( AND( (camera!$B$3) > (AQ245+camera!$B$3/2), 0 < (AQ245+camera!$B$3/2), AN245 >= 0 ), AQ245+camera!$B$3/2, 0)*-1+camera!$B$3","v":1000},{"$f":"IF( AND( (camera!$B$4) > (AP245+camera!$B$4/2), 0 < (AP245+camera!$B$4/2), AN245 >= 0 ), AP245+camera!$B$4/2, 0)","v":0},null,null,null,571.92769999999996,467.16230000000002,2513.6864,null,{"$f":"MMULT(               MMULT(AX245:AZ245-$B$2:$D$2, TRANSPOSE($A$16:$C$18)),     TRANSPOSE($A$12:$C$14))","v":-1858.4291709636329},-5585.1006442985199,4333.5269399279414,null,-644.40589867330903,-214.42455495552258," ",714.42455495552258,0]
[null,null,null,null,null,null,null,null,null,null,null,null,null,null,null,null,null,null,null,null,84.294399999999996,34.306199999999997,null,null,null,"''",null,17.983775000000001,-9.7736319999999992,null,-9.7736319999999992,-90.243374999999958,null,{"$f":"camera!$B$5*COS(RADIANS(AE246))*COS(RADIANS(AF246))","v":-2.0930159839379163},{"$f":"camera!$B$5*COS(RADIANS(AE246))*SIN(RADIANS(AF246))","v":-492.73861773361847},{"$f":"camera!$B$5*SIN(RADIANS(AE246))","v":-84.877994074164846},null,{"$f":"TRANSPOSE(MMULT(camera!$A$12:$C$14,MMULT(camera!$A$16:$C$18,TRANSPOSE(AH246:AJ246))))","v":168.85775260860066},-40.859948782807685,-468.84701552792131,null,{"$f":"camera!$B$5*AM246/AN246","v":43.574926819998431},{"$f":"camera!$B$5*AL246/AN246","v":-180.07766607884554},null,{"$f":"IF( AND( (camera!$B$3) > (AQ246+camera!$B$3/2), 0 < (AQ246+camera!$B$3/2), AN246 >= 0 ), AQ246+camera!$B$3/2, 0)*-1+camera!$B$3","v":1000},{"$f":"IF( AND( (camera!$B$4) > (AP246+camera!$B$4/2), 0 < (AP246+camera!$B$4/2), AN246 >= 0 ), AP246+camera!$B$4/2, 0)","v":0},null,null,null,592.85550000000001,475.83089999999999,2632.0718999999999,null,{"$f":"MMULT(               MMULT(AX246:AZ246-$B$2:$D$2, TRANSPOSE($A$16:$C$18)),     TRANSPOSE($A$12:$C$14))","v":-1976.8324181784944},-5605.1932894296615,4323.2702002090882,null,-648.25849760195138,-228.62697988236866," ",728.62697988236869,0]
[null,null,null,null,null,null,null,null,null,null,null,null,null,null,null,null,null,null,null,null,84.294399999999996,444.30619999999999,null,null,null,"''",null,19.115670000000001,-27.670423,null,-27.670423,-73.264949999999999,null,{"$f":"camera!$B$5*COS(RADIANS(AE247))*COS(RADIANS(AF247))","v":127.50748527562233},{"$f":"camera!$B$5*COS(RADIANS(AE247))*SIN(RADIANS(AF247))","v":-424.06190648243359},{"$f":"camera!$B$5*SIN(RADIANS(AE247))","v":-232.19246471229579},null,{"$f":"TRANSPOSE(MMULT(camera!$A$12:$C$14,MMULT(camera!$A$16:$C$18,TRANSPOSE(AH247:AJ247))))","v":300.09254964213881},-163.98171122905072,-364.76630879464824,null,{"$f":"camera!$B$5*AM247/AN247","v":224.77639419457344},{"$f":"camera!$B$5*AL247/AN247","v":-411.34905062062808},null,{"$f":"IF( AND( (camera!$B$3) > (AQ247+camera!$B$3/2), 0 < (AQ247+camera!$B$3/2), AN247 >= 0 ), AQ247+camera!$B$3/2, 0)*-1+camera!$B$3","v":1000},{"$f":"IF( AND( (camera!$B$4) > (AP247+camera!$B$4/2), 0 < (AP247+camera!$B$4/2), AN247 >= 0 ), AP247+camera!$B$4/2, 0)","v":0},null,null,null,327.97539999999998,366.1139,2321.7455,null,{"$f":"MMULT(               MMULT(AX247:AZ247-$B$2:$D$2, TRANSPOSE($A$16:$C$18)),     TRANSPOSE($A$12:$C$14))","v":-1648.2321046998577},-5350.8836048066951,4246.7837289172376,null,-629.99247740959947,-194.05651546094765," ",694.05651546094759,0]
[null,null,null,null,null,null,null,null,null,null,null,null,null,null,null,null,null,null,null,null,85.058000000000007,137.16220000000001,null,null,null,"''",null,4.2404039999999998,-62.473858,null,-62.473858,63.606059999999999,null,{"$f":"camera!$B$5*COS(RADIANS(AE248))*COS(RADIANS(AF248))","v":102.72291038353255},{"$f":"camera!$B$5*COS(RADIANS(AE248))*SIN(RADIANS(AF248))","v":206.98892812993898},{"$f":"camera!$B$5*SIN(RADIANS(AE248))","v":-443.40003080058045},null,{"$f":"TRANSPOSE(MMULT(camera!$A$12:$C$14,MMULT(camera!$A$16:$C$18,TRANSPOSE(AH248:AJ248))))","v":399.30265946691918},-84.29174492492217,288.88109643962071,null,{"$f":"camera!$B$5*AM248/AN248","v":-145.89349383499737},{"$f":"camera!$B$5*AL248/AN248","v":691.11939892954854},null,{"$f":"IF( AND( (camera!$B$3) > (AQ248+camera!$B$3/2), 0 < (AQ248+camera!$B$3/2), AN248 >= 0 ), AQ248+camera!$B$3/2, 0)*-1+camera!$B$3","v":1000},{"$f":"IF( AND( (camera!$B$4) > (AP248+camera!$B$4/2), 0 < (AP248+camera!$B$4/2), AN248 >= 0 ), AP248+camera!$B$4/2, 0)","v":354.10650616500266},null,null,null,429.02370000000002,407.96949999999998,2346.2640000000001,null,{"$f":"MMULT(               MMULT(AX248:AZ248-$B$2:$D$2, TRANSPOSE($A$16:$C$18)),     TRANSPOSE($A$12:$C$14))","v":-1681.147913776548},-5447.8994296117298,4292.2621444209208,null,-634.61867499086759,-195.83472038884003," ",695.83472038883997,0]
[null,null,null,null,null,null,null,null,null,null,null,null,null,null,null,null,null,null,null,null,85.058000000000007,547.16219999999998,null,null,null,"''",null,11.237335,15.42957,null,15.42957,168.560025,null,{"$f":"camera!$B$5*COS(RADIANS(AE249))*COS(RADIANS(AF249))","v":-472.40364811483096},{"$f":"camera!$B$5*COS(RADIANS(AE249))*SIN(RADIANS(AF249))","v":95.596326470367146},{"$f":"camera!$B$5*SIN(RADIANS(AE249))","v":133.02682290865258},null,{"$f":"TRANSPOSE(MMULT(camera!$A$12:$C$14,MMULT(camera!$A$16:$C$18,TRANSPOSE(AH249:AJ249))))","v":-140.39324321199149},478.93777844866565,30.13870659261099,null,{"$f":"camera!$B$5*AM249/AN249","v":7945.5595909030362},{"$f":"camera!$B$5*AL249/AN249","v":-2329.1185834499493},null,{"$f":"IF( AND( (camera!$B$3) > (AQ249+camera!$B$3/2), 0 < (AQ249+camera!$B$3/2), AN249 >= 0 ), AQ249+camera!$B$3/2, 0)*-1+camera!$B$3","v":1000},{"$f":"IF( AND( (camera!$B$4) > (AP249+camera!$B$4/2), 0 < (AP249+camera!$B$4/2), AN249 >= 0 ), AP249+camera!$B$4/2, 0)","v":0},null,null,null,140.67679999999999,288.53230000000002,2412.6379999999999,null,{"$f":"MMULT(               MMULT(AX249:AZ249-$B$2:$D$2, TRANSPOSE($A$16:$C$18)),     TRANSPOSE($A$12:$C$14))","v":-1721.4884459338707},-5171.0594144982406,4138.8120389902742,null,-624.70334069094361,-207.96890867673395," ",707.96890867673392,0]
[null,null,null,null,null,null,null,null,null,null,null,null,null,null,null,null,null,null,null,null,85.431399999999996,49.306199999999997,null,null,null,"''",null,7.8215709999999996,-24.859786,null,-24.859786,117.32356499999999,null,{"$f":"camera!$B$5*COS(RADIANS(AE250))*COS(RADIANS(AF250))","v":-208.24117131075303},{"$f":"camera!$B$5*COS(RADIANS(AE250))*SIN(RADIANS(AF250))","v":403.05305699415692},{"$f":"camera!$B$5*SIN(RADIANS(AE250))","v":-210.19954286056517},null,{"$f":"TRANSPOSE(MMULT(camera!$A$12:$C$14,MMULT(camera!$A$16:$C$18,TRANSPOSE(AH250:AJ250))))","v":140.43465420496904},242.577139333227,414.04642175876728,null,{"$f":"camera!$B$5*AM250/AN250","v":292.93471285516614},{"$f":"camera!$B$5*AL250/AN250","v":169.58805441239801},null,{"$f":"IF( AND( (camera!$B$3) > (AQ250+camera!$B$3/2), 0 < (AQ250+camera!$B$3/2), AN250 >= 0 ), AQ250+camera!$B$3/2, 0)*-1+camera!$B$3","v":330.41194558760196},{"$f":"IF( AND( (camera!$B$4) > (AP250+camera!$B$4/2), 0 < (AP250+camera!$B$4/2), AN250 >= 0 ), AP250+camera!$B$4/2, 0)","v":792.93471285516614},null,null,null,226.92699999999999,324.25830000000002,2346.2640000000001,null,{"$f":"MMULT(               MMULT(AX250:AZ250-$B$2:$D$2, TRANSPOSE($A$16:$C$18)),     TRANSPOSE($A$12:$C$14))","v":-1663.608311894184},-5253.8676803821891,4192.7901191421379,null,-626.53597378935251,-198.38917100798801," ",698.38917100798801,0]
[null,null,null,null,null,null,null,null,null,null,null,null,null,null,null,null,null,null,null,null,85.431399999999996,459.30619999999999,null,null,null,"''",null,1.9065840000000001,63.670101000000003,null,63.670101000000003,28.598760000000002,null,{"$f":"camera!$B$5*COS(RADIANS(AE251))*COS(RADIANS(AF251))","v":194.71212070129562},{"$f":"camera!$B$5*COS(RADIANS(AE251))*SIN(RADIANS(AF251))","v":106.15502791874763},{"$f":"camera!$B$5*SIN(RADIANS(AE251))","v":448.12754891835647},null,{"$f":"TRANSPOSE(MMULT(camera!$A$12:$C$14,MMULT(camera!$A$16:$C$18,TRANSPOSE(AH251:AJ251))))","v":-462.6298242548317},-184.71916199217387,43.040410114827253,null,{"$f":"camera!$B$5*AM251/AN251","v":-2145.8805980166399},{"$f":"camera!$B$5*AL251/AN251","v":-5374.3658926644093},null,{"$f":"IF( AND( (camera!$B$3) > (AQ251+camera!$B$3/2), 0 < (AQ251+camera!$B$3/2), AN251 >= 0 ), AQ251+camera!$B$3/2, 0)*-1+camera!$B$3","v":1000},{"$f":"IF( AND( (camera!$B$4) > (AP251+camera!$B$4/2), 0 < (AP251+camera!$B$4/2), AN251 >= 0 ), AP251+camera!$B$4/2, 0)","v":0},null,null,null,63.095199999999998,256.39699999999999,2632.0718999999999,null,{"$f":"MMULT(               MMULT(AX251:AZ251-$B$2:$D$2, TRANSPOSE($A$16:$C$18)),     TRANSPOSE($A$12:$C$14))","v":-1930.855496375252},-5096.5738118486843,4062.5221194643732,null,-627.26720765776986,-237.64245948645166," ",737.64245948645168,0]
[null,null,null,null,null,null,null,null,null,null,null,null,null,null,null,null,null,null,null,null,86.358400000000003,78.358900000000006,null,null,null,"''",null,5.4079490000000003,-2.3971460000000002,null,-2.3971460000000002,81.119235000000003,null,{"$f":"camera!$B$5*COS(RADIANS(AE252))*COS(RADIANS(AF252))","v":77.121805510672104},{"$f":"camera!$B$5*COS(RADIANS(AE252))*SIN(RADIANS(AF252))","v":493.57357702441476},{"$f":"camera!$B$5*SIN(RADIANS(AE252))","v":-20.912942836869227},null,{"$f":"TRANSPOSE(MMULT(camera!$A$12:$C$14,MMULT(camera!$A$16:$C$18,TRANSPOSE(AH252:AJ252))))","v":-65.953973577784737},-33.81056205081299,494.47640920787006,null,{"$f":"camera!$B$5*AM252/AN252","v":-34.188245810326983},{"$f":"camera!$B$5*AL252/AN252","v":-66.690718050068526},null,{"$f":"IF( AND( (camera!$B$3) > (AQ252+camera!$B$3/2), 0 < (AQ252+camera!$B$3/2), AN252 >= 0 ), AQ252+camera!$B$3/2, 0)*-1+camera!$B$3","v":566.69071805006854},{"$f":"IF( AND( (camera!$B$4) > (AP252+camera!$B$4/2), 0 < (AP252+camera!$B$4/2), AN252 >= 0 ), AP252+camera!$B$4/2, 0)","v":465.81175418967302},null,null,null,84.022999999999996,265.06560000000002,2513.6864,null,{"$f":"MMULT(               MMULT(AX252:AZ252-$B$2:$D$2, TRANSPOSE($A$16:$C$18)),     TRANSPOSE($A$12:$C$14))","v":-1816.0848271016605},-5116.6664569798268,4093.3802324198955,null,-624.99281357439304,-221.83192422708802," ",721.83192422708805,0]
[null,null,null,null,null,null,null,null,null,null,null,null,null,null,null,null,null,null,null,null,86.358400000000003,488.35890000000001,null,null,null,"''",null,6.7548240000000002,12.895591,null,12.895591,101.32236,null,{"$f":"camera!$B$5*COS(RADIANS(AE253))*COS(RADIANS(AF253))","v":-95.68854349635042},{"$f":"camera!$B$5*COS(RADIANS(AE253))*SIN(RADIANS(AF253))","v":477.90367299772294},{"$f":"camera!$B$5*SIN(RADIANS(AE253))","v":111.58755297448073},null,{"$f":"TRANSPOSE(MMULT(camera!$A$12:$C$14,MMULT(camera!$A$16:$C$18,TRANSPOSE(AH253:AJ253))))","v":-191.11540611999533},136.97646928113613,441.26222182151866,null,{"$f":"camera!$B$5*AM253/AN253","v":155.20983046735901},{"$f":"camera!$B$5*AL253/AN253","v":-216.55536851883221},null,{"$f":"IF( AND( (camera!$B$3) > (AQ253+camera!$B$3/2), 0 < (AQ253+camera!$B$3/2), AN253 >= 0 ), AQ253+camera!$B$3/2, 0)*-1+camera!$B$3","v":716.55536851883221},{"$f":"IF( AND( (camera!$B$4) > (AP253+camera!$B$4/2), 0 < (AP253+camera!$B$4/2), AN253 >= 0 ), AP253+camera!$B$4/2, 0)","v":655.20983046735898},null,null,null,140.67679999999999,288.53230000000002,2851.5057999999999,null,{"$f":"MMULT(               MMULT(AX253:AZ253-$B$2:$D$2, TRANSPOSE($A$16:$C$18)),     TRANSPOSE($A$12:$C$14))","v":-2153.6888579212819},-5171.0594144982406,4062.6034452835797,null,-636.42187628496038,-265.06264848733582," ",765.06264848733576,0]
[null,null,null,null,null,null,null,null,null,null,null,null,null,null,null,null,null,null,null,null,86.898700000000005,90,null,null,null,"''",null,8.5044310000000003,60.718169000000003,null,60.718169000000003,127.56646500000001,null,{"$f":"camera!$B$5*COS(RADIANS(AE254))*COS(RADIANS(AF254))","v":-149.09936492147062},{"$f":"camera!$B$5*COS(RADIANS(AE254))*SIN(RADIANS(AF254))","v":193.84406457206393},{"$f":"camera!$B$5*SIN(RADIANS(AE254))","v":436.11220804994173},null,{"$f":"TRANSPOSE(MMULT(camera!$A$12:$C$14,MMULT(camera!$A$16:$C$18,TRANSPOSE(AH254:AJ254))))","v":-460.76272844768948},165.42662024861866,101.64517394623346,null,{"$f":"camera!$B$5*AM254/AN254","v":813.74557111842432},{"$f":"camera!$B$5*AL254/AN254","v":-2266.5253575709162},null,{"$f":"IF( AND( (camera!$B$3) > (AQ254+camera!$B$3/2), 0 < (AQ254+camera!$B$3/2), AN254 >= 0 ), AQ254+camera!$B$3/2, 0)*-1+camera!$B$3","v":1000},{"$f":"IF( AND( (camera!$B$4) > (AP254+camera!$B$4/2), 0 < (AP254+camera!$B$4/2), AN254 >= 0 ), AP254+camera!$B$4/2, 0)","v":0},null,null,null,84.022999999999996,265.06560000000002,2750.4573999999998,null,{"$f":"MMULT(               MMULT(AX254:AZ254-$B$2:$D$2, TRANSPOSE($A$16:$C$18)),     TRANSPOSE($A$12:$C$14))","v":-2049.2587435901137},-5116.6664569798268,4052.2653797455191,null,-631.33407828550855,-252.85347226182981," ",752.85347226182978,0]
[null,null,null,null,null,null,null,null,null,null,null,null,null,null,null,null,null,null,null,null,86.898700000000005,500,null,null,null,"''",null,19.424972,3.1147749999999998,null,3.1147749999999998,-68.62542000000002,null,{"$f":"camera!$B$5*COS(RADIANS(AE255))*COS(RADIANS(AF255))","v":181.96262424726137},{"$f":"camera!$B$5*COS(RADIANS(AE255))*SIN(RADIANS(AF255))","v":-464.92095546814255},{"$f":"camera!$B$5*SIN(RADIANS(AE255))","v":27.168153114250973},null,{"$f":"TRANSPOSE(MMULT(camera!$A$12:$C$14,MMULT(camera!$A$16:$C$18,TRANSPOSE(AH255:AJ255))))","v":50.916154972549862},-221.79073271875916,-445.21502225653529,null,{"$f":"camera!$B$5*AM255/AN255","v":249.0827146786639},{"$f":"camera!$B$5*AL255/AN255","v":-57.18153299779236},null,{"$f":"IF( AND( (camera!$B$3) > (AQ255+camera!$B$3/2), 0 < (AQ255+camera!$B$3/2), AN255 >= 0 ), AQ255+camera!$B$3/2, 0)*-1+camera!$B$3","v":1000},{"$f":"IF( AND( (camera!$B$4) > (AP255+camera!$B$4/2), 0 < (AP255+camera!$B$4/2), AN255 >= 0 ), AP255+camera!$B$4/2, 0)","v":0},null,null,null,327.97539999999998,366.1139,2942.3982999999998,null,{"$f":"MMULT(               MMULT(AX255:AZ255-$B$2:$D$2, TRANSPOSE($A$16:$C$18)),     TRANSPOSE($A$12:$C$14))","v":-2259.4557940685927},-5350.8836048066951,4139.0085012333602,null,-646.39678841106695,-272.94650317767042," ",772.94650317767037,0]
[null,null,null,null,null,null,null,null,null,null,null,null,null,null,null,null,null,null,null,null,87.580799999999996,100.53060000000001,null,null,null,"''",null,15.378021,-44.689622,null,-44.689622,-129.32968499999998,null,{"$f":"camera!$B$5*COS(RADIANS(AE256))*COS(RADIANS(AF256))","v":-225.28622490280398},{"$f":"camera!$B$5*COS(RADIANS(AE256))*SIN(RADIANS(AF256))","v":-274.95521431910436},{"$f":"camera!$B$5*SIN(RADIANS(AE256))","v":-351.63297198610172},null,{"$f":"TRANSPOSE(MMULT(camera!$A$12:$C$14,MMULT(camera!$A$16:$C$18,TRANSPOSE(AH256:AJ256))))","v":397.26424292805984},200.46501687495481,-228.02389852846449,null,{"$f":"camera!$B$5*AM256/AN256","v":-439.57019016129692},{"$f":"camera!$B$5*AL256/AN256","v":-871.10220790841549},null,{"$f":"IF( AND( (camera!$B$3) > (AQ256+camera!$B$3/2), 0 < (AQ256+camera!$B$3/2), AN256 >= 0 ), AQ256+camera!$B$3/2, 0)*-1+camera!$B$3","v":1000},{"$f":"IF( AND( (camera!$B$4) > (AP256+camera!$B$4/2), 0 < (AP256+camera!$B$4/2), AN256 >= 0 ), AP256+camera!$B$4/2, 0)","v":0},null,null,null,226.92699999999999,324.25830000000002,2917.8798999999999,null,{"$f":"MMULT(               MMULT(AX256:AZ256-$B$2:$D$2, TRANSPOSE($A$16:$C$18)),     TRANSPOSE($A$12:$C$14))","v":-2226.5400819592351},-5253.8676803821891,4093.5300597816959,null,-641.72823988769892,-271.95843800374757," ",771.95843800374757,0]
[null,null,null,null,null,null,null,null,null,null,null,null,null,null,null,null,null,null,null,null,87.580799999999996,510.53059999999999,null,null,null,"''",null,8.7795869999999994,6.4188090000000004,null,6.4188090000000004,131.693805,null,{"$f":"camera!$B$5*COS(RADIANS(AE257))*COS(RADIANS(AF257))","v":-330.48999015339166},{"$f":"camera!$B$5*COS(RADIANS(AE257))*SIN(RADIANS(AF257))","v":371.01459135324092},{"$f":"camera!$B$5*SIN(RADIANS(AE257))","v":55.897579655998719},null,{"$f":"TRANSPOSE(MMULT(camera!$A$12:$C$14,MMULT(camera!$A$16:$C$18,TRANSPOSE(AH257:AJ257))))","v":-114.22743751421365},361.5684282428125,325.91465787374239,null,{"$f":"camera!$B$5*AM257/AN257","v":554.6980160414912},{"$f":"camera!$B$5*AL257/AN257","v":-175.24133197848491},null,{"$f":"IF( AND( (camera!$B$3) > (AQ257+camera!$B$3/2), 0 < (AQ257+camera!$B$3/2), AN257 >= 0 ), AQ257+camera!$B$3/2, 0)*-1+camera!$B$3","v":675.24133197848494},{"$f":"IF( AND( (camera!$B$4) > (AP257+camera!$B$4/2), 0 < (AP257+camera!$B$4/2), AN257 >= 0 ), AP257+camera!$B$4/2, 0)","v":0},null,null,null,515.27390000000003,443.69549999999998,2851.5057999999999,null,{"$f":"MMULT(               MMULT(AX257:AZ257-$B$2:$D$2, TRANSPOSE($A$16:$C$18)),     TRANSPOSE($A$12:$C$14))","v":-2186.1994513211366},-5530.7076954956801,4246.9801825771601,null,-651.13415388478757,-257.38281759470129," ",757.38281759470124,0]
[null,null,null,null,null,null,null,null,null,null,null,null,null,null,null,null,null,null,null,null,88.343199999999996,152.16220000000001,null,null,null,"''",null,13.57822,-0.59582000000000002,null,-0.59582000000000002,-156.32669999999999,null,{"$f":"camera!$B$5*COS(RADIANS(AE258))*COS(RADIANS(AF258))","v":-457.90014168005916},{"$f":"camera!$B$5*COS(RADIANS(AE258))*SIN(RADIANS(AF258))","v":-200.74966081103838},{"$f":"camera!$B$5*SIN(RADIANS(AE258))","v":-5.199416662932788},null,{"$f":"TRANSPOSE(MMULT(camera!$A$12:$C$14,MMULT(camera!$A$16:$C$18,TRANSPOSE(AH258:AJ258))))","v":46.777646839314983},438.66120760280756,-235.34697087624241,null,{"$f":"camera!$B$5*AM258/AN258","v":-931.9457267063749},{"$f":"camera!$B$5*AL258/AN258","v":-99.380176139834589},null,{"$f":"IF( AND( (camera!$B$3) > (AQ258+camera!$B$3/2), 0 < (AQ258+camera!$B$3/2), AN258 >= 0 ), AQ258+camera!$B$3/2, 0)*-1+camera!$B$3","v":1000},{"$f":"IF( AND( (camera!$B$4) > (AP258+camera!$B$4/2), 0 < (AP258+camera!$B$4/2), AN258 >= 0 ), AP258+camera!$B$4/2, 0)","v":0},null,null,null,429.02370000000002,407.96949999999998,2917.8798999999999,null,{"$f":"MMULT(               MMULT(AX258:AZ258-$B$2:$D$2, TRANSPOSE($A$16:$C$18)),     TRANSPOSE($A$12:$C$14))","v":-2244.079683841599},-5447.8994296117298,4193.0020850604787,null,-649.64186984576122,-267.59820747969303," ",767.59820747969297,0]
[null,null,null,null,null,null,null,null,null,null,null,null,null,null,null,null,null,null,null,null,88.343199999999996,562.16219999999998,null,null,null,"''",null,5.5856329999999996,9.934158,null,{"$f":"AC259","v":9.934158},{"$f":"IF(AB259*15/1>180, (AB259*15/1)-360, AB259*15/1)","v":83.784494999999993},null,{"$f":"camera!$B$5*COS(RADIANS(AE259))*COS(RADIANS(AF259))","v":53.322538355769453},{"$f":"camera!$B$5*COS(RADIANS(AE259))*SIN(RADIANS(AF259))","v":489.60824454180289},{"$f":"camera!$B$5*SIN(RADIANS(AE259))","v":86.258180945296957},null,{"$f":"TRANSPOSE(MMULT(camera!$A$12:$C$14,MMULT(camera!$A$16:$C$18,TRANSPOSE(AH259:AJ259))))","v":-170.45078616202477},-10.447459790393403,469.93337834279845,null,{"$f":"camera!$B$5*AM259/AN259","v":-11.11589458407483},{"$f":"camera!$B$5*AL259/AN259","v":-181.35633051126604},null,{"$f":"IF( AND( (camera!$B$3) > (AQ259+camera!$B$3/2), 0 < (AQ259+camera!$B$3/2), AN259 >= 0 ), AQ259+camera!$B$3/2, 0)*-1+camera!$B$3","v":681.35633051126604},{"$f":"IF( AND( (camera!$B$4) > (AP259+camera!$B$4/2), 0 < (AP259+camera!$B$4/2), AN259 >= 0 ), AP259+camera!$B$4/2, 0)","v":488.88410541592515},null,null,null,571.92769999999996,467.16230000000002,2750.4573999999998,null,{"$f":"MMULT(               MMULT(AX259:AZ259-$B$2:$D$2, TRANSPOSE($A$16:$C$18)),     TRANSPOSE($A$12:$C$14))","v":-2091.6030874520861},-5585.1006442985199,4292.4120872535641,null,-650.57833809615227,-243.63959528293651," ",743.63959528293651,0]
[null,null,null,null,null,null,null,null,null,null,null,null,null,null,null,null,null,null,null,null,89.294399999999996,34.306199999999997,null,null,null,"''",null,10.28472,-61.332304000000001,null,-61.332304000000001,154.27080000000001,null,{"$f":"camera!$B$5*COS(RADIANS(AE260))*COS(RADIANS(AF260))","v":-216.0832933612804},{"$f":"camera!$B$5*COS(RADIANS(AE260))*SIN(RADIANS(AF260))","v":104.12953005673931},{"$f":"camera!$B$5*SIN(RADIANS(AE260))","v":-438.70838982210665},null,{"$f":"TRANSPOSE(MMULT(camera!$A$12:$C$14,MMULT(camera!$A$16:$C$18,TRANSPOSE(AH260:AJ260))))","v":417.30062632587953},224.33651772677052,159.79147061797465,null,{"$f":"camera!$B$5*AM260/AN260","v":701.96649689490778},{"$f":"camera!$B$5*AL260/AN260","v":1305.7662737316912},null,{"$f":"IF( AND( (camera!$B$3) > (AQ260+camera!$B$3/2), 0 < (AQ260+camera!$B$3/2), AN260 >= 0 ), AQ260+camera!$B$3/2, 0)*-1+camera!$B$3","v":1000},{"$f":"IF( AND( (camera!$B$4) > (AP260+camera!$B$4/2), 0 < (AP260+camera!$B$4/2), AN260 >= 0 ), AP260+camera!$B$4/2, 0)","v":0},null,null,null,4476.3334999999997,-392.15170000000001,-219.43389999999999,null,{"$f":"MMULT(               MMULT(AX260:AZ260-$B$2:$D$2, TRANSPOSE($A$16:$C$18)),     TRANSPOSE($A$12:$C$14))","v":922.72840050184868},-9549.5431513806416,4300.2110779042878,null,{"$f":"$B$5*BC260/BD260","v":-1110.3574892461581},{"$f":"$B$5*BB260/BD260","v":107.28873348137381}," ",{"$f":"IF( AND( ($B$3) > (BG260+$B$3/2), 0 < (BG260+$B$3/2), BD260 >= 0 ), BG260+$B$3/2, 0)*-1+$B$3","v":392.71126651862619},{"$f":"IF( AND( ($B$4) > (BF260+$B$4/2), 0 < (BF260+$B$4/2), BD260 >= 0 ), BF260+$B$4/2, 0)","v":0}]
[null,null,null,null,null,null,null,null,null,null,null,null,null,null,null,null,null,null,null,null,89.294399999999996,444.30619999999999,null,null,null,"''",null,12.926724999999999,3.3974700000000002,null,3.3974700000000002,-166.09912500000002,null,{"$f":"camera!$B$5*COS(RADIANS(AE261))*COS(RADIANS(AF261))","v":-484.50336617194438},{"$f":"camera!$B$5*COS(RADIANS(AE261))*SIN(RADIANS(AF261))","v":-119.91031349854769},{"$f":"camera!$B$5*SIN(RADIANS(AE261))","v":29.631147205850613},null,{"$f":"TRANSPOSE(MMULT(camera!$A$12:$C$14,MMULT(camera!$A$16:$C$18,TRANSPOSE(AH261:AJ261))))","v":-1.1053257228013855},472.20881215202411,-164.37036223425719,null,{"$f":"camera!$B$5*AM261/AN261","v":-1436.4171427664132},{"$f":"camera!$B$5*AL261/AN261","v":3.3623023876594571},null,{"$f":"IF( AND( (camera!$B$3) > (AQ261+camera!$B$3/2), 0 < (AQ261+camera!$B$3/2), AN261 >= 0 ), AQ261+camera!$B$3/2, 0)*-1+camera!$B$3","v":1000},{"$f":"IF( AND( (camera!$B$4) > (AP261+camera!$B$4/2), 0 < (AP261+camera!$B$4/2), AN261 >= 0 ), AP261+camera!$B$4/2, 0)","v":0},null,null,null,4625.9867000000004,-164.3185,-219.43389999999999,null,{"$f":"MMULT(               MMULT(AX261:AZ261-$B$2:$D$2, TRANSPOSE($A$16:$C$18)),     TRANSPOSE($A$12:$C$14))","v":881.05121222140474},-9678.76990400453,4536.574158091953,null,-1066.7487807666901,97.105346624816107," ",402.89465337518391,0]
[null,null,null,null,null,null,null,null,null,null,null,null,null,null,null,null,null,null,null,null,89.646600000000007,82.094899999999996,null,null,null,"''",null,22.180907999999999,58.201261000000002,null,58.201261000000002,-27.286380000000008,null,{"$f":"camera!$B$5*COS(RADIANS(AE262))*COS(RADIANS(AF262))","v":234.15140819754836},{"$f":"camera!$B$5*COS(RADIANS(AE262))*SIN(RADIANS(AF262))","v":-120.78407326280178},{"$f":"camera!$B$5*SIN(RADIANS(AE262))","v":424.95214517066654},null,{"$f":"TRANSPOSE(MMULT(camera!$A$12:$C$14,MMULT(camera!$A$16:$C$18,TRANSPOSE(AH262:AJ262))))","v":-401.14579464042657},-243.78741701442084,-172.19101819705241,null,{"$f":"camera!$B$5*AM262/AN262","v":707.89818065723603},{"$f":"camera!$B$5*AL262/AN262","v":1164.827872094241},null,{"$f":"IF( AND( (camera!$B$3) > (AQ262+camera!$B$3/2), 0 < (AQ262+camera!$B$3/2), AN262 >= 0 ), AQ262+camera!$B$3/2, 0)*-1+camera!$B$3","v":1000},{"$f":"IF( AND( (camera!$B$4) > (AP262+camera!$B$4/2), 0 < (AP262+camera!$B$4/2), AN262 >= 0 ), AP262+camera!$B$4/2, 0)","v":0},null,null,null,4682.6405000000004,-187.78530000000001,-118.38549999999999,null,{"$f":"MMULT(               MMULT(AX262:AZ262-$B$2:$D$2, TRANSPOSE($A$16:$C$18)),     TRANSPOSE($A$12:$C$14))","v":784.74000174302},-9737.2533855751899,4500.8676318145008,null,-1081.708481798838,87.176525276600529," ",412.8234747233995,0]
[null,null,null,null,null,null,null,null,null,null,null,null,null,null,null,null,null,null,null,null,89.646600000000007,492.0949,null,null,null,"''",null,4.4777050000000003,15.870882999999999,null,15.870882999999999,67.165575000000004,null,{"$f":"camera!$B$5*COS(RADIANS(AE263))*COS(RADIANS(AF263))","v":186.63817598935017},{"$f":"camera!$B$5*COS(RADIANS(AE263))*SIN(RADIANS(AF263))","v":443.24899446308092},{"$f":"camera!$B$5*SIN(RADIANS(AE263))","v":136.73521920425631},null,{"$f":"TRANSPOSE(MMULT(camera!$A$12:$C$14,MMULT(camera!$A$16:$C$18,TRANSPOSE(AH263:AJ263))))","v":-214.15905590551372},-147.29626604752235,427.12961590378694,null,{"$f":"camera!$B$5*AM263/AN263","v":-172.42572343742791},{"$f":"camera!$B$5*AL263/AN263","v":-250.69562953667221},null,{"$f":"IF( AND( (camera!$B$3) > (AQ263+camera!$B$3/2), 0 < (AQ263+camera!$B$3/2), AN263 >= 0 ), AQ263+camera!$B$3/2, 0)*-1+camera!$B$3","v":750.69562953667219},{"$f":"IF( AND( (camera!$B$4) > (AP263+camera!$B$4/2), 0 < (AP263+camera!$B$4/2), AN263 >= 0 ), AP263+camera!$B$4/2, 0)","v":327.57427656257209},null,null,null,4519.8303999999998,-435.64859999999999,-118.38549999999999,null,{"$f":"MMULT(               MMULT(AX263:AZ263-$B$2:$D$2, TRANSPOSE($A$16:$C$18)),     TRANSPOSE($A$12:$C$14))","v":830.08126708223324},-9596.6655371707875,4243.7245380177583,null,-1130.6890269618425,97.801030633100865," ",402.19896936689918,0]
[null,null,null,null,null,null,null,null,null,null,null,null,null,null,null,null,null,null,null,null,90.058000000000007,137.16220000000001,null,null,null,"''",null,17.172782999999999,-15.726921000000001,null,-15.726921000000001,-102.408255,null,{"$f":"camera!$B$5*COS(RADIANS(AE264))*COS(RADIANS(AF264))","v":-103.41602397678635},{"$f":"camera!$B$5*COS(RADIANS(AE264))*SIN(RADIANS(AF264))","v":-470.04013460141846},{"$f":"camera!$B$5*SIN(RADIANS(AE264))","v":-135.52637325890905},null,{"$f":"TRANSPOSE(MMULT(camera!$A$12:$C$14,MMULT(camera!$A$16:$C$18,TRANSPOSE(AH264:AJ264))))","v":216.34358423394559},62.055797731007559,-446.48015804599635,null,{"$f":"camera!$B$5*AM264/AN264","v":-69.49446309393953},{"$f":"camera!$B$5*AL264/AN264","v":-242.27681828097934},null,{"$f":"IF( AND( (camera!$B$3) > (AQ264+camera!$B$3/2), 0 < (AQ264+camera!$B$3/2), AN264 >= 0 ), AQ264+camera!$B$3/2, 0)*-1+camera!$B$3","v":1000},{"$f":"IF( AND( (camera!$B$4) > (AP264+camera!$B$4/2), 0 < (AP264+camera!$B$4/2), AN264 >= 0 ), AP264+camera!$B$4/2, 0)","v":0},null,null,null,4535.8981000000003,-451.71629999999999,0,null,{"$f":"MMULT(               MMULT(AX264:AZ264-$B$2:$D$2, TRANSPOSE($A$16:$C$18)),     TRANSPOSE($A$12:$C$14))","v":716.03064281164461},-9614.0724870490649,4208.7828469273963,null,-1142.1440398223178,85.06386155493621," ",414.93613844506376,0]
[null,null,null,null,null,null,null,null,null,null,null,null,null,null,null,null,null,null,null,null,90.058000000000007,547.16219999999998,null,null,null,"''",null,1.4727589999999999,-43.318233999999997,null,-43.318233999999997,22.091384999999999,null,{"$f":"camera!$B$5*COS(RADIANS(AE265))*COS(RADIANS(AF265))","v":337.07059531111508},{"$f":"camera!$B$5*COS(RADIANS(AE265))*SIN(RADIANS(AF265))","v":136.81114057032937},{"$f":"camera!$B$5*SIN(RADIANS(AE265))","v":-343.02496351206872},null,{"$f":"TRANSPOSE(MMULT(camera!$A$12:$C$14,MMULT(camera!$A$16:$C$18,TRANSPOSE(AH265:AJ265))))","v":309.04566755727257},-323.86406335899994,222.71695900554468,null,{"$f":"camera!$B$5*AM265/AN265","v":-727.07544321071919},{"$f":"camera!$B$5*AL265/AN265","v":693.80811622337819},null,{"$f":"IF( AND( (camera!$B$3) > (AQ265+camera!$B$3/2), 0 < (AQ265+camera!$B$3/2), AN265 >= 0 ), AQ265+camera!$B$3/2, 0)*-1+camera!$B$3","v":1000},{"$f":"IF( AND( (camera!$B$4) > (AP265+camera!$B$4/2), 0 < (AP265+camera!$B$4/2), AN265 >= 0 ), AP265+camera!$B$4/2, 0)","v":0},null,null,null,4703.5682999999999,-196.4539,0,null,{"$f":"MMULT(               MMULT(AX265:AZ265-$B$2:$D$2, TRANSPOSE($A$16:$C$18)),     TRANSPOSE($A$12:$C$14))","v":669.33587157411614},-9758.8570672494952,4473.6020541179987,null,-1090.7158201819004,74.809500652610055," ",425.19049934738996,0]
[null,null,null,null,null,null,null,null,null,null,null,null,null,null,null,null,null,null,null,null,90.431399999999996,49.306199999999997,null,null,null,"''",null,4.0113380000000003,12.490347,null,12.490347,60.170070000000003,null,{"$f":"camera!$B$5*COS(RADIANS(AE266))*COS(RADIANS(AF266))","v":242.82715754442526},{"$f":"camera!$B$5*COS(RADIANS(AE266))*SIN(RADIANS(AF266))","v":423.48699960247603},{"$f":"camera!$B$5*SIN(RADIANS(AE266))","v":108.13756390166809},null,{"$f":"TRANSPOSE(MMULT(camera!$A$12:$C$14,MMULT(camera!$A$16:$C$18,TRANSPOSE(AH266:AJ266))))","v":-183.42767579556386},-204.99380290411446,417.53063183812822,null,{"$f":"camera!$B$5*AM266/AN266","v":-245.48354931667404},{"$f":"camera!$B$5*AL266/AN266","v":-219.65774701133381},null,{"$f":"IF( AND( (camera!$B$3) > (AQ266+camera!$B$3/2), 0 < (AQ266+camera!$B$3/2), AN266 >= 0 ), AQ266+camera!$B$3/2, 0)*-1+camera!$B$3","v":719.65774701133387},{"$f":"IF( AND( (camera!$B$4) > (AP266+camera!$B$4/2), 0 < (AP266+camera!$B$4/2), AN266 >= 0 ), AP266+camera!$B$4/2, 0)","v":254.51645068332596},null,null,null,4765.5054,102.60469999999999,0,null,{"$f":"MMULT(               MMULT(AX266:AZ266-$B$2:$D$2, TRANSPOSE($A$16:$C$18)),     TRANSPOSE($A$12:$C$14))","v":616.6651206593657},-9794.4938034765983,4772.3127262064363,null,-1026.1789582325159,64.608624375456586," ",435.39137562454346,0]
[null,null,null,null,null,null,null,null,null,null,null,null,null,null,null,null,null,null,null,null,90.431399999999996,459.30619999999999,null,null,null,"''",null,13.825078,-41.687708999999998,null,-41.687708999999998,-152.62383,null,{"$f":"camera!$B$5*COS(RADIANS(AE267))*COS(RADIANS(AF267))","v":-331.57321175496372},{"$f":"camera!$B$5*COS(RADIANS(AE267))*SIN(RADIANS(AF267))","v":-171.69630724859357},{"$f":"camera!$B$5*SIN(RADIANS(AE267))","v":-332.53508585365034},null,{"$f":"TRANSPOSE(MMULT(camera!$A$12:$C$14,MMULT(camera!$A$16:$C$18,TRANSPOSE(AH267:AJ267))))","v":362.20260095465721},315.3471563942652,-139.1597887887599,null,{"$f":"camera!$B$5*AM267/AN267","v":-1133.0397923819505},{"$f":"camera!$B$5*AL267/AN267","v":-1301.3910272042347},null,{"$f":"IF( AND( (camera!$B$3) > (AQ267+camera!$B$3/2), 0 < (AQ267+camera!$B$3/2), AN267 >= 0 ), AQ267+camera!$B$3/2, 0)*-1+camera!$B$3","v":1000},{"$f":"IF( AND( (camera!$B$4) > (AP267+camera!$B$4/2), 0 < (AP267+camera!$B$4/2), AN267 >= 0 ), AP267+camera!$B$4/2, 0)","v":0},null,null,null,4742.7821999999996,102.60469999999999,-118.38549999999999,null,{"$f":"MMULT(               MMULT(AX267:AZ267-$B$2:$D$2, TRANSPOSE($A$16:$C$18)),     TRANSPOSE($A$12:$C$14))","v":733.59598171746575},-9771.8570721129199,4790.9197827675898,null,-1019.8310048167799,76.561079602723638," ",423.43892039727632,0]
[null,null,null,null,null,null,null,null,null,null,null,null,null,null,null,null,null,null,null,null,90.438299999999998,96.455799999999996,null,null,null,"''",null,15.20476,-52.099246999999998,null,-52.099246999999998,-131.92859999999999,null,{"$f":"camera!$B$5*COS(RADIANS(AE268))*COS(RADIANS(AF268))","v":-205.23738049260294},{"$f":"camera!$B$5*COS(RADIANS(AE268))*SIN(RADIANS(AF268))","v":-228.51122426868898},{"$f":"camera!$B$5*SIN(RADIANS(AE268))","v":-394.53800581409064},null,{"$f":"TRANSPOSE(MMULT(camera!$A$12:$C$14,MMULT(camera!$A$16:$C$18,TRANSPOSE(AH268:AJ268))))","v":431.17980013218818},184.54032481965501,-173.28833911554011,null,{"$f":"camera!$B$5*AM268/AN268","v":-532.46607868003343},{"$f":"camera!$B$5*AL268/AN268","v":-1244.1108338071692},null,{"$f":"IF( AND( (camera!$B$3) > (AQ268+camera!$B$3/2), 0 < (AQ268+camera!$B$3/2), AN268 >= 0 ), AQ268+camera!$B$3/2, 0)*-1+camera!$B$3","v":1000},{"$f":"IF( AND( (camera!$B$4) > (AP268+camera!$B$4/2), 0 < (AP268+camera!$B$4/2), AN268 >= 0 ), AP268+camera!$B$4/2, 0)","v":0},null,null,null,4681.2682999999997,102.60469999999999,-219.43389999999999,null,{"$f":"MMULT(               MMULT(AX268:AZ268-$B$2:$D$2, TRANSPOSE($A$16:$C$18)),     TRANSPOSE($A$12:$C$14))","v":834.04020764353595},-9710.5772510739753,4803.186813676386,null,-1010.8473423753265,86.821545777558143," ",413.17845422244181,0]
[null,null,null,null,null,null,null,null,null,null,null,null,null,null,null,null,null,null,null,null,90.438299999999998,506.45580000000001,null,null,null,"''",null,20.754811,61.838782000000002,null,61.838782000000002,-48.677835000000016,null,{"$f":"camera!$B$5*COS(RADIANS(AE269))*COS(RADIANS(AF269))","v":155.81382499317098},{"$f":"camera!$B$5*COS(RADIANS(AE269))*SIN(RADIANS(AF269))","v":-177.2208399598905},{"$f":"camera!$B$5*SIN(RADIANS(AE269))","v":440.81155364271973},null,{"$f":"TRANSPOSE(MMULT(camera!$A$12:$C$14,MMULT(camera!$A$16:$C$18,TRANSPOSE(AH269:AJ269))))","v":-405.81581873773195},-170.66672028466013,-237.0366888258057,null,{"$f":"camera!$B$5*AM269/AN269","v":360.00064194720562},{"$f":"camera!$B$5*AL269/AN269","v":856.0190001556241},null,{"$f":"IF( AND( (camera!$B$3) > (AQ269+camera!$B$3/2), 0 < (AQ269+camera!$B$3/2), AN269 >= 0 ), AQ269+camera!$B$3/2, 0)*-1+camera!$B$3","v":1000},{"$f":"IF( AND( (camera!$B$4) > (AP269+camera!$B$4/2), 0 < (AP269+camera!$B$4/2), AN269 >= 0 ), AP269+camera!$B$4/2, 0)","v":0},null,null,null,4332.5317999999997,-248.3501,-310.32639999999998,null,{"$f":"MMULT(               MMULT(AX269:AZ269-$B$2:$D$2, TRANSPOSE($A$16:$C$18)),     TRANSPOSE($A$12:$C$14))","v":989.54053277740616},-9393.7555250077603,4444.7296929391568,null,-1056.7296746898428,111.31616556450869," ",388.68383443549135,0]
[null,null,null,null,null,null,null,null,null,null,null,null,null,null,null,null,null,null,null,null,91.531400000000005,86.700999999999993,null,null,null,"''",null,22.691033000000001,10.831364000000001,null,10.831364000000001,-19.63450499999999,null,{"$f":"camera!$B$5*COS(RADIANS(AE270))*COS(RADIANS(AF270))","v":462.53783511422637},{"$f":"camera!$B$5*COS(RADIANS(AE270))*SIN(RADIANS(AF270))","v":-165.01625335163314},{"$f":"camera!$B$5*SIN(RADIANS(AE270))","v":93.959497751075261},null,{"$f":"TRANSPOSE(MMULT(camera!$A$12:$C$14,MMULT(camera!$A$16:$C$18,TRANSPOSE(AH270:AJ270))))","v":-70.986559449290894},-475.15985313392366,-138.50639821791756,null,{"$f":"camera!$B$5*AM270/AN270","v":1715.2992903126972},{"$f":"camera!$B$5*AL270/AN270","v":256.25732949031334},null,{"$f":"IF( AND( (camera!$B$3) > (AQ270+camera!$B$3/2), 0 < (AQ270+camera!$B$3/2), AN270 >= 0 ), AQ270+camera!$B$3/2, 0)*-1+camera!$B$3","v":1000},{"$f":"IF( AND( (camera!$B$4) > (AP270+camera!$B$4/2), 0 < (AP270+camera!$B$4/2), AN270 >= 0 ), AP270+camera!$B$4/2, 0)","v":0},null,null,null,4438.6881999999996,-86.736900000000006,-310.32639999999998,null,{"$f":"MMULT(               MMULT(AX270:AZ270-$B$2:$D$2, TRANSPOSE($A$16:$C$18)),     TRANSPOSE($A$12:$C$14))","v":959.97686925419509},-9485.4224493724396,4612.3935603996397,null,-1028.253804143133,104.06493468989864," ",395.93506531010132,0]
[null,null,null,null,null,null,null,null,null,null,null,null,null,null,null,null,null,null,null,null,91.531400000000005,496.70100000000002,null,null,null,"''",null,1.8846959999999999,29.578828999999999,null,29.578828999999999,28.270440000000001,null,{"$f":"camera!$B$5*COS(RADIANS(AE271))*COS(RADIANS(AF271))","v":382.97192729069297},{"$f":"camera!$B$5*COS(RADIANS(AE271))*SIN(RADIANS(AF271))","v":205.95434138839229},{"$f":"camera!$B$5*SIN(RADIANS(AE271))","v":246.81027565829925},null,{"$f":"TRANSPOSE(MMULT(camera!$A$12:$C$14,MMULT(camera!$A$16:$C$18,TRANSPOSE(AH271:AJ271))))","v":-284.48424186130262},-363.56449988915568,192.06657843817564,null,{"$f":"camera!$B$5*AM271/AN271","v":-946.45435672761653},{"$f":"camera!$B$5*AL271/AN271","v":-740.58757170205786},null,{"$f":"IF( AND( (camera!$B$3) > (AQ271+camera!$B$3/2), 0 < (AQ271+camera!$B$3/2), AN271 >= 0 ), AQ271+camera!$B$3/2, 0)*-1+camera!$B$3","v":1000},{"$f":"IF( AND( (camera!$B$4) > (AP271+camera!$B$4/2), 0 < (AP271+camera!$B$4/2), AN271 >= 0 ), AP271+camera!$B$4/2, 0)","v":0},null,null,null,4539.7365,-128.5925,-285.80790000000002,null,{"$f":"MMULT(               MMULT(AX271:AZ271-$B$2:$D$2, TRANSPOSE($A$16:$C$18)),     TRANSPOSE($A$12:$C$14))","v":941.54204250784687},-9589.7341859897733,4575.7462440830486,null,-1047.8874564329667,102.88398790966238," ",397.11601209033756,0]
[null,null,null,null,null,null,null,null,null,null,null,null,null,null,null,null,null,null,null,null,91.805400000000006,91.670400000000001,null,null,null,"''",null,16.002036,-38.396706000000002,null,-38.396706000000002,-119.96946,null,{"$f":"camera!$B$5*COS(RADIANS(AE272))*COS(RADIANS(AF272))","v":-195.75137443724205},{"$f":"camera!$B$5*COS(RADIANS(AE272))*SIN(RADIANS(AF272))","v":-339.4690722623323},{"$f":"camera!$B$5*SIN(RADIANS(AE272))","v":-310.55136190859315},null,{"$f":"TRANSPOSE(MMULT(camera!$A$12:$C$14,MMULT(camera!$A$16:$C$18,TRANSPOSE(AH272:AJ272))))","v":367.51984567393072},165.41980222567057,-295.91460266000752,null,{"$f":"camera!$B$5*AM272/AN272","v":-279.50598033806807},{"$f":"camera!$B$5*AL272/AN272","v":-620.98970846699717},null,{"$f":"IF( AND( (camera!$B$3) > (AQ272+camera!$B$3/2), 0 < (AQ272+camera!$B$3/2), AN272 >= 0 ), AQ272+camera!$B$3/2, 0)*-1+camera!$B$3","v":1000},{"$f":"IF( AND( (camera!$B$4) > (AP272+camera!$B$4/2), 0 < (AP272+camera!$B$4/2), AN272 >= 0 ), AP272+camera!$B$4/2, 0)","v":0},null,null,null,4410.1134000000002,-325.93169999999998,-285.80790000000002,null,{"$f":"MMULT(               MMULT(AX272:AZ272-$B$2:$D$2, TRANSPOSE($A$16:$C$18)),     TRANSPOSE($A$12:$C$14))","v":977.6410089333915},-9477.8035855687867,4371.0188320868665,null,-1084.1641216452706,111.83216619392074," ",388.16783380607922,0]
[null,null,null,null,null,null,null,null,null,null,null,null,null,null,null,null,null,null,null,null,91.805400000000006,501.67039999999997,null,null,null,"''",null,17.774318999999998,27.720676000000001,null,27.720676000000001,-93.385215000000017,null,{"$f":"camera!$B$5*COS(RADIANS(AE273))*COS(RADIANS(AF273))","v":-26.135751947705625},{"$f":"camera!$B$5*COS(RADIANS(AE273))*SIN(RADIANS(AF273))","v":-441.84059568376165},{"$f":"camera!$B$5*SIN(RADIANS(AE273))","v":232.58076119048772},null,{"$f":"TRANSPOSE(MMULT(camera!$A$12:$C$14,MMULT(camera!$A$16:$C$18,TRANSPOSE(AH273:AJ273))))","v":-152.2189337816443},-12.472647771940604,-476.1027507334278,null,{"$f":"camera!$B$5*AM273/AN273","v":13.098693247126501},{"$f":"camera!$B$5*AL273/AN273","v":159.85933030963773},null,{"$f":"IF( AND( (camera!$B$3) > (AQ273+camera!$B$3/2), 0 < (AQ273+camera!$B$3/2), AN273 >= 0 ), AQ273+camera!$B$3/2, 0)*-1+camera!$B$3","v":1000},{"$f":"IF( AND( (camera!$B$4) > (AP273+camera!$B$4/2), 0 < (AP273+camera!$B$4/2), AN273 >= 0 ), AP273+camera!$B$4/2, 0)","v":0},null,null,null,4587.6189999999997,102.60469999999999,-285.80790000000002,null,{"$f":"MMULT(               MMULT(AX273:AZ273-$B$2:$D$2, TRANSPOSE($A$16:$C$18)),     TRANSPOSE($A$12:$C$14))","v":900.82316677002336},-9617.2843149339697,4806.6744637702395,null,-1000.4093669566302,93.705447868362555," ",406.29455213163749,0]
[null,null,null,null,null,null,null,null,null,null,null,null,null,null,null,null,null,null,null,null,93.343199999999996,152.16220000000001,null,null,null,"''",null,20.749313999999998,-66.203211999999994,null,-66.203211999999994,-48.760290000000055,null,{"$f":"camera!$B$5*COS(RADIANS(AE274))*COS(RADIANS(AF274))","v":132.99379790462785},{"$f":"camera!$B$5*COS(RADIANS(AE274))*SIN(RADIANS(AF274))","v":-151.70531419055771},{"$f":"camera!$B$5*SIN(RADIANS(AE274))","v":-457.491144575769},null,{"$f":"TRANSPOSE(MMULT(camera!$A$12:$C$14,MMULT(camera!$A$16:$C$18,TRANSPOSE(AH274:AJ274))))","v":474.77114694939456},-145.70970568872028,-57.974474490614384,null,{"$f":"camera!$B$5*AM274/AN274","v":1256.6712071905847},{"$f":"camera!$B$5*AL274/AN274","v":-4094.6567530013258},null,{"$f":"IF( AND( (camera!$B$3) > (AQ274+camera!$B$3/2), 0 < (AQ274+camera!$B$3/2), AN274 >= 0 ), AQ274+camera!$B$3/2, 0)*-1+camera!$B$3","v":1000},{"$f":"IF( AND( (camera!$B$4) > (AP274+camera!$B$4/2), 0 < (AP274+camera!$B$4/2), AN274 >= 0 ), AP274+camera!$B$4/2, 0)","v":0},null,null,null,4477.9021000000002,102.60469999999999,-310.32639999999998,null,{"$f":"MMULT(               MMULT(AX274:AZ274-$B$2:$D$2, TRANSPOSE($A$16:$C$18)),     TRANSPOSE($A$12:$C$14))","v":926.62967905259677},-9507.9849208629093,4801.5148739252973,null,-990.10262078913604,96.493471683767339," ",403.50652831623268,0]
[null,null,null,null,null,null,null,null,null,null,null,null,null,null,null,null,null,null,null,null,93.343199999999996,562.16219999999998,null,null,null,"''",null,9.1828040000000009,-58.966895999999998,null,-58.966895999999998,137.74206000000001,null,{"$f":"camera!$B$5*COS(RADIANS(AE275))*COS(RADIANS(AF275))","v":-190.77950444319825},{"$f":"camera!$B$5*COS(RADIANS(AE275))*SIN(RADIANS(AF275))","v":173.34015831116517},{"$f":"camera!$B$5*SIN(RADIANS(AE275))","v":-428.43479107218627},null,{"$f":"TRANSPOSE(MMULT(camera!$A$12:$C$14,MMULT(camera!$A$16:$C$18,TRANSPOSE(AH275:AJ275))))","v":394.82758184052841},205.16112107649096,228.07914200250369,null,{"$f":"camera!$B$5*AM275/AN275","v":449.75862166790961},{"$f":"camera!$B$5*AL275/AN275","v":865.54951578210137},null,{"$f":"IF( AND( (camera!$B$3) > (AQ275+camera!$B$3/2), 0 < (AQ275+camera!$B$3/2), AN275 >= 0 ), AQ275+camera!$B$3/2, 0)*-1+camera!$B$3","v":1000},{"$f":"IF( AND( (camera!$B$4) > (AP275+camera!$B$4/2), 0 < (AP275+camera!$B$4/2), AN275 >= 0 ), AP275+camera!$B$4/2, 0)","v":949.75862166790967},null,null,null,4188.7302,-104.5485,-219.43389999999999,null,{"$f":"MMULT(               MMULT(AX275:AZ275-$B$2:$D$2, TRANSPOSE($A$16:$C$18)),     TRANSPOSE($A$12:$C$14))","v":877.32938615819592},-9237.9679982543475,4557.6816825800088,null,-1013.4503286575431,96.247330030907065," ",403.75266996909295,0]
[null,null,null,null,null,null,null,null,null,null,null,null,null,null,null,null,null,null,null,null,94.294399999999996,34.306199999999997,null,null,null,"''",null,10.278171,23.417311000000002,null,23.417311000000002,154.17256500000002,null,{"$f":"camera!$B$5*COS(RADIANS(AE276))*COS(RADIANS(AF276))","v":-412.98615832926026},{"$f":"camera!$B$5*COS(RADIANS(AE276))*SIN(RADIANS(AF276))","v":199.88932965154237},{"$f":"camera!$B$5*SIN(RADIANS(AE276))","v":198.71257866550931},null,{"$f":"TRANSPOSE(MMULT(camera!$A$12:$C$14,MMULT(camera!$A$16:$C$18,TRANSPOSE(AH276:AJ276))))","v":-224.021709759321},428.83612430599896,126.15011710942014,null,{"$f":"camera!$B$5*AM276/AN276","v":1699.7056131705169},{"$f":"camera!$B$5*AL276/AN276","v":-887.91716921280761},null,{"$f":"IF( AND( (camera!$B$3) > (AQ276+camera!$B$3/2), 0 < (AQ276+camera!$B$3/2), AN276 >= 0 ), AQ276+camera!$B$3/2, 0)*-1+camera!$B$3","v":1000},{"$f":"IF( AND( (camera!$B$4) > (AP276+camera!$B$4/2), 0 < (AP276+camera!$B$4/2), AN276 >= 0 ), AP276+camera!$B$4/2, 0)","v":0},null,null,null,4251.3896000000004,-9.1553000000000004,-219.43389999999999,null,{"$f":"MMULT(               MMULT(AX276:AZ276-$B$2:$D$2, TRANSPOSE($A$16:$C$18)),     TRANSPOSE($A$12:$C$14))","v":859.87925041910466},-9292.0748951208825,4656.6463201469787,null,-997.7217783234604,92.328168310618466," ",407.67183168938152,0]
[null,null,null,null,null,null,null,null,null,null,null,null,null,null,null,null,null,null,null,null,94.294399999999996,444.30619999999999,null,null,null,"''",null,19.104150000000001,-4.8825539999999998,null,-4.8825539999999998,-73.437749999999994,null,{"$f":"camera!$B$5*COS(RADIANS(AE277))*COS(RADIANS(AF277))","v":142.01125276517939},{"$f":"camera!$B$5*COS(RADIANS(AE277))*SIN(RADIANS(AF277))","v":-477.51620426533782},{"$f":"camera!$B$5*SIN(RADIANS(AE277))","v":-42.556770931174441},null,{"$f":"TRANSPOSE(MMULT(camera!$A$12:$C$14,MMULT(camera!$A$16:$C$18,TRANSPOSE(AH277:AJ277))))","v":122.36526148680321},-183.08913653082641,-448.89320652652191,null,{"$f":"camera!$B$5*AM277/AN277","v":203.93395786444029},{"$f":"camera!$B$5*AL277/AN277","v":-136.29662880582435},null,{"$f":"IF( AND( (camera!$B$3) > (AQ277+camera!$B$3/2), 0 < (AQ277+camera!$B$3/2), AN277 >= 0 ), AQ277+camera!$B$3/2, 0)*-1+camera!$B$3","v":1000},{"$f":"IF( AND( (camera!$B$4) > (AP277+camera!$B$4/2), 0 < (AP277+camera!$B$4/2), AN277 >= 0 ), AP277+camera!$B$4/2, 0)","v":0},null,null,null,4337.6397999999999,-44.881300000000003,-285.80790000000002,null,{"$f":"MMULT(               MMULT(AX277:AZ277-$B$2:$D$2, TRANSPOSE($A$16:$C$18)),     TRANSPOSE($A$12:$C$14))","v":930.11967972952687},-9381.1106131356373,4640.5256824448124,null,-1010.7810251567553,100.21705980942907," ",399.78294019057091,0]
[null,null,null,null,null,null,null,null,null,null,null,null,null,null,null,null,null,null,null,null,95.058000000000007,137.16220000000001,null,null,null,"''",null,10.284952000000001,42.914364999999997,null,42.914364999999997,154.27428,null,{"$f":"camera!$B$5*COS(RADIANS(AE278))*COS(RADIANS(AF278))","v":-329.89056542002697},{"$f":"camera!$B$5*COS(RADIANS(AE278))*SIN(RADIANS(AF278))","v":158.94803405201182},{"$f":"camera!$B$5*SIN(RADIANS(AE278))","v":340.45225409424944},null,{"$f":"TRANSPOSE(MMULT(camera!$A$12:$C$14,MMULT(camera!$A$16:$C$18,TRANSPOSE(AH278:AJ278))))","v":-357.78331792586727},342.48846618800218,68.503634517793998,null,{"$f":"camera!$B$5*AM278/AN278","v":2499.7831764608045},{"$f":"camera!$B$5*AL278/AN278","v":-2611.4185068015049},null,{"$f":"IF( AND( (camera!$B$3) > (AQ278+camera!$B$3/2), 0 < (AQ278+camera!$B$3/2), AN278 >= 0 ), AQ278+camera!$B$3/2, 0)*-1+camera!$B$3","v":1000},{"$f":"IF( AND( (camera!$B$4) > (AP278+camera!$B$4/2), 0 < (AP278+camera!$B$4/2), AN278 >= 0 ), AP278+camera!$B$4/2, 0)","v":0},null,null,null,4254.9502000000002,-170.76849999999999,-285.80790000000002,null,{"$f":"MMULT(               MMULT(AX278:AZ278-$B$2:$D$2, TRANSPOSE($A$16:$C$18)),     TRANSPOSE($A$12:$C$14))","v":953.14803883696084},-9309.707464446732,4509.9253681031951,null,-1032.1354240460803,105.67226295785025," ",394.32773704214969,0]
[null,null,null,null,null,null,null,null,null,null,null,null,null,null,null,null,null,null,null,null,95.058000000000007,547.16219999999998,null,null,null,"''",null,0.81825999999999999,57.815187000000002,null,57.815187000000002,12.273899999999999,null,{"$f":"camera!$B$5*COS(RADIANS(AE279))*COS(RADIANS(AF279))","v":260.23843923568506},{"$f":"camera!$B$5*COS(RADIANS(AE279))*SIN(RADIANS(AF279))","v":56.61698590354991},{"$f":"camera!$B$5*SIN(RADIANS(AE279))","v":423.16719113297512},null,{"$f":"TRANSPOSE(MMULT(camera!$A$12:$C$14,MMULT(camera!$A$16:$C$18,TRANSPOSE(AH279:AJ279))))","v":-430.47091746917829},-254.31365794770278,4.3991583857289953,null,{"$f":"camera!$B$5*AM279/AN279","v":-28904.80810746711},{"$f":"camera!$B$5*AL279/AN279","v":-48926.508177750446},null,{"$f":"IF( AND( (camera!$B$3) > (AQ279+camera!$B$3/2), 0 < (AQ279+camera!$B$3/2), AN279 >= 0 ), AQ279+camera!$B$3/2, 0)*-1+camera!$B$3","v":1000},{"$f":"IF( AND( (camera!$B$4) > (AP279+camera!$B$4/2), 0 < (AP279+camera!$B$4/2), AN279 >= 0 ), AP279+camera!$B$4/2, 0)","v":0},null,null,null,4368.1850999999997,102.60469999999999,-285.80790000000002,null,{"$f":"MMULT(               MMULT(AX279:AZ279-$B$2:$D$2, TRANSPOSE($A$16:$C$18)),     TRANSPOSE($A$12:$C$14))","v":904.14417506415407},-9398.6854271723769,4787.8400898089367,null,-981.51622139362644,94.420882705403258," ",405.5791172945967,0]
[null,null,null,null,null,null,null,null,null,null,null,null,null,null,null,null,null,null,null,null,95.431399999999996,49.306199999999997,null,null,null,"''",null,1.1431640000000001,-10.182264,null,-10.182264,17.147460000000002,null,{"$f":"camera!$B$5*COS(RADIANS(AE280))*COS(RADIANS(AF280))","v":470.24979286835963},{"$f":"camera!$B$5*COS(RADIANS(AE280))*SIN(RADIANS(AF280))","v":145.09422385928892},{"$f":"camera!$B$5*SIN(RADIANS(AE280))","v":-88.390036259385155},null,{"$f":"TRANSPOSE(MMULT(camera!$A$12:$C$14,MMULT(camera!$A$16:$C$18,TRANSPOSE(AH280:AJ280))))","v":54.830755990486821},-455.81455558535009,198.05726220980006,null,{"$f":"camera!$B$5*AM280/AN280","v":-1150.7140674864786},{"$f":"camera!$B$5*AL280/AN280","v":138.42147311014821},null,{"$f":"IF( AND( (camera!$B$3) > (AQ280+camera!$B$3/2), 0 < (AQ280+camera!$B$3/2), AN280 >= 0 ), AQ280+camera!$B$3/2, 0)*-1+camera!$B$3","v":361.57852688985179},{"$f":"IF( AND( (camera!$B$4) > (AP280+camera!$B$4/2), 0 < (AP280+camera!$B$4/2), AN280 >= 0 ), AP280+camera!$B$4/2, 0)","v":0},null,null,null,4274.5358999999999,102.60469999999999,-219.43389999999999,null,{"$f":"MMULT(               MMULT(AX280:AZ280-$B$2:$D$2, TRANSPOSE($A$16:$C$18)),     TRANSPOSE($A$12:$C$14))","v":840.19587308033351},-9305.3925906518434,4768.276300197027,null,-975.76063181021425,88.102683253235156," ",411.89731674676489,0]
[null,null,null,null,null,null,null,null,null,null,null,null,null,null,null,null,null,null,null,null,95.431399999999996,459.30619999999999,null,null,null,"''",null,7.946313,-52.98236,null,-52.98236,119.194695,null,{"$f":"camera!$B$5*COS(RADIANS(AE281))*COS(RADIANS(AF281))","v":-146.83627573019825},{"$f":"camera!$B$5*COS(RADIANS(AE281))*SIN(RADIANS(AF281))","v":262.7897116524037},{"$f":"camera!$B$5*SIN(RADIANS(AE281))","v":-399.22509387478601},null,{"$f":"TRANSPOSE(MMULT(camera!$A$12:$C$14,MMULT(camera!$A$16:$C$18,TRANSPOSE(AH281:AJ281))))","v":349.92294447887076},169.18115187546931,314.53405344624684,null,{"$f":"camera!$B$5*AM281/AN281","v":268.9393247278104},{"$f":"camera!$B$5*AL281/AN281","v":556.25605660957763},null,{"$f":"IF( AND( (camera!$B$3) > (AQ281+camera!$B$3/2), 0 < (AQ281+camera!$B$3/2), AN281 >= 0 ), AQ281+camera!$B$3/2, 0)*-1+camera!$B$3","v":1000},{"$f":"IF( AND( (camera!$B$4) > (AP281+camera!$B$4/2), 0 < (AP281+camera!$B$4/2), AN281 >= 0 ), AP281+camera!$B$4/2, 0)","v":768.93932472781034},null,null,null,4129.1656000000003,-44.983899999999998,0,null,{"$f":"MMULT(               MMULT(AX281:AZ281-$B$2:$D$2, TRANSPOSE($A$16:$C$18)),     TRANSPOSE($A$12:$C$14))","v":651.82673186098873},-9173.4386625859242,4572.9013198502043,null,-1003.021716515678,71.270587999736321," ",428.72941200026366,0]
[null,null,null,null,null,null,null,null,null,null,null,null,null,null,null,null,null,null,null,null,98.343199999999996,152.16220000000001,null,null,null,"''",null,15.258376,33.314833,null,33.314833,-131.12436,null,{"$f":"camera!$B$5*COS(RADIANS(AE282))*COS(RADIANS(AF282))","v":-274.80665121470093},{"$f":"camera!$B$5*COS(RADIANS(AE282))*SIN(RADIANS(AF282))","v":-314.74654242874914},{"$f":"camera!$B$5*SIN(RADIANS(AE282))","v":274.61958866277058},null,{"$f":"TRANSPOSE(MMULT(camera!$A$12:$C$14,MMULT(camera!$A$16:$C$18,TRANSPOSE(AH282:AJ282))))","v":-211.84127227436761},246.32896025779769,-380.05962518990299,null,{"$f":"camera!$B$5*AM282/AN282","v":-324.06620426296979},{"$f":"camera!$B$5*AL282/AN282","v":278.69478659896805},null,{"$f":"IF( AND( (camera!$B$3) > (AQ282+camera!$B$3/2), 0 < (AQ282+camera!$B$3/2), AN282 >= 0 ), AQ282+camera!$B$3/2, 0)*-1+camera!$B$3","v":1000},{"$f":"IF( AND( (camera!$B$4) > (AP282+camera!$B$4/2), 0 < (AP282+camera!$B$4/2), AN282 >= 0 ), AP282+camera!$B$4/2, 0)","v":0},null,null,null,4173.808,22.98,0,null,{"$f":"MMULT(               MMULT(AX282:AZ282-$B$2:$D$2, TRANSPOSE($A$16:$C$18)),     TRANSPOSE($A$12:$C$14))","v":639.3941963777213},-9211.9877405914885,4643.4097323082115,null,-991.94215798960568,68.849642099091938," ",431.15035790090803,0]
[null,null,null,null,null,null,null,null,null,null,null,null,null,null,null,null,null,null,null,null,98.343199999999996,562.16219999999998,null,null,null,"''",null,2.7216779999999998,3.2358180000000001,null,3.2358180000000001,40.82517,null,{"$f":"camera!$B$5*COS(RADIANS(AE283))*COS(RADIANS(AF283))","v":377.75074762510837},{"$f":"camera!$B$5*COS(RADIANS(AE283))*SIN(RADIANS(AF283))","v":326.35539599929172},{"$f":"camera!$B$5*SIN(RADIANS(AE283))","v":28.22283066627439},null,{"$f":"TRANSPOSE(MMULT(camera!$A$12:$C$14,MMULT(camera!$A$16:$C$18,TRANSPOSE(AH283:AJ283))))","v":-89.966476376020694},-347.8695450463016,347.69643765469044,null,{"$f":"camera!$B$5*AM283/AN283","v":-500.24893466378148},{"$f":"camera!$B$5*AL283/AN283","v":-129.37503326589956},null,{"$f":"IF( AND( (camera!$B$3) > (AQ283+camera!$B$3/2), 0 < (AQ283+camera!$B$3/2), AN283 >= 0 ), AQ283+camera!$B$3/2, 0)*-1+camera!$B$3","v":629.37503326589956},{"$f":"IF( AND( (camera!$B$4) > (AP283+camera!$B$4/2), 0 < (AP283+camera!$B$4/2), AN283 >= 0 ), AP283+camera!$B$4/2, 0)","v":0},null,null,null,4194.7358000000004,14.311500000000001,-118.38549999999999,null,{"$f":"MMULT(               MMULT(AX283:AZ283-$B$2:$D$2, TRANSPOSE($A$16:$C$18)),     TRANSPOSE($A$12:$C$14))","v":757.1639653985319},-9233.5914135502226,4657.2591053921133,null,-991.31175704393297,81.288580714985059," ",418.71141928501493,0]
[null,null,null,null,null,null,null,null,null,null,null,null,null,null,null,null,null,null,null,null,99.294399999999996,34.306199999999997,null,null,null,"''",null,13.826943,-42.473731999999998,null,-42.473731999999998,-152.595855,null,{"$f":"camera!$B$5*COS(RADIANS(AE284))*COS(RADIANS(AF284))","v":-327.40826093573787},{"$f":"camera!$B$5*COS(RADIANS(AE284))*SIN(RADIANS(AF284))","v":-169.74237403510932},{"$f":"camera!$B$5*SIN(RADIANS(AE284))","v":-337.62606109120316},null,{"$f":"TRANSPOSE(MMULT(camera!$A$12:$C$14,MMULT(camera!$A$16:$C$18,TRANSPOSE(AH284:AJ284))))","v":366.81519284328226},311.36835097084008,-136.00133937960098,null,{"$f":"camera!$B$5*AM284/AN284","v":-1144.7253107624272},{"$f":"camera!$B$5*AL284/AN284","v":-1348.5719865575873},null,{"$f":"IF( AND( (camera!$B$3) > (AQ284+camera!$B$3/2), 0 < (AQ284+camera!$B$3/2), AN284 >= 0 ), AQ284+camera!$B$3/2, 0)*-1+camera!$B$3","v":1000},{"$f":"IF( AND( (camera!$B$4) > (AP284+camera!$B$4/2), 0 < (AP284+camera!$B$4/2), AN284 >= 0 ), AP284+camera!$B$4/2, 0)","v":0},null,null,null,4145.2332999999999,-61.051600000000001,-118.38549999999999,null,{"$f":"MMULT(               MMULT(AX284:AZ284-$B$2:$D$2, TRANSPOSE($A$16:$C$18)),     TRANSPOSE($A$12:$C$14))","v":770.95002407885386},-9190.8456124641998,4579.0744814342206,null,-1003.5702246958776,84.181861116766896," ",415.81813888323313,0]
[null,null,null,null,null,null,null,null,null,null,null,null,null,null,null,null,null,null,null,null,99.294399999999996,444.30619999999999,null,null,null,"''",null,10.122209,16.762664000000001,null,16.762664000000001,151.833135,null,{"$f":"camera!$B$5*COS(RADIANS(AE285))*COS(RADIANS(AF285))","v":-422.05815807318135},{"$f":"camera!$B$5*COS(RADIANS(AE285))*SIN(RADIANS(AF285))","v":225.99143861699682},{"$f":"camera!$B$5*SIN(RADIANS(AE285))","v":144.20395582539891},null,{"$f":"TRANSPOSE(MMULT(camera!$A$12:$C$14,MMULT(camera!$A$16:$C$18,TRANSPOSE(AH285:AJ285))))","v":-174.71923158762331},440.14855104614725,160.44451728060866,null,{"$f":"camera!$B$5*AM285/AN285","v":1371.6534491370358},{"$f":"camera!$B$5*AL285/AN285","v":-544.48489281203967},null,{"$f":"IF( AND( (camera!$B$3) > (AQ285+camera!$B$3/2), 0 < (AQ285+camera!$B$3/2), AN285 >= 0 ), AQ285+camera!$B$3/2, 0)*-1+camera!$B$3","v":1000},{"$f":"IF( AND( (camera!$B$4) > (AP285+camera!$B$4/2), 0 < (AP285+camera!$B$4/2), AN285 >= 0 ), AP285+camera!$B$4/2, 0)","v":0},null,null,null,4213.0218999999997,102.60469999999999,-118.38549999999999,null,{"$f":"MMULT(               MMULT(AX285:AZ285-$B$2:$D$2, TRANSPOSE($A$16:$C$18)),     TRANSPOSE($A$12:$C$14))","v":741.61360502088974},-9244.1126699934284,4745.4495814903394,null,-973.9975645353137,78.139446251158063," ",421.86055374884199,0]
[null,null,null,null,null,null,null,null,null,null,null,null,null,null,null,null,null,null,null,null,100.05800000000001,137.16220000000001,null,null,null,"''",null,16.714932999999998,38.922254000000002,null,38.922254000000002,-109.27600500000003,null,{"$f":"camera!$B$5*COS(RADIANS(AE286))*COS(RADIANS(AF286))","v":-128.41619844501139},{"$f":"camera!$B$5*COS(RADIANS(AE286))*SIN(RADIANS(AF286))","v":-367.1919976368398},{"$f":"camera!$B$5*SIN(RADIANS(AE286))","v":314.1326421249446},null,{"$f":"TRANSPOSE(MMULT(camera!$A$12:$C$14,MMULT(camera!$A$16:$C$18,TRANSPOSE(AH286:AJ286))))","v":-243.89716797345065},95.924644754982694,-425.80821267697598,null,{"$f":"camera!$B$5*AM286/AN286","v":-112.63832154847664},{"$f":"camera!$B$5*AL286/AN286","v":286.39321731269007},null,{"$f":"IF( AND( (camera!$B$3) > (AQ286+camera!$B$3/2), 0 < (AQ286+camera!$B$3/2), AN286 >= 0 ), AQ286+camera!$B$3/2, 0)*-1+camera!$B$3","v":1000},{"$f":"IF( AND( (camera!$B$4) > (AP286+camera!$B$4/2), 0 < (AP286+camera!$B$4/2), AN286 >= 0 ), AP286+camera!$B$4/2, 0)","v":0},null,null,null,4190.2987999999996,102.60469999999999,0,null,{"$f":"MMULT(               MMULT(AX286:AZ286-$B$2:$D$2, TRANSPOSE($A$16:$C$18)),     TRANSPOSE($A$12:$C$14))","v":625.37054807709251},-9221.4760382492204,4722.9417939602808,null,-976.24282073957443,66.205616685433128," ",433.79438331456686,0]
[null,null,null,null,null,null,null,null,null,null,null,null,null,null,null,null,null,null,null,null,100.05800000000001,547.16219999999998,null,null,null,"''",null,1.7344790000000001,-15.937480000000001,null,-15.937480000000001,26.017185000000001,null,{"$f":"camera!$B$5*COS(RADIANS(AE287))*COS(RADIANS(AF287))","v":432.05981867775381},{"$f":"camera!$B$5*COS(RADIANS(AE287))*SIN(RADIANS(AF287))","v":210.89009426133862},{"$f":"camera!$B$5*SIN(RADIANS(AE287))","v":-137.2941412682645},null,{"$f":"TRANSPOSE(MMULT(camera!$A$12:$C$14,MMULT(camera!$A$16:$C$18,TRANSPOSE(AH287:AJ287))))","v":92.188025321932372},-412.03541782178866,267.82117624950183,null,{"$f":"camera!$B$5*AM287/AN287","v":-769.23606936506212},{"$f":"camera!$B$5*AL287/AN287","v":172.10742371628251},null,{"$f":"IF( AND( (camera!$B$3) > (AQ287+camera!$B$3/2), 0 < (AQ287+camera!$B$3/2), AN287 >= 0 ), AQ287+camera!$B$3/2, 0)*-1+camera!$B$3","v":327.89257628371752},{"$f":"IF( AND( (camera!$B$4) > (AP287+camera!$B$4/2), 0 < (AP287+camera!$B$4/2), AN287 >= 0 ), AP287+camera!$B$4/2, 0)","v":0},null,null,null,4188.7302,-104.5485,219.43389999999999,null,{"$f":"MMULT(               MMULT(AX287:AZ287-$B$2:$D$2, TRANSPOSE($A$16:$C$18)),     TRANSPOSE($A$12:$C$14))","v":445.12897417078477},-9237.9679982543475,4481.4730888733138,null,-1030.6843101647257,49.663243016672283," ",450.33675698332775,0]
[null,null,null,null,null,null,null,null,null,null,null,null,null,null,null,null,null,null,null,null,100.4314,49.306199999999997,null,null,null,"''",null,7.0286520000000001,-27.934830000000002,null,-27.934830000000002,105.42978000000001,null,{"$f":"camera!$B$5*COS(RADIANS(AE288))*COS(RADIANS(AF288))","v":-117.52823298574113},{"$f":"camera!$B$5*COS(RADIANS(AE288))*SIN(RADIANS(AF288))","v":425.81896340111575},{"$f":"camera!$B$5*SIN(RADIANS(AE288))","v":-234.23348364238745},null,{"$f":"TRANSPOSE(MMULT(camera!$A$12:$C$14,MMULT(camera!$A$16:$C$18,TRANSPOSE(AH288:AJ288))))","v":158.79236145215964},154.19357060774882,448.34063916589116,null,{"$f":"camera!$B$5*AM288/AN288","v":171.96028771183447},{"$f":"camera!$B$5*AL288/AN288","v":177.0889671607537},null,{"$f":"IF( AND( (camera!$B$3) > (AQ288+camera!$B$3/2), 0 < (AQ288+camera!$B$3/2), AN288 >= 0 ), AQ288+camera!$B$3/2, 0)*-1+camera!$B$3","v":322.91103283924633},{"$f":"IF( AND( (camera!$B$4) > (AP288+camera!$B$4/2), 0 < (AP288+camera!$B$4/2), AN288 >= 0 ), AP288+camera!$B$4/2, 0)","v":671.96028771183444},null,null,null,4251.3896000000004,-9.1553000000000004,219.43389999999999,null,{"$f":"MMULT(               MMULT(AX288:AZ288-$B$2:$D$2, TRANSPOSE($A$16:$C$18)),     TRANSPOSE($A$12:$C$14))","v":427.67883843169352},-9292.0748951208825,4580.4377264402838,null,-1014.3217144382266,46.685367641060239," ",453.31463235893978,0]
[null,null,null,null,null,null,null,null,null,null,null,null,null,null,null,null,null,null,null,null,100.4314,459.30619999999999,null,null,null,"''",null,11.307983,33.094306000000003,null,33.094306000000003,169.61974499999999,null,{"$f":"camera!$B$5*COS(RADIANS(AE289))*COS(RADIANS(AF289))","v":-412.03083714969864},{"$f":"camera!$B$5*COS(RADIANS(AE289))*SIN(RADIANS(AF289))","v":75.475043824713069},{"$f":"camera!$B$5*SIN(RADIANS(AE289))","v":273.00935331481992},null,{"$f":"TRANSPOSE(MMULT(camera!$A$12:$C$14,MMULT(camera!$A$16:$C$18,TRANSPOSE(AH289:AJ289))))","v":-275.68210463268582},417.04101892228817,-8.727297494218071,null,{"$f":"camera!$B$5*AM289/AN289","v":-23892.907237239382},{"$f":"camera!$B$5*AL289/AN289","v":15794.242422429636},null,{"$f":"IF( AND( (camera!$B$3) > (AQ289+camera!$B$3/2), 0 < (AQ289+camera!$B$3/2), AN289 >= 0 ), AQ289+camera!$B$3/2, 0)*-1+camera!$B$3","v":1000},{"$f":"IF( AND( (camera!$B$4) > (AP289+camera!$B$4/2), 0 < (AP289+camera!$B$4/2), AN289 >= 0 ), AP289+camera!$B$4/2, 0)","v":0},null,null,null,4194.7358000000004,14.311500000000001,118.38549999999999,null,{"$f":"MMULT(               MMULT(AX289:AZ289-$B$2:$D$2, TRANSPOSE($A$16:$C$18)),     TRANSPOSE($A$12:$C$14))","v":523.99004891007826},-9233.5914135502226,4616.1442527177369,null,-1000.1411251515788,56.756247229663714," ",443.2437527703363,0]
[null,null,null,null,null,null,null,null,null,null,null,null,null,null,null,null,null,null,null,null,103.3432,152.16220000000001,null,null,null,"''",null,15.032436000000001,40.390566,null,40.390566,-134.51345999999998,null,{"$f":"camera!$B$5*COS(RADIANS(AE290))*COS(RADIANS(AF290))","v":-266.98582524397517},{"$f":"camera!$B$5*COS(RADIANS(AE290))*SIN(RADIANS(AF290))","v":-271.55911063485621},{"$f":"camera!$B$5*SIN(RADIANS(AE290))","v":323.99725083710126},null,{"$f":"TRANSPOSE(MMULT(camera!$A$12:$C$14,MMULT(camera!$A$16:$C$18,TRANSPOSE(AH290:AJ290))))","v":-268.05802187495868},242.30192758642306,-345.59321867824315,null,{"$f":"camera!$B$5*AM290/AN290","v":-350.55943590723763},{"$f":"camera!$B$5*AL290/AN290","v":387.82303498340366},null,{"$f":"IF( AND( (camera!$B$3) > (AQ290+camera!$B$3/2), 0 < (AQ290+camera!$B$3/2), AN290 >= 0 ), AQ290+camera!$B$3/2, 0)*-1+camera!$B$3","v":1000},{"$f":"IF( AND( (camera!$B$4) > (AP290+camera!$B$4/2), 0 < (AP290+camera!$B$4/2), AN290 >= 0 ), AP290+camera!$B$4/2, 0)","v":0},null,null,null,4145.2332999999999,-61.051600000000001,118.38549999999999,null,{"$f":"MMULT(               MMULT(AX290:AZ290-$B$2:$D$2, TRANSPOSE($A$16:$C$18)),     TRANSPOSE($A$12:$C$14))","v":537.77610759040022},-9190.8456124641998,4537.9596287598442,null,-1012.6627784672381,59.253073141305833," ",440.74692685869422,0]
[null,null,null,null,null,null,null,null,null,null,null,null,null,null,null,null,null,null,null,null,103.3432,562.16219999999998,null,null,null,"''",null,18.449560999999999,-45.968459000000003,null,-45.968459000000003,-83.25658500000003,null,{"$f":"camera!$B$5*COS(RADIANS(AE291))*COS(RADIANS(AF291))","v":40.807769583554617},{"$f":"camera!$B$5*COS(RADIANS(AE291))*SIN(RADIANS(AF291))","v":-345.12292188192265},{"$f":"camera!$B$5*SIN(RADIANS(AE291))","v":-359.47864294461203},null,{"$f":"TRANSPOSE(MMULT(camera!$A$12:$C$14,MMULT(camera!$A$16:$C$18,TRANSPOSE(AH291:AJ291))))","v":413.10166688128834},-70.731928295947668,-272.66097472766069,null,{"$f":"camera!$B$5*AM291/AN291","v":129.7067326312395},{"$f":"camera!$B$5*AL291/AN291","v":-757.53720768786707},null,{"$f":"IF( AND( (camera!$B$3) > (AQ291+camera!$B$3/2), 0 < (AQ291+camera!$B$3/2), AN291 >= 0 ), AQ291+camera!$B$3/2, 0)*-1+camera!$B$3","v":1000},{"$f":"IF( AND( (camera!$B$4) > (AP291+camera!$B$4/2), 0 < (AP291+camera!$B$4/2), AN291 >= 0 ), AP291+camera!$B$4/2, 0)","v":0},null,null,null,4213.0218999999997,102.60469999999999,118.38549999999999,null,{"$f":"MMULT(               MMULT(AX291:AZ291-$B$2:$D$2, TRANSPOSE($A$16:$C$18)),     TRANSPOSE($A$12:$C$14))","v":508.43968853243609},-9244.1126699934284,4704.334728815963,null,-982.51008940429767,54.039488880121162," ",445.96051111987879,0]
[null,null,null,null,null,null,null,null,null,null,null,null,null,null,null,null,null,null,null,null,104.2944,34.306199999999997,null,null,null,"''",null,22.809239000000002,-51.316864000000002,null,-51.316864000000002,-17.861414999999965,null,{"$f":"camera!$B$5*COS(RADIANS(AE292))*COS(RADIANS(AF292))","v":297.44401675833507},{"$f":"camera!$B$5*COS(RADIANS(AE292))*SIN(RADIANS(AF292))","v":-95.850641554274574},{"$f":"camera!$B$5*SIN(RADIANS(AE292))","v":-390.30720132775065},null,{"$f":"TRANSPOSE(MMULT(camera!$A$12:$C$14,MMULT(camera!$A$16:$C$18,TRANSPOSE(AH292:AJ292))))","v":396.45686320672178},-304.66608633126805,-0.72901020229630831,null,{"$f":"camera!$B$5*AM292/AN292","v":208958.72607242037},{"$f":"camera!$B$5*AL292/AN292","v":-271914.48210047185},null,{"$f":"IF( AND( (camera!$B$3) > (AQ292+camera!$B$3/2), 0 < (AQ292+camera!$B$3/2), AN292 >= 0 ), AQ292+camera!$B$3/2, 0)*-1+camera!$B$3","v":1000},{"$f":"IF( AND( (camera!$B$4) > (AP292+camera!$B$4/2), 0 < (AP292+camera!$B$4/2), AN292 >= 0 ), AP292+camera!$B$4/2, 0)","v":0},null,null,null,4274.5358999999999,102.60469999999999,219.43389999999999,null,{"$f":"MMULT(               MMULT(AX292:AZ292-$B$2:$D$2, TRANSPOSE($A$16:$C$18)),     TRANSPOSE($A$12:$C$14))","v":407.99546109292237},-9305.3925906518434,4692.0677064903321,null,-991.60894223458251,43.477149799922977," ",456.52285020007707,0]
[null,null,null,null,null,null,null,null,null,null,null,null,null,null,null,null,null,null,null,null,104.2944,444.30619999999999,null,null,null,"''",null,6.8306829999999996,-32.508477999999997,null,-32.508477999999997,102.460245,null,{"$f":"camera!$B$5*COS(RADIANS(AE293))*COS(RADIANS(AF293))","v":-90.977399312413496},{"$f":"camera!$B$5*COS(RADIANS(AE293))*SIN(RADIANS(AF293))","v":411.72426070336729},{"$f":"camera!$B$5*SIN(RADIANS(AE293))","v":-268.71219913248325},null,{"$f":"TRANSPOSE(MMULT(camera!$A$12:$C$14,MMULT(camera!$A$16:$C$18,TRANSPOSE(AH293:AJ293))))","v":194.7836417781844},126.51533659003435,442.77895444921302,null,{"$f":"camera!$B$5*AM293/AN293","v":142.86511962544702},{"$f":"camera!$B$5*AL293/AN293","v":219.95584909910863},null,{"$f":"IF( AND( (camera!$B$3) > (AQ293+camera!$B$3/2), 0 < (AQ293+camera!$B$3/2), AN293 >= 0 ), AQ293+camera!$B$3/2, 0)*-1+camera!$B$3","v":280.0441509008914},{"$f":"IF( AND( (camera!$B$4) > (AP293+camera!$B$4/2), 0 < (AP293+camera!$B$4/2), AN293 >= 0 ), AP293+camera!$B$4/2, 0)","v":642.86511962544705},null,null,null,4332.5317999999997,-248.3501,310.32639999999998,null,{"$f":"MMULT(               MMULT(AX293:AZ293-$B$2:$D$2, TRANSPOSE($A$16:$C$18)),     TRANSPOSE($A$12:$C$14))","v":378.31684340867093},-9393.7555250077603,4336.9544652552786,null,-1082.9898723014182,43.615496362653502," ",456.38450363734648,0]
[null,null,null,null,null,null,null,null,null,null,null,null,null,null,null,null,null,null,null,null,105.05800000000001,137.16220000000001,null,null,null,"''",null,7.3353830000000002,21.982320000000001,null,21.982320000000001,110.030745,null,{"$f":"camera!$B$5*COS(RADIANS(AE294))*COS(RADIANS(AF294))","v":-158.81130568457925},{"$f":"camera!$B$5*COS(RADIANS(AE294))*SIN(RADIANS(AF294))","v":435.60304810335361},{"$f":"camera!$B$5*SIN(RADIANS(AE294))","v":187.16023527936315},null,{"$f":"TRANSPOSE(MMULT(camera!$A$12:$C$14,MMULT(camera!$A$16:$C$18,TRANSPOSE(AH294:AJ294))))","v":-257.26716730963915},196.17228792059697,381.22177020268998,null,{"$f":"camera!$B$5*AM294/AN294","v":257.29418314213149},{"$f":"camera!$B$5*AL294/AN294","v":-337.42454841030462},null,{"$f":"IF( AND( (camera!$B$3) > (AQ294+camera!$B$3/2), 0 < (AQ294+camera!$B$3/2), AN294 >= 0 ), AQ294+camera!$B$3/2, 0)*-1+camera!$B$3","v":837.42454841030462},{"$f":"IF( AND( (camera!$B$4) > (AP294+camera!$B$4/2), 0 < (AP294+camera!$B$4/2), AN294 >= 0 ), AP294+camera!$B$4/2, 0)","v":757.29418314213149},null,null,null,4438.6881999999996,-86.736900000000006,310.32639999999998,null,{"$f":"MMULT(               MMULT(AX294:AZ294-$B$2:$D$2, TRANSPOSE($A$16:$C$18)),     TRANSPOSE($A$12:$C$14))","v":348.75317988545987},-9485.4224493724396,4504.6183327157614,null,-1052.8552863716016,38.710624755105748," ",461.28937524489425,0]
[null,null,null,null,null,null,null,null,null,null,null,null,null,null,null,null,null,null,null,null,105.05800000000001,547.16219999999998,null,null,null,"''",null,22.828019999999999,66.200407999999996,null,66.200407999999996,-17.579700000000003,null,{"$f":"camera!$B$5*COS(RADIANS(AE295))*COS(RADIANS(AF295))","v":192.34630357985884},{"$f":"camera!$B$5*COS(RADIANS(AE295))*SIN(RADIANS(AF295))","v":-60.940843734609281},{"$f":"camera!$B$5*SIN(RADIANS(AE295))","v":457.48127072491036},null,{"$f":"TRANSPOSE(MMULT(camera!$A$12:$C$14,MMULT(camera!$A$16:$C$18,TRANSPOSE(AH295:AJ295))))","v":-442.90015732891118},-196.92571232315956,-122.71802827637794,null,{"$f":"camera!$B$5*AM295/AN295","v":802.35037626116218},{"$f":"camera!$B$5*AL295/AN295","v":1804.5439759325293},null,{"$f":"IF( AND( (camera!$B$3) > (AQ295+camera!$B$3/2), 0 < (AQ295+camera!$B$3/2), AN295 >= 0 ), AQ295+camera!$B$3/2, 0)*-1+camera!$B$3","v":1000},{"$f":"IF( AND( (camera!$B$4) > (AP295+camera!$B$4/2), 0 < (AP295+camera!$B$4/2), AN295 >= 0 ), AP295+camera!$B$4/2, 0)","v":0},null,null,null,4337.6397999999999,-44.881300000000003,285.80790000000002,null,{"$f":"MMULT(               MMULT(AX295:AZ295-$B$2:$D$2, TRANSPOSE($A$16:$C$18)),     TRANSPOSE($A$12:$C$14))","v":367.18800814525127},-9381.1106131356373,4541.2656404491881,null,-1032.8740219001731,40.427937629842297," ",459.57206237015771,0]
[null,null,null,null,null,null,null,null,null,null,null,null,null,null,null,null,null,null,null,null,105.4314,49.306199999999997,null,null,null,"''",null,19.979285000000001,19.492148,null,19.492148,-60.310724999999991,null,{"$f":"camera!$B$5*COS(RADIANS(AE296))*COS(RADIANS(AF296))","v":233.45463667409285},{"$f":"camera!$B$5*COS(RADIANS(AE296))*SIN(RADIANS(AF296))","v":-409.46762408855216},{"$f":"camera!$B$5*SIN(RADIANS(AE296))","v":166.83883672168008},null,{"$f":"TRANSPOSE(MMULT(camera!$A$12:$C$14,MMULT(camera!$A$16:$C$18,TRANSPOSE(AH296:AJ296))))","v":-97.004646953885967},-268.2537262082227,-410.64587766682354,null,{"$f":"camera!$B$5*AM296/AN296","v":326.62415574748525},{"$f":"camera!$B$5*AL296/AN296","v":118.11228631471911},null,{"$f":"IF( AND( (camera!$B$3) > (AQ296+camera!$B$3/2), 0 < (AQ296+camera!$B$3/2), AN296 >= 0 ), AQ296+camera!$B$3/2, 0)*-1+camera!$B$3","v":1000},{"$f":"IF( AND( (camera!$B$4) > (AP296+camera!$B$4/2), 0 < (AP296+camera!$B$4/2), AN296 >= 0 ), AP296+camera!$B$4/2, 0)","v":0},null,null,null,4254.9502000000002,-170.76849999999999,285.80790000000002,null,{"$f":"MMULT(               MMULT(AX296:AZ296-$B$2:$D$2, TRANSPOSE($A$16:$C$18)),     TRANSPOSE($A$12:$C$14))","v":390.21636725268525},-9309.707464446732,4410.6653261075699,null,-1055.3631681529766,44.23554479898079," ",455.76445520101925,0]
[null,null,null,null,null,null,null,null,null,null,null,null,null,null,null,null,null,null,null,null,105.4314,459.30619999999999,null,null,null,"''",null,22.833385,24.601579000000001,null,24.601579000000001,-17.499225000000024,null,{"$f":"camera!$B$5*COS(RADIANS(AE297))*COS(RADIANS(AF297))","v":433.57332301287221},{"$f":"camera!$B$5*COS(RADIANS(AE297))*SIN(RADIANS(AF297))","v":-136.69869599638994},{"$f":"camera!$B$5*SIN(RADIANS(AE297))","v":208.15292475596431},null,{"$f":"TRANSPOSE(MMULT(camera!$A$12:$C$14,MMULT(camera!$A$16:$C$18,TRANSPOSE(AH297:AJ297))))","v":-187.90535060413555},-443.8375220016448,-133.04072037453935,null,{"$f":"camera!$B$5*AM297/AN297","v":1668.051408441502},{"$f":"camera!$B$5*AL297/AN297","v":706.19487806116808},null,{"$f":"IF( AND( (camera!$B$3) > (AQ297+camera!$B$3/2), 0 < (AQ297+camera!$B$3/2), AN297 >= 0 ), AQ297+camera!$B$3/2, 0)*-1+camera!$B$3","v":1000},{"$f":"IF( AND( (camera!$B$4) > (AP297+camera!$B$4/2), 0 < (AP297+camera!$B$4/2), AN297 >= 0 ), AP297+camera!$B$4/2, 0)","v":0},null,null,null,4368.1850999999997,102.60469999999999,285.80790000000002,null,{"$f":"MMULT(               MMULT(AX297:AZ297-$B$2:$D$2, TRANSPOSE($A$16:$C$18)),     TRANSPOSE($A$12:$C$14))","v":341.21250347987848},-9398.6854271723769,4688.5800478133115,null,-1002.2955064567783,36.387616293233094," ",463.61238370676688,0]
[null,null,null,null,null,null,null,null,null,null,null,null,null,null,null,null,null,null,null,null,108.3432,152.16220000000001,null,null,null,"''",null,3.7208060000000001,-9.7633949999999992,null,-9.7633949999999992,55.812089999999998,null,{"$f":"camera!$B$5*COS(RADIANS(AE298))*COS(RADIANS(AF298))","v":276.88520131038121},{"$f":"camera!$B$5*COS(RADIANS(AE298))*SIN(RADIANS(AF298))","v":407.60918646224457},{"$f":"camera!$B$5*SIN(RADIANS(AE298))","v":-84.789954634360086},null,{"$f":"TRANSPOSE(MMULT(camera!$A$12:$C$14,MMULT(camera!$A$16:$C$18,TRANSPOSE(AH298:AJ298))))","v":8.8000524641804816},-240.30608812858179,438.37831046365187,null,{"$f":"camera!$B$5*AM298/AN298","v":-274.08528477882663},{"$f":"camera!$B$5*AL298/AN298","v":10.037052762570628},null,{"$f":"IF( AND( (camera!$B$3) > (AQ298+camera!$B$3/2), 0 < (AQ298+camera!$B$3/2), AN298 >= 0 ), AQ298+camera!$B$3/2, 0)*-1+camera!$B$3","v":489.96294723742938},{"$f":"IF( AND( (camera!$B$4) > (AP298+camera!$B$4/2), 0 < (AP298+camera!$B$4/2), AN298 >= 0 ), AP298+camera!$B$4/2, 0)","v":225.91471522117337},null,null,null,4477.9021000000002,102.60469999999999,310.32639999999998,null,{"$f":"MMULT(               MMULT(AX298:AZ298-$B$2:$D$2, TRANSPOSE($A$16:$C$18)),     TRANSPOSE($A$12:$C$14))","v":315.40598968386155},-9507.9849208629093,4693.739646241419,null,-1012.8368462529199,33.598581669993941," ",466.40141833000609,0]
[null,null,null,null,null,null,null,null,null,null,null,null,null,null,null,null,null,null,null,null,108.3432,562.16219999999998,null,null,null,"''",null,9.6858430000000002,9.8923079999999999,null,9.8923079999999999,145.287645,null,{"$f":"camera!$B$5*COS(RADIANS(AE299))*COS(RADIANS(AF299))","v":-404.89989040240687},{"$f":"camera!$B$5*COS(RADIANS(AE299))*SIN(RADIANS(AF299))","v":280.49516855867756},{"$f":"camera!$B$5*SIN(RADIANS(AE299))","v":85.898423544078739},null,{"$f":"TRANSPOSE(MMULT(camera!$A$12:$C$14,MMULT(camera!$A$16:$C$18,TRANSPOSE(AH299:AJ299))))","v":-126.98763025752518},427.80588882966765,225.51333274162761,null,{"$f":"camera!$B$5*AM299/AN299","v":948.51573436637602},{"$f":"camera!$B$5*AL299/AN299","v":-281.55237810931538},null,{"$f":"IF( AND( (camera!$B$3) > (AQ299+camera!$B$3/2), 0 < (AQ299+camera!$B$3/2), AN299 >= 0 ), AQ299+camera!$B$3/2, 0)*-1+camera!$B$3","v":781.55237810931544},{"$f":"IF( AND( (camera!$B$4) > (AP299+camera!$B$4/2), 0 < (AP299+camera!$B$4/2), AN299 >= 0 ), AP299+camera!$B$4/2, 0)","v":0},null,null,null,4476.3334999999997,-392.15170000000001,219.43389999999999,null,{"$f":"MMULT(               MMULT(AX299:AZ299-$B$2:$D$2, TRANSPOSE($A$16:$C$18)),     TRANSPOSE($A$12:$C$14))","v":490.52798851443754},-9549.5431513806416,4224.0024841975928,null,-1130.3903332332802,58.064358431316123," ",441.93564156868388,0]
[null,null,null,null,null,null,null,null,null,null,null,null,null,null,null,null,null,null,null,null,109.2944,34.306199999999997,null,null,null,"''",null,9.9477080000000004,-54.567790000000002,null,-54.567790000000002,149.21562,null,{"$f":"camera!$B$5*COS(RADIANS(AE300))*COS(RADIANS(AF300))","v":-249.02686859736252},{"$f":"camera!$B$5*COS(RADIANS(AE300))*SIN(RADIANS(AF300))","v":148.35780726358476},{"$f":"camera!$B$5*SIN(RADIANS(AE300))","v":-407.40100606224939},null,{"$f":"TRANSPOSE(MMULT(camera!$A$12:$C$14,MMULT(camera!$A$16:$C$18,TRANSPOSE(AH300:AJ300))))","v":379.31652008860641},261.00948106355401,194.91800425513313,null,{"$f":"camera!$B$5*AM300/AN300","v":669.53661376994216},{"$f":"camera!$B$5*AL300/AN300","v":973.01560607020519},null,{"$f":"IF( AND( (camera!$B$3) > (AQ300+camera!$B$3/2), 0 < (AQ300+camera!$B$3/2), AN300 >= 0 ), AQ300+camera!$B$3/2, 0)*-1+camera!$B$3","v":1000},{"$f":"IF( AND( (camera!$B$4) > (AP300+camera!$B$4/2), 0 < (AP300+camera!$B$4/2), AN300 >= 0 ), AP300+camera!$B$4/2, 0)","v":0},null,null,null,4625.9867000000004,-164.3185,219.43389999999999,null,{"$f":"MMULT(               MMULT(AX300:AZ300-$B$2:$D$2, TRANSPOSE($A$16:$C$18)),     TRANSPOSE($A$12:$C$14))","v":448.8508002339936},-9678.76990400453,4460.365564385258,null,-1084.9749604927829,50.315472325624917," ",449.68452767437509,0]
[null,null,null,null,null,null,null,null,null,null,null,null,null,null,null,null,null,null,null,null,109.2944,444.30619999999999,null,null,null,"'Sheliak'",null,18.834665000000001,33.362667000000002,null,33.362667000000002,-77.480024999999955,null,{"$f":"camera!$B$5*COS(RADIANS(AE301))*COS(RADIANS(AF301))","v":90.528004442256886},{"$f":"camera!$B$5*COS(RADIANS(AE301))*SIN(RADIANS(AF301))","v":-407.67278627884713},{"$f":"camera!$B$5*SIN(RADIANS(AE301))","v":274.96832497461259},null,{"$f":"TRANSPOSE(MMULT(camera!$A$12:$C$14,MMULT(camera!$A$16:$C$18,TRANSPOSE(AH301:AJ301))))","v":-201.63877567572854},-125.71454254034251,-439.92915104351249,null,{"$f":"camera!$B$5*AM301/AN301","v":142.88044136441908},{"$f":"camera!$B$5*AL301/AN301","v":229.17187369539062},null,{"$f":"IF( AND( (camera!$B$3) > (AQ301+camera!$B$3/2), 0 < (AQ301+camera!$B$3/2), AN301 >= 0 ), AQ301+camera!$B$3/2, 0)*-1+camera!$B$3","v":1000},{"$f":"IF( AND( (camera!$B$4) > (AP301+camera!$B$4/2), 0 < (AP301+camera!$B$4/2), AN301 >= 0 ), AP301+camera!$B$4/2, 0)","v":0},null,null,null,4539.7365,-128.5925,285.80790000000002,null,{"$f":"MMULT(               MMULT(AX301:AZ301-$B$2:$D$2, TRANSPOSE($A$16:$C$18)),     TRANSPOSE($A$12:$C$14))","v":378.61037092357128},-9589.7341859897733,4476.4862020874243,null,-1071.1229470022713,42.288790117014322," ",457.71120988298571,0]
[null,null,null,null,null,null,null,null,null,null,null,null,null,null,null,null,null,null,null,null,110.05800000000001,137.16220000000001,null,null,null,"''",null,18.962167000000001,-21.106653999999999,null,-21.106653999999999,-75.567495000000008,null,{"$f":"camera!$B$5*COS(RADIANS(AE302))*COS(RADIANS(AF302))","v":116.25915216305323},{"$f":"camera!$B$5*COS(RADIANS(AE302))*SIN(RADIANS(AF302))","v":-451.73540833299666},{"$f":"camera!$B$5*SIN(RADIANS(AE302))","v":-180.05257675620408},null,{"$f":"TRANSPOSE(MMULT(camera!$A$12:$C$14,MMULT(camera!$A$16:$C$18,TRANSPOSE(AH302:AJ302))))","v":253.70218788419095},-155.18808602815409,-401.9351413072672,null,{"$f":"camera!$B$5*AM302/AN302","v":193.05115437706593},{"$f":"camera!$B$5*AL302/AN302","v":-315.60090399043179},null,{"$f":"IF( AND( (camera!$B$3) > (AQ302+camera!$B$3/2), 0 < (AQ302+camera!$B$3/2), AN302 >= 0 ), AQ302+camera!$B$3/2, 0)*-1+camera!$B$3","v":1000},{"$f":"IF( AND( (camera!$B$4) > (AP302+camera!$B$4/2), 0 < (AP302+camera!$B$4/2), AN302 >= 0 ), AP302+camera!$B$4/2, 0)","v":0},null,null,null,4410.1134000000002,-325.93169999999998,285.80790000000002,null,{"$f":"MMULT(               MMULT(AX302:AZ302-$B$2:$D$2, TRANSPOSE($A$16:$C$18)),     TRANSPOSE($A$12:$C$14))","v":414.70933734911591},-9477.8035855687867,4271.7587900912422,null,-1109.3561283883198,48.540818633190895," ",451.45918136680916,0]
[null,null,null,null,null,null,null,null,null,null,null,null,null,null,null,null,null,null,null,null,110.05800000000001,547.16219999999998,null,null,null,"''",null,22.169996000000001,6.1978650000000002,null,6.1978650000000002,-27.450060000000008,null,{"$f":"camera!$B$5*COS(RADIANS(AE303))*COS(RADIANS(AF303))","v":441.11301229056602},{"$f":"camera!$B$5*COS(RADIANS(AE303))*SIN(RADIANS(AF303))","v":-229.14044874152953},{"$f":"camera!$B$5*SIN(RADIANS(AE303))","v":53.981155401430982},null,{"$f":"TRANSPOSE(MMULT(camera!$A$12:$C$14,MMULT(camera!$A$16:$C$18,TRANSPOSE(AH303:AJ303))))","v":-20.198647895021296},-459.40535010674051,-196.31285978385651,null,{"$f":"camera!$B$5*AM303/AN303","v":1170.0847071673065},{"$f":"camera!$B$5*AL303/AN303","v":51.445045213187555},null,{"$f":"IF( AND( (camera!$B$3) > (AQ303+camera!$B$3/2), 0 < (AQ303+camera!$B$3/2), AN303 >= 0 ), AQ303+camera!$B$3/2, 0)*-1+camera!$B$3","v":1000},{"$f":"IF( AND( (camera!$B$4) > (AP303+camera!$B$4/2), 0 < (AP303+camera!$B$4/2), AN303 >= 0 ), AP303+camera!$B$4/2, 0)","v":0},null,null,null,4587.6189999999997,102.60469999999999,285.80790000000002,null,{"$f":"MMULT(               MMULT(AX303:AZ303-$B$2:$D$2, TRANSPOSE($A$16:$C$18)),     TRANSPOSE($A$12:$C$14))","v":337.89149518574777},-9617.2843149339697,4707.4144217746143,null,-1021.5038929277465,35.889287081120052," ",464.11071291887993,0]
[null,null,null,null,null,null,null,null,null,null,null,null,null,null,null,null,null,null,null,null,110.4314,49.306199999999997,null,null,null,"''",null,12.694171000000001,-1.4492350000000001,null,-1.4492350000000001,-169.587435,null,{"$f":"camera!$B$5*COS(RADIANS(AE304))*COS(RADIANS(AF304))","v":-491.60862636752938},{"$f":"camera!$B$5*COS(RADIANS(AE304))*SIN(RADIANS(AF304))","v":-90.338513164946676},{"$f":"camera!$B$5*SIN(RADIANS(AE304))","v":-12.645612684946494},null,{"$f":"TRANSPOSE(MMULT(camera!$A$12:$C$14,MMULT(camera!$A$16:$C$18,TRANSPOSE(AH304:AJ304))))","v":35.521140621500841},481.86438690988865,-128.62721794746525,null,{"$f":"camera!$B$5*AM304/AN304","v":-1873.1042877204059},{"$f":"camera!$B$5*AL304/AN304","v":-138.07785470415993},null,{"$f":"IF( AND( (camera!$B$3) > (AQ304+camera!$B$3/2), 0 < (AQ304+camera!$B$3/2), AN304 >= 0 ), AQ304+camera!$B$3/2, 0)*-1+camera!$B$3","v":1000},{"$f":"IF( AND( (camera!$B$4) > (AP304+camera!$B$4/2), 0 < (AP304+camera!$B$4/2), AN304 >= 0 ), AP304+camera!$B$4/2, 0)","v":0},null,null,null,4681.2682999999997,102.60469999999999,219.43389999999999,null,{"$f":"MMULT(               MMULT(AX304:AZ304-$B$2:$D$2, TRANSPOSE($A$16:$C$18)),     TRANSPOSE($A$12:$C$14))","v":401.83979565612481},-9710.5772510739753,4726.9782199696911,null,-1027.144276871265,42.504934120333367," ",457.49506587966664,0]
[null,null,null,null,null,null,null,null,null,null,null,null,null,null,null,null,null,null,null,null,110.4314,459.30619999999999,null,null,null,"''",null,4.4769430000000003,19.180430999999999,null,19.180430999999999,67.154145,null,{"$f":"camera!$B$5*COS(RADIANS(AE305))*COS(RADIANS(AF305))","v":183.35039080362813},{"$f":"camera!$B$5*COS(RADIANS(AE305))*SIN(RADIANS(AF305))","v":435.19803623493493},{"$f":"camera!$B$5*SIN(RADIANS(AE305))","v":164.27204098510836},null,{"$f":"TRANSPOSE(MMULT(camera!$A$12:$C$14,MMULT(camera!$A$16:$C$18,TRANSPOSE(AH305:AJ305))))","v":-239.83505843197486},-144.7226791212459,414.16722576140677,null,{"$f":"camera!$B$5*AM305/AN305","v":-174.71527214060347},{"$f":"camera!$B$5*AL305/AN305","v":-289.5389150977133},null,{"$f":"IF( AND( (camera!$B$3) > (AQ305+camera!$B$3/2), 0 < (AQ305+camera!$B$3/2), AN305 >= 0 ), AQ305+camera!$B$3/2, 0)*-1+camera!$B$3","v":789.53891509771324},{"$f":"IF( AND( (camera!$B$4) > (AP305+camera!$B$4/2), 0 < (AP305+camera!$B$4/2), AN305 >= 0 ), AP305+camera!$B$4/2, 0)","v":325.28472785939653},null,null,null,4682.6405000000004,-187.78530000000001,118.38549999999999,null,{"$f":"MMULT(               MMULT(AX305:AZ305-$B$2:$D$2, TRANSPOSE($A$16:$C$18)),     TRANSPOSE($A$12:$C$14))","v":551.56608525456636},-9737.2533855751899,4459.7527791401244,null,-1091.6808473240762,61.838190654248855," ",438.16180934575118,0]
[null,null,null,null,null,null,null,null,null,null,null,null,null,null,null,null,null,null,null,null,113.3432,152.16220000000001,null,null,null,"''",null,8.2752560000000006,9.1855449999999994,null,9.1855449999999994,124.12884000000001,null,{"$f":"camera!$B$5*COS(RADIANS(AE306))*COS(RADIANS(AF306))","v":-276.93053553323074},{"$f":"camera!$B$5*COS(RADIANS(AE306))*SIN(RADIANS(AF306))","v":408.58153826318295},{"$f":"camera!$B$5*SIN(RADIANS(AE306))","v":79.816070310240221},null,{"$f":"TRANSPOSE(MMULT(camera!$A$12:$C$14,MMULT(camera!$A$16:$C$18,TRANSPOSE(AH306:AJ306))))","v":-145.09175292739326},311.48695867822062,363.21379077046169,null,{"$f":"camera!$B$5*AM306/AN306","v":428.79285780625742},{"$f":"camera!$B$5*AL306/AN306","v":-199.73326538568315},null,{"$f":"IF( AND( (camera!$B$3) > (AQ306+camera!$B$3/2), 0 < (AQ306+camera!$B$3/2), AN306 >= 0 ), AQ306+camera!$B$3/2, 0)*-1+camera!$B$3","v":699.73326538568313},{"$f":"IF( AND( (camera!$B$4) > (AP306+camera!$B$4/2), 0 < (AP306+camera!$B$4/2), AN306 >= 0 ), AP306+camera!$B$4/2, 0)","v":928.79285780625742},null,null,null,4519.8303999999998,-435.64859999999999,118.38549999999999,null,{"$f":"MMULT(               MMULT(AX306:AZ306-$B$2:$D$2, TRANSPOSE($A$16:$C$18)),     TRANSPOSE($A$12:$C$14))","v":596.9073505937796},-9596.6655371707875,4202.609685343381,null,-1141.7507519957421,71.016272659759068," ",428.98372734024088,0]
[null,null,null,null,null,null,null,null,null,null,null,null,null,null,null,null,null,null,null,null,113.3432,562.16219999999998,null,null,null,"''",null,11.550038000000001,-31.857624999999999,null,-31.857624999999999,173.25057000000001,null,{"$f":"camera!$B$5*COS(RADIANS(AE307))*COS(RADIANS(AF307))","v":-421.73794073999341},{"$f":"camera!$B$5*COS(RADIANS(AE307))*SIN(RADIANS(AF307))","v":49.911720313643023},{"$f":"camera!$B$5*SIN(RADIANS(AE307))","v":-263.90515249938284},null,{"$f":"TRANSPOSE(MMULT(camera!$A$12:$C$14,MMULT(camera!$A$16:$C$18,TRANSPOSE(AH307:AJ307))))","v":257.64450764917819},424.4831936050611,58.594590407824761,null,{"$f":"camera!$B$5*AM307/AN307","v":3622.2046322929441},{"$f":"camera!$B$5*AL307/AN307","v":2198.5349317739424},null,{"$f":"IF( AND( (camera!$B$3) > (AQ307+camera!$B$3/2), 0 < (AQ307+camera!$B$3/2), AN307 >= 0 ), AQ307+camera!$B$3/2, 0)*-1+camera!$B$3","v":1000},{"$f":"IF( AND( (camera!$B$4) > (AP307+camera!$B$4/2), 0 < (AP307+camera!$B$4/2), AN307 >= 0 ), AP307+camera!$B$4/2, 0)","v":0},null,null,null,4742.7821999999996,102.60469999999999,118.38549999999999,null,{"$f":"MMULT(               MMULT(AX307:AZ307-$B$2:$D$2, TRANSPOSE($A$16:$C$18)),     TRANSPOSE($A$12:$C$14))","v":500.42206522901211},-9771.8570721129199,4749.8049300932134,null,-1028.6587781954606,52.678170219002183," ",447.32182978099786,0]
[null,null,null,null,null,null,null,null,null,null,null,null,null,null,null,null,null,null,null,null,114.2944,34.306199999999997,null,null,null,"''",null,15.827002,-3.4302079999999999,null,-3.4302079999999999,-122.59496999999999,null,{"$f":"camera!$B$5*COS(RADIANS(AE308))*COS(RADIANS(AF308))","v":-268.86585307093935},{"$f":"camera!$B$5*COS(RADIANS(AE308))*SIN(RADIANS(AF308))","v":-420.4951439215863},{"$f":"camera!$B$5*SIN(RADIANS(AE308))","v":-29.916333177720485},null,{"$f":"TRANSPOSE(MMULT(camera!$A$12:$C$14,MMULT(camera!$A$16:$C$18,TRANSPOSE(AH308:AJ308))))","v":106.27132897962696},231.1941707369148,-430.41335952102384,null,{"$f":"camera!$B$5*AM308/AN308","v":-268.57225225791575},{"$f":"camera!$B$5*AL308/AN308","v":-123.45263759690069},null,{"$f":"IF( AND( (camera!$B$3) > (AQ308+camera!$B$3/2), 0 < (AQ308+camera!$B$3/2), AN308 >= 0 ), AQ308+camera!$B$3/2, 0)*-1+camera!$B$3","v":1000},{"$f":"IF( AND( (camera!$B$4) > (AP308+camera!$B$4/2), 0 < (AP308+camera!$B$4/2), AN308 >= 0 ), AP308+camera!$B$4/2, 0)","v":0},null,null,null,-671.02970000000005,-3313.68,-219.43389999999999,null,{"$f":"MMULT(               MMULT(AX308:AZ308-$B$2:$D$2, TRANSPOSE($A$16:$C$18)),     TRANSPOSE($A$12:$C$14))","v":1506.0184058085547},-4676.395191332882,992.20907524364748,null,-2356.5573567166493,758.92190637277531," ",1000,0]
[null,null,null,null,null,null,null,null,null,null,null,null,null,null,null,null,null,null,null,null,114.2944,444.30619999999999,null,null,null,"''",null,17.626445,-15.398557,null,-15.398557,-95.603324999999984,null,{"$f":"camera!$B$5*COS(RADIANS(AE309))*COS(RADIANS(AF309))","v":-47.067779791261238},{"$f":"camera!$B$5*COS(RADIANS(AE309))*SIN(RADIANS(AF309))","v":-479.74767852327994},{"$f":"camera!$B$5*SIN(RADIANS(AE309))","v":-132.76591828117995},null,{"$f":"TRANSPOSE(MMULT(camera!$A$12:$C$14,MMULT(camera!$A$16:$C$18,TRANSPOSE(AH309:AJ309))))","v":214.45155060471421},5.0759074258430701,-451.64672876822425,null,{"$f":"camera!$B$5*AM309/AN309","v":-5.6193337652268491},{"$f":"camera!$B$5*AL309/AN309","v":-237.41072053105285},null,{"$f":"IF( AND( (camera!$B$3) > (AQ309+camera!$B$3/2), 0 < (AQ309+camera!$B$3/2), AN309 >= 0 ), AQ309+camera!$B$3/2, 0)*-1+camera!$B$3","v":1000},{"$f":"IF( AND( (camera!$B$4) > (AP309+camera!$B$4/2), 0 < (AP309+camera!$B$4/2), AN309 >= 0 ), AP309+camera!$B$4/2, 0)","v":0},null,null,null,-404.10640000000001,-3258.3984,-219.43389999999999,null,{"$f":"MMULT(               MMULT(AX309:AZ309-$B$2:$D$2, TRANSPOSE($A$16:$C$18)),     TRANSPOSE($A$12:$C$14))","v":1492.4156523181218},-4937.4846586817557,1069.3541238106814,null,-2308.6293626880374,697.81170665889692," ",1000,0]
[null,null,null,null,null,null,null,null,null,null,null,null,null,null,null,null,null,null,null,null,115.05800000000001,137.16220000000001,null,null,null,"''",null,4.2982370000000003,-33.798347999999997,null,-33.798347999999997,64.473555000000005,null,{"$f":"camera!$B$5*COS(RADIANS(AE310))*COS(RADIANS(AF310))","v":179.05054451344662},{"$f":"camera!$B$5*COS(RADIANS(AE310))*SIN(RADIANS(AF310))","v":374.94181388024697},{"$f":"camera!$B$5*SIN(RADIANS(AE310))","v":-278.13582781372935},null,{"$f":"TRANSPOSE(MMULT(camera!$A$12:$C$14,MMULT(camera!$A$16:$C$18,TRANSPOSE(AH310:AJ310))))","v":206.34028337570084},-145.69087085884848,431.50649775504633,null,{"$f":"camera!$B$5*AM310/AN310","v":-168.81654345510336},{"$f":"camera!$B$5*AL310/AN310","v":239.09290410365293},null,{"$f":"IF( AND( (camera!$B$3) > (AQ310+camera!$B$3/2), 0 < (AQ310+camera!$B$3/2), AN310 >= 0 ), AQ310+camera!$B$3/2, 0)*-1+camera!$B$3","v":260.90709589634707},{"$f":"IF( AND( (camera!$B$4) > (AP310+camera!$B$4/2), 0 < (AP310+camera!$B$4/2), AN310 >= 0 ), AP310+camera!$B$4/2, 0)","v":331.18345654489667},null,null,null,-380.6397,-3315.0522000000001,-118.38549999999999,null,{"$f":"MMULT(               MMULT(AX310:AZ310-$B$2:$D$2, TRANSPOSE($A$16:$C$18)),     TRANSPOSE($A$12:$C$14))","v":1402.3476425196304},-4965.7997648219425,998.24064702112469,null,-2487.275878637337,702.40960769550497," ",1000,0]
[null,null,null,null,null,null,null,null,null,null,null,null,null,null,null,null,null,null,null,null,115.05800000000001,547.16219999999998,null,null,null,"''",null,5.7825949999999997,-14.821949999999999,null,-14.821949999999999,86.738924999999995,null,{"$f":"camera!$B$5*COS(RADIANS(AE311))*COS(RADIANS(AF311))","v":27.496461388079247},{"$f":"camera!$B$5*COS(RADIANS(AE311))*SIN(RADIANS(AF311))","v":482.58001579737578},{"$f":"camera!$B$5*SIN(RADIANS(AE311))","v":-127.90806450000881},null,{"$f":"TRANSPOSE(MMULT(camera!$A$12:$C$14,MMULT(camera!$A$16:$C$18,TRANSPOSE(AH311:AJ311))))","v":42.068450866886209},14.667790660907936,498.0111458178302,null,{"$f":"camera!$B$5*AM311/AN311","v":14.7263678575111},{"$f":"camera!$B$5*AL311/AN311","v":42.23645516788757},null,{"$f":"IF( AND( (camera!$B$3) > (AQ311+camera!$B$3/2), 0 < (AQ311+camera!$B$3/2), AN311 >= 0 ), AQ311+camera!$B$3/2, 0)*-1+camera!$B$3","v":457.76354483211242},{"$f":"IF( AND( (camera!$B$4) > (AP311+camera!$B$4/2), 0 < (AP311+camera!$B$4/2), AN311 >= 0 ), AP311+camera!$B$4/2, 0)","v":514.72636785751115},null,null,null,-671.02970000000005,-3375.1939000000002,-118.38549999999999,null,{"$f":"MMULT(               MMULT(AX311:AZ311-$B$2:$D$2, TRANSPOSE($A$16:$C$18)),     TRANSPOSE($A$12:$C$14))","v":1417.1462873102446},-4681.7564809766873,914.31336186513363,null,-2560.2581545052781,774.97844088123566," ",1000,0]
[null,null,null,null,null,null,null,null,null,null,null,null,null,null,null,null,null,null,null,null,115.4314,49.306199999999997,null,null,null,"''",null,14.323396000000001,-46.058093,null,-46.058093,-145.14905999999999,null,{"$f":"camera!$B$5*COS(RADIANS(AE312))*COS(RADIANS(AF312))","v":-284.73332320241536},{"$f":"camera!$B$5*COS(RADIANS(AE312))*SIN(RADIANS(AF312))","v":-198.27047837474791},{"$f":"camera!$B$5*SIN(RADIANS(AE312))","v":-360.02187720075773},null,{"$f":"TRANSPOSE(MMULT(camera!$A$12:$C$14,MMULT(camera!$A$16:$C$18,TRANSPOSE(AH312:AJ312))))","v":393.15990749662586},266.36941613660497,-156.43727587850913,null,{"$f":"camera!$B$5*AM312/AN312","v":-851.36171874876652},{"$f":"camera!$B$5*AL312/AN312","v":-1256.6055797403365},null,{"$f":"IF( AND( (camera!$B$3) > (AQ312+camera!$B$3/2), 0 < (AQ312+camera!$B$3/2), AN312 >= 0 ), AQ312+camera!$B$3/2, 0)*-1+camera!$B$3","v":1000},{"$f":"IF( AND( (camera!$B$4) > (AP312+camera!$B$4/2), 0 < (AP312+camera!$B$4/2), AN312 >= 0 ), AP312+camera!$B$4/2, 0)","v":0},null,null,null,-671.02970000000005,-3397.9169999999999,0,null,{"$f":"MMULT(               MMULT(AX312:AZ312-$B$2:$D$2, TRANSPOSE($A$16:$C$18)),     TRANSPOSE($A$12:$C$14))","v":1304.4901389169167},-4683.7369296347169,871.4632050841667,null,-2687.283239446901,748.44820257840252," ",1000,0]
[null,null,null,null,null,null,null,null,null,null,null,null,null,null,null,null,null,null,null,null,115.4314,459.30619999999999,null,null,null,"''",null,18.350736000000001,72.732843000000003,null,72.732843000000003,-84.738959999999963,null,{"$f":"camera!$B$5*COS(RADIANS(AE313))*COS(RADIANS(AF313))","v":13.608576919797889},{"$f":"camera!$B$5*COS(RADIANS(AE313))*SIN(RADIANS(AF313))","v":-147.78854342831173},{"$f":"camera!$B$5*SIN(RADIANS(AE313))","v":477.46555170562402},null,{"$f":"TRANSPOSE(MMULT(camera!$A$12:$C$14,MMULT(camera!$A$16:$C$18,TRANSPOSE(AH313:AJ313))))","v":-444.8521802714024},-26.437412448165396,-226.73244348973361,null,{"$f":"camera!$B$5*AM313/AN313","v":58.300903128939453},{"$f":"camera!$B$5*AL313/AN313","v":981.00689390652906},null,{"$f":"IF( AND( (camera!$B$3) > (AQ313+camera!$B$3/2), 0 < (AQ313+camera!$B$3/2), AN313 >= 0 ), AQ313+camera!$B$3/2, 0)*-1+camera!$B$3","v":1000},{"$f":"IF( AND( (camera!$B$4) > (AP313+camera!$B$4/2), 0 < (AP313+camera!$B$4/2), AN313 >= 0 ), AP313+camera!$B$4/2, 0)","v":0},null,null,null,-371.97109999999998,-3335.98,0,null,{"$f":"MMULT(               MMULT(AX313:AZ313-$B$2:$D$2, TRANSPOSE($A$16:$C$18)),     TRANSPOSE($A$12:$C$14))","v":1289.2497354869345},-4976.2593561348958,957.89582798026481,null,-2597.4950567575811,672.95926019707872," ",1000,0]
[null,null,null,null,null,null,null,null,null,null,null,null,null,null,null,null,null,null,null,null,118.3432,152.16220000000001,null,null,null,"''",null,20.145157000000001,-66.182068000000001,null,-66.182068000000001,-57.822644999999966,null,{"$f":"camera!$B$5*COS(RADIANS(AE314))*COS(RADIANS(AF314))","v":107.52861129293196},{"$f":"camera!$B$5*COS(RADIANS(AE314))*SIN(RADIANS(AF314))","v":-170.9022962299417},{"$f":"camera!$B$5*SIN(RADIANS(AE314))","v":-457.41666224214742},null,{"$f":"TRANSPOSE(MMULT(camera!$A$12:$C$14,MMULT(camera!$A$16:$C$18,TRANSPOSE(AH314:AJ314))))","v":478.4040332984917},-122.01454902838788,-79.006523459362,null,{"$f":"camera!$B$5*AM314/AN314","v":772.18021807495165},{"$f":"camera!$B$5*AL314/AN314","v":-3027.6236211340497},null,{"$f":"IF( AND( (camera!$B$3) > (AQ314+camera!$B$3/2), 0 < (AQ314+camera!$B$3/2), AN314 >= 0 ), AQ314+camera!$B$3/2, 0)*-1+camera!$B$3","v":1000},{"$f":"IF( AND( (camera!$B$4) > (AP314+camera!$B$4/2), 0 < (AP314+camera!$B$4/2), AN314 >= 0 ), AP314+camera!$B$4/2, 0)","v":0},null,null,null,4280.6355999999996,-619.38660000000004,0,null,{"$f":"MMULT(               MMULT(AX314:AZ314-$B$2:$D$2, TRANSPOSE($A$16:$C$18)),     TRANSPOSE($A$12:$C$14))","v":748.89874499154791},-9374.3947674606425,4022.378576589173,null,-1165.280018894912,93.091529145248444," ",406.90847085475161,0]
[null,null,null,null,null,null,null,null,null,null,null,null,null,null,null,null,null,null,null,null,118.3432,562.16219999999998,null,null,null,"''",null,0.323799,-8.8239210000000003,null,-8.8239210000000003,4.8569849999999999,null,{"$f":"camera!$B$5*COS(RADIANS(AE315))*COS(RADIANS(AF315))","v":492.30803300698994},{"$f":"camera!$B$5*COS(RADIANS(AE315))*SIN(RADIANS(AF315))","v":41.833392218568932},{"$f":"camera!$B$5*SIN(RADIANS(AE315))","v":-76.699204247996093},null,{"$f":"TRANSPOSE(MMULT(camera!$A$12:$C$14,MMULT(camera!$A$16:$C$18,TRANSPOSE(AH315:AJ315))))","v":60.8465171250987},-486.78863193907597,96.615367145334844,null,{"$f":"camera!$B$5*AM315/AN315","v":-2519.2091399229389},{"$f":"camera!$B$5*AL315/AN315","v":314.89047199691112},null,{"$f":"IF( AND( (camera!$B$3) > (AQ315+camera!$B$3/2), 0 < (AQ315+camera!$B$3/2), AN315 >= 0 ), AQ315+camera!$B$3/2, 0)*-1+camera!$B$3","v":185.10952800308883},{"$f":"IF( AND( (camera!$B$4) > (AP315+camera!$B$4/2), 0 < (AP315+camera!$B$4/2), AN315 >= 0 ), AP315+camera!$B$4/2, 0)","v":0},null,null,null,4271.9669999999996,-598.4588,-118.38549999999999,null,{"$f":"MMULT(               MMULT(AX315:AZ315-$B$2:$D$2, TRANSPOSE($A$16:$C$18)),     TRANSPOSE($A$12:$C$14))","v":861.99665202424364},-9363.9351761476901,4062.7233956300338,null,-1152.4209580967008,106.08606199371444," ",393.91393800628555,0]
[null,null,null,null,null,null,null,null,null,null,null,null,null,null,null,null,null,null,null,null,119.2944,34.306199999999997,null,null,null,"''",null,2.2751540000000001,-51.512165000000003,null,-51.512165000000003,34.127310000000001,null,{"$f":"camera!$B$5*COS(RADIANS(AE316))*COS(RADIANS(AF316))","v":257.58785311947628},{"$f":"camera!$B$5*COS(RADIANS(AE316))*SIN(RADIANS(AF316))","v":174.57920630951992},{"$f":"camera!$B$5*SIN(RADIANS(AE316))","v":-391.3701555428533},null,{"$f":"TRANSPOSE(MMULT(camera!$A$12:$C$14,MMULT(camera!$A$16:$C$18,TRANSPOSE(AH316:AJ316))))","v":351.32591469120121},-241.39207317625471,261.34262697474458,null,{"$f":"camera!$B$5*AM316/AN316","v":-461.83065497306376},{"$f":"camera!$B$5*AL316/AN316","v":672.15578024543299},null,{"$f":"IF( AND( (camera!$B$3) > (AQ316+camera!$B$3/2), 0 < (AQ316+camera!$B$3/2), AN316 >= 0 ), AQ316+camera!$B$3/2, 0)*-1+camera!$B$3","v":1000},{"$f":"IF( AND( (camera!$B$4) > (AP316+camera!$B$4/2), 0 < (AP316+camera!$B$4/2), AN316 >= 0 ), AP316+camera!$B$4/2, 0)","v":38.169345026936242},null,null,null,4248.5002000000004,-541.80499999999995,-219.43389999999999,null,{"$f":"MMULT(               MMULT(AX316:AZ316-$B$2:$D$2, TRANSPOSE($A$16:$C$18)),     TRANSPOSE($A$12:$C$14))","v":952.06466333617868},-9335.619970388032,4133.8368638364254,null,-1129.1713095959076,115.15508408967678," ",384.84491591032327,0]
[null,null,null,null,null,null,null,null,null,null,null,null,null,null,null,null,null,null,null,null,119.2944,444.30619999999999,null,null,null,"''",null,11.322347000000001,-14.778541000000001,null,-14.778541000000001,169.835205,null,{"$f":"camera!$B$5*COS(RADIANS(AE317))*COS(RADIANS(AF317))","v":-475.87122774181995},{"$f":"camera!$B$5*COS(RADIANS(AE317))*SIN(RADIANS(AF317))","v":85.320919689842},{"$f":"camera!$B$5*SIN(RADIANS(AE317))","v":-127.54181773352785},null,{"$f":"TRANSPOSE(MMULT(camera!$A$12:$C$14,MMULT(camera!$A$16:$C$18,TRANSPOSE(AH317:AJ317))))","v":118.0467699863604},481.49660217829205,65.007554842086094,null,{"$f":"camera!$B$5*AM317/AN317","v":3703.3895779338686},{"$f":"camera!$B$5*AL317/AN317","v":907.94654769830356},null,{"$f":"IF( AND( (camera!$B$3) > (AQ317+camera!$B$3/2), 0 < (AQ317+camera!$B$3/2), AN317 >= 0 ), AQ317+camera!$B$3/2, 0)*-1+camera!$B$3","v":1000},{"$f":"IF( AND( (camera!$B$4) > (AP317+camera!$B$4/2), 0 < (AP317+camera!$B$4/2), AN317 >= 0 ), AP317+camera!$B$4/2, 0)","v":0},null,null,null,-671.02970000000005,-3110.3137000000002,-310.32639999999998,null,{"$f":"MMULT(               MMULT(AX317:AZ317-$B$2:$D$2, TRANSPOSE($A$16:$C$18)),     TRANSPOSE($A$12:$C$14))","v":1560.350238250029},-4658.6706504065387,1207.5069878309316,null,-1929.045006511722,646.10402009056554," ",1000,0]
[null,null,null,null,null,null,null,null,null,null,null,null,null,null,null,null,null,null,null,null,120.05800000000001,137.16220000000001,null,null,null,"''",null,16.872263,-38.017536,null,-38.017536,-106.916055,null,{"$f":"camera!$B$5*COS(RADIANS(AE318))*COS(RADIANS(AF318))","v":-114.61644097064824},{"$f":"camera!$B$5*COS(RADIANS(AE318))*SIN(RADIANS(AF318))","v":-376.86743072792979},{"$f":"camera!$B$5*SIN(RADIANS(AE318))","v":-307.95131289824201},null,{"$f":"TRANSPOSE(MMULT(camera!$A$12:$C$14,MMULT(camera!$A$16:$C$18,TRANSPOSE(AH318:AJ318))))","v":370.20081036845568},81.334129966610988,-326.09219448664072,null,{"$f":"camera!$B$5*AM318/AN318","v":-124.71032938193046},{"$f":"camera!$B$5*AL318/AN318","v":-567.63212463771799},null,{"$f":"IF( AND( (camera!$B$3) > (AQ318+camera!$B$3/2), 0 < (AQ318+camera!$B$3/2), AN318 >= 0 ), AQ318+camera!$B$3/2, 0)*-1+camera!$B$3","v":1000},{"$f":"IF( AND( (camera!$B$4) > (AP318+camera!$B$4/2), 0 < (AP318+camera!$B$4/2), AN318 >= 0 ), AP318+camera!$B$4/2, 0)","v":0},null,null,null,-481.68799999999999,-3071.0998,-310.32639999999998,null,{"$f":"MMULT(               MMULT(AX318:AZ318-$B$2:$D$2, TRANSPOSE($A$16:$C$18)),     TRANSPOSE($A$12:$C$14))","v":1550.7011480612894},-4843.8741314936842,1262.229697594182,null,-1918.7768045412572,614.27058443361614," ",1000,0]
[null,null,null,null,null,null,null,null,null,null,null,null,null,null,null,null,null,null,null,null,120.05800000000001,547.16219999999998,null,null,null,"''",null,7.740793,24.397993,null,24.397993,116.111895,null,{"$f":"camera!$B$5*COS(RADIANS(AE319))*COS(RADIANS(AF319))","v":-200.4107792978748},{"$f":"camera!$B$5*COS(RADIANS(AE319))*SIN(RADIANS(AF319))","v":408.87441946635545},{"$f":"camera!$B$5*SIN(RADIANS(AE319))","v":206.5362647267286},null,{"$f":"TRANSPOSE(MMULT(camera!$A$12:$C$14,MMULT(camera!$A$16:$C$18,TRANSPOSE(AH319:AJ319))))","v":-271.09553095396183},235.28390949608558,348.06421107178966,null,{"$f":"camera!$B$5*AM319/AN319","v":337.98923016471423},{"$f":"camera!$B$5*AL319/AN319","v":-389.43321710551749},null,{"$f":"IF( AND( (camera!$B$3) > (AQ319+camera!$B$3/2), 0 < (AQ319+camera!$B$3/2), AN319 >= 0 ), AQ319+camera!$B$3/2, 0)*-1+camera!$B$3","v":889.43321710551754},{"$f":"IF( AND( (camera!$B$4) > (AP319+camera!$B$4/2), 0 < (AP319+camera!$B$4/2), AN319 >= 0 ), AP319+camera!$B$4/2, 0)","v":837.98923016471417},null,null,null,-439.83240000000001,-3172.1482000000001,-285.80790000000002,null,{"$f":"MMULT(               MMULT(AX319:AZ319-$B$2:$D$2, TRANSPOSE($A$16:$C$18)),     TRANSPOSE($A$12:$C$14))","v":1543.4017776500473},-4894.3774066545957,1162.4300702111564,null,-2105.2352017035864,663.86865636127561," ",1000,0]
[null,null,null,null,null,null,null,null,null,null,null,null,null,null,null,null,null,null,null,null,120.4314,49.306199999999997,null,null,null,"''",null,9.0604270000000007,47.156525000000002,null,47.156525000000002,135.90640500000001,null,{"$f":"camera!$B$5*COS(RADIANS(AE320))*COS(RADIANS(AF320))","v":-244.18861776047783},{"$f":"camera!$B$5*COS(RADIANS(AE320))*SIN(RADIANS(AF320))","v":236.58230661661037},{"$f":"camera!$B$5*SIN(RADIANS(AE320))","v":366.60705278566508},null,{"$f":"TRANSPOSE(MMULT(camera!$A$12:$C$14,MMULT(camera!$A$16:$C$18,TRANSPOSE(AH320:AJ320))))","v":-398.26756757934021},263.8789130014647,147.48174086171173,null,{"$f":"camera!$B$5*AM320/AN320","v":894.61553497966349},{"$f":"camera!$B$5*AL320/AN320","v":-1350.2266967162439},null,{"$f":"IF( AND( (camera!$B$3) > (AQ320+camera!$B$3/2), 0 < (AQ320+camera!$B$3/2), AN320 >= 0 ), AQ320+camera!$B$3/2, 0)*-1+camera!$B$3","v":1000},{"$f":"IF( AND( (camera!$B$4) > (AP320+camera!$B$4/2), 0 < (AP320+camera!$B$4/2), AN320 >= 0 ), AP320+camera!$B$4/2, 0)","v":0},null,null,null,-671.02970000000005,-3220.0306999999998,-285.80790000000002,null,{"$f":"MMULT(               MMULT(AX320:AZ320-$B$2:$D$2, TRANSPOSE($A$16:$C$18)),     TRANSPOSE($A$12:$C$14))","v":1555.1838872570779},-4668.2331170335838,1095.6104062000604,null,-2130.4256926623038,709.73398867712956," ",1000,0]
[null,null,null,null,null,null,null,null,null,null,null,null,null,null,null,null,null,null,null,null,120.4314,459.30619999999999,null,null,null,"''",null,14.5305,30.371437,null,30.371437,-142.04249999999999,null,{"$f":"camera!$B$5*COS(RADIANS(AE321))*COS(RADIANS(AF321))","v":-340.13128433848391},{"$f":"camera!$B$5*COS(RADIANS(AE321))*SIN(RADIANS(AF321))","v":-265.33361718004409},{"$f":"camera!$B$5*SIN(RADIANS(AE321))","v":252.80186116484043},null,{"$f":"TRANSPOSE(MMULT(camera!$A$12:$C$14,MMULT(camera!$A$16:$C$18,TRANSPOSE(AH321:AJ321))))","v":-197.91416677349676},315.71163363188407,-333.40088029253843,null,{"$f":"camera!$B$5*AM321/AN321","v":-473.47150576637176},{"$f":"camera!$B$5*AL321/AN321","v":296.81110409762482},null,{"$f":"IF( AND( (camera!$B$3) > (AQ321+camera!$B$3/2), 0 < (AQ321+camera!$B$3/2), AN321 >= 0 ), AQ321+camera!$B$3/2, 0)*-1+camera!$B$3","v":1000},{"$f":"IF( AND( (camera!$B$4) > (AP321+camera!$B$4/2), 0 < (AP321+camera!$B$4/2), AN321 >= 0 ), AP321+camera!$B$4/2, 0)","v":0},null,null,null,4212.7743,-455.5548,-285.80790000000002,null,{"$f":"MMULT(               MMULT(AX321:AZ321-$B$2:$D$2, TRANSPOSE($A$16:$C$18)),     TRANSPOSE($A$12:$C$14))","v":1003.0507871546607},-9292.5128179803432,4226.9128188200648,null,-1099.2080054982459,118.65051754659332," ",381.34948245340672,0]
[null,null,null,null,null,null,null,null,null,null,null,null,null,null,null,null,null,null,null,null,123.3432,152.16220000000001,null,null,null,"''",null,15.363440000000001,-36.261375999999998,null,-36.261375999999998,-129.54839999999999,null,{"$f":"camera!$B$5*COS(RADIANS(AE322))*COS(RADIANS(AF322))","v":-256.70627951438536},{"$f":"camera!$B$5*COS(RADIANS(AE322))*SIN(RADIANS(AF322))","v":-310.87420000534468},{"$f":"camera!$B$5*SIN(RADIANS(AE322))","v":-295.73487759971641},null,{"$f":"TRANSPOSE(MMULT(camera!$A$12:$C$14,MMULT(camera!$A$16:$C$18,TRANSPOSE(AH322:AJ322))))","v":348.90442272657026},228.63496281653852,-275.66602543606786,null,{"$f":"camera!$B$5*AM322/AN322","v":-414.69557674883532},{"$f":"camera!$B$5*AL322/AN322","v":-632.8389981584578},null,{"$f":"IF( AND( (camera!$B$3) > (AQ322+camera!$B$3/2), 0 < (AQ322+camera!$B$3/2), AN322 >= 0 ), AQ322+camera!$B$3/2, 0)*-1+camera!$B$3","v":1000},{"$f":"IF( AND( (camera!$B$4) > (AP322+camera!$B$4/2), 0 < (AP322+camera!$B$4/2), AN322 >= 0 ), AP322+camera!$B$4/2, 0)","v":0},null,null,null,4170.9186,-354.50639999999999,-310.32639999999998,null,{"$f":"MMULT(               MMULT(AX322:AZ322-$B$2:$D$2, TRANSPOSE($A$16:$C$18)),     TRANSPOSE($A$12:$C$14))","v":1010.3501590793463},-9242.0094431999623,4326.7124376199254,null,-1068.0175279090058,116.75725780786212," ",383.24274219213794,0]
[null,null,null,null,null,null,null,null,null,null,null,null,null,null,null,null,null,null,null,null,123.3432,562.16219999999998,null,null,null,"''",null,7.3015499999999998,16.540382999999999,null,{"$f":"AC323","v":16.540382999999999},{"$f":"IF(AB323*15/1>180, (AB323*15/1)-360, AB323*15/1)","v":109.52324999999999},null,{"$f":"camera!$B$5*COS(RADIANS(AE323))*COS(RADIANS(AF323))","v":-160.18018116838036},{"$f":"camera!$B$5*COS(RADIANS(AE323))*SIN(RADIANS(AF323))","v":451.75220952541525},{"$f":"camera!$B$5*SIN(RADIANS(AE323))","v":142.34553294631402},null,{"$f":"TRANSPOSE(MMULT(camera!$A$12:$C$14,MMULT(camera!$A$16:$C$18,TRANSPOSE(AH323:AJ323))))","v":-215.90618519332963},198.94344657839903,404.729569291362,null,{"$f":"camera!$B$5*AM323/AN323","v":245.77330355022943},{"$f":"camera!$B$5*AL323/AN323","v":-266.72894887734321},null,{"$f":"IF( AND( (camera!$B$3) > (AQ323+camera!$B$3/2), 0 < (AQ323+camera!$B$3/2), AN323 >= 0 ), AQ323+camera!$B$3/2, 0)*-1+camera!$B$3","v":766.72894887734321},{"$f":"IF( AND( (camera!$B$4) > (AP323+camera!$B$4/2), 0 < (AP323+camera!$B$4/2), AN323 >= 0 ), AP323+camera!$B$4/2, 0)","v":745.77330355022946},null,null,null,3981.5770000000002,-190.35409999999999,-219.43389999999999,null,{"$f":"MMULT(               MMULT(AX323:AZ323-$B$2:$D$2, TRANSPOSE($A$16:$C$18)),     TRANSPOSE($A$12:$C$14))","v":895.30782011353176},-9039.081529521518,4455.7209169439157,null,-1014.3231250355365,100.46722368864211," ",399.53277631135791,0]
[null,null,null,null,null,null,null,null,null,null,null,null,null,null,null,null,null,null,null,null,124.2944,34.306199999999997,null,null,null,"''",null,20.300903999999999,-12.544852000000001,null,-12.544852000000001,-55.486440000000016,null,{"$f":"camera!$B$5*COS(RADIANS(AE324))*COS(RADIANS(AF324))","v":276.5371909661564},{"$f":"camera!$B$5*COS(RADIANS(AE324))*SIN(RADIANS(AF324))","v":-402.16017778123847},{"$f":"camera!$B$5*SIN(RADIANS(AE324))","v":-108.60190338806332},null,{"$f":"TRANSPOSE(MMULT(camera!$A$12:$C$14,MMULT(camera!$A$16:$C$18,TRANSPOSE(AH324:AJ324))))","v":172.33540315226111},-310.53545246372363,-351.94920312951137,null,{"$f":"camera!$B$5*AM324/AN324","v":441.16515920829033},{"$f":"camera!$B$5*AL324/AN324","v":-244.82993798517649},null,{"$f":"IF( AND( (camera!$B$3) > (AQ324+camera!$B$3/2), 0 < (AQ324+camera!$B$3/2), AN324 >= 0 ), AQ324+camera!$B$3/2, 0)*-1+camera!$B$3","v":1000},{"$f":"IF( AND( (camera!$B$4) > (AP324+camera!$B$4/2), 0 < (AP324+camera!$B$4/2), AN324 >= 0 ), AP324+camera!$B$4/2, 0)","v":0},null,null,null,4093.337,-167.2079,-219.43389999999999,null,{"$f":"MMULT(               MMULT(AX324:AZ324-$B$2:$D$2, TRANSPOSE($A$16:$C$18)),     TRANSPOSE($A$12:$C$14))","v":889.61239473992919},-9148.398924727464,4488.0212793202172,null,{"$f":"$B$5*BC324/BD324","v":-1019.2018213996899},{"$f":"$B$5*BB324/BD324","v":99.109645361872623}," ",{"$f":"IF( AND( ($B$3) > (BG324+$B$3/2), 0 < (BG324+$B$3/2), BD324 >= 0 ), BG324+$B$3/2, 0)*-1+$B$3","v":400.89035463812741},{"$f":"IF( AND( ($B$4) > (BF324+$B$4/2), 0 < (BF324+$B$4/2), BD324 >= 0 ), BF324+$B$4/2, 0)","v":0}]
[null,null,null,null,null,null,null,null,null,null,null,null,null,null,null,null,null,null,null,null,124.2944,444.30619999999999,null,null,null,"''",null,1.633205,48.628213000000002,null,48.628213000000002,24.498075,null,{"$f":"camera!$B$5*COS(RADIANS(AE325))*COS(RADIANS(AF325))","v":300.72060786482888},{"$f":"camera!$B$5*COS(RADIANS(AE325))*SIN(RADIANS(AF325))","v":137.0340749263548},{"$f":"camera!$B$5*SIN(RADIANS(AE325))","v":375.21830754173766},null,{"$f":"TRANSPOSE(MMULT(camera!$A$12:$C$14,MMULT(camera!$A$16:$C$18,TRANSPOSE(AH325:AJ325))))","v":-397.77430260360973},-287.63296857992475,95.09405646049602,null,{"$f":"camera!$B$5*AM325/AN325","v":-1512.3603897337855},{"$f":"camera!$B$5*AL325/AN325","v":-2091.4782553673749},null,{"$f":"IF( AND( (camera!$B$3) > (AQ325+camera!$B$3/2), 0 < (AQ325+camera!$B$3/2), AN325 >= 0 ), AQ325+camera!$B$3/2, 0)*-1+camera!$B$3","v":1000},{"$f":"IF( AND( (camera!$B$4) > (AP325+camera!$B$4/2), 0 < (AP325+camera!$B$4/2), AN325 >= 0 ), AP325+camera!$B$4/2, 0)","v":0},null,null,null,4129.0630000000001,-253.458,-285.80790000000002,null,{"$f":"MMULT(               MMULT(AX325:AZ325-$B$2:$D$2, TRANSPOSE($A$16:$C$18)),     TRANSPOSE($A$12:$C$14))","v":969.35751170612843},-9191.50616803905,4417.9968793146982,null,-1040.2345700009637,109.70554509043602," ",390.29445490956402,0]
[null,null,null,null,null,null,null,null,null,null,null,null,null,null,null,null,null,null,null,null,125.05800000000001,137.16220000000001,null,null,null,"''",null,5.2934419999999998,-6.8444089999999997,null,-6.8444089999999997,79.401629999999997,null,{"$f":"camera!$B$5*COS(RADIANS(AE326))*COS(RADIANS(AF326))","v":91.306322760282526},{"$f":"camera!$B$5*COS(RADIANS(AE326))*SIN(RADIANS(AF326))","v":487.96779694757544},{"$f":"camera!$B$5*SIN(RADIANS(AE326))","v":-59.586781807082964},null,{"$f":"TRANSPOSE(MMULT(camera!$A$12:$C$14,MMULT(camera!$A$16:$C$18,TRANSPOSE(AH326:AJ326))))","v":-27.112622501868621},-48.429678856142758,496.90992333315506,null,{"$f":"camera!$B$5*AM326/AN326","v":-48.730842937576945},{"$f":"camera!$B$5*AL326/AN326","v":-27.281224653357206},null,{"$f":"IF( AND( (camera!$B$3) > (AQ326+camera!$B$3/2), 0 < (AQ326+camera!$B$3/2), AN326 >= 0 ), AQ326+camera!$B$3/2, 0)*-1+camera!$B$3","v":527.28122465335719},{"$f":"IF( AND( (camera!$B$4) > (AP326+camera!$B$4/2), 0 < (AP326+camera!$B$4/2), AN326 >= 0 ), AP326+camera!$B$4/2, 0)","v":451.26915706242306},null,null,null,3981.5770000000002,-284.0034,-285.80790000000002,null,{"$f":"MMULT(               MMULT(AX326:AZ326-$B$2:$D$2, TRANSPOSE($A$16:$C$18)),     TRANSPOSE($A$12:$C$14))","v":976.87359826187264},-9047.2436038208161,4375.3710342764325,null,-1033.8830161996746,111.63322957174317," ",388.36677042825681,0]
[null,null,null,null,null,null,null,null,null,null,null,null,null,null,null,null,null,null,null,null,125.05800000000001,547.16219999999998,null,null,null,"''",null,5.7410569999999996,-22.448381999999999,null,-22.448381999999999,86.115854999999996,null,{"$f":"camera!$B$5*COS(RADIANS(AE327))*COS(RADIANS(AF327))","v":31.303097632326367},{"$f":"camera!$B$5*COS(RADIANS(AE327))*SIN(RADIANS(AF327))","v":461.05051676057229},{"$f":"camera!$B$5*SIN(RADIANS(AE327))","v":-190.92547518188945},null,{"$f":"TRANSPOSE(MMULT(camera!$A$12:$C$14,MMULT(camera!$A$16:$C$18,TRANSPOSE(AH327:AJ327))))","v":107.79520611980767},8.9992203372874862,488.15899824842836,null,{"$f":"camera!$B$5*AM327/AN327","v":9.2175094278480394},{"$f":"camera!$B$5*AL327/AN327","v":110.40993457724788},null,{"$f":"IF( AND( (camera!$B$3) > (AQ327+camera!$B$3/2), 0 < (AQ327+camera!$B$3/2), AN327 >= 0 ), AQ327+camera!$B$3/2, 0)*-1+camera!$B$3","v":389.5900654227521},{"$f":"IF( AND( (camera!$B$4) > (AP327+camera!$B$4/2), 0 < (AP327+camera!$B$4/2), AN327 >= 0 ), AP327+camera!$B$4/2, 0)","v":509.21750942784803},null,null,null,3981.5770000000002,-393.72030000000001,-310.32639999999998,null,{"$f":"MMULT(               MMULT(AX327:AZ327-$B$2:$D$2, TRANSPOSE($A$16:$C$18)),     TRANSPOSE($A$12:$C$14))","v":1019.9992477546423},-9056.8060617322863,4271.9897364398403,null,-1060.0219827868759,119.3822212462385," ",380.61777875376151,0]
[null,null,null,null,null,null,null,null,null,null,null,null,null,null,null,null,null,null,null,null,125.35769999999999,69.844499999999996,null,null,null,"''",null,11.844922,1.764718,null,1.764718,177.67383000000001,null,{"$f":"camera!$B$5*COS(RADIANS(AE328))*COS(RADIANS(AF328))","v":-499.35103230792322},{"$f":"camera!$B$5*COS(RADIANS(AE328))*SIN(RADIANS(AF328))","v":20.284461299431189},{"$f":"camera!$B$5*SIN(RADIANS(AE328))","v":15.397634974350776},null,{"$f":"TRANSPOSE(MMULT(camera!$A$12:$C$14,MMULT(camera!$A$16:$C$18,TRANSPOSE(AH328:AJ328))))","v":-11.115270207423979},499.21875816258108,-25.633615953009347,null,{"$f":"camera!$B$5*AM328/AN328","v":-9737.5797288554913},{"$f":"camera!$B$5*AL328/AN328","v":216.81042245074019},null,{"$f":"IF( AND( (camera!$B$3) > (AQ328+camera!$B$3/2), 0 < (AQ328+camera!$B$3/2), AN328 >= 0 ), AQ328+camera!$B$3/2, 0)*-1+camera!$B$3","v":1000},{"$f":"IF( AND( (camera!$B$4) > (AP328+camera!$B$4/2), 0 < (AP328+camera!$B$4/2), AN328 >= 0 ), AP328+camera!$B$4/2, 0)","v":0},null,null,null,3981.5770000000002,-106.11709999999999,0,null,{"$f":"MMULT(               MMULT(AX328:AZ328-$B$2:$D$2, TRANSPOSE($A$16:$C$18)),     TRANSPOSE($A$12:$C$14))","v":664.63567501775822},-9031.739791219683,4500.2581933967012,null,-1003.4690681161467,73.844171429206938," ",426.15582857079312,0]
[null,null,null,null,null,null,null,null,null,null,null,null,null,null,null,null,null,null,null,null,125.35769999999999,479.84449999999998,null,null,null,"''",null,12.356031,-60.401147000000002,null,-60.401147000000002,-174.65953500000001,null,{"$f":"camera!$B$5*COS(RADIANS(AE329))*COS(RADIANS(AF329))","v":-245.89021971837744},{"$f":"camera!$B$5*COS(RADIANS(AE329))*SIN(RADIANS(AF329))","v":-22.985711334737235},{"$f":"camera!$B$5*SIN(RADIANS(AE329))","v":-434.75240875846129},null,{"$f":"TRANSPOSE(MMULT(camera!$A$12:$C$14,MMULT(camera!$A$16:$C$18,TRANSPOSE(AH329:AJ329))))","v":435.84519085646969},242.95119645209971,31.838431961715173,null,{"$f":"camera!$B$5*AM329/AN329","v":3815.3762839866258},{"$f":"camera!$B$5*AL329/AN329","v":6844.6397011724912},null,{"$f":"IF( AND( (camera!$B$3) > (AQ329+camera!$B$3/2), 0 < (AQ329+camera!$B$3/2), AN329 >= 0 ), AQ329+camera!$B$3/2, 0)*-1+camera!$B$3","v":1000},{"$f":"IF( AND( (camera!$B$4) > (AP329+camera!$B$4/2), 0 < (AP329+camera!$B$4/2), AN329 >= 0 ), AP329+camera!$B$4/2, 0)","v":0},null,null,null,4061.2017000000001,-89.626300000000001,0,null,{"$f":"MMULT(               MMULT(AX329:AZ329-$B$2:$D$2, TRANSPOSE($A$16:$C$18)),     TRANSPOSE($A$12:$C$14))","v":660.57789958370518},-9109.6242272743257,4523.2709814439386,null,-1006.9730803930644,73.019934279156601," ",426.98006572084341,0]
[null,null,null,null,null,null,null,null,null,null,null,null,null,null,null,null,null,null,null,null,125.4314,49.306199999999997,null,null,null,"''",null,1.40039,-8.1832569999999993,null,-8.1832569999999993,21.005849999999999,null,{"$f":"camera!$B$5*COS(RADIANS(AE330))*COS(RADIANS(AF330))","v":462.01918243511381},{"$f":"camera!$B$5*COS(RADIANS(AE330))*SIN(RADIANS(AF330))","v":177.40667373993927},{"$f":"camera!$B$5*SIN(RADIANS(AE330))","v":-71.169847368950798},null,{"$f":"TRANSPOSE(MMULT(camera!$A$12:$C$14,MMULT(camera!$A$16:$C$18,TRANSPOSE(AH330:AJ330))))","v":32.407099612694445},-444.79904954034743,226.0610214581373,null,{"$f":"camera!$B$5*AM330/AN330","v":-983.80306049956675},{"$f":"camera!$B$5*AL330/AN330","v":71.677769576688604},null,{"$f":"IF( AND( (camera!$B$3) > (AQ330+camera!$B$3/2), 0 < (AQ330+camera!$B$3/2), AN330 >= 0 ), AQ330+camera!$B$3/2, 0)*-1+camera!$B$3","v":428.32223042331134},{"$f":"IF( AND( (camera!$B$4) > (AP330+camera!$B$4/2), 0 < (AP330+camera!$B$4/2), AN330 >= 0 ), AP330+camera!$B$4/2, 0)","v":0},null,null,null,4069.8703,-110.55410000000001,-118.38549999999999,null,{"$f":"MMULT(               MMULT(AX330:AZ330-$B$2:$D$2, TRANSPOSE($A$16:$C$18)),     TRANSPOSE($A$12:$C$14))","v":780.65390903946309},-9120.0838185872781,4524.0410150774551,null,-1007.9576851969739,86.278385456469792," ",413.72161454353022,0]
[null,null,null,null,null,null,null,null,null,null,null,null,null,null,null,null,null,null,null,null,125.4314,459.30619999999999,null,null,null,"''",null,6.8798159999999999,33.961253999999997,null,33.961253999999997,103.19723999999999,null,{"$f":"camera!$B$5*COS(RADIANS(AE331))*COS(RADIANS(AF331))","v":-94.679430273851878},{"$f":"camera!$B$5*COS(RADIANS(AE331))*SIN(RADIANS(AF331))","v":403.75529434186342},{"$f":"camera!$B$5*SIN(RADIANS(AE331))","v":279.31607145657415},null,{"$f":"TRANSPOSE(MMULT(camera!$A$12:$C$14,MMULT(camera!$A$16:$C$18,TRANSPOSE(AH331:AJ331))))","v":-343.48428909434756},129.50873902382278,339.47905629333007,null,{"$f":"camera!$B$5*AM331/AN331","v":190.74628702855756},{"$f":"camera!$B$5*AL331/AN331","v":-505.89908674300767},null,{"$f":"IF( AND( (camera!$B$3) > (AQ331+camera!$B$3/2), 0 < (AQ331+camera!$B$3/2), AN331 >= 0 ), AQ331+camera!$B$3/2, 0)*-1+camera!$B$3","v":1000},{"$f":"IF( AND( (camera!$B$4) > (AP331+camera!$B$4/2), 0 < (AP331+camera!$B$4/2), AN331 >= 0 ), AP331+camera!$B$4/2, 0)","v":690.74628702855762},null,null,null,3981.5770000000002,-128.84020000000001,-118.38549999999999,null,{"$f":"MMULT(               MMULT(AX331:AZ331-$B$2:$D$2, TRANSPOSE($A$16:$C$18)),     TRANSPOSE($A$12:$C$14))","v":785.15344311288447},-9033.7202398777135,4498.5228892901105,null,-1004.0762781695305,87.267916873574663," ",412.73208312642532,0]
[null,null,null,null,null,null,null,null,null,null,null,null,null,null,null,null,null,null,null,null,125.48699999999999,74.842799999999997,null,null,null,"''",null,8.6715540000000004,-52.921886999999998,null,-52.921886999999998,130.07330999999999,null,{"$f":"camera!$B$5*COS(RADIANS(AE332))*COS(RADIANS(AF332))","v":-194.06468526892067},{"$f":"camera!$B$5*COS(RADIANS(AE332))*SIN(RADIANS(AF332))","v":230.67723148090764},{"$f":"camera!$B$5*SIN(RADIANS(AE332))","v":-398.90714810313756},null,{"$f":"TRANSPOSE(MMULT(camera!$A$12:$C$14,MMULT(camera!$A$16:$C$18,TRANSPOSE(AH332:AJ332))))","v":355.87965861213809},213.431055996434,278.92087215257857,null,{"$f":"camera!$B$5*AM332/AN332","v":382.6014423898697},{"$f":"camera!$B$5*AL332/AN332","v":637.95809877121815},null,{"$f":"IF( AND( (camera!$B$3) > (AQ332+camera!$B$3/2), 0 < (AQ332+camera!$B$3/2), AN332 >= 0 ), AQ332+camera!$B$3/2, 0)*-1+camera!$B$3","v":1000},{"$f":"IF( AND( (camera!$B$4) > (AP332+camera!$B$4/2), 0 < (AP332+camera!$B$4/2), AN332 >= 0 ), AP332+camera!$B$4/2, 0)","v":882.6014423898697},null,null,null,3981.5770000000002,-190.35409999999999,219.43389999999999,null,{"$f":"MMULT(               MMULT(AX332:AZ332-$B$2:$D$2, TRANSPOSE($A$16:$C$18)),     TRANSPOSE($A$12:$C$14))","v":463.10740812612062},-9039.081529521518,4379.5123232372207,null,-1031.9735238055073,52.872029343189951," ",447.12797065681002,0]
[null,null,null,null,null,null,null,null,null,null,null,null,null,null,null,null,null,null,null,null,125.48699999999999,484.84280000000001,null,null,null,"''",null,9.5116739999999993,-40.466768999999999,null,-40.466768999999999,142.67510999999999,null,{"$f":"camera!$B$5*COS(RADIANS(AE333))*COS(RADIANS(AF333))","v":-302.49099008532937},{"$f":"camera!$B$5*COS(RADIANS(AE333))*SIN(RADIANS(AF333))","v":230.64411609531243},{"$f":"camera!$B$5*SIN(RADIANS(AE333))","v":-324.50345549440493},null,{"$f":"TRANSPOSE(MMULT(camera!$A$12:$C$14,MMULT(camera!$A$16:$C$18,TRANSPOSE(AH333:AJ333))))","v":284.25302478283697},321.44187979219197,256.6619095570473,null,{"$f":"camera!$B$5*AM333/AN333","v":626.19708617251263},{"$f":"camera!$B$5*AL333/AN333","v":553.74992197597032},null,{"$f":"IF( AND( (camera!$B$3) > (AQ333+camera!$B$3/2), 0 < (AQ333+camera!$B$3/2), AN333 >= 0 ), AQ333+camera!$B$3/2, 0)*-1+camera!$B$3","v":1000},{"$f":"IF( AND( (camera!$B$4) > (AP333+camera!$B$4/2), 0 < (AP333+camera!$B$4/2), AN333 >= 0 ), AP333+camera!$B$4/2, 0)","v":0},null,null,null,4093.337,-167.2079,219.43389999999999,null,{"$f":"MMULT(               MMULT(AX333:AZ333-$B$2:$D$2, TRANSPOSE($A$16:$C$18)),     TRANSPOSE($A$12:$C$14))","v":457.41198275251804},-9148.398924727464,4411.8126856135223,null,-1036.8072691027289,51.839460936781443," ",448.16053906321861,0]
[null,null,null,null,null,null,null,null,null,null,null,null,null,null,null,null,null,null,null,null,125.6164,79.841099999999997,null,null,null,"''",null,15.61707,-28.135079000000001,null,-28.135079000000001,-125.74395000000001,null,{"$f":"camera!$B$5*COS(RADIANS(AE334))*COS(RADIANS(AF334))","v":-257.56908722628089},{"$f":"camera!$B$5*COS(RADIANS(AE334))*SIN(RADIANS(AF334))","v":-357.86572037569397},{"$f":"camera!$B$5*SIN(RADIANS(AE334))","v":-235.7759349157715},null,{"$f":"TRANSPOSE(MMULT(camera!$A$12:$C$14,MMULT(camera!$A$16:$C$18,TRANSPOSE(AH334:AJ334))))","v":297.99838986246203},225.39890642388201,-332.25335607379225,null,{"$f":"camera!$B$5*AM334/AN334","v":-339.19733586351151},{"$f":"camera!$B$5*AL334/AN334","v":-448.45053392971244},null,{"$f":"IF( AND( (camera!$B$3) > (AQ334+camera!$B$3/2), 0 < (AQ334+camera!$B$3/2), AN334 >= 0 ), AQ334+camera!$B$3/2, 0)*-1+camera!$B$3","v":1000},{"$f":"IF( AND( (camera!$B$4) > (AP334+camera!$B$4/2), 0 < (AP334+camera!$B$4/2), AN334 >= 0 ), AP334+camera!$B$4/2, 0)","v":0},null,null,null,4069.8703,-110.55410000000001,118.38549999999999,null,{"$f":"MMULT(               MMULT(AX334:AZ334-$B$2:$D$2, TRANSPOSE($A$16:$C$18)),     TRANSPOSE($A$12:$C$14))","v":547.47999255100945},-9120.0838185872781,4482.9261624030787,null,-1017.2021006139487,61.062793889240865," ",438.93720611075912,0]
[null,null,null,null,null,null,null,null,null,null,null,null,null,null,null,null,null,null,null,null,125.6164,489.84109999999998,null,null,null,"''",null,17.518318000000001,-60.683847999999998,null,-60.683847999999998,-97.22523000000001,null,{"$f":"camera!$B$5*COS(RADIANS(AE335))*COS(RADIANS(AF335))","v":-30.790297408604534},{"$f":"camera!$B$5*COS(RADIANS(AE335))*SIN(RADIANS(AF335))","v":-242.87016930202839},{"$f":"camera!$B$5*SIN(RADIANS(AE335))","v":-435.96563906883046},null,{"$f":"TRANSPOSE(MMULT(camera!$A$12:$C$14,MMULT(camera!$A$16:$C$18,TRANSPOSE(AH335:AJ335))))","v":471.82181283412302},9.5056010343520825,-165.20841529080013,null,{"$f":"camera!$B$5*AM335/AN335","v":-28.768513448967802},{"$f":"camera!$B$5*AL335/AN335","v":-1427.9593808935867},null,{"$f":"IF( AND( (camera!$B$3) > (AQ335+camera!$B$3/2), 0 < (AQ335+camera!$B$3/2), AN335 >= 0 ), AQ335+camera!$B$3/2, 0)*-1+camera!$B$3","v":1000},{"$f":"IF( AND( (camera!$B$4) > (AP335+camera!$B$4/2), 0 < (AP335+camera!$B$4/2), AN335 >= 0 ), AP335+camera!$B$4/2, 0)","v":0},null,null,null,3981.5770000000002,-128.84020000000001,118.38549999999999,null,{"$f":"MMULT(               MMULT(AX335:AZ335-$B$2:$D$2, TRANSPOSE($A$16:$C$18)),     TRANSPOSE($A$12:$C$14))","v":551.97952662443083},-9033.7202398777135,4457.4080366157341,null,-1013.3378148993202,61.917096448221805," ",438.08290355177814,0]
[null,null,null,null,null,null,null,null,null,null,null,null,null,null,null,null,null,null,null,null,125.7457,84.839399999999998,null,null,null,"''",null,2.8330630000000001,27.260507,null,27.260507,42.495944999999999,null,{"$f":"camera!$B$5*COS(RADIANS(AE336))*COS(RADIANS(AF336))","v":327.7163874388566},{"$f":"camera!$B$5*COS(RADIANS(AE336))*SIN(RADIANS(AF336))","v":300.25407658454475},{"$f":"camera!$B$5*SIN(RADIANS(AE336))","v":229.01846846572775},null,{"$f":"TRANSPOSE(MMULT(camera!$A$12:$C$14,MMULT(camera!$A$16:$C$18,TRANSPOSE(AH336:AJ336))))","v":-282.43913621128678},-300.30046058663106,282.92714204840684,null,{"$f":"camera!$B$5*AM336/AN336","v":-530.70281347424032},{"$f":"camera!$B$5*AL336/AN336","v":-499.13757684471898},null,{"$f":"IF( AND( (camera!$B$3) > (AQ336+camera!$B$3/2), 0 < (AQ336+camera!$B$3/2), AN336 >= 0 ), AQ336+camera!$B$3/2, 0)*-1+camera!$B$3","v":999.13757684471898},{"$f":"IF( AND( (camera!$B$4) > (AP336+camera!$B$4/2), 0 < (AP336+camera!$B$4/2), AN336 >= 0 ), AP336+camera!$B$4/2, 0)","v":0},null,null,null,3981.5770000000002,-393.72030000000001,310.32639999999998,null,{"$f":"MMULT(               MMULT(AX336:AZ336-$B$2:$D$2, TRANSPOSE($A$16:$C$18)),     TRANSPOSE($A$12:$C$14))","v":408.77555838590706},-9056.8060617322863,4164.214508755962,null,-1087.4567151486585,49.081952613918865," ",450.91804738608118,0]
[null,null,null,null,null,null,null,null,null,null,null,null,null,null,null,null,null,null,null,null,125.7457,494.83940000000001,null,null,null,"''",null,3.413554,9.0288699999999995,null,9.0288699999999995,51.203310000000002,null,{"$f":"camera!$B$5*COS(RADIANS(AE337))*COS(RADIANS(AF337))","v":309.39767152473007},{"$f":"camera!$B$5*COS(RADIANS(AE337))*SIN(RADIANS(AF337))","v":384.85862135024047},{"$f":"camera!$B$5*SIN(RADIANS(AE337))","v":78.466059079499018},null,{"$f":"TRANSPOSE(MMULT(camera!$A$12:$C$14,MMULT(camera!$A$16:$C$18,TRANSPOSE(AH337:AJ337))))","v":-148.53223249449991},-274.67768097824762,390.50012481766481,null,{"$f":"camera!$B$5*AM337/AN337","v":-351.69986322859967},{"$f":"camera!$B$5*AL337/AN337","v":-190.18205508110103},null,{"$f":"IF( AND( (camera!$B$3) > (AQ337+camera!$B$3/2), 0 < (AQ337+camera!$B$3/2), AN337 >= 0 ), AQ337+camera!$B$3/2, 0)*-1+camera!$B$3","v":690.182055081101},{"$f":"IF( AND( (camera!$B$4) > (AP337+camera!$B$4/2), 0 < (AP337+camera!$B$4/2), AN337 >= 0 ), AP337+camera!$B$4/2, 0)","v":148.30013677140033},null,null,null,4170.9186,-354.50639999999999,310.32639999999998,null,{"$f":"MMULT(               MMULT(AX337:AZ337-$B$2:$D$2, TRANSPOSE($A$16:$C$18)),     TRANSPOSE($A$12:$C$14))","v":399.1264697106111},-9242.0094431999623,4218.9372099360471,null,-1095.3006626211507,47.301778842622461," ",452.69822115737759,0]
[null,null,null,null,null,null,null,null,null,null,null,null,null,null,null,null,null,null,null,null,125.8751,89.837800000000001,null,null,null,"''",null,10.176467000000001,-12.354082999999999,null,-12.354082999999999,152.64700500000001,null,{"$f":"camera!$B$5*COS(RADIANS(AE338))*COS(RADIANS(AF338))","v":-433.81284506282594},{"$f":"camera!$B$5*COS(RADIANS(AE338))*SIN(RADIANS(AF338))","v":224.41589071785779},{"$f":"camera!$B$5*SIN(RADIANS(AE338))","v":-106.97627518196319},null,{"$f":"TRANSPOSE(MMULT(camera!$A$12:$C$14,MMULT(camera!$A$16:$C$18,TRANSPOSE(AH338:AJ338))))","v":73.095457793685597},451.72118985557529,201.50687503257774,null,{"$f":"camera!$B$5*AM338/AN338","v":1120.8580098881123},{"$f":"camera!$B$5*AL338/AN338","v":181.37211889636075},null,{"$f":"IF( AND( (camera!$B$3) > (AQ338+camera!$B$3/2), 0 < (AQ338+camera!$B$3/2), AN338 >= 0 ), AQ338+camera!$B$3/2, 0)*-1+camera!$B$3","v":318.62788110363931},{"$f":"IF( AND( (camera!$B$4) > (AP338+camera!$B$4/2), 0 < (AP338+camera!$B$4/2), AN338 >= 0 ), AP338+camera!$B$4/2, 0)","v":0},null,null,null,4129.0630000000001,-253.458,285.80790000000002,null,{"$f":"MMULT(               MMULT(AX338:AZ338-$B$2:$D$2, TRANSPOSE($A$16:$C$18)),     TRANSPOSE($A$12:$C$14))","v":406.42584012185284},-9191.50616803905,4318.7368373190729,null,-1064.1428864816905,47.053786261048074," ",452.94621373895188,0]
[null,null,null,null,null,null,null,null,null,null,null,null,null,null,null,null,null,null,null,null,125.8751,499.83780000000002,null,null,null,"''",null,13.037758999999999,-71.548855000000003,null,-71.548855000000003,-164.433615,null,{"$f":"camera!$B$5*COS(RADIANS(AE339))*COS(RADIANS(AF339))","v":-152.44345431053387},{"$f":"camera!$B$5*COS(RADIANS(AE339))*SIN(RADIANS(AF339))","v":-42.466583442324449},{"$f":"camera!$B$5*SIN(RADIANS(AE339))","v":-474.2969349770334},null,{"$f":"TRANSPOSE(MMULT(camera!$A$12:$C$14,MMULT(camera!$A$16:$C$18,TRANSPOSE(AH339:AJ339))))","v":476.7446280817411},148.1621543210739,27.614047550850344,null,{"$f":"camera!$B$5*AM339/AN339","v":2682.7315707383759},{"$f":"camera!$B$5*AL339/AN339","v":8632.2844777432911},null,{"$f":"IF( AND( (camera!$B$3) > (AQ339+camera!$B$3/2), 0 < (AQ339+camera!$B$3/2), AN339 >= 0 ), AQ339+camera!$B$3/2, 0)*-1+camera!$B$3","v":1000},{"$f":"IF( AND( (camera!$B$4) > (AP339+camera!$B$4/2), 0 < (AP339+camera!$B$4/2), AN339 >= 0 ), AP339+camera!$B$4/2, 0)","v":0},null,null,null,3981.5770000000002,-284.0034,285.80790000000002,null,{"$f":"MMULT(               MMULT(AX339:AZ339-$B$2:$D$2, TRANSPOSE($A$16:$C$18)),     TRANSPOSE($A$12:$C$14))","v":413.94192667759705},-9047.2436038208161,4276.1109922808082,null,-1057.882222906843,48.401681741287909," ",451.59831825871208,0]
[null,null,null,null,null,null,null,null,null,null,null,null,null,null,null,null,null,null,null,null,126.0044,94.836100000000002,null,null,null,"''",null,17.762221,-64.723871000000003,null,-64.723871000000003,-93.566685000000007,null,{"$f":"camera!$B$5*COS(RADIANS(AE340))*COS(RADIANS(AF340))","v":-13.281291673124864},{"$f":"camera!$B$5*COS(RADIANS(AE340))*SIN(RADIANS(AF340))","v":-213.07706392607474},{"$f":"camera!$B$5*SIN(RADIANS(AE340))","v":-452.130260124377},null,{"$f":"TRANSPOSE(MMULT(camera!$A$12:$C$14,MMULT(camera!$A$16:$C$18,TRANSPOSE(AH340:AJ340))))","v":482.32203639320807},-5.3401374203902385,-131.66979965747711,null,{"$f":"camera!$B$5*AM340/AN340","v":20.278520337548752},{"$f":"camera!$B$5*AL340/AN340","v":-1831.5590881428766},null,{"$f":"IF( AND( (camera!$B$3) > (AQ340+camera!$B$3/2), 0 < (AQ340+camera!$B$3/2), AN340 >= 0 ), AQ340+camera!$B$3/2, 0)*-1+camera!$B$3","v":1000},{"$f":"IF( AND( (camera!$B$4) > (AP340+camera!$B$4/2), 0 < (AP340+camera!$B$4/2), AN340 >= 0 ), AP340+camera!$B$4/2, 0)","v":0},null,null,null,-671.02970000000005,-3313.68,219.43389999999999,null,{"$f":"MMULT(               MMULT(AX340:AZ340-$B$2:$D$2, TRANSPOSE($A$16:$C$18)),     TRANSPOSE($A$12:$C$14))","v":1073.8179938211435},-4676.395191332882,916.00048153695275,null,-2552.6161206194902,586.14488500016375," ",1000,0]
[null,null,null,null,null,null,null,null,null,null,null,null,null,null,null,null,null,null,null,null,126.0044,504.83609999999999,null,null,null,"''",null,1.5247250000000001,15.345822999999999,null,15.345822999999999,22.870875000000002,null,{"$f":"camera!$B$5*COS(RADIANS(AE341))*COS(RADIANS(AF341))","v":444.2660823131111},{"$f":"camera!$B$5*COS(RADIANS(AE341))*SIN(RADIANS(AF341))","v":187.39926858082504},{"$f":"camera!$B$5*SIN(RADIANS(AE341))","v":132.32219103964303},null,{"$f":"TRANSPOSE(MMULT(camera!$A$12:$C$14,MMULT(camera!$A$16:$C$18,TRANSPOSE(AH341:AJ341))))","v":-169.4533472725744},-426.24259329878259,199.00455963632817,null,{"$f":"camera!$B$5*AM341/AN341","v":-1070.9367515943395},{"$f":"camera!$B$5*AL341/AN341","v":-425.75242391994118},null,{"$f":"IF( AND( (camera!$B$3) > (AQ341+camera!$B$3/2), 0 < (AQ341+camera!$B$3/2), AN341 >= 0 ), AQ341+camera!$B$3/2, 0)*-1+camera!$B$3","v":925.75242391994118},{"$f":"IF( AND( (camera!$B$4) > (AP341+camera!$B$4/2), 0 < (AP341+camera!$B$4/2), AN341 >= 0 ), AP341+camera!$B$4/2, 0)","v":0},null,null,null,-404.10640000000001,-3258.3984,219.43389999999999,null,{"$f":"MMULT(               MMULT(AX341:AZ341-$B$2:$D$2, TRANSPOSE($A$16:$C$18)),     TRANSPOSE($A$12:$C$14))","v":1060.2152403307107},-4937.4846586817557,993.14553010398663,null,-2485.7810406521085,533.76630523610254," ",1000,0]
[null,null,null,null,null,null,null,null,null,null,null,null,null,null,null,null,null,null,null,null,126.13379999999999,99.834400000000002,null,null,null,"''",null,3.8193730000000001,24.053415000000001,null,24.053415000000001,57.290595000000003,null,{"$f":"camera!$B$5*COS(RADIANS(AE342))*COS(RADIANS(AF342))","v":246.72757763763749},{"$f":"camera!$B$5*COS(RADIANS(AE342))*SIN(RADIANS(AF342))","v":384.17896932901118},{"$f":"camera!$B$5*SIN(RADIANS(AE342))","v":203.79406752494609},null,{"$f":"TRANSPOSE(MMULT(camera!$A$12:$C$14,MMULT(camera!$A$16:$C$18,TRANSPOSE(AH342:AJ342))))","v":-270.89017913036218},-212.30530129573424,362.69128731256808,null,{"$f":"camera!$B$5*AM342/AN342","v":-292.68045404240593},{"$f":"camera!$B$5*AL342/AN342","v":-373.44456374672779},null,{"$f":"IF( AND( (camera!$B$3) > (AQ342+camera!$B$3/2), 0 < (AQ342+camera!$B$3/2), AN342 >= 0 ), AQ342+camera!$B$3/2, 0)*-1+camera!$B$3","v":873.44456374672779},{"$f":"IF( AND( (camera!$B$4) > (AP342+camera!$B$4/2), 0 < (AP342+camera!$B$4/2), AN342 >= 0 ), AP342+camera!$B$4/2, 0)","v":207.31954595759407},null,null,null,-439.83240000000001,-3172.1482000000001,285.80790000000002,null,{"$f":"MMULT(               MMULT(AX342:AZ342-$B$2:$D$2, TRANSPOSE($A$16:$C$18)),     TRANSPOSE($A$12:$C$14))","v":980.4701060657718},-4894.3774066545957,1063.1700282155316,null,-2301.7848870652988,461.10691613054274," ",38.893083869457314,0]
[null,null,null,null,null,null,null,null,null,null,null,null,null,null,null,null,null,null,null,null,126.13379999999999,509.83440000000002,null,null,null,"''",null,7.7542489999999997,-37.968584,null,-37.968584,116.31373499999999,null,{"$f":"camera!$B$5*COS(RADIANS(AE343))*COS(RADIANS(AF343))","v":-174.73189571419073},{"$f":"camera!$B$5*COS(RADIANS(AE343))*SIN(RADIANS(AF343))","v":353.32985963890843},{"$f":"camera!$B$5*SIN(RADIANS(AE343))","v":-307.61465327203524},null,{"$f":"TRANSPOSE(MMULT(camera!$A$12:$C$14,MMULT(camera!$A$16:$C$18,TRANSPOSE(AH343:AJ343))))","v":244.46415254321585},204.86171444975145,385.05708157886897,null,{"$f":"camera!$B$5*AM343/AN343","v":266.01473424374723},{"$f":"camera!$B$5*AL343/AN343","v":317.43884769087629},null,{"$f":"IF( AND( (camera!$B$3) > (AQ343+camera!$B$3/2), 0 < (AQ343+camera!$B$3/2), AN343 >= 0 ), AQ343+camera!$B$3/2, 0)*-1+camera!$B$3","v":182.56115230912371},{"$f":"IF( AND( (camera!$B$4) > (AP343+camera!$B$4/2), 0 < (AP343+camera!$B$4/2), AN343 >= 0 ), AP343+camera!$B$4/2, 0)","v":766.01473424374717},null,null,null,-671.02970000000005,-3220.0306999999998,285.80790000000002,null,{"$f":"MMULT(               MMULT(AX343:AZ343-$B$2:$D$2, TRANSPOSE($A$16:$C$18)),     TRANSPOSE($A$12:$C$14))","v":992.25221567280232},-4668.2331170335838,996.35036420443589,null,-2342.6664378052728,497.94341996607494," ",2.0565800339250018,0]
[null,null,null,null,null,null,null,null,null,null,null,null,null,null,null,null,null,null,null,null,126.26309999999999,104.8327,null,null,null,"''",null,16.909731000000001,-42.361313000000003,null,-42.361313000000003,-106.35403499999998,null,{"$f":"camera!$B$5*COS(RADIANS(AE344))*COS(RADIANS(AF344))","v":-104.02816301621857},{"$f":"camera!$B$5*COS(RADIANS(AE344))*SIN(RADIANS(AF344))","v":-354.50714040104742},{"$f":"camera!$B$5*SIN(RADIANS(AE344))","v":-336.90180869823644},null,{"$f":"TRANSPOSE(MMULT(camera!$A$12:$C$14,MMULT(camera!$A$16:$C$18,TRANSPOSE(AH344:AJ344))))","v":394.68318712077496},72.734971317979131,-298.21939197771854,null,{"$f":"camera!$B$5*AM344/AN344","v":-121.94876200977151},{"$f":"camera!$B$5*AL344/AN344","v":-661.73293511084569},null,{"$f":"IF( AND( (camera!$B$3) > (AQ344+camera!$B$3/2), 0 < (AQ344+camera!$B$3/2), AN344 >= 0 ), AQ344+camera!$B$3/2, 0)*-1+camera!$B$3","v":1000},{"$f":"IF( AND( (camera!$B$4) > (AP344+camera!$B$4/2), 0 < (AP344+camera!$B$4/2), AN344 >= 0 ), AP344+camera!$B$4/2, 0)","v":0},null,null,null,-671.02970000000005,-3110.3137000000002,310.32639999999998,null,{"$f":"MMULT(               MMULT(AX344:AZ344-$B$2:$D$2, TRANSPOSE($A$16:$C$18)),     TRANSPOSE($A$12:$C$14))","v":949.12654888129373},-4658.6706504065387,1099.731760147054,null,-2118.094074951327,431.52638819596257," ",68.473611804037432,0]
[null,null,null,null,null,null,null,null,null,null,null,null,null,null,null,null,null,null,null,null,126.26309999999999,514.83270000000005,null,null,null,"''",null,23.032017,42.325978999999997,null,42.325978999999997,-14.519745,null,{"$f":"camera!$B$5*COS(RADIANS(AE345))*COS(RADIANS(AF345))","v":357.85637696728338},{"$f":"camera!$B$5*COS(RADIANS(AE345))*SIN(RADIANS(AF345))","v":-92.679534462150968},{"$f":"camera!$B$5*SIN(RADIANS(AE345))","v":336.67390358584157},null,{"$f":"TRANSPOSE(MMULT(camera!$A$12:$C$14,MMULT(camera!$A$16:$C$18,TRANSPOSE(AH345:AJ345))))","v":-320.94263375051997},-364.57217907668468,-118.67161448534064,null,{"$f":"camera!$B$5*AM345/AN345","v":1536.0546861091195},{"$f":"camera!$B$5*AL345/AN345","v":1352.2299967957611},null,{"$f":"IF( AND( (camera!$B$3) > (AQ345+camera!$B$3/2), 0 < (AQ345+camera!$B$3/2), AN345 >= 0 ), AQ345+camera!$B$3/2, 0)*-1+camera!$B$3","v":1000},{"$f":"IF( AND( (camera!$B$4) > (AP345+camera!$B$4/2), 0 < (AP345+camera!$B$4/2), AN345 >= 0 ), AP345+camera!$B$4/2, 0)","v":0},null,null,null,-481.68799999999999,-3071.0998,310.32639999999998,null,{"$f":"MMULT(               MMULT(AX345:AZ345-$B$2:$D$2, TRANSPOSE($A$16:$C$18)),     TRANSPOSE($A$12:$C$14))","v":939.47745869255414},-4843.8741314936842,1154.4544699103044,null,-2097.9060923338234,406.89238215065643," ",93.107617849343569,0]
[null,null,null,null,null,null,null,null,null,null,null,null,null,null,null,null,null,null,null,null,126.3925,109.83110000000001,null,null,null,"''",null,11.760141000000001,-66.728763000000001,null,-66.728763000000001,176.40211500000001,null,{"$f":"camera!$B$5*COS(RADIANS(AE346))*COS(RADIANS(AF346))","v":-197.15284551467141},{"$f":"camera!$B$5*COS(RADIANS(AE346))*SIN(RADIANS(AF346))","v":12.396499240168417},{"$f":"camera!$B$5*SIN(RADIANS(AE346))","v":-459.32241651377802},null,{"$f":"TRANSPOSE(MMULT(camera!$A$12:$C$14,MMULT(camera!$A$16:$C$18,TRANSPOSE(AH346:AJ346))))","v":453.18363592092845},197.4830455141643,75.000259119137823,null,{"$f":"camera!$B$5*AM346/AN346","v":1316.5490881869002},{"$f":"camera!$B$5*AL346/AN346","v":3021.2138014153174},null,{"$f":"IF( AND( (camera!$B$3) > (AQ346+camera!$B$3/2), 0 < (AQ346+camera!$B$3/2), AN346 >= 0 ), AQ346+camera!$B$3/2, 0)*-1+camera!$B$3","v":1000},{"$f":"IF( AND( (camera!$B$4) > (AP346+camera!$B$4/2), 0 < (AP346+camera!$B$4/2), AN346 >= 0 ), AP346+camera!$B$4/2, 0)","v":0},null,null,null,4212.7743,-455.5548,285.80790000000002,null,{"$f":"MMULT(               MMULT(AX346:AZ346-$B$2:$D$2, TRANSPOSE($A$16:$C$18)),     TRANSPOSE($A$12:$C$14))","v":440.11911557038513},-9292.5128179803432,4127.6527768244396,null,-1125.6412930558354,53.313485819534648," ",446.68651418046534,0]
[null,null,null,null,null,null,null,null,null,null,null,null,null,null,null,null,null,null,null,null,126.3925,519.83109999999999,null,null,null,"''",null,20.625816,14.595086999999999,null,14.595086999999999,-50.61275999999998,null,{"$f":"camera!$B$5*COS(RADIANS(AE347))*COS(RADIANS(AF347))","v":307.04085132128927},{"$f":"camera!$B$5*COS(RADIANS(AE347))*SIN(RADIANS(AF347))","v":-373.96742094022909},{"$f":"camera!$B$5*SIN(RADIANS(AE347))","v":125.99318908263027},null,{"$f":"TRANSPOSE(MMULT(camera!$A$12:$C$14,MMULT(camera!$A$16:$C$18,TRANSPOSE(AH347:AJ347))))","v":-64.034309957384721},-338.46587651931611,-362.40924047310466,null,{"$f":"camera!$B$5*AM347/AN347","v":466.96639974944918},{"$f":"camera!$B$5*AL347/AN347","v":88.345305260141231},null,{"$f":"IF( AND( (camera!$B$3) > (AQ347+camera!$B$3/2), 0 < (AQ347+camera!$B$3/2), AN347 >= 0 ), AQ347+camera!$B$3/2, 0)*-1+camera!$B$3","v":1000},{"$f":"IF( AND( (camera!$B$4) > (AP347+camera!$B$4/2), 0 < (AP347+camera!$B$4/2), AN347 >= 0 ), AP347+camera!$B$4/2, 0)","v":0},null,null,null,4248.5002000000004,-541.80499999999995,219.43389999999999,null,{"$f":"MMULT(               MMULT(AX347:AZ347-$B$2:$D$2, TRANSPOSE($A$16:$C$18)),     TRANSPOSE($A$12:$C$14))","v":519.86425134876754},-9335.619970388032,4057.62827012973,null,-1150.3789096591586,64.060113043838101," ",435.9398869561619,0]
[null,null,null,null,null,null,null,null,null,null,null,null,null,null,null,null,null,null,null,null,126.5219,114.82940000000001,null,null,null,"''",null,4.3298889999999997,15.627642,null,15.627642,64.948335,null,{"$f":"camera!$B$5*COS(RADIANS(AE348))*COS(RADIANS(AF348))","v":203.89103776388731},{"$f":"camera!$B$5*COS(RADIANS(AE348))*SIN(RADIANS(AF348))","v":436.21834868922519},{"$f":"camera!$B$5*SIN(RADIANS(AE348))","v":134.69223060893529},null,{"$f":"TRANSPOSE(MMULT(camera!$A$12:$C$14,MMULT(camera!$A$16:$C$18,TRANSPOSE(AH348:AJ348))))","v":-211.19200413813769},-165.09623662864206,422.06773157773648,null,{"$f":"camera!$B$5*AM348/AN348","v":-195.58026387316301},{"$f":"camera!$B$5*AL348/AN348","v":-250.18733764445614},null,{"$f":"IF( AND( (camera!$B$3) > (AQ348+camera!$B$3/2), 0 < (AQ348+camera!$B$3/2), AN348 >= 0 ), AQ348+camera!$B$3/2, 0)*-1+camera!$B$3","v":750.18733764445619},{"$f":"IF( AND( (camera!$B$4) > (AP348+camera!$B$4/2), 0 < (AP348+camera!$B$4/2), AN348 >= 0 ), AP348+camera!$B$4/2, 0)","v":304.41973612683699},null,null,null,-380.6397,-3315.0522000000001,118.38549999999999,null,{"$f":"MMULT(               MMULT(AX348:AZ348-$B$2:$D$2, TRANSPOSE($A$16:$C$18)),     TRANSPOSE($A$12:$C$14))","v":1169.1737260311766},-4965.7997648219425,957.12579434674797,null,-2594.120748888171,610.77328232970376," ",1000,0]
[null,null,null,null,null,null,null,null,null,null,null,null,null,null,null,null,null,null,null,null,126.5219,524.82939999999996,null,null,null,"''",null,9.5254530000000006,63.061861,null,63.061861,142.88179500000001,null,{"$f":"camera!$B$5*COS(RADIANS(AE349))*COS(RADIANS(AF349))","v":-180.62059661448723},{"$f":"camera!$B$5*COS(RADIANS(AE349))*SIN(RADIANS(AF349))","v":136.69252181124281},{"$f":"camera!$B$5*SIN(RADIANS(AE349))","v":445.74808419050953},null,{"$f":"TRANSPOSE(MMULT(camera!$A$12:$C$14,MMULT(camera!$A$16:$C$18,TRANSPOSE(AH349:AJ349))))","v":-459.88866147640408},191.84681898002938,41.197294725324184,null,{"$f":"camera!$B$5*AM349/AN349","v":2328.3909812420302},{"$f":"camera!$B$5*AL349/AN349","v":-5581.539571258646},null,{"$f":"IF( AND( (camera!$B$3) > (AQ349+camera!$B$3/2), 0 < (AQ349+camera!$B$3/2), AN349 >= 0 ), AQ349+camera!$B$3/2, 0)*-1+camera!$B$3","v":1000},{"$f":"IF( AND( (camera!$B$4) > (AP349+camera!$B$4/2), 0 < (AP349+camera!$B$4/2), AN349 >= 0 ), AP349+camera!$B$4/2, 0)","v":0},null,null,null,-671.02970000000005,-3375.1939000000002,118.38549999999999,null,{"$f":"MMULT(               MMULT(AX349:AZ349-$B$2:$D$2, TRANSPOSE($A$16:$C$18)),     TRANSPOSE($A$12:$C$14))","v":1183.9723708217909},-4681.7564809766873,873.19850919075691,null,-2680.8087918722736,677.95143851026842," ",1000,0]
[null,null,null,null,null,null,null,null,null,null,null,null,null,null,null,null,null,null,null,null,126.6512,119.82769999999999,null,null,null,"''",null,15.769793,15.421825999999999,null,15.421825999999999,-123.45310499999999,null,{"$f":"camera!$B$5*COS(RADIANS(AE350))*COS(RADIANS(AF350))","v":-265.70296124817526},{"$f":"camera!$B$5*COS(RADIANS(AE350))*SIN(RADIANS(AF350))","v":-402.14814249164812},{"$f":"camera!$B$5*SIN(RADIANS(AE350))","v":132.9616782177022},null,{"$f":"TRANSPOSE(MMULT(camera!$A$12:$C$14,MMULT(camera!$A$16:$C$18,TRANSPOSE(AH350:AJ350))))","v":-57.353867985055444},229.64236120925807,-440.42583912094608,null,{"$f":"camera!$B$5*AM350/AN350","v":-260.70491421167003},{"$f":"camera!$B$5*AL350/AN350","v":65.111833696598126},null,{"$f":"IF( AND( (camera!$B$3) > (AQ350+camera!$B$3/2), 0 < (AQ350+camera!$B$3/2), AN350 >= 0 ), AQ350+camera!$B$3/2, 0)*-1+camera!$B$3","v":1000},{"$f":"IF( AND( (camera!$B$4) > (AP350+camera!$B$4/2), 0 < (AP350+camera!$B$4/2), AN350 >= 0 ), AP350+camera!$B$4/2, 0)","v":0},null,null,null,4271.9669999999996,-598.4588,118.38549999999999,null,{"$f":"MMULT(               MMULT(AX350:AZ350-$B$2:$D$2, TRANSPOSE($A$16:$C$18)),     TRANSPOSE($A$12:$C$14))","v":628.82273553579},-9363.9351761476901,4021.608542955657,null,-1164.2027159194517,78.180500267393072," ",421.81949973260691,0]
[null,null,null,null,null,null,null,null,null,null,null,null,null,null,null,null,null,null,null,null,126.6512,529.82770000000005,null,null,null,"''",null,18.110520000000001,-50.091476999999998,null,-50.091476999999998,-88.342199999999991,null,{"$f":"camera!$B$5*COS(RADIANS(AE351))*COS(RADIANS(AF351))","v":9.2802296044095325},{"$f":"camera!$B$5*COS(RADIANS(AE351))*SIN(RADIANS(AF351))","v":-320.64760507043286},{"$f":"camera!$B$5*SIN(RADIANS(AE351))","v":-383.53486243245885},null,{"$f":"TRANSPOSE(MMULT(camera!$A$12:$C$14,MMULT(camera!$A$16:$C$18,TRANSPOSE(AH351:AJ351))))","v":433.03564860331392},-37.191195709158166,-247.17795613773944,null,{"$f":"camera!$B$5*AM351/AN351","v":75.231619134421194},{"$f":"camera!$B$5*AL351/AN351","v":-875.9592792368702},null,{"$f":"IF( AND( (camera!$B$3) > (AQ351+camera!$B$3/2), 0 < (AQ351+camera!$B$3/2), AN351 >= 0 ), AQ351+camera!$B$3/2, 0)*-1+camera!$B$3","v":1000},{"$f":"IF( AND( (camera!$B$4) > (AP351+camera!$B$4/2), 0 < (AP351+camera!$B$4/2), AN351 >= 0 ), AP351+camera!$B$4/2, 0)","v":0},null,null,null,-1165.7861,-3108.7451000000001,-219.43389999999999,null,{"$f":"MMULT(               MMULT(AX351:AZ351-$B$2:$D$2, TRANSPOSE($A$16:$C$18)),     TRANSPOSE($A$12:$C$14))","v":1478.0551105558329},-4165.660235381506,1150.7968032270103,null,-1809.9025925777503,642.18770264704438," ",1000,0]
[null,null,null,null,null,null,null,null,null,null,null,null,null,null,null,null,null,null,null,null,127.0145,65.263900000000007,null,null,null,"''",null,22.480530999999999,-1.9972E-2,null,-1.9972E-2,-22.792034999999998,null,{"$f":"camera!$B$5*COS(RADIANS(AE352))*COS(RADIANS(AF352))","v":460.95847866736761},{"$f":"camera!$B$5*COS(RADIANS(AE352))*SIN(RADIANS(AF352))","v":-193.69370296465107},{"$f":"camera!$B$5*SIN(RADIANS(AE352))","v":-0.17428857557463473},null,{"$f":"TRANSPOSE(MMULT(camera!$A$12:$C$14,MMULT(camera!$A$16:$C$18,TRANSPOSE(AH352:AJ352))))","v":26.701863087472869},-476.08591103629703,-150.43010277333778,null,{"$f":"camera!$B$5*AM352/AN352","v":1582.4156942631514},{"$f":"camera!$B$5*AL352/AN352","v":-88.751727862960365},null,{"$f":"IF( AND( (camera!$B$3) > (AQ352+camera!$B$3/2), 0 < (AQ352+camera!$B$3/2), AN352 >= 0 ), AQ352+camera!$B$3/2, 0)*-1+camera!$B$3","v":1000},{"$f":"IF( AND( (camera!$B$4) > (AP352+camera!$B$4/2), 0 < (AP352+camera!$B$4/2), AN352 >= 0 ), AP352+camera!$B$4/2, 0)","v":0},null,null,null,-937.9529,-3258.3984,-219.43389999999999,null,{"$f":"MMULT(               MMULT(AX352:AZ352-$B$2:$D$2, TRANSPOSE($A$16:$C$18)),     TRANSPOSE($A$12:$C$14))","v":1500.4951179535258},-4405.6696057869203,1023.5331972403887,null,-2152.1869626043003,732.99777769744242," ",1000,0]
[null,null,null,null,null,null,null,null,null,null,null,null,null,null,null,null,null,null,null,null,127.0145,475.26389999999998,null,null,null,"''",null,15.463818,29.105702999999998,null,29.105702999999998,-128.04273000000001,null,{"$f":"camera!$B$5*COS(RADIANS(AE353))*COS(RADIANS(AF353))","v":-269.2157062498963},{"$f":"camera!$B$5*COS(RADIANS(AE353))*SIN(RADIANS(AF353))","v":-344.05119950901275},{"$f":"camera!$B$5*SIN(RADIANS(AE353))","v":243.21117495867463},null,{"$f":"TRANSPOSE(MMULT(camera!$A$12:$C$14,MMULT(camera!$A$16:$C$18,TRANSPOSE(AH353:AJ353))))","v":-175.92530248877358},238.20522137274079,-402.87536590736977,null,{"$f":"camera!$B$5*AM353/AN353","v":-295.6314055542299},{"$f":"camera!$B$5*AL353/AN353","v":218.33713025931553},null,{"$f":"IF( AND( (camera!$B$3) > (AQ353+camera!$B$3/2), 0 < (AQ353+camera!$B$3/2), AN353 >= 0 ), AQ353+camera!$B$3/2, 0)*-1+camera!$B$3","v":1000},{"$f":"IF( AND( (camera!$B$4) > (AP353+camera!$B$4/2), 0 < (AP353+camera!$B$4/2), AN353 >= 0 ), AP353+camera!$B$4/2, 0)","v":0},null,null,null,-961.41970000000003,-3315.0522000000001,-118.38549999999999,null,{"$f":"MMULT(               MMULT(AX353:AZ353-$B$2:$D$2, TRANSPOSE($A$16:$C$18)),     TRANSPOSE($A$12:$C$14))","v":1411.1374202024097},-4387.2298080642177,948.39134065029634,null,-2312.9849567457914,743.96367813460631," ",1000,0]
[null,null,null,null,null,null,null,null,null,null,null,null,null,null,null,null,null,null,null,null,128.0531,124.4803,null,null,null,"''",null,15.644270000000001,-29.777754000000002,null,-29.777754000000002,-125.33595,null,{"$f":"camera!$B$5*COS(RADIANS(AE354))*COS(RADIANS(AF354))","v":-251.00035755996731},{"$f":"camera!$B$5*COS(RADIANS(AE354))*SIN(RADIANS(AF354))","v":-354.02929696791449},{"$f":"camera!$B$5*SIN(RADIANS(AE354))","v":-248.31849990118087},null,{"$f":"TRANSPOSE(MMULT(camera!$A$12:$C$14,MMULT(camera!$A$16:$C$18,TRANSPOSE(AH354:AJ354))))","v":309.5873381973596},219.18953908870199,-325.74779505309937,null,{"$f":"camera!$B$5*AM354/AN354","v":-336.4405568009638},{"$f":"camera!$B$5*AL354/AN354","v":-475.19483308688933},null,{"$f":"IF( AND( (camera!$B$3) > (AQ354+camera!$B$3/2), 0 < (AQ354+camera!$B$3/2), AN354 >= 0 ), AQ354+camera!$B$3/2, 0)*-1+camera!$B$3","v":1000},{"$f":"IF( AND( (camera!$B$4) > (AP354+camera!$B$4/2), 0 < (AP354+camera!$B$4/2), AN354 >= 0 ), AP354+camera!$B$4/2, 0)","v":0},null,null,null,-1209.2829999999999,-3152.2420000000002,-118.38549999999999,null,{"$f":"MMULT(               MMULT(AX354:AZ354-$B$2:$D$2, TRANSPOSE($A$16:$C$18)),     TRANSPOSE($A$12:$C$14))","v":1386.7245792261315},-4126.1198588448015,1086.8434418442819,null,-1898.2126127766494,637.95967562401472," ",1000,0]
[null,null,null,null,null,null,null,null,null,null,null,null,null,null,null,null,null,null,null,null,128.0531,534.48030000000006,null,null,null,"'Thuban'",null,14.073164999999999,64.37585,null,64.37585,-148.902525,null,{"$f":"camera!$B$5*COS(RADIANS(AE355))*COS(RADIANS(AF355))","v":-185.1580497917933},{"$f":"camera!$B$5*COS(RADIANS(AE355))*SIN(RADIANS(AF355))","v":-111.68334770201358},{"$f":"camera!$B$5*SIN(RADIANS(AE355))","v":450.82516172388932},null,{"$f":"TRANSPOSE(MMULT(camera!$A$12:$C$14,MMULT(camera!$A$16:$C$18,TRANSPOSE(AH355:AJ355))))","v":-421.854040618677},174.71962239007797,-203.74548330101499,null,{"$f":"camera!$B$5*AM355/AN355","v":-428.76931443909848},{"$f":"camera!$B$5*AL355/AN355","v":1035.2475887659971},null,{"$f":"IF( AND( (camera!$B$3) > (AQ355+camera!$B$3/2), 0 < (AQ355+camera!$B$3/2), AN355 >= 0 ), AQ355+camera!$B$3/2, 0)*-1+camera!$B$3","v":1000},{"$f":"IF( AND( (camera!$B$4) > (AP355+camera!$B$4/2), 0 < (AP355+camera!$B$4/2), AN355 >= 0 ), AP355+camera!$B$4/2, 0)","v":0},null,null,null,-1225.3507,-3168.3096999999998,0,null,{"$f":"MMULT(               MMULT(AX355:AZ355-$B$2:$D$2, TRANSPOSE($A$16:$C$18)),     TRANSPOSE($A$12:$C$14))","v":1273.1603061070066},-4111.5136936220179,1049.1435163106735,null,-1959.4619943323903,606.76174723172812," ",1000,0]
[null,null,null,null,null,null,null,null,null,null,null,null,null,null,null,null,null,null,null,null,128.3432,152.16220000000001,null,null,null,"''",null,20.913498000000001,-58.454155,null,-58.454155,-46.297529999999995,null,{"$f":"camera!$B$5*COS(RADIANS(AE356))*COS(RADIANS(AF356))","v":180.7363017584432},{"$f":"camera!$B$5*COS(RADIANS(AE356))*SIN(RADIANS(AF356))","v":-189.11341363932814},{"$f":"camera!$B$5*SIN(RADIANS(AE356))","v":-426.11090810769127},null,{"$f":"TRANSPOSE(MMULT(camera!$A$12:$C$14,MMULT(camera!$A$16:$C$18,TRANSPOSE(AH356:AJ356))))","v":449.61622055526357},-196.53086559375168,-96.025377284191066,null,{"$f":"camera!$B$5*AM356/AN356","v":1023.3277449778222},{"$f":"camera!$B$5*AL356/AN356","v":-2341.1322781091803},null,{"$f":"IF( AND( (camera!$B$3) > (AQ356+camera!$B$3/2), 0 < (AQ356+camera!$B$3/2), AN356 >= 0 ), AQ356+camera!$B$3/2, 0)*-1+camera!$B$3","v":1000},{"$f":"IF( AND( (camera!$B$4) > (AP356+camera!$B$4/2), 0 < (AP356+camera!$B$4/2), AN356 >= 0 ), AP356+camera!$B$4/2, 0)","v":0},null,null,null,-970.0883,-3335.98,0,null,{"$f":"MMULT(               MMULT(AX356:AZ356-$B$2:$D$2, TRANSPOSE($A$16:$C$18)),     TRANSPOSE($A$12:$C$14))","v":1298.3019019118226},-4380.4181726574152,906.55844110664293,null,-2415.9601709241188,716.06078717163314," ",1000,0]
[null,null,null,null,null,null,null,null,null,null,null,null,null,null,null,null,null,null,null,null,128.3432,562.16219999999998,null,null,null,"''",null,4.853434,5.6051039999999999,null,5.6051039999999999,72.801510000000007,null,{"$f":"camera!$B$5*COS(RADIANS(AE357))*COS(RADIANS(AF357))","v":147.13456325132739},{"$f":"camera!$B$5*COS(RADIANS(AE357))*SIN(RADIANS(AF357))","v":475.35932418800132},{"$f":"camera!$B$5*SIN(RADIANS(AE357))","v":48.835777912999063},null,{"$f":"TRANSPOSE(MMULT(camera!$A$12:$C$14,MMULT(camera!$A$16:$C$18,TRANSPOSE(AH357:AJ357))))","v":-132.55182199877657},-105.14437684538686,470.50470189212768,null,{"$f":"camera!$B$5*AM357/AN357","v":-111.73573443851922},{"$f":"camera!$B$5*AL357/AN357","v":-140.86131495149931},null,{"$f":"IF( AND( (camera!$B$3) > (AQ357+camera!$B$3/2), 0 < (AQ357+camera!$B$3/2), AN357 >= 0 ), AQ357+camera!$B$3/2, 0)*-1+camera!$B$3","v":640.86131495149925},{"$f":"IF( AND( (camera!$B$4) > (AP357+camera!$B$4/2), 0 < (AP357+camera!$B$4/2), AN357 >= 0 ), AP357+camera!$B$4/2, 0)","v":388.26426556148078},null,null,null,-1021.9845,-2964.9434999999999,-310.32639999999998,null,{"$f":"MMULT(               MMULT(AX357:AZ357-$B$2:$D$2, TRANSPOSE($A$16:$C$18)),     TRANSPOSE($A$12:$C$14))","v":1540.5145291225269},-4296.3814916223146,1320.0008843849587,null,-1627.4161413248489,583.52783977122658," ",1000,0]
[null,null,null,null,null,null,null,null,null,null,null,null,null,null,null,null,null,null,null,null,129.2944,34.306199999999997,null,null,null,"''",null,8.7265390000000007,-33.186385000000001,null,-33.186385000000001,130.89808500000001,null,{"$f":"camera!$B$5*COS(RADIANS(AE358))*COS(RADIANS(AF358))","v":-273.96389063984071},{"$f":"camera!$B$5*COS(RADIANS(AE358))*SIN(RADIANS(AF358))","v":316.29392671423199},{"$f":"camera!$B$5*SIN(RADIANS(AE358))","v":-273.68218529742387},null,{"$f":"TRANSPOSE(MMULT(camera!$A$12:$C$14,MMULT(camera!$A$16:$C$18,TRANSPOSE(AH358:AJ358))))","v":218.95576478776854},300.48820743334835,334.31304231168781,null,{"$f":"camera!$B$5*AM358/AN358","v":449.4114338997224},{"$f":"camera!$B$5*AL358/AN358","v":327.47116785176303},null,{"$f":"IF( AND( (camera!$B$3) > (AQ358+camera!$B$3/2), 0 < (AQ358+camera!$B$3/2), AN358 >= 0 ), AQ358+camera!$B$3/2, 0)*-1+camera!$B$3","v":172.52883214823692},{"$f":"IF( AND( (camera!$B$4) > (AP358+camera!$B$4/2), 0 < (AP358+camera!$B$4/2), AN358 >= 0 ), AP358+camera!$B$4/2, 0)","v":949.4114338997224},null,null,null,-860.37130000000002,-3071.0998,-310.32639999999998,null,{"$f":"MMULT(               MMULT(AX358:AZ358-$B$2:$D$2, TRANSPOSE($A$16:$C$18)),     TRANSPOSE($A$12:$C$14))","v":1556.4323061920468},-4466.6318357777991,1229.7266846818634,null,-1816.1075511398451,632.83668053226961," ",1000,0]
[null,null,null,null,null,null,null,null,null,null,null,null,null,null,null,null,null,null,null,null,129.2944,444.30619999999999,null,null,null,"''",null,19.789795000000002,18.534286000000002,null,18.534286000000002,-63.153075000000001,null,{"$f":"camera!$B$5*COS(RADIANS(AE359))*COS(RADIANS(AF359))","v":214.09255746068686},{"$f":"camera!$B$5*COS(RADIANS(AE359))*SIN(RADIANS(AF359))","v":-422.97010775578946},{"$f":"camera!$B$5*SIN(RADIANS(AE359))","v":158.9360399185733},null,{"$f":"TRANSPOSE(MMULT(camera!$A$12:$C$14,MMULT(camera!$A$16:$C$18,TRANSPOSE(AH359:AJ359))))","v":-86.593117783822919},-250.14214454475146,-424.18220079940835,null,{"$f":"camera!$B$5*AM359/AN359","v":294.8522404680545},{"$f":"camera!$B$5*AL359/AN359","v":102.07066399843114},null,{"$f":"IF( AND( (camera!$B$3) > (AQ359+camera!$B$3/2), 0 < (AQ359+camera!$B$3/2), AN359 >= 0 ), AQ359+camera!$B$3/2, 0)*-1+camera!$B$3","v":1000},{"$f":"IF( AND( (camera!$B$4) > (AP359+camera!$B$4/2), 0 < (AP359+camera!$B$4/2), AN359 >= 0 ), AP359+camera!$B$4/2, 0)","v":0},null,null,null,-902.2269,-3172.1482000000001,-285.80790000000002,null,{"$f":"MMULT(               MMULT(AX359:AZ359-$B$2:$D$2, TRANSPOSE($A$16:$C$18)),     TRANSPOSE($A$12:$C$14))","v":1550.3998575714288},-4433.7424573278131,1122.7419867807935,null,-1974.5152980519406,690.45242621452451," ",1000,0]
[null,null,null,null,null,null,null,null,null,null,null,null,null,null,null,null,null,null,null,null,129.34719999999999,60.8414,null,null,null,"''",null,23.157443000000001,-21.172409999999999,null,-21.172409999999999,-12.63835499999999,null,{"$f":"camera!$B$5*COS(RADIANS(AE360))*COS(RADIANS(AF360))","v":454.95194252189384},{"$f":"camera!$B$5*COS(RADIANS(AE360))*SIN(RADIANS(AF360))","v":-102.01362668558451},{"$f":"camera!$B$5*SIN(RADIANS(AE360))","v":-180.58779019083659},null,{"$f":"TRANSPOSE(MMULT(camera!$A$12:$C$14,MMULT(camera!$A$16:$C$18,TRANSPOSE(AH360:AJ360))))","v":188.60588629217699},-462.11178643101567,-29.67349823458316,null,{"$f":"camera!$B$5*AM360/AN360","v":7786.6078137771547},{"$f":"camera!$B$5*AL360/AN360","v":-3178.0190660561402},null,{"$f":"IF( AND( (camera!$B$3) > (AQ360+camera!$B$3/2), 0 < (AQ360+camera!$B$3/2), AN360 >= 0 ), AQ360+camera!$B$3/2, 0)*-1+camera!$B$3","v":1000},{"$f":"IF( AND( (camera!$B$4) > (AP360+camera!$B$4/2), 0 < (AP360+camera!$B$4/2), AN360 >= 0 ), AP360+camera!$B$4/2, 0)","v":0},null,null,null,-1099.5661,-3042.5250999999998,-285.80790000000002,null,{"$f":"MMULT(               MMULT(AX360:AZ360-$B$2:$D$2, TRANSPOSE($A$16:$C$18)),     TRANSPOSE($A$12:$C$14))","v":1530.9633127831589},-4225.8567950043916,1232.9721098746936,null,-1713.6870984996831,620.84263728347833," ",1000,0]
[null,null,null,null,null,null,null,null,null,null,null,null,null,null,null,null,null,null,null,null,129.34719999999999,470.84140000000002,null,null,null,"''",null,0.61618799999999996,53.896909000000001,null,53.896909000000001,9.24282,null,{"$f":"camera!$B$5*COS(RADIANS(AE361))*COS(RADIANS(AF361))","v":290.79477524906633},{"$f":"camera!$B$5*COS(RADIANS(AE361))*SIN(RADIANS(AF361))","v":47.321529870117587},{"$f":"camera!$B$5*SIN(RADIANS(AE361))","v":403.97904834111949},null,{"$f":"TRANSPOSE(MMULT(camera!$A$12:$C$14,MMULT(camera!$A$16:$C$18,TRANSPOSE(AH361:AJ361))))","v":-410.42874187605912},-285.56387025211507,1.2344426549699818,null,{"$f":"camera!$B$5*AM361/AN361","v":-115665.10161586209},{"$f":"camera!$B$5*AL361/AN361","v":-166240.50547169385},null,{"$f":"IF( AND( (camera!$B$3) > (AQ361+camera!$B$3/2), 0 < (AQ361+camera!$B$3/2), AN361 >= 0 ), AQ361+camera!$B$3/2, 0)*-1+camera!$B$3","v":1000},{"$f":"IF( AND( (camera!$B$4) > (AP361+camera!$B$4/2), 0 < (AP361+camera!$B$4/2), AN361 >= 0 ), AP361+camera!$B$4/2, 0)","v":0},null,null,null,-878.18290000000002,-2821.1419000000001,-219.43389999999999,null,{"$f":"MMULT(               MMULT(AX361:AZ361-$B$2:$D$2, TRANSPOSE($A$16:$C$18)),     TRANSPOSE($A$12:$C$14))","v":1423.9506703078969},-4427.1027478631231,1457.6383315657235,null,-1518.5875165301625,488.44443764673741," ",11.55556235326253,0]
[null,null,null,null,null,null,null,null,null,null,null,null,null,null,null,null,null,null,null,null,130.05799999999999,137.16220000000001,null,null,null,"''",null,1.9325639999999999,-51.608896000000001,null,-51.608896000000001,28.98846,null,{"$f":"camera!$B$5*COS(RADIANS(AE362))*COS(RADIANS(AF362))","v":271.6111446490105},{"$f":"camera!$B$5*COS(RADIANS(AE362))*SIN(RADIANS(AF362))","v":150.4850097432525},{"$f":"camera!$B$5*SIN(RADIANS(AE362))","v":-391.8949450363292},null,{"$f":"TRANSPOSE(MMULT(camera!$A$12:$C$14,MMULT(camera!$A$16:$C$18,TRANSPOSE(AH362:AJ362))))","v":355.79848911901348},-257.4619494454127,238.99953918029831,null,{"$f":"camera!$B$5*AM362/AN362","v":-538.62436372981153},{"$f":"camera!$B$5*AL362/AN362","v":744.34973878883397},null,{"$f":"IF( AND( (camera!$B$3) > (AQ362+camera!$B$3/2), 0 < (AQ362+camera!$B$3/2), AN362 >= 0 ), AQ362+camera!$B$3/2, 0)*-1+camera!$B$3","v":1000},{"$f":"IF( AND( (camera!$B$4) > (AP362+camera!$B$4/2), 0 < (AP362+camera!$B$4/2), AN362 >= 0 ), AP362+camera!$B$4/2, 0)","v":0},null,null,null,-782.78970000000004,-2883.8013000000001,-219.43389999999999,null,{"$f":"MMULT(               MMULT(AX362:AZ362-$B$2:$D$2, TRANSPOSE($A$16:$C$18)),     TRANSPOSE($A$12:$C$14))","v":1433.346234347983},-4527.594074484251,1404.3534400401288,null,-1611.9852543512397,510.32247064066212," ",1000,0]
[null,null,null,null,null,null,null,null,null,null,null,null,null,null,null,null,null,null,null,null,130.05799999999999,547.16219999999998,null,null,null,"''",null,5.0413009999999998,41.075837,null,41.075837,75.619514999999993,null,{"$f":"camera!$B$5*COS(RADIANS(AE363))*COS(RADIANS(AF363))","v":93.611909839340569},{"$f":"camera!$B$5*COS(RADIANS(AE363))*SIN(RADIANS(AF363))","v":365.11053991417248},{"$f":"camera!$B$5*SIN(RADIANS(AE363))","v":328.52869582399137},null,{"$f":"TRANSPOSE(MMULT(camera!$A$12:$C$14,MMULT(camera!$A$16:$C$18,TRANSPOSE(AH363:AJ363))))","v":-388.11389097785656},-61.434207968975393,309.18189746693315,null,{"$f":"camera!$B$5*AM363/AN363","v":-99.349619871496117},{"$f":"camera!$B$5*AL363/AN363","v":-627.64653130988222},null,{"$f":"IF( AND( (camera!$B$3) > (AQ363+camera!$B$3/2), 0 < (AQ363+camera!$B$3/2), AN363 >= 0 ), AQ363+camera!$B$3/2, 0)*-1+camera!$B$3","v":1000},{"$f":"IF( AND( (camera!$B$4) > (AP363+camera!$B$4/2), 0 < (AP363+camera!$B$4/2), AN363 >= 0 ), AP363+camera!$B$4/2, 0)","v":400.65038012850391},null,null,null,-818.51570000000004,-2970.0513999999998,-285.80790000000002,null,{"$f":"MMULT(               MMULT(AX363:AZ363-$B$2:$D$2, TRANSPOSE($A$16:$C$18)),     TRANSPOSE($A$12:$C$14))","v":1514.1727370282047},-4499.5212142277851,1328.19619689468,null,-1693.8465961383026,570.01094438018163," ",1000,0]
[null,null,null,null,null,null,null,null,null,null,null,null,null,null,null,null,null,null,null,null,130.4314,49.306199999999997,null,null,null,"''",null,9.7541170000000008,-62.507902999999999,null,-62.507902999999999,146.31175500000001,null,{"$f":"camera!$B$5*COS(RADIANS(AE364))*COS(RADIANS(AF364))","v":-192.05220542590018},{"$f":"camera!$B$5*COS(RADIANS(AE364))*SIN(RADIANS(AF364))","v":128.02597968780736},{"$f":"camera!$B$5*SIN(RADIANS(AE364))","v":-443.53725764136772},null,{"$f":"TRANSPOSE(MMULT(camera!$A$12:$C$14,MMULT(camera!$A$16:$C$18,TRANSPOSE(AH364:AJ364))))","v":417.55865128682092},202.47958815279597,186.13647981254303,null,{"$f":"camera!$B$5*AM364/AN364","v":543.90087412395462},{"$f":"camera!$B$5*AL364/AN364","v":1121.646470663198},null,{"$f":"IF( AND( (camera!$B$3) > (AQ364+camera!$B$3/2), 0 < (AQ364+camera!$B$3/2), AN364 >= 0 ), AQ364+camera!$B$3/2, 0)*-1+camera!$B$3","v":1000},{"$f":"IF( AND( (camera!$B$4) > (AP364+camera!$B$4/2), 0 < (AP364+camera!$B$4/2), AN364 >= 0 ), AP364+camera!$B$4/2, 0)","v":0},null,null,null,-944.40290000000005,-2887.3618999999999,-285.80790000000002,null,{"$f":"MMULT(               MMULT(AX364:AZ364-$B$2:$D$2, TRANSPOSE($A$16:$C$18)),     TRANSPOSE($A$12:$C$14))","v":1501.7737276774351},-4366.9061882402375,1398.5144732069703,null,-1561.2659975646768,536.91747795561901," ",1000,0]
[null,null,null,null,null,null,null,null,null,null,null,null,null,null,null,null,null,null,null,null,130.4314,459.30619999999999,null,null,null,"''",null,11.767515,47.779406000000002,null,47.779406000000002,176.51272499999999,null,{"$f":"camera!$B$5*COS(RADIANS(AE365))*COS(RADIANS(AF365))","v":-335.37125966029362},{"$f":"camera!$B$5*COS(RADIANS(AE365))*SIN(RADIANS(AF365))","v":20.437423686333936},{"$f":"camera!$B$5*SIN(RADIANS(AE365))","v":370.28155491049404},null,{"$f":"TRANSPOSE(MMULT(camera!$A$12:$C$14,MMULT(camera!$A$16:$C$18,TRANSPOSE(AH365:AJ365))))","v":-363.11590790283208},335.87630960716564,-73.033841967771508,null,{"$f":"camera!$B$5*AM365/AN365","v":-2299.4566666462765},{"$f":"camera!$B$5*AL365/AN365","v":2485.9428048648219},null,{"$f":"IF( AND( (camera!$B$3) > (AQ365+camera!$B$3/2), 0 < (AQ365+camera!$B$3/2), AN365 >= 0 ), AQ365+camera!$B$3/2, 0)*-1+camera!$B$3","v":1000},{"$f":"IF( AND( (camera!$B$4) > (AP365+camera!$B$4/2), 0 < (AP365+camera!$B$4/2), AN365 >= 0 ), AP365+camera!$B$4/2, 0)","v":0},null,null,null,-671.02970000000005,-3000.5967999999998,-285.80790000000002,null,{"$f":"MMULT(               MMULT(AX365:AZ365-$B$2:$D$2, TRANSPOSE($A$16:$C$18)),     TRANSPOSE($A$12:$C$14))","v":1517.2245887572592},-4649.1081924950686,1310.8882856675241,null,-1773.2663581350384,578.70094856506614," ",1000,0]
[null,null,null,null,null,null,null,null,null,null,null,null,null,null,null,null,null,null,null,null,130.47059999999999,128.8571,null,null,null,"''",null,21.668181000000001,-16.662307999999999,null,-16.662307999999999,-34.977284999999995,null,{"$f":"camera!$B$5*COS(RADIANS(AE366))*COS(RADIANS(AF366))","v":392.48736148668422},{"$f":"camera!$B$5*COS(RADIANS(AE366))*SIN(RADIANS(AF366))","v":-274.5907809846118},{"$f":"camera!$B$5*SIN(RADIANS(AE366))","v":-143.36517733216056},null,{"$f":"TRANSPOSE(MMULT(camera!$A$12:$C$14,MMULT(camera!$A$16:$C$18,TRANSPOSE(AH366:AJ366))))","v":182.74780693255906},-414.92599204942655,-210.80716350053044,null,{"$f":"camera!$B$5*AM366/AN366","v":984.13636699870142},{"$f":"camera!$B$5*AL366/AN366","v":-433.44781054392212},null,{"$f":"IF( AND( (camera!$B$3) > (AQ366+camera!$B$3/2), 0 < (AQ366+camera!$B$3/2), AN366 >= 0 ), AQ366+camera!$B$3/2, 0)*-1+camera!$B$3","v":1000},{"$f":"IF( AND( (camera!$B$4) > (AP366+camera!$B$4/2), 0 < (AP366+camera!$B$4/2), AN366 >= 0 ), AP366+camera!$B$4/2, 0)","v":0},null,null,null,3834.0909999999999,-253.458,-285.80790000000002,null,{"$f":"MMULT(               MMULT(AX366:AZ366-$B$2:$D$2, TRANSPOSE($A$16:$C$18)),     TRANSPOSE($A$12:$C$14))","v":973.82174653281811},-8897.6566255535308,4392.6789455035887,null,-1012.7824883106134,110.84599610103949," ",389.15400389896047,0]
[null,null,null,null,null,null,null,null,null,null,null,null,null,null,null,null,null,null,null,null,130.47059999999999,538.85709999999995,null,null,null,"''",null,3.325278,-21.757864000000001,null,-21.757864000000001,49.879170000000002,null,{"$f":"camera!$B$5*COS(RADIANS(AE367))*COS(RADIANS(AF367))","v":299.24682630251385},{"$f":"camera!$B$5*COS(RADIANS(AE367))*SIN(RADIANS(AF367))","v":355.10492854759769},{"$f":"camera!$B$5*SIN(RADIANS(AE367))","v":-185.34245781546832},null,{"$f":"TRANSPOSE(MMULT(camera!$A$12:$C$14,MMULT(camera!$A$16:$C$18,TRANSPOSE(AH367:AJ367))))","v":116.56908134825291},-267.15866798242587,406.24856356112861,null,{"$f":"camera!$B$5*AM367/AN367","v":-328.8118309152203},{"$f":"camera!$B$5*AL367/AN367","v":143.47014587131289},null,{"$f":"IF( AND( (camera!$B$3) > (AQ367+camera!$B$3/2), 0 < (AQ367+camera!$B$3/2), AN367 >= 0 ), AQ367+camera!$B$3/2, 0)*-1+camera!$B$3","v":356.52985412868713},{"$f":"IF( AND( (camera!$B$4) > (AP367+camera!$B$4/2), 0 < (AP367+camera!$B$4/2), AN367 >= 0 ), AP367+camera!$B$4/2, 0)","v":171.1881690847797},null,null,null,3869.817,-167.2079,-219.43389999999999,null,{"$f":"MMULT(               MMULT(AX367:AZ367-$B$2:$D$2, TRANSPOSE($A$16:$C$18)),     TRANSPOSE($A$12:$C$14))","v":892.99524385259633},-8925.7294858099976,4468.8361886490375,null,-998.66375819297048,99.913624728606976," ",400.08637527139308,0]
[null,null,null,null,null,null,null,null,null,null,null,null,null,null,null,null,null,null,null,null,131.6799,56.418799999999997,null,null,null,"''",null,17.962744000000001,29.247879999999999,null,29.247879999999999,-90.558839999999975,null,{"$f":"camera!$B$5*COS(RADIANS(AE368))*COS(RADIANS(AF368))","v":-4.2550083524397611},{"$f":"camera!$B$5*COS(RADIANS(AE368))*SIN(RADIANS(AF368))","v":-436.23629198522667},{"$f":"camera!$B$5*SIN(RADIANS(AE368))","v":244.2944789775257},null,{"$f":"TRANSPOSE(MMULT(camera!$A$12:$C$14,MMULT(camera!$A$16:$C$18,TRANSPOSE(AH368:AJ368))))","v":-165.05532047790678},-33.781681280420116,-470.76059647320056,null,{"$f":"camera!$B$5*AM368/AN368","v":35.879894720907508},{"$f":"camera!$B$5*AL368/AN368","v":175.30706872500855},null,{"$f":"IF( AND( (camera!$B$3) > (AQ368+camera!$B$3/2), 0 < (AQ368+camera!$B$3/2), AN368 >= 0 ), AQ368+camera!$B$3/2, 0)*-1+camera!$B$3","v":1000},{"$f":"IF( AND( (camera!$B$4) > (AP368+camera!$B$4/2), 0 < (AP368+camera!$B$4/2), AN368 >= 0 ), AP368+camera!$B$4/2, 0)","v":0},null,null,null,3833.9884000000002,-44.983899999999998,0,null,{"$f":"MMULT(               MMULT(AX368:AZ368-$B$2:$D$2, TRANSPOSE($A$16:$C$18)),     TRANSPOSE($A$12:$C$14))","v":656.29407227392528},-8879.3847009483579,4547.5657733842745,null,-976.27886471891156,72.158832326851069," ",427.8411676731489,0]
[null,null,null,null,null,null,null,null,null,null,null,null,null,null,null,null,null,null,null,null,131.6799,466.41879999999998,null,null,null,"''",null,23.286093999999999,3.282289,null,3.282289,-10.708590000000015,null,{"$f":"camera!$B$5*COS(RADIANS(AE369))*COS(RADIANS(AF369))","v":490.48654039563007},{"$f":"camera!$B$5*COS(RADIANS(AE369))*SIN(RADIANS(AF369))","v":-92.754557124488613},{"$f":"camera!$B$5*SIN(RADIANS(AE369))","v":28.627710760134988},null,{"$f":"TRANSPOSE(MMULT(camera!$A$12:$C$14,MMULT(camera!$A$16:$C$18,TRANSPOSE(AH369:AJ369))))","v":-19.570659502017818},-496.70418334690436,-53.869690293716516,null,{"$f":"camera!$B$5*AM369/AN369","v":4610.2379709136831},{"$f":"camera!$B$5*AL369/AN369","v":181.64815312016546},null,{"$f":"IF( AND( (camera!$B$3) > (AQ369+camera!$B$3/2), 0 < (AQ369+camera!$B$3/2), AN369 >= 0 ), AQ369+camera!$B$3/2, 0)*-1+camera!$B$3","v":1000},{"$f":"IF( AND( (camera!$B$4) > (AP369+camera!$B$4/2), 0 < (AP369+camera!$B$4/2), AN369 >= 0 ), AP369+camera!$B$4/2, 0)","v":0},null,null,null,3901.9522999999999,-89.626300000000001,0,null,{"$f":"MMULT(               MMULT(AX369:AZ369-$B$2:$D$2, TRANSPOSE($A$16:$C$18)),     TRANSPOSE($A$12:$C$14))","v":662.98804942033178},-8950.9808193200352,4509.6023424929235,null,-992.43571156785208,73.508482463425992," ",426.49151753657407,0]
[null,null,null,null,null,null,null,null,null,null,null,null,null,null,null,null,null,null,null,null,132.88810000000001,133.2338,null,null,null,"''",null,4.9041930000000002,2.4406720000000002,null,2.4406720000000002,73.562894999999997,null,{"$f":"camera!$B$5*COS(RADIANS(AE370))*COS(RADIANS(AF370))","v":141.3529823504476},{"$f":"camera!$B$5*COS(RADIANS(AE370))*SIN(RADIANS(AF370))","v":479.13042729846183},{"$f":"camera!$B$5*SIN(RADIANS(AE370))","v":21.29244038215008},null,{"$f":"TRANSPOSE(MMULT(camera!$A$12:$C$14,MMULT(camera!$A$16:$C$18,TRANSPOSE(AH370:AJ370))))","v":-105.99178198831295},-99.056123312771717,478.49098903238172,null,{"$f":"camera!$B$5*AM370/AN370","v":-103.50887015979744},{"$f":"camera!$B$5*AL370/AN370","v":-110.7562988831332},null,{"$f":"IF( AND( (camera!$B$3) > (AQ370+camera!$B$3/2), 0 < (AQ370+camera!$B$3/2), AN370 >= 0 ), AQ370+camera!$B$3/2, 0)*-1+camera!$B$3","v":610.75629888313324},{"$f":"IF( AND( (camera!$B$4) > (AP370+camera!$B$4/2), 0 < (AP370+camera!$B$4/2), AN370 >= 0 ), AP370+camera!$B$4/2, 0)","v":396.49112984020257},null,null,null,3893.2837,-110.55410000000001,-118.38549999999999,null,{"$f":"MMULT(               MMULT(AX370:AZ370-$B$2:$D$2, TRANSPOSE($A$16:$C$18)),     TRANSPOSE($A$12:$C$14))","v":783.32644761819836},-8944.1691839132309,4508.8842956236467,null,-991.83840141944881,86.864775880199474," ",413.13522411980057,0]
[null,null,null,null,null,null,null,null,null,null,null,null,null,null,null,null,null,null,null,null,132.88810000000001,543.23379999999997,null,null,null,"''",null,5.9400820000000003,-14.1677,null,-14.1677,89.101230000000001,null,{"$f":"camera!$B$5*COS(RADIANS(AE371))*COS(RADIANS(AF371))","v":7.6043717268310296},{"$f":"camera!$B$5*COS(RADIANS(AE371))*SIN(RADIANS(AF371))","v":484.7320986833692},{"$f":"camera!$B$5*SIN(RADIANS(AE371))","v":-122.38041524956741},null,{"$f":"TRANSPOSE(MMULT(camera!$A$12:$C$14,MMULT(camera!$A$16:$C$18,TRANSPOSE(AH371:AJ371))))","v":36.553551375082449},34.671751297792319,497.45523169810281,null,{"$f":"camera!$B$5*AM371/AN371","v":34.849117155163441},{"$f":"camera!$B$5*AL371/AN371","v":36.740543717174312},null,{"$f":"IF( AND( (camera!$B$3) > (AQ371+camera!$B$3/2), 0 < (AQ371+camera!$B$3/2), AN371 >= 0 ), AQ371+camera!$B$3/2, 0)*-1+camera!$B$3","v":463.25945628282568},{"$f":"IF( AND( (camera!$B$4) > (AP371+camera!$B$4/2), 0 < (AP371+camera!$B$4/2), AN371 >= 0 ), AP371+camera!$B$4/2, 0)","v":534.84911715516341},null,null,null,3817.9207000000001,-61.051600000000001,-118.38549999999999,null,{"$f":"MMULT(               MMULT(AX371:AZ371-$B$2:$D$2, TRANSPOSE($A$16:$C$18)),     TRANSPOSE($A$12:$C$14))","v":775.90371564325437},-8864.7785357255761,4550.9807005250423,null,-973.94156546333579,85.245770824048876," ",414.75422917595108,0]
[null,null,null,null,null,null,null,null,null,null,null,null,null,null,null,null,null,null,null,null,133.3432,152.16220000000001,null,null,null,"''",null,7.8702880000000004,-40.575786000000001,null,-40.575786000000001,118.05432,null,{"$f":"camera!$B$5*COS(RADIANS(AE372))*COS(RADIANS(AF372))","v":-178.61051026031654},{"$f":"camera!$B$5*COS(RADIANS(AE372))*SIN(RADIANS(AF372))","v":335.15059019819711},{"$f":"camera!$B$5*SIN(RADIANS(AE372))","v":-325.22664022854809},null,{"$f":"TRANSPOSE(MMULT(camera!$A$12:$C$14,MMULT(camera!$A$16:$C$18,TRANSPOSE(AH372:AJ372))))","v":265.01205893118464},207.14114196582852,369.94750428425215,null,{"$f":"camera!$B$5*AM372/AN372","v":279.96018295432253},{"$f":"camera!$B$5*AL372/AN372","v":358.17522197360262},null,{"$f":"IF( AND( (camera!$B$3) > (AQ372+camera!$B$3/2), 0 < (AQ372+camera!$B$3/2), AN372 >= 0 ), AQ372+camera!$B$3/2, 0)*-1+camera!$B$3","v":141.82477802639733},{"$f":"IF( AND( (camera!$B$4) > (AP372+camera!$B$4/2), 0 < (AP372+camera!$B$4/2), AN372 >= 0 ), AP372+camera!$B$4/2, 0)","v":779.96018295432259},null,null,null,3774.4238,-104.5485,-219.43389999999999,null,{"$f":"MMULT(               MMULT(AX372:AZ372-$B$2:$D$2, TRANSPOSE($A$16:$C$18)),     TRANSPOSE($A$12:$C$14))","v":883.5996798125102},-8825.2381591888698,4522.121080174632,null,-975.78525682112695,97.697481352974734," ",402.30251864702529,0]
[null,null,null,null,null,null,null,null,null,null,null,null,null,null,null,null,null,null,null,null,133.3432,562.16219999999998,null,null,null,"''",null,15.846935,4.4777300000000002,null,4.4777300000000002,-122.295975,null,{"$f":"camera!$B$5*COS(RADIANS(AE373))*COS(RADIANS(AF373))","v":-266.33108771229917},{"$f":"camera!$B$5*COS(RADIANS(AE373))*SIN(RADIANS(AF373))","v":-421.35965387364342},{"$f":"camera!$B$5*SIN(RADIANS(AE373))","v":39.035801586070122},null,{"$f":"TRANSPOSE(MMULT(camera!$A$12:$C$14,MMULT(camera!$A$16:$C$18,TRANSPOSE(AH373:AJ373))))","v":38.47791915728677},228.59370391874648,-443.0173453331526,null,{"$f":"camera!$B$5*AM373/AN373","v":-257.99633617826203},{"$f":"camera!$B$5*AL373/AN373","v":-43.427102304934657},null,{"$f":"IF( AND( (camera!$B$3) > (AQ373+camera!$B$3/2), 0 < (AQ373+camera!$B$3/2), AN373 >= 0 ), AQ373+camera!$B$3/2, 0)*-1+camera!$B$3","v":1000},{"$f":"IF( AND( (camera!$B$4) > (AP373+camera!$B$4/2), 0 < (AP373+camera!$B$4/2), AN373 >= 0 ), AP373+camera!$B$4/2, 0)","v":0},null,null,null,3774.4238,-104.5485,219.43389999999999,null,{"$f":"MMULT(               MMULT(AX373:AZ373-$B$2:$D$2, TRANSPOSE($A$16:$C$18)),     TRANSPOSE($A$12:$C$14))","v":451.39926782509906},-8825.2381591888698,4445.912486467937,null,-992.51145699002461,50.765649256370544," ",449.23435074362942,0]
[null,null,null,null,null,null,null,null,null,null,null,null,null,null,null,null,null,null,null,null,134.01249999999999,51.996299999999998,null,null,null,"''",null,18.122496000000002,9.5638470000000009,null,9.5638470000000009,-88.162559999999985,null,{"$f":"camera!$B$5*COS(RADIANS(AE374))*COS(RADIANS(AF374))","v":15.809113759508646},{"$f":"camera!$B$5*COS(RADIANS(AE374))*SIN(RADIANS(AF374))","v":-492.79701905303762},{"$f":"camera!$B$5*SIN(RADIANS(AE374))","v":83.073280509312937},null,{"$f":"TRANSPOSE(MMULT(camera!$A$12:$C$14,MMULT(camera!$A$16:$C$18,TRANSPOSE(AH374:AJ374))))","v":3.197199327458037},-58.69904552815111,-496.53217415444942,null,{"$f":"camera!$B$5*AM374/AN374","v":59.10900499862916},{"$f":"camera!$B$5*AL374/AN374","v":-3.2195288582281565},null,{"$f":"IF( AND( (camera!$B$3) > (AQ374+camera!$B$3/2), 0 < (AQ374+camera!$B$3/2), AN374 >= 0 ), AQ374+camera!$B$3/2, 0)*-1+camera!$B$3","v":1000},{"$f":"IF( AND( (camera!$B$4) > (AP374+camera!$B$4/2), 0 < (AP374+camera!$B$4/2), AN374 >= 0 ), AP374+camera!$B$4/2, 0)","v":0},null,null,null,3869.817,-167.2079,219.43389999999999,null,{"$f":"MMULT(               MMULT(AX374:AZ374-$B$2:$D$2, TRANSPOSE($A$16:$C$18)),     TRANSPOSE($A$12:$C$14))","v":460.79483186518519},-8925.7294858099976,4392.6275949423425,null,-1015.9897797945646,52.450933058352462," ",447.54906694164754,0]
[null,null,null,null,null,null,null,null,null,null,null,null,null,null,null,null,null,null,null,null,134.01249999999999,461.99630000000002,null,null,null,"'Alshain'",null,19.921887000000002,6.4067629999999998,null,6.4067629999999998,-61.171695,null,{"$f":"camera!$B$5*COS(RADIANS(AE375))*COS(RADIANS(AF375))","v":239.5875756330733},{"$f":"camera!$B$5*COS(RADIANS(AE375))*SIN(RADIANS(AF375))","v":-435.29865814761382},{"$f":"camera!$B$5*SIN(RADIANS(AE375))","v":55.793116216547972},null,{"$f":"TRANSPOSE(MMULT(camera!$A$12:$C$14,MMULT(camera!$A$16:$C$18,TRANSPOSE(AH375:AJ375))))","v":16.729664231100649},-276.61465044223689,-416.17839143260875,null,{"$f":"camera!$B$5*AM375/AN375","v":332.32702146073433},{"$f":"camera!$B$5*AL375/AN375","v":-20.099150479091687},null,{"$f":"IF( AND( (camera!$B$3) > (AQ375+camera!$B$3/2), 0 < (AQ375+camera!$B$3/2), AN375 >= 0 ), AQ375+camera!$B$3/2, 0)*-1+camera!$B$3","v":1000},{"$f":"IF( AND( (camera!$B$4) > (AP375+camera!$B$4/2), 0 < (AP375+camera!$B$4/2), AN375 >= 0 ), AP375+camera!$B$4/2, 0)","v":0},null,null,null,3893.2837,-110.55410000000001,118.38549999999999,null,{"$f":"MMULT(               MMULT(AX375:AZ375-$B$2:$D$2, TRANSPOSE($A$16:$C$18)),     TRANSPOSE($A$12:$C$14))","v":550.15253112974472},-8944.1691839132309,4467.7694429492703,null,-1000.9658396796091,61.569037766480768," ",438.43096223351927,0]
[null,null,null,null,null,null,null,null,null,null,null,null,null,null,null,null,null,null,null,null,134.2944,34.306199999999997,null,null,null,"''",null,3.548848,-9.4582619999999995,null,-9.4582619999999995,53.23272,null,{"$f":"camera!$B$5*COS(RADIANS(AE376))*COS(RADIANS(AF376))","v":295.2145299742192},{"$f":"camera!$B$5*COS(RADIANS(AE376))*SIN(RADIANS(AF376))","v":395.09159580704335},{"$f":"camera!$B$5*SIN(RADIANS(AE376))","v":-82.164543537615202},null,{"$f":"TRANSPOSE(MMULT(camera!$A$12:$C$14,MMULT(camera!$A$16:$C$18,TRANSPOSE(AH376:AJ376))))","v":8.1025085971487272},-259.65664807404346,427.2151383850827,null,{"$f":"camera!$B$5*AM376/AN376","v":-303.89448400116669},{"$f":"camera!$B$5*AL376/AN376","v":9.4829371306656469},null,{"$f":"IF( AND( (camera!$B$3) > (AQ376+camera!$B$3/2), 0 < (AQ376+camera!$B$3/2), AN376 >= 0 ), AQ376+camera!$B$3/2, 0)*-1+camera!$B$3","v":490.51706286933438},{"$f":"IF( AND( (camera!$B$4) > (AP376+camera!$B$4/2), 0 < (AP376+camera!$B$4/2), AN376 >= 0 ), AP376+camera!$B$4/2, 0)","v":196.10551599883331},null,null,null,3817.9207000000001,-61.051600000000001,118.38549999999999,null,{"$f":"MMULT(               MMULT(AX376:AZ376-$B$2:$D$2, TRANSPOSE($A$16:$C$18)),     TRANSPOSE($A$12:$C$14))","v":542.72979915480073},-8864.7785357255761,4509.8658478506659,null,-982.82064642237606,60.171390620572183," ",439.8286093794278,0]
[null,null,null,null,null,null,null,null,null,null,null,null,null,null,null,null,null,null,null,null,134.2944,444.30619999999999,null,null,null,"''",null,3.7479269999999998,24.113339,null,24.113339,56.218904999999999,null,{"$f":"camera!$B$5*COS(RADIANS(AE377))*COS(RADIANS(AF377))","v":253.75123229455093},{"$f":"camera!$B$5*COS(RADIANS(AE377))*SIN(RADIANS(AF377))","v":379.31975085973909},{"$f":"camera!$B$5*SIN(RADIANS(AE377))","v":204.27148287683792},null,{"$f":"TRANSPOSE(MMULT(camera!$A$12:$C$14,MMULT(camera!$A$16:$C$18,TRANSPOSE(AH377:AJ377))))","v":-270.62605698199854},-219.72573762104136,358.4440507377202,null,{"$f":"camera!$B$5*AM377/AN377","v":-306.49935069199756},{"$f":"camera!$B$5*AL377/AN377","v":-377.50111408603124},null,{"$f":"IF( AND( (camera!$B$3) > (AQ377+camera!$B$3/2), 0 < (AQ377+camera!$B$3/2), AN377 >= 0 ), AQ377+camera!$B$3/2, 0)*-1+camera!$B$3","v":877.50111408603129},{"$f":"IF( AND( (camera!$B$4) > (AP377+camera!$B$4/2), 0 < (AP377+camera!$B$4/2), AN377 >= 0 ), AP377+camera!$B$4/2, 0)","v":193.50064930800244},null,null,null,-1021.9845,-2964.9434999999999,310.32639999999998,null,{"$f":"MMULT(               MMULT(AX377:AZ377-$B$2:$D$2, TRANSPOSE($A$16:$C$18)),     TRANSPOSE($A$12:$C$14))","v":929.29083975379172},-4296.3814916223146,1212.2256567010811,null,-1772.1046687439259,383.2994437202143," ",116.7005562797857,0]
[null,null,null,null,null,null,null,null,null,null,null,null,null,null,null,null,null,null,null,null,135.05799999999999,137.16220000000001,null,null,null,"''",null,5.9921110000000004,54.284655999999998,null,54.284655999999998,89.881665000000012,null,{"$f":"camera!$B$5*COS(RADIANS(AE378))*COS(RADIANS(AF378))","v":0.6028282849404657},{"$f":"camera!$B$5*COS(RADIANS(AE378))*SIN(RADIANS(AF378))","v":291.87871202503828},{"$f":"camera!$B$5*SIN(RADIANS(AE378))","v":405.96361174945673},null,{"$f":"TRANSPOSE(MMULT(camera!$A$12:$C$14,MMULT(camera!$A$16:$C$18,TRANSPOSE(AH378:AJ378))))","v":-450.29657349316386},24.838371597454596,215.90750611477682,null,{"$f":"camera!$B$5*AM378/AN378","v":57.520861697718075},{"$f":"camera!$B$5*AL378/AN378","v":-1042.7997191857364},null,{"$f":"IF( AND( (camera!$B$3) > (AQ378+camera!$B$3/2), 0 < (AQ378+camera!$B$3/2), AN378 >= 0 ), AQ378+camera!$B$3/2, 0)*-1+camera!$B$3","v":1000},{"$f":"IF( AND( (camera!$B$4) > (AP378+camera!$B$4/2), 0 < (AP378+camera!$B$4/2), AN378 >= 0 ), AP378+camera!$B$4/2, 0)","v":557.52086169771803},null,null,null,-860.37130000000002,-3071.0998,310.32639999999998,null,{"$f":"MMULT(               MMULT(AX378:AZ378-$B$2:$D$2, TRANSPOSE($A$16:$C$18)),     TRANSPOSE($A$12:$C$14))","v":945.20861682331144},-4466.6318357777991,1121.9514569979858,null,-1990.5637663367361,421.23418572511747," ",78.765814274882587,0]
[null,null,null,null,null,null,null,null,null,null,null,null,null,null,null,null,null,null,null,null,135.05799999999999,547.16219999999998,null,null,null,"''",null,21.082184000000002,43.927852000000001,null,43.927852000000001,-43.767239999999958,null,{"$f":"camera!$B$5*COS(RADIANS(AE379))*COS(RADIANS(AF379))","v":260.05336378764844},{"$f":"camera!$B$5*COS(RADIANS(AE379))*SIN(RADIANS(AF379))","v":-249.09693729543221},{"$f":"camera!$B$5*SIN(RADIANS(AE379))","v":346.87600639531769},null,{"$f":"TRANSPOSE(MMULT(camera!$A$12:$C$14,MMULT(camera!$A$16:$C$18,TRANSPOSE(AH379:AJ379))))","v":-302.45131137973453},-280.77401081232949,-282.29268339267441,null,{"$f":"camera!$B$5*AM379/AN379","v":497.31010991483538},{"$f":"camera!$B$5*AL379/AN379","v":535.70519034497806},null,{"$f":"IF( AND( (camera!$B$3) > (AQ379+camera!$B$3/2), 0 < (AQ379+camera!$B$3/2), AN379 >= 0 ), AQ379+camera!$B$3/2, 0)*-1+camera!$B$3","v":1000},{"$f":"IF( AND( (camera!$B$4) > (AP379+camera!$B$4/2), 0 < (AP379+camera!$B$4/2), AN379 >= 0 ), AP379+camera!$B$4/2, 0)","v":0},null,null,null,-818.51570000000004,-2970.0513999999998,285.80790000000002,null,{"$f":"MMULT(               MMULT(AX379:AZ379-$B$2:$D$2, TRANSPOSE($A$16:$C$18)),     TRANSPOSE($A$12:$C$14))","v":951.24106544392907},-4499.5212142277851,1228.9361548990555,null,-1830.6570265228199,387.01809758459899," ",112.98190241540101,0]
[null,null,null,null,null,null,null,null,null,null,null,null,null,null,null,null,null,null,null,null,135.3056,137.6105,null,null,null,"''",null,3.45282,9.7326800000000002,null,9.7326800000000002,51.792299999999997,null,{"$f":"camera!$B$5*COS(RADIANS(AE380))*COS(RADIANS(AF380))","v":304.80592864174656},{"$f":"camera!$B$5*COS(RADIANS(AE380))*SIN(RADIANS(AF380))","v":387.23214925899919},{"$f":"camera!$B$5*SIN(RADIANS(AE380))","v":84.525785681641253},null,{"$f":"TRANSPOSE(MMULT(camera!$A$12:$C$14,MMULT(camera!$A$16:$C$18,TRANSPOSE(AH380:AJ380))))","v":-154.84099520243063},-269.89654447539874,391.38232137509738,null,{"$f":"camera!$B$5*AM380/AN380","v":-344.79910018308192},{"$f":"camera!$B$5*AL380/AN380","v":-197.81296541244691},null,{"$f":"IF( AND( (camera!$B$3) > (AQ380+camera!$B$3/2), 0 < (AQ380+camera!$B$3/2), AN380 >= 0 ), AQ380+camera!$B$3/2, 0)*-1+camera!$B$3","v":697.81296541244694},{"$f":"IF( AND( (camera!$B$4) > (AP380+camera!$B$4/2), 0 < (AP380+camera!$B$4/2), AN380 >= 0 ), AP380+camera!$B$4/2, 0)","v":155.20089981691808},null,null,null,-944.40290000000005,-2887.3618999999999,285.80790000000002,null,{"$f":"MMULT(               MMULT(AX380:AZ380-$B$2:$D$2, TRANSPOSE($A$16:$C$18)),     TRANSPOSE($A$12:$C$14))","v":938.84205609315939},-4366.9061882402375,1299.2544312113457,null,-1680.5431189366043,361.30030944664173," ",138.69969055335832,0]
[null,null,null,null,null,null,null,null,null,null,null,null,null,null,null,null,null,null,null,null,135.3056,547.6105,null,null,null,"''",null,14.770811999999999,1.8928849999999999,null,1.8928849999999999,-138.43782000000002,null,{"$f":"camera!$B$5*COS(RADIANS(AE381))*COS(RADIANS(AF381))","v":-373.91394043601184},{"$f":"camera!$B$5*COS(RADIANS(AE381))*SIN(RADIANS(AF381))","v":-331.53522032139358},{"$f":"camera!$B$5*SIN(RADIANS(AE381))","v":16.51553311460442},null,{"$f":"TRANSPOSE(MMULT(camera!$A$12:$C$14,MMULT(camera!$A$16:$C$18,TRANSPOSE(AH381:AJ381))))","v":46.745765265531702},343.5958866308282,-360.21757330829217,null,{"$f":"camera!$B$5*AM381/AN381","v":-476.92826792872995},{"$f":"camera!$B$5*AL381/AN381","v":-64.885459135449153},null,{"$f":"IF( AND( (camera!$B$3) > (AQ381+camera!$B$3/2), 0 < (AQ381+camera!$B$3/2), AN381 >= 0 ), AQ381+camera!$B$3/2, 0)*-1+camera!$B$3","v":1000},{"$f":"IF( AND( (camera!$B$4) > (AP381+camera!$B$4/2), 0 < (AP381+camera!$B$4/2), AN381 >= 0 ), AP381+camera!$B$4/2, 0)","v":0},null,null,null,-878.18290000000002,-2821.1419000000001,219.43389999999999,null,{"$f":"MMULT(               MMULT(AX381:AZ381-$B$2:$D$2, TRANSPOSE($A$16:$C$18)),     TRANSPOSE($A$12:$C$14))","v":991.75025832048573},-4427.1027478631231,1381.4297378590288,null,-1602.3626198768341,358.95790829634331," ",141.04209170365675,0]
[null,null,null,null,null,null,null,null,null,null,null,null,null,null,null,null,null,null,null,null,136.34520000000001,47.573799999999999,null,null,null,"''",null,17.892133999999999,56.872642999999997,null,56.872642999999997,-91.61799000000002,null,{"$f":"camera!$B$5*COS(RADIANS(AE382))*COS(RADIANS(AF382))","v":-7.7153768800409273},{"$f":"camera!$B$5*COS(RADIANS(AE382))*SIN(RADIANS(AF382))","v":-273.14199655791282},{"$f":"camera!$B$5*SIN(RADIANS(AE382))","v":418.72893699379796},null,{"$f":"TRANSPOSE(MMULT(camera!$A$12:$C$14,MMULT(camera!$A$16:$C$18,TRANSPOSE(AH382:AJ382))))","v":-365.00061352915787},-16.119876043906768,-341.34249914077122,null,{"$f":"camera!$B$5*AM382/AN382","v":23.612465609298269},{"$f":"camera!$B$5*AL382/AN382","v":534.65451042272639},null,{"$f":"IF( AND( (camera!$B$3) > (AQ382+camera!$B$3/2), 0 < (AQ382+camera!$B$3/2), AN382 >= 0 ), AQ382+camera!$B$3/2, 0)*-1+camera!$B$3","v":1000},{"$f":"IF( AND( (camera!$B$4) > (AP382+camera!$B$4/2), 0 < (AP382+camera!$B$4/2), AN382 >= 0 ), AP382+camera!$B$4/2, 0)","v":0},null,null,null,-782.78970000000004,-2883.8013000000001,219.43389999999999,null,{"$f":"MMULT(               MMULT(AX382:AZ382-$B$2:$D$2, TRANSPOSE($A$16:$C$18)),     TRANSPOSE($A$12:$C$14))","v":1001.1458223605719},-4527.594074484251,1328.1448463334341,null,-1704.4805342517543,376.89632464576522," ",123.10367535423484,0]
[null,null,null,null,null,null,null,null,null,null,null,null,null,null,null,null,null,null,null,null,136.34520000000001,457.57380000000001,null,null,null,"''",null,21.691253,-77.390045999999998,null,-77.390045999999998,-34.631205000000023,null,{"$f":"camera!$B$5*COS(RADIANS(AE383))*COS(RADIANS(AF383))","v":89.816824646507868},{"$f":"camera!$B$5*COS(RADIANS(AE383))*SIN(RADIANS(AF383))","v":-62.032700619336502},{"$f":"camera!$B$5*SIN(RADIANS(AE383))","v":-487.93942458494803},null,{"$f":"TRANSPOSE(MMULT(camera!$A$12:$C$14,MMULT(camera!$A$16:$C$18,TRANSPOSE(AH383:AJ383))))","v":489.8980765743724},-94.881550609408535,31.581100719965086,null,{"$f":"camera!$B$5*AM383/AN383","v":-1502.1887845319127},{"$f":"camera!$B$5*AL383/AN383","v":7756.1906552653245},null,{"$f":"IF( AND( (camera!$B$3) > (AQ383+camera!$B$3/2), 0 < (AQ383+camera!$B$3/2), AN383 >= 0 ), AQ383+camera!$B$3/2, 0)*-1+camera!$B$3","v":1000},{"$f":"IF( AND( (camera!$B$4) > (AP383+camera!$B$4/2), 0 < (AP383+camera!$B$4/2), AN383 >= 0 ), AP383+camera!$B$4/2, 0)","v":0},null,null,null,3834.0909999999999,-253.458,285.80790000000002,null,{"$f":"MMULT(               MMULT(AX383:AZ383-$B$2:$D$2, TRANSPOSE($A$16:$C$18)),     TRANSPOSE($A$12:$C$14))","v":410.89007494854252},-8897.6566255535308,4293.4189035079635,null,-1036.1971223310691,47.851151283284089," ",452.14884871671586,0]
[null,null,null,null,null,null,null,null,null,null,null,null,null,null,null,null,null,null,null,null,137.72309999999999,141.9873,null,null,null,"''",null,22.876909999999999,-7.579599,null,-7.579599,-16.846350000000029,null,{"$f":"camera!$B$5*COS(RADIANS(AE384))*COS(RADIANS(AF384))","v":474.36145098741429},{"$f":"camera!$B$5*COS(RADIANS(AE384))*SIN(RADIANS(AF384))","v":-143.63698726341295},{"$f":"camera!$B$5*SIN(RADIANS(AE384))","v":-65.951722547671736},null,{"$f":"TRANSPOSE(MMULT(camera!$A$12:$C$14,MMULT(camera!$A$16:$C$18,TRANSPOSE(AH384:AJ384))))","v":82.617962813371236},-485.07515076374818,-88.748917357313942,null,{"$f":"camera!$B$5*AM384/AN384","v":2732.8510882604719},{"$f":"camera!$B$5*AL384/AN384","v":-465.45898966148098},null,{"$f":"IF( AND( (camera!$B$3) > (AQ384+camera!$B$3/2), 0 < (AQ384+camera!$B$3/2), AN384 >= 0 ), AQ384+camera!$B$3/2, 0)*-1+camera!$B$3","v":1000},{"$f":"IF( AND( (camera!$B$4) > (AP384+camera!$B$4/2), 0 < (AP384+camera!$B$4/2), AN384 >= 0 ), AP384+camera!$B$4/2, 0)","v":0},null,null,null,-671.02970000000005,-3000.5967999999998,285.80790000000002,null,{"$f":"MMULT(               MMULT(AX384:AZ384-$B$2:$D$2, TRANSPOSE($A$16:$C$18)),     TRANSPOSE($A$12:$C$14))","v":954.29291717298361},-4649.1081924950686,1211.6282436718996,null,-1918.5373965886249,393.80598882415927," ",106.19401117584073,0]
[null,null,null,null,null,null,null,null,null,null,null,null,null,null,null,null,null,null,null,null,137.72309999999999,551.9873,null,null,null,"''",null,1.8576760000000001,-10.335038000000001,null,-10.335038000000001,27.86514,null,{"$f":"camera!$B$5*COS(RADIANS(AE385))*COS(RADIANS(AF385))","v":434.85345164668178},{"$f":"camera!$B$5*COS(RADIANS(AE385))*SIN(RADIANS(AF385))","v":229.90441440358848},{"$f":"camera!$B$5*SIN(RADIANS(AE385))","v":-89.701927675552525},null,{"$f":"TRANSPOSE(MMULT(camera!$A$12:$C$14,MMULT(camera!$A$16:$C$18,TRANSPOSE(AH385:AJ385))))","v":41.987326645051354},-413.16121297900946,278.45085112262689,null,{"$f":"camera!$B$5*AM385/AN385","v":-741.89253024954405},{"$f":"camera!$B$5*AL385/AN385","v":75.394502253757821},null,{"$f":"IF( AND( (camera!$B$3) > (AQ385+camera!$B$3/2), 0 < (AQ385+camera!$B$3/2), AN385 >= 0 ), AQ385+camera!$B$3/2, 0)*-1+camera!$B$3","v":424.60549774624224},{"$f":"IF( AND( (camera!$B$4) > (AP385+camera!$B$4/2), 0 < (AP385+camera!$B$4/2), AN385 >= 0 ), AP385+camera!$B$4/2, 0)","v":0},null,null,null,-1165.7861,-3108.7451000000001,219.43389999999999,null,{"$f":"MMULT(               MMULT(AX385:AZ385-$B$2:$D$2, TRANSPOSE($A$16:$C$18)),     TRANSPOSE($A$12:$C$14))","v":1045.854698568422},-4165.660235381506,1074.5882095203156,null,-1938.2588597547572,486.6304549513344," ",13.3695450486656,0]
[null,null,null,null,null,null,null,null,null,null,null,null,null,null,null,null,null,null,null,null,138.3432,152.16220000000001,null,null,null,"''",null,16.365338000000001,19.153130000000001,null,19.153130000000001,-114.51992999999999,null,{"$f":"camera!$B$5*COS(RADIANS(AE386))*COS(RADIANS(AF386))","v":-196.01845535603661},{"$f":"camera!$B$5*COS(RADIANS(AE386))*SIN(RADIANS(AF386))","v":-429.72706040453585},{"$f":"camera!$B$5*SIN(RADIANS(AE386))","v":164.0470015450141},null,{"$f":"TRANSPOSE(MMULT(camera!$A$12:$C$14,MMULT(camera!$A$16:$C$18,TRANSPOSE(AH386:AJ386))))","v":-84.250765953400062},157.81936482549213,-466.89919310526068,null,{"$f":"camera!$B$5*AM386/AN386","v":-169.00796484125894},{"$f":"camera!$B$5*AL386/AN386","v":90.223721948482819},null,{"$f":"IF( AND( (camera!$B$3) > (AQ386+camera!$B$3/2), 0 < (AQ386+camera!$B$3/2), AN386 >= 0 ), AQ386+camera!$B$3/2, 0)*-1+camera!$B$3","v":1000},{"$f":"IF( AND( (camera!$B$4) > (AP386+camera!$B$4/2), 0 < (AP386+camera!$B$4/2), AN386 >= 0 ), AP386+camera!$B$4/2, 0)","v":0},null,null,null,-937.9529,-3258.3984,219.43389999999999,null,{"$f":"MMULT(               MMULT(AX386:AZ386-$B$2:$D$2, TRANSPOSE($A$16:$C$18)),     TRANSPOSE($A$12:$C$14))","v":1068.2947059661146},-4405.6696057869203,947.32460353369379,null,-2325.3220645557858,563.84828493906957," ",1000,0]
[null,null,null,null,null,null,null,null,null,null,null,null,null,null,null,null,null,null,null,null,138.3432,562.16219999999998,null,null,null,"''",null,21.246517000000001,38.045316999999997,null,{"$f":"AC387","v":38.045316999999997},{"$f":"IF(AB387*15/1>180, (AB387*15/1)-360, AB387*15/1)","v":-41.302244999999971},null,{"$f":"camera!$B$5*COS(RADIANS(AE387))*COS(RADIANS(AF387))","v":295.80891988318047},{"$f":"camera!$B$5*COS(RADIANS(AE387))*SIN(RADIANS(AF387))","v":-259.89502285547229},{"$f":"camera!$B$5*SIN(RADIANS(AE387))","v":308.14227235564363},null,{"$f":"TRANSPOSE(MMULT(camera!$A$12:$C$14,MMULT(camera!$A$16:$C$18,TRANSPOSE(AH387:AJ387))))","v":-262.97923728578371},-317.33462138925859,-283.09125529468997,null,{"$f":"camera!$B$5*AM387/AN387","v":560.48114424962057},{"$f":"camera!$B$5*AL387/AN387","v":464.47785363774261},null,{"$f":"IF( AND( (camera!$B$3) > (AQ387+camera!$B$3/2), 0 < (AQ387+camera!$B$3/2), AN387 >= 0 ), AQ387+camera!$B$3/2, 0)*-1+camera!$B$3","v":1000},{"$f":"IF( AND( (camera!$B$4) > (AP387+camera!$B$4/2), 0 < (AP387+camera!$B$4/2), AN387 >= 0 ), AP387+camera!$B$4/2, 0)","v":0},null,null,null,-902.2269,-3172.1482000000001,285.80790000000002,null,{"$f":"MMULT(               MMULT(AX387:AZ387-$B$2:$D$2, TRANSPOSE($A$16:$C$18)),     TRANSPOSE($A$12:$C$14))","v":987.46818598715322},-4433.7424573278131,1023.4819447851689,null,-2166.0091220556242,482.40625592785858," ",17.593744072141362,0]
[null,null,null,null,null,null,null,null,null,null,null,null,null,null,null,null,null,null,null,null,138.67789999999999,43.151299999999999,null,null,null,"''",null,9.069248,-47.097737000000002,null,-47.097737000000002,136.03872000000001,null,{"$f":"camera!$B$5*COS(RADIANS(AE388))*COS(RADIANS(AF388))","v":-245.00494426169672},{"$f":"camera!$B$5*COS(RADIANS(AE388))*SIN(RADIANS(AF388))","v":236.2787556209297},{"$f":"camera!$B$5*SIN(RADIANS(AE388))","v":-366.25800595966206},null,{"$f":"TRANSPOSE(MMULT(camera!$A$12:$C$14,MMULT(camera!$A$16:$C$18,TRANSPOSE(AH388:AJ388))))","v":323.52848932157866},264.66567692140046,274.37455431769541,null,{"$f":"camera!$B$5*AM388/AN388","v":482.30725618773465},{"$f":"camera!$B$5*AL388/AN388","v":589.57451452835596},null,{"$f":"IF( AND( (camera!$B$3) > (AQ388+camera!$B$3/2), 0 < (AQ388+camera!$B$3/2), AN388 >= 0 ), AQ388+camera!$B$3/2, 0)*-1+camera!$B$3","v":1000},{"$f":"IF( AND( (camera!$B$4) > (AP388+camera!$B$4/2), 0 < (AP388+camera!$B$4/2), AN388 >= 0 ), AP388+camera!$B$4/2, 0)","v":982.30725618773465},null,null,null,-1099.5661,-3042.5250999999998,285.80790000000002,null,{"$f":"MMULT(               MMULT(AX388:AZ388-$B$2:$D$2, TRANSPOSE($A$16:$C$18)),     TRANSPOSE($A$12:$C$14))","v":968.03164119888345},-4225.8567950043916,1133.7120678790693,null,{"$f":"$B$5*BC388/BD388","v":-1863.7257707373876},{"$f":"$B$5*BB388/BD388","v":426.93011242698589}," ",{"$f":"IF( AND( ($B$3) > (BG388+$B$3/2), 0 < (BG388+$B$3/2), BD388 >= 0 ), BG388+$B$3/2, 0)*-1+$B$3","v":73.069887573014057},{"$f":"IF( AND( ($B$4) > (BF388+$B$4/2), 0 < (BF388+$B$4/2), BD388 >= 0 ), BF388+$B$4/2, 0)","v":0}]
[null,null,null,null,null,null,null,null,null,null,null,null,null,null,null,null,null,null,null,null,138.67789999999999,453.15129999999999,null,null,null,"''",null,17.798210999999998,2.7072759999999998,null,2.7072759999999998,-93.026835000000005,null,{"$f":"camera!$B$5*COS(RADIANS(AE389))*COS(RADIANS(AF389))","v":-26.372366373561018},{"$f":"camera!$B$5*COS(RADIANS(AE389))*SIN(RADIANS(AF389))","v":-498.74517756684855},{"$f":"camera!$B$5*SIN(RADIANS(AE389))","v":23.616649755446783},null,{"$f":"TRANSPOSE(MMULT(camera!$A$12:$C$14,MMULT(camera!$A$16:$C$18,TRANSPOSE(AH389:AJ389))))","v":63.417899609104524},-17.196494835176807,-495.66364661386382,null,{"$f":"camera!$B$5*AM389/AN389","v":17.34693975708629},{"$f":"camera!$B$5*AL389/AN389","v":-63.972716218291559},null,{"$f":"IF( AND( (camera!$B$3) > (AQ389+camera!$B$3/2), 0 < (AQ389+camera!$B$3/2), AN389 >= 0 ), AQ389+camera!$B$3/2, 0)*-1+camera!$B$3","v":1000},{"$f":"IF( AND( (camera!$B$4) > (AP389+camera!$B$4/2), 0 < (AP389+camera!$B$4/2), AN389 >= 0 ), AP389+camera!$B$4/2, 0)","v":0},null,null,null,-961.41970000000003,-3315.0522000000001,118.38549999999999,null,{"$f":"MMULT(               MMULT(AX389:AZ389-$B$2:$D$2, TRANSPOSE($A$16:$C$18)),     TRANSPOSE($A$12:$C$14))","v":1177.963503713956},-4387.2298080642177,907.27648797591951,null,-2417.8019965291228,649.17559273575102," ",1000,0]
[null,null,null,null,null,null,null,null,null,null,null,null,null,null,null,null,null,null,null,null,139.2944,34.306199999999997,null,null,null,"''",null,5.5604209999999998,-62.489825000000003,null,-62.489825000000003,83.406314999999992,null,{"$f":"camera!$B$5*COS(RADIANS(AE390))*COS(RADIANS(AF390))","v":26.519800516988685},{"$f":"camera!$B$5*COS(RADIANS(AE390))*SIN(RADIANS(AF390))","v":229.42540813552233},{"$f":"camera!$B$5*SIN(RADIANS(AE390))","v":-443.46440926233095},null,{"$f":"TRANSPOSE(MMULT(camera!$A$12:$C$14,MMULT(camera!$A$16:$C$18,TRANSPOSE(AH390:AJ390))))","v":396.63812275191765},-6.4231428182388015,304.36317585439139,null,{"$f":"camera!$B$5*AM390/AN390","v":-10.551773880345598},{"$f":"camera!$B$5*AL390/AN390","v":651.58691033909929},null,{"$f":"IF( AND( (camera!$B$3) > (AQ390+camera!$B$3/2), 0 < (AQ390+camera!$B$3/2), AN390 >= 0 ), AQ390+camera!$B$3/2, 0)*-1+camera!$B$3","v":1000},{"$f":"IF( AND( (camera!$B$4) > (AP390+camera!$B$4/2), 0 < (AP390+camera!$B$4/2), AN390 >= 0 ), AP390+camera!$B$4/2, 0)","v":489.44822611965441},null,null,null,-1209.2829999999999,-3152.2420000000002,118.38549999999999,null,{"$f":"MMULT(               MMULT(AX390:AZ390-$B$2:$D$2, TRANSPOSE($A$16:$C$18)),     TRANSPOSE($A$12:$C$14))","v":1153.5506627376778},-4126.1198588448015,1045.7285891699053,null,-1972.844532308377,551.55356499020513," ",1000,0]
[null,null,null,null,null,null,null,null,null,null,null,null,null,null,null,null,null,null,null,null,139.2944,444.30619999999999,null,null,null,"''",null,5.8553569999999997,-20.879089,null,-20.879089,87.830354999999997,null,{"$f":"camera!$B$5*COS(RADIANS(AE391))*COS(RADIANS(AF391))","v":17.686206467813982},{"$f":"camera!$B$5*COS(RADIANS(AE391))*SIN(RADIANS(AF391))","v":466.83239885468254},{"$f":"camera!$B$5*SIN(RADIANS(AE391))","v":-178.19851144260565},null,{"$f":"TRANSPOSE(MMULT(camera!$A$12:$C$14,MMULT(camera!$A$16:$C$18,TRANSPOSE(AH391:AJ391))))","v":94.4674848081183},23.068219348258619,490.45259869851702,null,{"$f":"camera!$B$5*AM391/AN391","v":23.517277112480688},{"$f":"camera!$B$5*AL391/AN391","v":96.306437216155729},null,{"$f":"IF( AND( (camera!$B$3) > (AQ391+camera!$B$3/2), 0 < (AQ391+camera!$B$3/2), AN391 >= 0 ), AQ391+camera!$B$3/2, 0)*-1+camera!$B$3","v":403.6935627838443},{"$f":"IF( AND( (camera!$B$4) > (AP391+camera!$B$4/2), 0 < (AP391+camera!$B$4/2), AN391 >= 0 ), AP391+camera!$B$4/2, 0)","v":523.51727711248066},null,null,null,-1370.721,-2613.9886999999999,-219.43389999999999,null,{"$f":"MMULT(               MMULT(AX391:AZ391-$B$2:$D$2, TRANSPOSE($A$16:$C$18)),     TRANSPOSE($A$12:$C$14))","v":1395.570064400071},-3918.3843130263872,1618.5927458805106,null,-1210.4293445646192,431.10599252095506," ",68.894007479044944,0]
[null,null,null,null,null,null,null,null,null,null,null,null,null,null,null,null,null,null,null,null,140.14060000000001,146.364,null,null,null,"''",null,6.4802970000000002,-7.0330620000000001,null,-7.0330620000000001,97.204454999999996,null,{"$f":"camera!$B$5*COS(RADIANS(AE392))*COS(RADIANS(AF392))","v":-62.233372271606825},{"$f":"camera!$B$5*COS(RADIANS(AE392))*SIN(RADIANS(AF392))","v":492.32001045884016},{"$f":"camera!$B$5*SIN(RADIANS(AE392))","v":-61.221031333285296},null,{"$f":"TRANSPOSE(MMULT(camera!$A$12:$C$14,MMULT(camera!$A$16:$C$18,TRANSPOSE(AH392:AJ392))))","v":-23.932342298456064},104.9050716824196,488.28492596783678,null,{"$f":"camera!$B$5*AM392/AN392","v":107.42198468904779},{"$f":"camera!$B$5*AL392/AN392","v":-24.506534019066237},null,{"$f":"IF( AND( (camera!$B$3) > (AQ392+camera!$B$3/2), 0 < (AQ392+camera!$B$3/2), AN392 >= 0 ), AQ392+camera!$B$3/2, 0)*-1+camera!$B$3","v":524.50653401906629},{"$f":"IF( AND( (camera!$B$4) > (AP392+camera!$B$4/2), 0 < (AP392+camera!$B$4/2), AN392 >= 0 ), AP392+camera!$B$4/2, 0)","v":607.4219846890478},null,null,null,-1315.4394,-2880.9119000000001,-219.43389999999999,null,{"$f":"MMULT(               MMULT(AX392:AZ392-$B$2:$D$2, TRANSPOSE($A$16:$C$18)),     TRANSPOSE($A$12:$C$14))","v":1440.9077573144932},-3996.7194396009972,1361.4699123115383,null,-1467.7957270518248,529.17355877078592," ",1000,0]
[null,null,null,null,null,null,null,null,null,null,null,null,null,null,null,null,null,null,null,null,140.14060000000001,556.36400000000003,null,null,null,"''",null,19.078050000000001,-21.741496000000001,null,-21.741496000000001,-73.829250000000002,null,{"$f":"camera!$B$5*COS(RADIANS(AE393))*COS(RADIANS(AF393))","v":129.34477354039137},{"$f":"camera!$B$5*COS(RADIANS(AE393))*SIN(RADIANS(AF393))","v":-446.05746694498578},{"$f":"camera!$B$5*SIN(RADIANS(AE393))","v":-185.20978845732702},null,{"$f":"TRANSPOSE(MMULT(camera!$A$12:$C$14,MMULT(camera!$A$16:$C$18,TRANSPOSE(AH393:AJ393))))","v":257.60079416984615},-167.72904746654459,-394.34603773720119,null,{"$f":"camera!$B$5*AM393/AN393","v":212.66734215080669},{"$f":"camera!$B$5*AL393/AN393","v":-326.61770313198338},null,{"$f":"IF( AND( (camera!$B$3) > (AQ393+camera!$B$3/2), 0 < (AQ393+camera!$B$3/2), AN393 >= 0 ), AQ393+camera!$B$3/2, 0)*-1+camera!$B$3","v":1000},{"$f":"IF( AND( (camera!$B$4) > (AP393+camera!$B$4/2), 0 < (AP393+camera!$B$4/2), AN393 >= 0 ), AP393+camera!$B$4/2, 0)","v":0},null,null,null,-1372.0932,-2904.3787000000002,-118.38549999999999,null,{"$f":"MMULT(               MMULT(AX393:AZ393-$B$2:$D$2, TRANSPOSE($A$16:$C$18)),     TRANSPOSE($A$12:$C$14))","v":1346.3113934454429},-3942.3264907981575,1316.0380076351332,null,-1497.8011531302041,511.50171409741796," ",1000,0]
[null,null,null,null,null,null,null,null,null,null,null,null,null,null,null,null,null,null,null,null,140.38229999999999,70.795400000000001,null,null,null,"''",null,19.495097999999999,51.729779000000001,null,51.729779000000001,-67.573530000000005,null,{"$f":"camera!$B$5*COS(RADIANS(AE394))*COS(RADIANS(AF394))","v":118.14424614920453},{"$f":"camera!$B$5*COS(RADIANS(AE394))*SIN(RADIANS(AF394))","v":-286.26398099668916},{"$f":"camera!$B$5*SIN(RADIANS(AE394))","v":392.54919473330136},null,{"$f":"TRANSPOSE(MMULT(camera!$A$12:$C$14,MMULT(camera!$A$16:$C$18,TRANSPOSE(AH394:AJ394))))","v":-338.8534768852727},-142.64422150955161,-338.86715283824117,null,{"$f":"camera!$B$5*AM394/AN394","v":210.47218698361579},{"$f":"camera!$B$5*AL394/AN394","v":499.97982107021306},null,{"$f":"IF( AND( (camera!$B$3) > (AQ394+camera!$B$3/2), 0 < (AQ394+camera!$B$3/2), AN394 >= 0 ), AQ394+camera!$B$3/2, 0)*-1+camera!$B$3","v":1000},{"$f":"IF( AND( (camera!$B$4) > (AP394+camera!$B$4/2), 0 < (AP394+camera!$B$4/2), AN394 >= 0 ), AP394+camera!$B$4/2, 0)","v":0},null,null,null,-1432.2348999999999,-2613.9886999999999,-118.38549999999999,null,{"$f":"MMULT(               MMULT(AX394:AZ394-$B$2:$D$2, TRANSPOSE($A$16:$C$18)),     TRANSPOSE($A$12:$C$14))","v":1296.9877948271837},-3857.1044919874412,1595.7660357569882,null,-1208.543234271099,406.38407064852959," ",93.615929351470413,0]
[null,null,null,null,null,null,null,null,null,null,null,null,null,null,null,null,null,null,null,null,140.38229999999999,480.79539999999997,null,null,null,"''",null,22.521515000000001,50.282491,null,50.282491,-22.177275000000009,null,{"$f":"camera!$B$5*COS(RADIANS(AE395))*COS(RADIANS(AF395))","v":295.86485588549408},{"$f":"camera!$B$5*COS(RADIANS(AE395))*SIN(RADIANS(AF395))","v":-120.60334259245289},{"$f":"camera!$B$5*SIN(RADIANS(AE395))","v":384.60215912990299},null,{"$f":"TRANSPOSE(MMULT(camera!$A$12:$C$14,MMULT(camera!$A$16:$C$18,TRANSPOSE(AH395:AJ395))))","v":-362.37407789949805},-305.25027468630304,-159.710041858441,null,{"$f":"camera!$B$5*AM395/AN395","v":955.63895398907232},{"$f":"camera!$B$5*AL395/AN395","v":1134.474932455056},null,{"$f":"IF( AND( (camera!$B$3) > (AQ395+camera!$B$3/2), 0 < (AQ395+camera!$B$3/2), AN395 >= 0 ), AQ395+camera!$B$3/2, 0)*-1+camera!$B$3","v":1000},{"$f":"IF( AND( (camera!$B$4) > (AP395+camera!$B$4/2), 0 < (AP395+camera!$B$4/2), AN395 >= 0 ), AP395+camera!$B$4/2, 0)","v":0},null,null,null,-1454.9580000000001,-2613.9886999999999,0,null,{"$f":"MMULT(               MMULT(AX395:AZ395-$B$2:$D$2, TRANSPOSE($A$16:$C$18)),     TRANSPOSE($A$12:$C$14))","v":1180.7447378833865},-3834.4678602432327,1573.2582482269299,null,-1218.6390456127269,375.25458366866718," ",124.74541633133276,0]
[null,null,null,null,null,null,null,null,null,null,null,null,null,null,null,null,null,null,null,null,140.51159999999999,75.793700000000001,null,null,null,"''",null,2.8449450000000001,55.895496000000001,null,55.895496000000001,42.674174999999998,null,{"$f":"camera!$B$5*COS(RADIANS(AE396))*COS(RADIANS(AF396))","v":206.12048196197711},{"$f":"camera!$B$5*COS(RADIANS(AE396))*SIN(RADIANS(AF396))","v":190.03056340319648},{"$f":"camera!$B$5*SIN(RADIANS(AE396))","v":414.00813022019992},null,{"$f":"TRANSPOSE(MMULT(camera!$A$12:$C$14,MMULT(camera!$A$16:$C$18,TRANSPOSE(AH396:AJ396))))","v":-443.71082560238273},-188.77387640047533,132.2313383127842,null,{"$f":"camera!$B$5*AM396/AN396","v":-713.80157990212433},{"$f":"camera!$B$5*AL396/AN396","v":-1677.7824049273972},null,{"$f":"IF( AND( (camera!$B$3) > (AQ396+camera!$B$3/2), 0 < (AQ396+camera!$B$3/2), AN396 >= 0 ), AQ396+camera!$B$3/2, 0)*-1+camera!$B$3","v":1000},{"$f":"IF( AND( (camera!$B$4) > (AP396+camera!$B$4/2), 0 < (AP396+camera!$B$4/2), AN396 >= 0 ), AP396+camera!$B$4/2, 0)","v":0},null,null,null,-1393.021,-2913.0473000000002,0,null,{"$f":"MMULT(               MMULT(AX396:AZ396-$B$2:$D$2, TRANSPOSE($A$16:$C$18)),     TRANSPOSE($A$12:$C$14))","v":1231.540724171851},-3922.2338456670159,1285.1798946796102,null,-1525.9474031239852,479.13164891163694," ",20.868351088363056,0]
[null,null,null,null,null,null,null,null,null,null,null,null,null,null,null,null,null,null,null,null,140.51159999999999,485.7937,null,null,null,"''",null,3.7532320000000001,42.578549000000002,null,42.578549000000002,56.298480000000005,null,{"$f":"camera!$B$5*COS(RADIANS(AE397))*COS(RADIANS(AF397))","v":204.28809822684559},{"$f":"camera!$B$5*COS(RADIANS(AE397))*SIN(RADIANS(AF397))","v":306.2994772812803},{"$f":"camera!$B$5*SIN(RADIANS(AE397))","v":338.30016721851189},null,{"$f":"TRANSPOSE(MMULT(camera!$A$12:$C$14,MMULT(camera!$A$16:$C$18,TRANSPOSE(AH397:AJ397))))","v":-389.23836098564334},-176.8149618911599,259.28742273515246,null,{"$f":"camera!$B$5*AM397/AN397","v":-340.96324462248685},{"$f":"camera!$B$5*AL397/AN397","v":-750.59244463089226},null,{"$f":"IF( AND( (camera!$B$3) > (AQ397+camera!$B$3/2), 0 < (AQ397+camera!$B$3/2), AN397 >= 0 ), AQ397+camera!$B$3/2, 0)*-1+camera!$B$3","v":1000},{"$f":"IF( AND( (camera!$B$4) > (AP397+camera!$B$4/2), 0 < (AP397+camera!$B$4/2), AN397 >= 0 ), AP397+camera!$B$4/2, 0)","v":159.03675537751315},null,null,null,-1167.3547000000001,-2613.9886999999999,-310.32639999999998,null,{"$f":"MMULT(               MMULT(AX397:AZ397-$B$2:$D$2, TRANSPOSE($A$16:$C$18)),     TRANSPOSE($A$12:$C$14))","v":1482.0038688588907},-4120.9767428569221,1651.8313281919468,null,-1247.3963511055454,448.59418863336822," ",51.405811366631724,0]
[null,null,null,null,null,null,null,null,null,null,null,null,null,null,null,null,null,null,null,null,140.64099999999999,80.792000000000002,null,null,null,"''",null,4.3822469999999996,17.542514000000001,null,17.542514000000001,65.733704999999986,null,{"$f":"camera!$B$5*COS(RADIANS(AE398))*COS(RADIANS(AF398))","v":195.9325063959547},{"$f":"camera!$B$5*COS(RADIANS(AE398))*SIN(RADIANS(AF398))","v":434.62391328767274},{"$f":"camera!$B$5*SIN(RADIANS(AE398))","v":150.70669174230011},null,{"$f":"TRANSPOSE(MMULT(camera!$A$12:$C$14,MMULT(camera!$A$16:$C$18,TRANSPOSE(AH398:AJ398))))","v":-226.56690451483479},-157.30695407699622,417.03951848426004,null,{"$f":"camera!$B$5*AM398/AN398","v":-188.5995776236411},{"$f":"camera!$B$5*AL398/AN398","v":-271.63721238972454},null,{"$f":"IF( AND( (camera!$B$3) > (AQ398+camera!$B$3/2), 0 < (AQ398+camera!$B$3/2), AN398 >= 0 ), AQ398+camera!$B$3/2, 0)*-1+camera!$B$3","v":771.63721238972448},{"$f":"IF( AND( (camera!$B$4) > (AP398+camera!$B$4/2), 0 < (AP398+camera!$B$4/2), AN398 >= 0 ), AP398+camera!$B$4/2, 0)","v":311.4004223763589},null,null,null,-1128.1407999999999,-2803.3303000000001,-310.32639999999998,null,{"$f":"MMULT(               MMULT(AX398:AZ398-$B$2:$D$2, TRANSPOSE($A$16:$C$18)),     TRANSPOSE($A$12:$C$14))","v":1514.164098548506},-4176.5436299094526,1469.4416022385021,null,-1421.1329063866963,515.2175140005138," ",1000,0]
[null,null,null,null,null,null,null,null,null,null,null,null,null,null,null,null,null,null,null,null,140.64099999999999,490.79199999999997,null,null,null,"''",null,5.6457689999999996,-2.600069,null,-2.600069,84.686534999999992,null,{"$f":"camera!$B$5*COS(RADIANS(AE399))*COS(RADIANS(AF399))","v":46.254626862301365},{"$f":"camera!$B$5*COS(RADIANS(AE399))*SIN(RADIANS(AF399))","v":497.33895085120508},{"$f":"camera!$B$5*SIN(RADIANS(AE399))","v":-22.682095583342726},null,{"$f":"TRANSPOSE(MMULT(camera!$A$12:$C$14,MMULT(camera!$A$16:$C$18,TRANSPOSE(AH399:AJ399))))","v":-64.395903105536064},-2.7326683836588259,495.82829708148705,null,{"$f":"camera!$B$5*AM399/AN399","v":-2.755659973163779},{"$f":"camera!$B$5*AL399/AN399","v":-64.937704730225292},null,{"$f":"IF( AND( (camera!$B$3) > (AQ399+camera!$B$3/2), 0 < (AQ399+camera!$B$3/2), AN399 >= 0 ), AQ399+camera!$B$3/2, 0)*-1+camera!$B$3","v":564.93770473022528},{"$f":"IF( AND( (camera!$B$4) > (AP399+camera!$B$4/2), 0 < (AP399+camera!$B$4/2), AN399 >= 0 ), AP399+camera!$B$4/2, 0)","v":497.2443400268362},null,null,null,-1229.1892,-2845.1858999999999,-285.80790000000002,null,{"$f":"MMULT(               MMULT(AX399:AZ399-$B$2:$D$2, TRANSPOSE($A$16:$C$18)),     TRANSPOSE($A$12:$C$14))","v":1498.7878913541799},-4079.5277054849471,1415.4479924634015,null,-1441.0729773211465,529.43940693495074," ",1000,0]
[null,null,null,null,null,null,null,null,null,null,null,null,null,null,null,null,null,null,null,null,140.77029999999999,85.790300000000002,null,null,null,"''",null,8.4289509999999996,-66.136889999999994,null,-66.136889999999994,126.434265,null,{"$f":"camera!$B$5*COS(RADIANS(AE400))*COS(RADIANS(AF400))","v":-120.13199904247767},{"$f":"camera!$B$5*COS(RADIANS(AE400))*SIN(RADIANS(AF400))","v":162.73922902997219},{"$f":"camera!$B$5*SIN(RADIANS(AE400))","v":-457.25730846077067},null,{"$f":"TRANSPOSE(MMULT(camera!$A$12:$C$14,MMULT(camera!$A$16:$C$18,TRANSPOSE(AH400:AJ400))))","v":423.97683741359657},133.85851889756739,228.74776120284599,null,{"$f":"camera!$B$5*AM400/AN400","v":292.58979015507401},{"$f":"camera!$B$5*AL400/AN400","v":926.73439771423125},null,{"$f":"IF( AND( (camera!$B$3) > (AQ400+camera!$B$3/2), 0 < (AQ400+camera!$B$3/2), AN400 >= 0 ), AQ400+camera!$B$3/2, 0)*-1+camera!$B$3","v":1000},{"$f":"IF( AND( (camera!$B$4) > (AP400+camera!$B$4/2), 0 < (AP400+camera!$B$4/2), AN400 >= 0 ), AP400+camera!$B$4/2, 0)","v":792.58979015507407},null,null,null,-1277.0717,-2613.9886999999999,-285.80790000000002,null,{"$f":"MMULT(               MMULT(AX400:AZ400-$B$2:$D$2, TRANSPOSE($A$16:$C$18)),     TRANSPOSE($A$12:$C$14))","v":1459.5183648704481},-4011.6772491663901,1638.156544075586,null,-1224.4486840023537,445.47585215491608," ",54.524147845083917,0]
[null,null,null,null,null,null,null,null,null,null,null,null,null,null,null,null,null,null,null,null,140.77029999999999,495.7903,null,null,null,"''",null,8.6771030000000007,-46.648744000000001,null,-46.648744000000001,130.15654500000002,null,{"$f":"camera!$B$5*COS(RADIANS(AE401))*COS(RADIANS(AF401))","v":-221.34449451023136},{"$f":"camera!$B$5*COS(RADIANS(AE401))*SIN(RADIANS(AF401))","v":262.3291494162072},{"$f":"camera!$B$5*SIN(RADIANS(AE401))","v":-363.57947152799954},null,{"$f":"TRANSPOSE(MMULT(camera!$A$12:$C$14,MMULT(camera!$A$16:$C$18,TRANSPOSE(AH401:AJ401))))","v":316.02617055303949},243.36570374462087,301.49725333154635,null,{"$f":"camera!$B$5*AM401/AN401","v":403.59522525566729},{"$f":"camera!$B$5*AL401/AN401","v":524.09460958756426},null,{"$f":"IF( AND( (camera!$B$3) > (AQ401+camera!$B$3/2), 0 < (AQ401+camera!$B$3/2), AN401 >= 0 ), AQ401+camera!$B$3/2, 0)*-1+camera!$B$3","v":1000},{"$f":"IF( AND( (camera!$B$4) > (AP401+camera!$B$4/2), 0 < (AP401+camera!$B$4/2), AN401 >= 0 ), AP401+camera!$B$4/2, 0)","v":903.59522525566729},null,null,null,3688.6181999999999,102.60469999999999,-219.43389999999999,null,{"$f":"MMULT(               MMULT(AX401:AZ401-$B$2:$D$2, TRANSPOSE($A$16:$C$18)),     TRANSPOSE($A$12:$C$14))","v":849.06340695444328},-8721.7044843937347,4717.986016551944,null,-924.30376582250199,89.981551871466351," ",410.01844812853369,0]
[null,null,null,null,null,null,null,null,null,null,null,null,null,null,null,null,null,null,null,null,140.8997,90.788700000000006,null,null,null,"''",null,16.82976,-59.041378000000002,null,-59.041378000000002,-107.55359999999999,null,{"$f":"camera!$B$5*COS(RADIANS(AE402))*COS(RADIANS(AF402))","v":-77.573822843281363},{"$f":"camera!$B$5*COS(RADIANS(AE402))*SIN(RADIANS(AF402))","v":-245.23255420183943},{"$f":"camera!$B$5*SIN(RADIANS(AE402))","v":-428.76951427208661},null,{"$f":"TRANSPOSE(MMULT(camera!$A$12:$C$14,MMULT(camera!$A$16:$C$18,TRANSPOSE(AH402:AJ402))))","v":465.85171841684235},55.905205619818574,-172.79115843318144,null,{"$f":"camera!$B$5*AM402/AN402","v":-161.77102499557924},{"$f":"camera!$B$5*AL402/AN402","v":-1348.0195475308067},null,{"$f":"IF( AND( (camera!$B$3) > (AQ402+camera!$B$3/2), 0 < (AQ402+camera!$B$3/2), AN402 >= 0 ), AQ402+camera!$B$3/2, 0)*-1+camera!$B$3","v":1000},{"$f":"IF( AND( (camera!$B$4) > (AP402+camera!$B$4/2), 0 < (AP402+camera!$B$4/2), AN402 >= 0 ), AP402+camera!$B$4/2, 0)","v":0},null,null,null,3711.7644,-9.1553000000000004,-219.43389999999999,null,{"$f":"MMULT(               MMULT(AX402:AZ402-$B$2:$D$2, TRANSPOSE($A$16:$C$18)),     TRANSPOSE($A$12:$C$14))","v":868.04617341925166},-8754.5031319241843,4610.3293982140267,null,-949.4444296448263,94.141448304704639," ",405.85855169529532,0]
[null,null,null,null,null,null,null,null,null,null,null,null,null,null,null,null,null,null,null,null,140.8997,500.78870000000001,null,null,null,"''",null,20.660634999999999,15.912072,null,15.912072,-50.090475000000026,null,{"$f":"camera!$B$5*COS(RADIANS(AE403))*COS(RADIANS(AF403))","v":308.49710471780583},{"$f":"camera!$B$5*COS(RADIANS(AE403))*SIN(RADIANS(AF403))","v":-368.83377920635246},{"$f":"camera!$B$5*SIN(RADIANS(AE403))","v":137.08092389931883},null,{"$f":"TRANSPOSE(MMULT(camera!$A$12:$C$14,MMULT(camera!$A$16:$C$18,TRANSPOSE(AH403:AJ403))))","v":-75.863692046777103},-339.46916207368758,-359.17320087949247,null,{"$f":"camera!$B$5*AM403/AN403","v":472.57028258573246},{"$f":"camera!$B$5*AL403/AN403","v":105.60878687637724},null,{"$f":"IF( AND( (camera!$B$3) > (AQ403+camera!$B$3/2), 0 < (AQ403+camera!$B$3/2), AN403 >= 0 ), AQ403+camera!$B$3/2, 0)*-1+camera!$B$3","v":1000},{"$f":"IF( AND( (camera!$B$4) > (AP403+camera!$B$4/2), 0 < (AP403+camera!$B$4/2), AN403 >= 0 ), AP403+camera!$B$4/2, 0)","v":0},null,null,null,3625.5142000000001,-44.881300000000003,-285.80790000000002,null,{"$f":"MMULT(               MMULT(AX403:AZ403-$B$2:$D$2, TRANSPOSE($A$16:$C$18)),     TRANSPOSE($A$12:$C$14))","v":940.89729897642928},-8671.694866040234,4579.4027663510933,null,-946.8150442846844,102.73144195680173," ",397.26855804319825,0]
[null,null,null,null,null,null,null,null,null,null,null,null,null,null,null,null,null,null,null,null,141.01050000000001,38.7288,null,null,null,"''",null,21.444451999999998,-22.411332000000002,null,-22.411332000000002,-38.33322000000004,null,{"$f":"camera!$B$5*COS(RADIANS(AE404))*COS(RADIANS(AF404))","v":362.58519578827264},{"$f":"camera!$B$5*COS(RADIANS(AE404))*SIN(RADIANS(AF404))","v":-286.69403579480951},{"$f":"camera!$B$5*SIN(RADIANS(AE404))","v":-190.62661313380278},null,{"$f":"TRANSPOSE(MMULT(camera!$A$12:$C$14,MMULT(camera!$A$16:$C$18,TRANSPOSE(AH404:AJ404))))","v":231.83749824620625},-386.19248128185507,-217.0408758927783,null,{"$f":"camera!$B$5*AM404/AN404","v":889.67684011891015},{"$f":"camera!$B$5*AL404/AN404","v":-534.08717895318887},null,{"$f":"IF( AND( (camera!$B$3) > (AQ404+camera!$B$3/2), 0 < (AQ404+camera!$B$3/2), AN404 >= 0 ), AQ404+camera!$B$3/2, 0)*-1+camera!$B$3","v":1000},{"$f":"IF( AND( (camera!$B$4) > (AP404+camera!$B$4/2), 0 < (AP404+camera!$B$4/2), AN404 >= 0 ), AP404+camera!$B$4/2, 0)","v":0},null,null,null,3594.9688999999998,102.60469999999999,-285.80790000000002,null,{"$f":"MMULT(               MMULT(AX404:AZ404-$B$2:$D$2, TRANSPOSE($A$16:$C$18)),     TRANSPOSE($A$12:$C$14))","v":915.84636608093069},-8628.4115482537309,4721.4736666457975,null,-913.74136100852991,96.987342379012048," ",403.01265762098797,0]
[null,null,null,null,null,null,null,null,null,null,null,null,null,null,null,null,null,null,null,null,141.01050000000001,448.72879999999998,null,null,null,"''",null,22.116847,25.345112,null,25.345112,-28.247295000000008,null,{"$f":"camera!$B$5*COS(RADIANS(AE405))*COS(RADIANS(AF405))","v":398.06074426340501},{"$f":"camera!$B$5*COS(RADIANS(AE405))*SIN(RADIANS(AF405))","v":-213.86153512761612},{"$f":"camera!$B$5*SIN(RADIANS(AE405))","v":214.03478144760362},null,{"$f":"TRANSPOSE(MMULT(camera!$A$12:$C$14,MMULT(camera!$A$16:$C$18,TRANSPOSE(AH405:AJ405))))","v":-179.81218738022193},-415.18526389286006,-212.81159253141277,null,{"$f":"camera!$B$5*AM405/AN405","v":975.4761452470575},{"$f":"camera!$B$5*AL405/AN405","v":422.46802733192305},null,{"$f":"IF( AND( (camera!$B$3) > (AQ405+camera!$B$3/2), 0 < (AQ405+camera!$B$3/2), AN405 >= 0 ), AQ405+camera!$B$3/2, 0)*-1+camera!$B$3","v":1000},{"$f":"IF( AND( (camera!$B$4) > (AP405+camera!$B$4/2), 0 < (AP405+camera!$B$4/2), AN405 >= 0 ), AP405+camera!$B$4/2, 0)","v":0},null,null,null,3485.2519000000002,102.60469999999999,-310.32639999999998,null,{"$f":"MMULT(               MMULT(AX405:AZ405-$B$2:$D$2, TRANSPOSE($A$16:$C$18)),     TRANSPOSE($A$12:$C$14))","v":941.65287987694774},-8519.1120545631984,4716.3140682176909,null,-903.15359954204621,99.829322884003901," ",400.17067711599611,0]
[null,null,null,null,null,null,null,null,null,null,null,null,null,null,null,null,null,null,null,null,141.029,95.787000000000006,null,null,null,"''",null,7.1457879999999996,-70.498931999999996,null,-70.498931999999996,107.18682,null,{"$f":"camera!$B$5*COS(RADIANS(AE406))*COS(RADIANS(AF406))","v":-49.320605900213664},{"$f":"camera!$B$5*COS(RADIANS(AE406))*SIN(RADIANS(AF406))","v":159.45897707672873},{"$f":"camera!$B$5*SIN(RADIANS(AE406))","v":-471.31763436485073},null,{"$f":"TRANSPOSE(MMULT(camera!$A$12:$C$14,MMULT(camera!$A$16:$C$18,TRANSPOSE(AH406:AJ406))))","v":437.31930712002622},63.030691689369398,234.04904512776776,null,{"$f":"camera!$B$5*AM406/AN406","v":134.65274266545467},{"$f":"camera!$B$5*AL406/AN406","v":934.24715080826945},null,{"$f":"IF( AND( (camera!$B$3) > (AQ406+camera!$B$3/2), 0 < (AQ406+camera!$B$3/2), AN406 >= 0 ), AQ406+camera!$B$3/2, 0)*-1+camera!$B$3","v":1000},{"$f":"IF( AND( (camera!$B$4) > (AP406+camera!$B$4/2), 0 < (AP406+camera!$B$4/2), AN406 >= 0 ), AP406+camera!$B$4/2, 0)","v":634.65274266545464},null,null,null,3524.4659000000001,-86.736900000000006,-310.32639999999998,null,{"$f":"MMULT(               MMULT(AX406:AZ406-$B$2:$D$2, TRANSPOSE($A$16:$C$18)),     TRANSPOSE($A$12:$C$14))","v":973.81310805311932},-8574.6790412351966,4533.924350847411,null,-945.61337791537596,107.39185666729411," ",392.60814333270594,0]
[null,null,null,null,null,null,null,null,null,null,null,null,null,null,null,null,null,null,null,null,141.029,505.78699999999998,null,null,null,"''",null,7.4287789999999996,27.798079999999999,null,27.798079999999999,111.43168499999999,null,{"$f":"camera!$B$5*COS(RADIANS(AE407))*COS(RADIANS(AF407))","v":-161.61208832448298},{"$f":"camera!$B$5*COS(RADIANS(AE407))*SIN(RADIANS(AF407))","v":411.7150964339105},{"$f":"camera!$B$5*SIN(RADIANS(AE407))","v":233.17849874251982},null,{"$f":"TRANSPOSE(MMULT(camera!$A$12:$C$14,MMULT(camera!$A$16:$C$18,TRANSPOSE(AH407:AJ407))))","v":-298.41160717747164},196.88044056650602,349.55486668632852,null,{"$f":"camera!$B$5*AM407/AN407","v":281.61593404902555},{"$f":"camera!$B$5*AL407/AN407","v":-426.84516168566171},null,{"$f":"IF( AND( (camera!$B$3) > (AQ407+camera!$B$3/2), 0 < (AQ407+camera!$B$3/2), AN407 >= 0 ), AQ407+camera!$B$3/2, 0)*-1+camera!$B$3","v":926.84516168566165},{"$f":"IF( AND( (camera!$B$4) > (AP407+camera!$B$4/2), 0 < (AP407+camera!$B$4/2), AN407 >= 0 ), AP407+camera!$B$4/2, 0)","v":781.61593404902555},null,null,null,-1027.0924,-2761.4747000000002,-285.80790000000002,null,{"$f":"MMULT(               MMULT(AX407:AZ407-$B$2:$D$2, TRANSPOSE($A$16:$C$18)),     TRANSPOSE($A$12:$C$14))","v":1481.2482879583722},-4273.5595543339577,1514.9200263253499,null,-1410.4901513184407,488.88662840881005," ",11.113371591189889,0]
[null,null,null,null,null,null,null,null,null,null,null,null,null,null,null,null,null,null,null,null,141.1584,100.78530000000001,null,null,null,"''",null,9.8498669999999997,59.038735000000003,null,59.038735000000003,147.74800500000001,null,{"$f":"camera!$B$5*COS(RADIANS(AE408))*COS(RADIANS(AF408))","v":-217.54113963382991},{"$f":"camera!$B$5*COS(RADIANS(AE408))*SIN(RADIANS(AF408))","v":137.26882749363975},{"$f":"camera!$B$5*SIN(RADIANS(AE408))","v":428.75764898755551},null,{"$f":"TRANSPOSE(MMULT(camera!$A$12:$C$14,MMULT(camera!$A$16:$C$18,TRANSPOSE(AH408:AJ408))))","v":-442.69727118781657},228.67709653636578,41.544092270241819,null,{"$f":"camera!$B$5*AM408/AN408","v":2752.2216040831395},{"$f":"camera!$B$5*AL408/AN408","v":-5328.0412087005952},null,{"$f":"IF( AND( (camera!$B$3) > (AQ408+camera!$B$3/2), 0 < (AQ408+camera!$B$3/2), AN408 >= 0 ), AQ408+camera!$B$3/2, 0)*-1+camera!$B$3","v":1000},{"$f":"IF( AND( (camera!$B$4) > (AP408+camera!$B$4/2), 0 < (AP408+camera!$B$4/2), AN408 >= 0 ), AP408+camera!$B$4/2, 0)","v":0},null,null,null,-940.84230000000002,-2725.7487000000001,-219.43389999999999,null,{"$f":"MMULT(               MMULT(AX408:AZ408-$B$2:$D$2, TRANSPOSE($A$16:$C$18)),     TRANSPOSE($A$12:$C$14))","v":1408.3971639146384},-4356.3677205984368,1545.846649605118,null,-1409.0555883118348,455.54232830093764," ",44.457671699062303,0]
[null,null,null,null,null,null,null,null,null,null,null,null,null,null,null,null,null,null,null,null,141.1584,510.78530000000001,null,null,null,"''",null,10.891559000000001,-58.853171000000003,null,-58.853171000000003,163.37338500000001,null,{"$f":"camera!$B$5*COS(RADIANS(AE409))*COS(RADIANS(AF409))","v":-247.80368324399814},{"$f":"camera!$B$5*COS(RADIANS(AE409))*SIN(RADIANS(AF409))","v":73.998843358855169},{"$f":"camera!$B$5*SIN(RADIANS(AE409))","v":-427.92231275344813},null,{"$f":"TRANSPOSE(MMULT(camera!$A$12:$C$14,MMULT(camera!$A$16:$C$18,TRANSPOSE(AH409:AJ409))))","v":412.3707131805632},253.31013957068589,125.63585515939828,null,{"$f":"camera!$B$5*AM409/AN409","v":1008.1124502607282},{"$f":"camera!$B$5*AL409/AN409","v":1641.1346611895749},null,{"$f":"IF( AND( (camera!$B$3) > (AQ409+camera!$B$3/2), 0 < (AQ409+camera!$B$3/2), AN409 >= 0 ), AQ409+camera!$B$3/2, 0)*-1+camera!$B$3","v":1000},{"$f":"IF( AND( (camera!$B$4) > (AP409+camera!$B$4/2), 0 < (AP409+camera!$B$4/2), AN409 >= 0 ), AP409+camera!$B$4/2, 0)","v":0},null,null,null,3772.8552,102.60469999999999,0,null,{"$f":"MMULT(               MMULT(AX409:AZ409-$B$2:$D$2, TRANSPOSE($A$16:$C$18)),     TRANSPOSE($A$12:$C$14))","v":631.68832148371655},-8805.6209371768873,4687.111920498829,null,-939.34400186455787,67.385666504042931," ",432.61433349595711,0]
[null,null,null,null,null,null,null,null,null,null,null,null,null,null,null,null,null,null,null,null,141.2157,75,null,null,null,"''",null,14.68582,13.728300000000001,null,13.728300000000001,-139.71270000000001,null,{"$f":"camera!$B$5*COS(RADIANS(AE410))*COS(RADIANS(AF410))","v":-370.50984397829933},{"$f":"camera!$B$5*COS(RADIANS(AE410))*SIN(RADIANS(AF410))","v":-314.0740328444129},{"$f":"camera!$B$5*SIN(RADIANS(AE410))","v":118.65899632148802},null,{"$f":"TRANSPOSE(MMULT(camera!$A$12:$C$14,MMULT(camera!$A$16:$C$18,TRANSPOSE(AH410:AJ410))))","v":-56.917993616246008},341.72658655167447,-360.53194317070142,null,{"$f":"camera!$B$5*AM410/AN410","v":-473.91998548915933},{"$f":"camera!$B$5*AL410/AN410","v":78.936131311528456},null,{"$f":"IF( AND( (camera!$B$3) > (AQ410+camera!$B$3/2), 0 < (AQ410+camera!$B$3/2), AN410 >= 0 ), AQ410+camera!$B$3/2, 0)*-1+camera!$B$3","v":1000},{"$f":"IF( AND( (camera!$B$4) > (AP410+camera!$B$4/2), 0 < (AP410+camera!$B$4/2), AN410 >= 0 ), AP410+camera!$B$4/2, 0)","v":0},null,null,null,3789.346,22.98,0,null,{"$f":"MMULT(               MMULT(AX410:AZ410-$B$2:$D$2, TRANSPOSE($A$16:$C$18)),     TRANSPOSE($A$12:$C$14))","v":645.21281187322188},-8828.9887345737388,4610.4107240332332,null,-957.50566088936773,69.973463373864362," ",430.02653662613568,0]
[null,null,null,null,null,null,null,null,null,null,null,null,null,null,null,null,null,null,null,null,141.2157,90,null,null,null,"''",null,20.794598000000001,-9.4957759999999993,null,-9.4957759999999993,-48.081029999999998,null,{"$f":"camera!$B$5*COS(RADIANS(AE411))*COS(RADIANS(AF411))","v":329.46238923702481},{"$f":"camera!$B$5*COS(RADIANS(AE411))*SIN(RADIANS(AF411))","v":-366.94734661100341},{"$f":"camera!$B$5*SIN(RADIANS(AE411))","v":-82.487446883603567},null,{"$f":"TRANSPOSE(MMULT(camera!$A$12:$C$14,MMULT(camera!$A$16:$C$18,TRANSPOSE(AH411:AJ411))))","v":139.72531500330984},-360.19025392172745,-317.39536437545422,null,{"$f":"camera!$B$5*AM411/AN411","v":567.41574444617629},{"$f":"camera!$B$5*AL411/AN411","v":-220.11240661666622},null,{"$f":"IF( AND( (camera!$B$3) > (AQ411+camera!$B$3/2), 0 < (AQ411+camera!$B$3/2), AN411 >= 0 ), AQ411+camera!$B$3/2, 0)*-1+camera!$B$3","v":1000},{"$f":"IF( AND( (camera!$B$4) > (AP411+camera!$B$4/2), 0 < (AP411+camera!$B$4/2), AN411 >= 0 ), AP411+camera!$B$4/2, 0)","v":0},null,null,null,3768.4182000000001,14.311500000000001,-118.38549999999999,null,{"$f":"MMULT(               MMULT(AX411:AZ411-$B$2:$D$2, TRANSPOSE($A$16:$C$18)),     TRANSPOSE($A$12:$C$14))","v":763.61604178934454},-8808.896080727025,4620.667561858113,null,-953.20599921980715,82.630489162725112," ",417.3695108372749,0]
[null,null,null,null,null,null,null,null,null,null,null,null,null,null,null,null,null,null,null,null,141.2157,485,null,null,null,"''",null,3.158258,44.857543999999997,null,44.857543999999997,47.373869999999997,null,{"$f":"camera!$B$5*COS(RADIANS(AE412))*COS(RADIANS(AF412))","v":240.02501877859399},{"$f":"camera!$B$5*COS(RADIANS(AE412))*SIN(RADIANS(AF412))","v":260.78644396991683},{"$f":"camera!$B$5*SIN(RADIANS(AE412))","v":352.67324962613912},null,{"$f":"TRANSPOSE(MMULT(camera!$A$12:$C$14,MMULT(camera!$A$16:$C$18,TRANSPOSE(AH412:AJ412))))","v":-396.06076108660108},-216.38261489388836,215.20789367303769,null,{"$f":"camera!$B$5*AM412/AN412","v":-502.72927075489946},{"$f":"camera!$B$5*AL412/AN412","v":-920.18177011743489},null,{"$f":"IF( AND( (camera!$B$3) > (AQ412+camera!$B$3/2), 0 < (AQ412+camera!$B$3/2), AN412 >= 0 ), AQ412+camera!$B$3/2, 0)*-1+camera!$B$3","v":1000},{"$f":"IF( AND( (camera!$B$4) > (AP412+camera!$B$4/2), 0 < (AP412+camera!$B$4/2), AN412 >= 0 ), AP412+camera!$B$4/2, 0)","v":0},null,null,null,3750.1320999999998,102.60469999999999,-118.38549999999999,null,{"$f":"MMULT(               MMULT(AX412:AZ412-$B$2:$D$2, TRANSPOSE($A$16:$C$18)),     TRANSPOSE($A$12:$C$14))","v":748.6191810283733},-8782.9843054326793,4705.7189856431469,null,-933.22447985408951,79.543549382396549," ",420.45645061760342,0]
[null,null,null,null,null,null,null,null,null,null,null,null,null,null,null,null,null,null,null,null,141.2157,500,null,null,null,"''",null,10.888526000000001,34.214871000000002,null,34.214871000000002,163.32789,null,{"$f":"camera!$B$5*COS(RADIANS(AE413))*COS(RADIANS(AF413))","v":-396.08609754415056},{"$f":"camera!$B$5*COS(RADIANS(AE413))*SIN(RADIANS(AF413))","v":118.62139703366876},{"$f":"camera!$B$5*SIN(RADIANS(AE413))","v":281.14901297715124},null,{"$f":"TRANSPOSE(MMULT(camera!$A$12:$C$14,MMULT(camera!$A$16:$C$18,TRANSPOSE(AH413:AJ413))))","v":-291.40319441354285},404.91740632556701,33.557001358265417,null,{"$f":"camera!$B$5*AM413/AN413","v":6033.2775566347182},{"$f":"camera!$B$5*AL413/AN413","v":-4341.9134996960538},null,{"$f":"IF( AND( (camera!$B$3) > (AQ413+camera!$B$3/2), 0 < (AQ413+camera!$B$3/2), AN413 >= 0 ), AQ413+camera!$B$3/2, 0)*-1+camera!$B$3","v":1000},{"$f":"IF( AND( (camera!$B$4) > (AP413+camera!$B$4/2), 0 < (AP413+camera!$B$4/2), AN413 >= 0 ), AP413+camera!$B$4/2, 0)","v":0},null,null,null,3688.6181999999999,102.60469999999999,219.43389999999999,null,{"$f":"MMULT(               MMULT(AX413:AZ413-$B$2:$D$2, TRANSPOSE($A$16:$C$18)),     TRANSPOSE($A$12:$C$14))","v":416.86299496703214},-8721.7044843937347,4641.777422845249,null,-939.47896353975023,44.903380428731275," ",455.09661957126877,0]
[null,null,null,null,null,null,null,null,null,null,null,null,null,null,null,null,null,null,null,null,141.2878,105.78360000000001,null,null,null,"''",null,3.2012489999999998,-28.987618000000001,null,-28.987618000000001,48.018735,null,{"$f":"camera!$B$5*COS(RADIANS(AE414))*COS(RADIANS(AF414))","v":292.54615902073124},{"$f":"camera!$B$5*COS(RADIANS(AE414))*SIN(RADIANS(AF414))","v":325.11915338063966},{"$f":"camera!$B$5*SIN(RADIANS(AE414))","v":-242.31029888816764},null,{"$f":"TRANSPOSE(MMULT(camera!$A$12:$C$14,MMULT(camera!$A$16:$C$18,TRANSPOSE(AH414:AJ414))))","v":177.96002482944255},-263.09693126917767,386.1479435649577,null,{"$f":"camera!$B$5*AM414/AN414","v":-340.66856454062611},{"$f":"camera!$B$5*AL414/AN414","v":230.42984922630589},null,{"$f":"IF( AND( (camera!$B$3) > (AQ414+camera!$B$3/2), 0 < (AQ414+camera!$B$3/2), AN414 >= 0 ), AQ414+camera!$B$3/2, 0)*-1+camera!$B$3","v":269.57015077369408},{"$f":"IF( AND( (camera!$B$4) > (AP414+camera!$B$4/2), 0 < (AP414+camera!$B$4/2), AN414 >= 0 ), AP414+camera!$B$4/2, 0)","v":159.33143545937389},null,null,null,3711.7644,-9.1553000000000004,219.43389999999999,null,{"$f":"MMULT(               MMULT(AX414:AZ414-$B$2:$D$2, TRANSPOSE($A$16:$C$18)),     TRANSPOSE($A$12:$C$14))","v":435.84576143184051},-8754.5031319241843,4534.1208045073317,null,-965.40250132080791,48.062874835466438," ",451.93712516453354,0]
[null,null,null,null,null,null,null,null,null,null,null,null,null,null,null,null,null,null,null,null,141.2878,515.78359999999998,null,null,null,"''",null,7.6471859999999996,-26.803836,null,-26.803836,114.70778999999999,null,{"$f":"camera!$B$5*COS(RADIANS(AE415))*COS(RADIANS(AF415))","v":-186.53992794214065},{"$f":"camera!$B$5*COS(RADIANS(AE415))*SIN(RADIANS(AF415))","v":405.42168586163041},{"$f":"camera!$B$5*SIN(RADIANS(AE415))","v":-225.46864952018149},null,{"$f":"TRANSPOSE(MMULT(camera!$A$12:$C$14,MMULT(camera!$A$16:$C$18,TRANSPOSE(AH415:AJ415))))","v":154.73360981322793},221.16491535565493,420.88429551349827,null,{"$f":"camera!$B$5*AM415/AN415","v":262.7383793042498},{"$f":"camera!$B$5*AL415/AN415","v":183.81965241117607},null,{"$f":"IF( AND( (camera!$B$3) > (AQ415+camera!$B$3/2), 0 < (AQ415+camera!$B$3/2), AN415 >= 0 ), AQ415+camera!$B$3/2, 0)*-1+camera!$B$3","v":316.18034758882391},{"$f":"IF( AND( (camera!$B$4) > (AP415+camera!$B$4/2), 0 < (AP415+camera!$B$4/2), AN415 >= 0 ), AP415+camera!$B$4/2, 0)","v":762.73837930424975},null,null,null,3768.4182000000001,14.311500000000001,118.38549999999999,null,{"$f":"MMULT(               MMULT(AX415:AZ415-$B$2:$D$2, TRANSPOSE($A$16:$C$18)),     TRANSPOSE($A$12:$C$14))","v":530.44212530089089},-8808.896080727025,4579.5527091837366,null,-961.76380534520922,57.914184963648701," ",442.08581503635128,0]
[null,null,null,null,null,null,null,null,null,null,null,null,null,null,null,null,null,null,null,null,141.4171,110.782,null,null,null,"''",null,15.580041,10.538867,null,10.538867,-126.299385,null,{"$f":"camera!$B$5*COS(RADIANS(AE416))*COS(RADIANS(AF416))","v":-291.00901979436429},{"$f":"camera!$B$5*COS(RADIANS(AE416))*SIN(RADIANS(AF416))","v":-396.16968708561484},{"$f":"camera!$B$5*SIN(RADIANS(AE416))","v":91.451240739583824},null,{"$f":"TRANSPOSE(MMULT(camera!$A$12:$C$14,MMULT(camera!$A$16:$C$18,TRANSPOSE(AH416:AJ416))))","v":-17.125271825080191},255.37317928396749,-429.52446306038928,null,{"$f":"camera!$B$5*AM416/AN416","v":-297.27431292785656},{"$f":"camera!$B$5*AL416/AN416","v":19.935153056314341},null,{"$f":"IF( AND( (camera!$B$3) > (AQ416+camera!$B$3/2), 0 < (AQ416+camera!$B$3/2), AN416 >= 0 ), AQ416+camera!$B$3/2, 0)*-1+camera!$B$3","v":1000},{"$f":"IF( AND( (camera!$B$4) > (AP416+camera!$B$4/2), 0 < (AP416+camera!$B$4/2), AN416 >= 0 ), AP416+camera!$B$4/2, 0)","v":0},null,null,null,3750.1320999999998,102.60469999999999,118.38549999999999,null,{"$f":"MMULT(               MMULT(AX416:AZ416-$B$2:$D$2, TRANSPOSE($A$16:$C$18)),     TRANSPOSE($A$12:$C$14))","v":515.44526453991966},-8782.9843054326793,4664.6041329687705,null,-941.4501268559718,55.25069757761699," ",444.74930242238304,0]
[null,null,null,null,null,null,null,null,null,null,null,null,null,null,null,null,null,null,null,null,141.4171,520.78200000000004,null,null,null,"''",null,19.285039999999999,53.368459000000001,null,53.368459000000001,-70.724400000000003,null,{"$f":"camera!$B$5*COS(RADIANS(AE417))*COS(RADIANS(AF417))","v":98.483553842796354},{"$f":"camera!$B$5*COS(RADIANS(AE417))*SIN(RADIANS(AF417))","v":-281.60928004358766},{"$f":"camera!$B$5*SIN(RADIANS(AE417))","v":401.244567584192},null,{"$f":"TRANSPOSE(MMULT(camera!$A$12:$C$14,MMULT(camera!$A$16:$C$18,TRANSPOSE(AH417:AJ417))))","v":-347.92439858405208},-122.65266015425883,-337.49805603441553,null,{"$f":"camera!$B$5*AM417/AN417","v":181.70869129650873},{"$f":"camera!$B$5*AL417/AN417","v":515.4465223772628},null,{"$f":"IF( AND( (camera!$B$3) > (AQ417+camera!$B$3/2), 0 < (AQ417+camera!$B$3/2), AN417 >= 0 ), AQ417+camera!$B$3/2, 0)*-1+camera!$B$3","v":1000},{"$f":"IF( AND( (camera!$B$4) > (AP417+camera!$B$4/2), 0 < (AP417+camera!$B$4/2), AN417 >= 0 ), AP417+camera!$B$4/2, 0)","v":0},null,null,null,3485.2519000000002,102.60469999999999,310.32639999999998,null,{"$f":"MMULT(               MMULT(AX417:AZ417-$B$2:$D$2, TRANSPOSE($A$16:$C$18)),     TRANSPOSE($A$12:$C$14))","v":330.42919050821251},-8519.1120545631984,4608.5388405338126,null,-924.27473754093603,35.849669704632291," ",464.15033029536767,0]
[null,null,null,null,null,null,null,null,null,null,null,null,null,null,null,null,null,null,null,null,141.54650000000001,115.7803,null,null,null,"''",null,20.227195999999999,46.741329,null,46.741329,-56.592060000000004,null,{"$f":"camera!$B$5*COS(RADIANS(AE418))*COS(RADIANS(AF418))","v":188.65999717837224},{"$f":"camera!$B$5*COS(RADIANS(AE418))*SIN(RADIANS(AF418))","v":-286.03164541339919},{"$f":"camera!$B$5*SIN(RADIANS(AE418))","v":364.13363383071334},null,{"$f":"TRANSPOSE(MMULT(camera!$A$12:$C$14,MMULT(camera!$A$16:$C$18,TRANSPOSE(AH418:AJ418))))","v":-311.97701944326855},-212.87138943643768,-327.65242391701429,null,{"$f":"camera!$B$5*AM418/AN418","v":324.84330024421303},{"$f":"camera!$B$5*AL418/AN418","v":476.07921790055809},null,{"$f":"IF( AND( (camera!$B$3) > (AQ418+camera!$B$3/2), 0 < (AQ418+camera!$B$3/2), AN418 >= 0 ), AQ418+camera!$B$3/2, 0)*-1+camera!$B$3","v":1000},{"$f":"IF( AND( (camera!$B$4) > (AP418+camera!$B$4/2), 0 < (AP418+camera!$B$4/2), AN418 >= 0 ), AP418+camera!$B$4/2, 0)","v":0},null,null,null,3524.4659000000001,-86.736900000000006,310.32639999999998,null,{"$f":"MMULT(               MMULT(AX418:AZ418-$B$2:$D$2, TRANSPOSE($A$16:$C$18)),     TRANSPOSE($A$12:$C$14))","v":362.5894186843841},-8574.6790412351966,4426.1491231635327,null,-968.63874246362457,40.959918949277061," ",459.04008105072296,0]
[null,null,null,null,null,null,null,null,null,null,null,null,null,null,null,null,null,null,null,null,141.54650000000001,525.78030000000001,null,null,null,"''",null,4.5925120000000001,-30.562341,null,-30.562341,68.887680000000003,null,{"$f":"camera!$B$5*COS(RADIANS(AE419))*COS(RADIANS(AF419))","v":155.07874725973247},{"$f":"camera!$B$5*COS(RADIANS(AE419))*SIN(RADIANS(AF419))","v":401.63880868047335},{"$f":"camera!$B$5*SIN(RADIANS(AE419))","v":-254.23778143714625},null,{"$f":"TRANSPOSE(MMULT(camera!$A$12:$C$14,MMULT(camera!$A$16:$C$18,TRANSPOSE(AH419:AJ419))))","v":178.5498580950499},-119.48349712002408,451.49046733038199,null,{"$f":"camera!$B$5*AM419/AN419","v":-132.32117371881412},{"$f":"camera!$B$5*AL419/AN419","v":197.73380726153241},null,{"$f":"IF( AND( (camera!$B$3) > (AQ419+camera!$B$3/2), 0 < (AQ419+camera!$B$3/2), AN419 >= 0 ), AQ419+camera!$B$3/2, 0)*-1+camera!$B$3","v":302.26619273846757},{"$f":"IF( AND( (camera!$B$4) > (AP419+camera!$B$4/2), 0 < (AP419+camera!$B$4/2), AN419 >= 0 ), AP419+camera!$B$4/2, 0)","v":367.67882628118588},null,null,null,3625.5142000000001,-44.881300000000003,285.80790000000002,null,{"$f":"MMULT(               MMULT(AX419:AZ419-$B$2:$D$2, TRANSPOSE($A$16:$C$18)),     TRANSPOSE($A$12:$C$14))","v":377.96562739215369},-8671.694866040234,4480.1427243554681,null,-967.79225569066887,42.182319922244154," ",457.81768007775588,0]
[null,null,null,null,null,null,null,null,null,null,null,null,null,null,null,null,null,null,null,null,141.57069999999999,66.105199999999996,null,null,null,"''",null,10.464649,-58.739403000000003,null,-58.739403000000003,156.96973499999999,null,{"$f":"camera!$B$5*COS(RADIANS(AE420))*COS(RADIANS(AF420))","v":-238.78583580071967},{"$f":"camera!$B$5*COS(RADIANS(AE420))*SIN(RADIANS(AF420))","v":101.50746593863308},{"$f":"camera!$B$5*SIN(RADIANS(AE420))","v":-427.40795380955296},null,{"$f":"TRANSPOSE(MMULT(camera!$A$12:$C$14,MMULT(camera!$A$16:$C$18,TRANSPOSE(AH420:AJ420))))","v":406.96904354014106},246.72414219239724,153.30817088286079,null,{"$f":"camera!$B$5*AM420/AN420","v":804.66729454659469},{"$f":"camera!$B$5*AL420/AN420","v":1327.2907803821386},null,{"$f":"IF( AND( (camera!$B$3) > (AQ420+camera!$B$3/2), 0 < (AQ420+camera!$B$3/2), AN420 >= 0 ), AQ420+camera!$B$3/2, 0)*-1+camera!$B$3","v":1000},{"$f":"IF( AND( (camera!$B$4) > (AP420+camera!$B$4/2), 0 < (AP420+camera!$B$4/2), AN420 >= 0 ), AP420+camera!$B$4/2, 0)","v":0},null,null,null,3594.9688999999998,102.60469999999999,285.80790000000002,null,{"$f":"MMULT(               MMULT(AX420:AZ420-$B$2:$D$2, TRANSPOSE($A$16:$C$18)),     TRANSPOSE($A$12:$C$14))","v":352.9146944966551},-8628.4115482537309,4622.2136246501723,null,-933.36356223764574,38.175939404289764," ",461.82406059571019,0]
[null,null,null,null,null,null,null,null,null,null,null,null,null,null,null,null,null,null,null,null,141.57069999999999,476.10520000000002,null,null,null,"''",null,15.712381000000001,26.295636999999999,null,26.295636999999999,-124.31428499999998,null,{"$f":"camera!$B$5*COS(RADIANS(AE421))*COS(RADIANS(AF421))","v":-252.69855094240165},{"$f":"camera!$B$5*COS(RADIANS(AE421))*SIN(RADIANS(AF421))","v":-370.2438991390157},{"$f":"camera!$B$5*SIN(RADIANS(AE421))","v":221.50146162485882},null,{"$f":"TRANSPOSE(MMULT(camera!$A$12:$C$14,MMULT(camera!$A$16:$C$18,TRANSPOSE(AH421:AJ421))))","v":-150.26437946137611},219.46807463703746,-423.38443580297007,null,{"$f":"camera!$B$5*AM421/AN421","v":-259.18297424042657},{"$f":"camera!$B$5*AL421/AN421","v":177.45619200241984},null,{"$f":"IF( AND( (camera!$B$3) > (AQ421+camera!$B$3/2), 0 < (AQ421+camera!$B$3/2), AN421 >= 0 ), AQ421+camera!$B$3/2, 0)*-1+camera!$B$3","v":1000},{"$f":"IF( AND( (camera!$B$4) > (AP421+camera!$B$4/2), 0 < (AP421+camera!$B$4/2), AN421 >= 0 ), AP421+camera!$B$4/2, 0)","v":0},null,null,null,-940.84230000000002,-2725.7487000000001,219.43389999999999,null,{"$f":"MMULT(               MMULT(AX421:AZ421-$B$2:$D$2, TRANSPOSE($A$16:$C$18)),     TRANSPOSE($A$12:$C$14))","v":976.19675192722718},-4356.3677205984368,1469.6380558984233,null,-1482.1226570426859,332.12148665082566," ",167.87851334917434,0]
[null,null,null,null,null,null,null,null,null,null,null,null,null,null,null,null,null,null,null,null,141.67580000000001,120.7786,null,null,null,"''",null,23.626055999999998,46.458151999999998,null,46.458151999999998,-5.6091600000000312,null,{"$f":"camera!$B$5*COS(RADIANS(AE422))*COS(RADIANS(AF422))","v":342.79283513045175},{"$f":"camera!$B$5*COS(RADIANS(AE422))*SIN(RADIANS(AF422))","v":-33.666462128154151},{"$f":"camera!$B$5*SIN(RADIANS(AE422))","v":362.43570672741458},null,{"$f":"TRANSPOSE(MMULT(camera!$A$12:$C$14,MMULT(camera!$A$16:$C$18,TRANSPOSE(AH422:AJ422))))","v":-356.29359659810962},-344.42263041325907,-66.542653106072208,null,{"$f":"camera!$B$5*AM422/AN422","v":2587.9839045809667},{"$f":"camera!$B$5*AL422/AN422","v":2677.1820777130752},null,{"$f":"IF( AND( (camera!$B$3) > (AQ422+camera!$B$3/2), 0 < (AQ422+camera!$B$3/2), AN422 >= 0 ), AQ422+camera!$B$3/2, 0)*-1+camera!$B$3","v":1000},{"$f":"IF( AND( (camera!$B$4) > (AP422+camera!$B$4/2), 0 < (AP422+camera!$B$4/2), AN422 >= 0 ), AP422+camera!$B$4/2, 0)","v":0},null,null,null,-1027.0924,-2761.4747000000002,285.80790000000002,null,{"$f":"MMULT(               MMULT(AX422:AZ422-$B$2:$D$2, TRANSPOSE($A$16:$C$18)),     TRANSPOSE($A$12:$C$14))","v":918.31661637409661},-4273.5595543339577,1415.6599843297254,null,-1509.3877066665009,324.34222431203824," ",175.6577756879617,0]
[null,null,null,null,null,null,null,null,null,null,null,null,null,null,null,null,null,null,null,null,141.67580000000001,530.77859999999998,null,null,null,"''",null,2.0341170000000002,2.7637589999999999,null,2.7637589999999999,30.511755000000001,null,{"$f":"camera!$B$5*COS(RADIANS(AE423))*COS(RADIANS(AF423))","v":430.26145964832892},{"$f":"camera!$B$5*COS(RADIANS(AE423))*SIN(RADIANS(AF423))","v":253.56228562385257},{"$f":"camera!$B$5*SIN(RADIANS(AE423))","v":24.108995219570371},null,{"$f":"TRANSPOSE(MMULT(camera!$A$12:$C$14,MMULT(camera!$A$16:$C$18,TRANSPOSE(AH423:AJ423))))","v":-74.1175688791906},-406.52477555854006,281.50345085010429,null,{"$f":"camera!$B$5*AM423/AN423","v":-722.0600215217388},{"$f":"camera!$B$5*AL423/AN423","v":-131.64593303450641},null,{"$f":"IF( AND( (camera!$B$3) > (AQ423+camera!$B$3/2), 0 < (AQ423+camera!$B$3/2), AN423 >= 0 ), AQ423+camera!$B$3/2, 0)*-1+camera!$B$3","v":631.64593303450647},{"$f":"IF( AND( (camera!$B$4) > (AP423+camera!$B$4/2), 0 < (AP423+camera!$B$4/2), AN423 >= 0 ), AP423+camera!$B$4/2, 0)","v":0},null,null,null,-1128.1407999999999,-2803.3303000000001,310.32639999999998,null,{"$f":"MMULT(               MMULT(AX423:AZ423-$B$2:$D$2, TRANSPOSE($A$16:$C$18)),     TRANSPOSE($A$12:$C$14))","v":902.94040917977077},-4176.5436299094526,1361.6663745546246,null,-1533.6148809856311,331.55713692170212," ",168.44286307829793,0]
[null,null,null,null,null,null,null,null,null,null,null,null,null,null,null,null,null,null,null,null,142.55799999999999,150.7407,null,null,null,"''",null,9.3140689999999999,36.802596999999999,null,36.802596999999999,139.71103500000001,null,{"$f":"camera!$B$5*COS(RADIANS(AE424))*COS(RADIANS(AF424))","v":-305.38574064256943},{"$f":"camera!$B$5*COS(RADIANS(AE424))*SIN(RADIANS(AF424))","v":258.88484091989386},{"$f":"camera!$B$5*SIN(RADIANS(AE424))","v":299.52994600552142},null,{"$f":"TRANSPOSE(MMULT(camera!$A$12:$C$14,MMULT(camera!$A$16:$C$18,TRANSPOSE(AH424:AJ424))))","v":-335.14138612607155},326.78695629743123,175.75703826406556,null,{"$f":"camera!$B$5*AM424/AN424","v":929.65539111569262},{"$f":"camera!$B$5*AL424/AN424","v":-953.42237624230881},null,{"$f":"IF( AND( (camera!$B$3) > (AQ424+camera!$B$3/2), 0 < (AQ424+camera!$B$3/2), AN424 >= 0 ), AQ424+camera!$B$3/2, 0)*-1+camera!$B$3","v":1000},{"$f":"IF( AND( (camera!$B$4) > (AP424+camera!$B$4/2), 0 < (AP424+camera!$B$4/2), AN424 >= 0 ), AP424+camera!$B$4/2, 0)","v":0},null,null,null,-1370.721,-2613.9886999999999,219.43389999999999,null,{"$f":"MMULT(               MMULT(AX424:AZ424-$B$2:$D$2, TRANSPOSE($A$16:$C$18)),     TRANSPOSE($A$12:$C$14))","v":963.36965241265989},-3918.3843130263872,1542.3841521738159,null,-1270.2361819213029,312.29886894743419," ",187.70113105256587,0]
[null,null,null,null,null,null,null,null,null,null,null,null,null,null,null,null,null,null,null,null,142.55799999999999,560.74069999999995,null,null,null,"''",null,11.523407000000001,69.331075999999996,null,69.331075999999996,172.85110500000002,null,{"$f":"camera!$B$5*COS(RADIANS(AE425))*COS(RADIANS(AF425))","v":-175.11174638433164},{"$f":"camera!$B$5*COS(RADIANS(AE425))*SIN(RADIANS(AF425))","v":21.96309223359383},{"$f":"camera!$B$5*SIN(RADIANS(AE425))","v":467.81780519532191},null,{"$f":"TRANSPOSE(MMULT(camera!$A$12:$C$14,MMULT(camera!$A$16:$C$18,TRANSPOSE(AH425:AJ425))))","v":-461.85972214030846},176.35960293831178,-74.718722659839756,null,{"$f":"camera!$B$5*AM425/AN425","v":-1180.1567041047836},{"$f":"camera!$B$5*AL425/AN425","v":3090.6559005494846},null,{"$f":"IF( AND( (camera!$B$3) > (AQ425+camera!$B$3/2), 0 < (AQ425+camera!$B$3/2), AN425 >= 0 ), AQ425+camera!$B$3/2, 0)*-1+camera!$B$3","v":1000},{"$f":"IF( AND( (camera!$B$4) > (AP425+camera!$B$4/2), 0 < (AP425+camera!$B$4/2), AN425 >= 0 ), AP425+camera!$B$4/2, 0)","v":0},null,null,null,-1315.4394,-2880.9119000000001,219.43389999999999,null,{"$f":"MMULT(               MMULT(AX425:AZ425-$B$2:$D$2, TRANSPOSE($A$16:$C$18)),     TRANSPOSE($A$12:$C$14))","v":1008.707345327082},-3996.7194396009972,1285.2613186048436,null,-1554.8275598690905,392.41332899602003," ",107.58667100397997,0]
[null,null,null,null,null,null,null,null,null,null,null,null,null,null,null,null,null,null,null,null,143.3432,152.16220000000001,null,null,null,"''",null,16.515229000000001,1.9839230000000001,null,1.9839230000000001,-112.27156499999998,null,{"$f":"camera!$B$5*COS(RADIANS(AE426))*COS(RADIANS(AF426))","v":-189.38488373941732},{"$f":"camera!$B$5*COS(RADIANS(AE426))*SIN(RADIANS(AF426))","v":-462.42161045373416},{"$f":"camera!$B$5*SIN(RADIANS(AE426))","v":17.309534840149453},null,{"$f":"TRANSPOSE(MMULT(camera!$A$12:$C$14,MMULT(camera!$A$16:$C$18,TRANSPOSE(AH426:AJ426))))","v":65.812778559056923},148.36151815826571,-472.92445285490493,null,{"$f":"camera!$B$5*AM426/AN426","v":-156.85541026970708},{"$f":"camera!$B$5*AL426/AN426","v":-69.580646720384891},null,{"$f":"IF( AND( (camera!$B$3) > (AQ426+camera!$B$3/2), 0 < (AQ426+camera!$B$3/2), AN426 >= 0 ), AQ426+camera!$B$3/2, 0)*-1+camera!$B$3","v":1000},{"$f":"IF( AND( (camera!$B$4) > (AP426+camera!$B$4/2), 0 < (AP426+camera!$B$4/2), AN426 >= 0 ), AP426+camera!$B$4/2, 0)","v":0},null,null,null,-1229.1892,-2845.1858999999999,285.80790000000002,null,{"$f":"MMULT(               MMULT(AX426:AZ426-$B$2:$D$2, TRANSPOSE($A$16:$C$18)),     TRANSPOSE($A$12:$C$14))","v":935.85621976990421},-4079.5277054849471,1316.187950467777,null,-1549.7511977810886,355.51769769556779," ",144.48230230443221,0]
[null,null,null,null,null,null,null,null,null,null,null,null,null,null,null,null,null,null,null,null,143.3432,562.16219999999998,null,null,null,"''",null,17.657747000000001,46.006332,null,46.006332,-95.133794999999964,null,{"$f":"camera!$B$5*COS(RADIANS(AE427))*COS(RADIANS(AF427))","v":-31.076076866321213},{"$f":"camera!$B$5*COS(RADIANS(AE427))*SIN(RADIANS(AF427))","v":-345.89626874842912},{"$f":"camera!$B$5*SIN(RADIANS(AE427))","v":359.70828279664755},null,{"$f":"TRANSPOSE(MMULT(camera!$A$12:$C$14,MMULT(camera!$A$16:$C$18,TRANSPOSE(AH427:AJ427))))","v":-293.93749272824488},0.81097679530782685,-404.47508289790909,null,{"$f":"camera!$B$5*AM427/AN427","v":-1.0025052587881169},{"$f":"camera!$B$5*AL427/AN427","v":363.35673711010242},null,{"$f":"IF( AND( (camera!$B$3) > (AQ427+camera!$B$3/2), 0 < (AQ427+camera!$B$3/2), AN427 >= 0 ), AQ427+camera!$B$3/2, 0)*-1+camera!$B$3","v":1000},{"$f":"IF( AND( (camera!$B$4) > (AP427+camera!$B$4/2), 0 < (AP427+camera!$B$4/2), AN427 >= 0 ), AP427+camera!$B$4/2, 0)","v":0},null,null,null,-1277.0717,-2613.9886999999999,285.80790000000002,null,{"$f":"MMULT(               MMULT(AX427:AZ427-$B$2:$D$2, TRANSPOSE($A$16:$C$18)),     TRANSPOSE($A$12:$C$14))","v":896.58669328617236},-4011.6772491663901,1538.8965020799615,null,-1303.4265929333894,291.30831478086805," ",208.69168521913195,0]
[null,null,null,null,null,null,null,null,null,null,null,null,null,null,null,null,null,null,null,null,143.51310000000001,125.313,null,null,null,"''",null,10.434842,-16.836290000000002,null,-16.836290000000002,156.52262999999999,null,{"$f":"camera!$B$5*COS(RADIANS(AE428))*COS(RADIANS(AF428))","v":-438.95105202248624},{"$f":"camera!$B$5*COS(RADIANS(AE428))*SIN(RADIANS(AF428))","v":190.65523523339087},{"$f":"camera!$B$5*SIN(RADIANS(AE428))","v":-144.81904296898588},null,{"$f":"TRANSPOSE(MMULT(camera!$A$12:$C$14,MMULT(camera!$A$16:$C$18,TRANSPOSE(AH428:AJ428))))","v":116.28124057912568},453.89740938209042,174.5159443879169,null,{"$f":"camera!$B$5*AM428/AN428","v":1300.4468186962902},{"$f":"camera!$B$5*AL428/AN428","v":333.15362956365129},null,{"$f":"IF( AND( (camera!$B$3) > (AQ428+camera!$B$3/2), 0 < (AQ428+camera!$B$3/2), AN428 >= 0 ), AQ428+camera!$B$3/2, 0)*-1+camera!$B$3","v":166.84637043634871},{"$f":"IF( AND( (camera!$B$4) > (AP428+camera!$B$4/2), 0 < (AP428+camera!$B$4/2), AN428 >= 0 ), AP428+camera!$B$4/2, 0)","v":0},null,null,null,-1167.3547000000001,-2613.9886999999999,310.32639999999998,null,{"$f":"MMULT(               MMULT(AX428:AZ428-$B$2:$D$2, TRANSPOSE($A$16:$C$18)),     TRANSPOSE($A$12:$C$14))","v":870.78017949015555},-4120.9767428569221,1544.0561005080692,null,-1334.4647067878302,281.97815455138795," ",218.02184544861211,0]
[null,null,null,null,null,null,null,null,null,null,null,null,null,null,null,null,null,null,null,null,143.51310000000001,535.31299999999999,null,null,null,"''",null,13.971185999999999,-42.100752999999997,null,-42.100752999999997,-150.43221,null,{"$f":"camera!$B$5*COS(RADIANS(AE429))*COS(RADIANS(AF429))","v":-322.67124876486434},{"$f":"camera!$B$5*COS(RADIANS(AE429))*SIN(RADIANS(AF429))","v":-183.06292252000065},{"$f":"camera!$B$5*SIN(RADIANS(AE429))","v":-335.21818509585557},null,{"$f":"TRANSPOSE(MMULT(camera!$A$12:$C$14,MMULT(camera!$A$16:$C$18,TRANSPOSE(AH429:AJ429))))","v":366.67649285576215},305.48840226441291,-149.0811378710749,null,{"$f":"camera!$B$5*AM429/AN429","v":-1024.5709370980207},{"$f":"camera!$B$5*AL429/AN429","v":-1229.7883491232249},null,{"$f":"IF( AND( (camera!$B$3) > (AQ429+camera!$B$3/2), 0 < (AQ429+camera!$B$3/2), AN429 >= 0 ), AQ429+camera!$B$3/2, 0)*-1+camera!$B$3","v":1000},{"$f":"IF( AND( (camera!$B$4) > (AP429+camera!$B$4/2), 0 < (AP429+camera!$B$4/2), AN429 >= 0 ), AP429+camera!$B$4/2, 0)","v":0},null,null,null,-1372.0932,-2904.3787000000002,118.38549999999999,null,{"$f":"MMULT(               MMULT(AX429:AZ429-$B$2:$D$2, TRANSPOSE($A$16:$C$18)),     TRANSPOSE($A$12:$C$14))","v":1113.1374769569893},-3942.3264907981575,1274.9231549607566,null,-1546.1035731677123,436.55081195511463," ",63.449188044885432,0]
[null,null,null,null,null,null,null,null,null,null,null,null,null,null,null,null,null,null,null,null,143.9034,61.682699999999997,null,null,null,"''",null,14.797701,-79.044751000000005,null,-79.044751000000005,-138.03448499999999,null,{"$f":"camera!$B$5*COS(RADIANS(AE430))*COS(RADIANS(AF430))","v":-70.652707274484911},{"$f":"camera!$B$5*COS(RADIANS(AE430))*SIN(RADIANS(AF430))","v":-63.539025286407821},{"$f":"camera!$B$5*SIN(RADIANS(AE430))","v":-490.88795790937792},null,{"$f":"TRANSPOSE(MMULT(camera!$A$12:$C$14,MMULT(camera!$A$16:$C$18,TRANSPOSE(AH430:AJ430))))","v":495.49100607582363},64.846061450370854,16.841947997273365,null,{"$f":"camera!$B$5*AM430/AN430","v":1925.1354255715887},{"$f":"camera!$B$5*AL430/AN430","v":14710.026600130857},null,{"$f":"IF( AND( (camera!$B$3) > (AQ430+camera!$B$3/2), 0 < (AQ430+camera!$B$3/2), AN430 >= 0 ), AQ430+camera!$B$3/2, 0)*-1+camera!$B$3","v":1000},{"$f":"IF( AND( (camera!$B$4) > (AP430+camera!$B$4/2), 0 < (AP430+camera!$B$4/2), AN430 >= 0 ), AP430+camera!$B$4/2, 0)","v":0},null,null,null,-1432.2348999999999,-2613.9886999999999,118.38549999999999,null,{"$f":"MMULT(               MMULT(AX430:AZ430-$B$2:$D$2, TRANSPOSE($A$16:$C$18)),     TRANSPOSE($A$12:$C$14))","v":1063.8138783387301},-3857.1044919874412,1554.6511830826116,null,-1240.5047942456945,342.1390887920486," ",157.8609112079514,0]
[null,null,null,null,null,null,null,null,null,null,null,null,null,null,null,null,null,null,null,null,143.9034,471.68270000000001,null,null,null,"''",null,3.7365930000000001,-64.806903000000005,null,-64.806903000000005,56.048895000000002,null,{"$f":"camera!$B$5*COS(RADIANS(AE431))*COS(RADIANS(AF431))","v":118.86527788662976},{"$f":"camera!$B$5*COS(RADIANS(AE431))*SIN(RADIANS(AF431))","v":176.54982705669249},{"$f":"camera!$B$5*SIN(RADIANS(AE431))","v":-452.43917191064065},null,{"$f":"TRANSPOSE(MMULT(camera!$A$12:$C$14,MMULT(camera!$A$16:$C$18,TRANSPOSE(AH431:AJ431))))","v":413.22575085448966},-103.02562830876595,261.97366039800113,null,{"$f":"camera!$B$5*AM431/AN431","v":-196.63356261130448},{"$f":"camera!$B$5*AL431/AN431","v":788.67804921055836},null,{"$f":"IF( AND( (camera!$B$3) > (AQ431+camera!$B$3/2), 0 < (AQ431+camera!$B$3/2), AN431 >= 0 ), AQ431+camera!$B$3/2, 0)*-1+camera!$B$3","v":1000},{"$f":"IF( AND( (camera!$B$4) > (AP431+camera!$B$4/2), 0 < (AP431+camera!$B$4/2), AN431 >= 0 ), AP431+camera!$B$4/2, 0)","v":303.36643738869554},null,null,null,3486.8206,597.36120000000005,-219.43389999999999,null,{"$f":"MMULT(               MMULT(AX431:AZ431-$B$2:$D$2, TRANSPOSE($A$16:$C$18)),     TRANSPOSE($A$12:$C$14))","v":766.5308622341887},-8477.5539149493634,5186.0513369507089,null,-817.34188153389834,73.903130959449101," ",426.09686904055093,0]
[null,null,null,null,null,null,null,null,null,null,null,null,null,null,null,null,null,null,null,null,144.2944,34.306199999999997,null,null,null,"''",null,3.738648,32.288248000000003,null,32.288248000000003,56.079720000000002,null,{"$f":"camera!$B$5*COS(RADIANS(AE432))*COS(RADIANS(AF432))","v":235.87505057508642},{"$f":"camera!$B$5*COS(RADIANS(AE432))*SIN(RADIANS(AF432))","v":350.7508641491595},{"$f":"camera!$B$5*SIN(RADIANS(AE432))","v":267.08948278586013},null,{"$f":"TRANSPOSE(MMULT(camera!$A$12:$C$14,MMULT(camera!$A$16:$C$18,TRANSPOSE(AH432:AJ432))))","v":-327.27710713532554},-204.40752271072049,317.97367784833841,null,{"$f":"camera!$B$5*AM432/AN432","v":-321.42208137148896},{"$f":"camera!$B$5*AL432/AN432","v":-514.62924439208541},null,{"$f":"IF( AND( (camera!$B$3) > (AQ432+camera!$B$3/2), 0 < (AQ432+camera!$B$3/2), AN432 >= 0 ), AQ432+camera!$B$3/2, 0)*-1+camera!$B$3","v":1000},{"$f":"IF( AND( (camera!$B$4) > (AP432+camera!$B$4/2), 0 < (AP432+camera!$B$4/2), AN432 >= 0 ), AP432+camera!$B$4/2, 0)","v":178.57791862851104},null,null,null,3337.1673000000001,369.52800000000002,-219.43389999999999,null,{"$f":"MMULT(               MMULT(AX432:AZ432-$B$2:$D$2, TRANSPOSE($A$16:$C$18)),     TRANSPOSE($A$12:$C$14))","v":808.20805202807617},-8348.3270627060065,4949.6882481798784,null,-843.31847220639509,81.642318819298779," ",418.35768118070121,0]
[null,null,null,null,null,null,null,null,null,null,null,null,null,null,null,null,null,null,null,null,144.2944,444.30619999999999,null,null,null,"''",null,4.476248,15.962180999999999,null,15.962180999999999,67.143720000000002,null,{"$f":"camera!$B$5*COS(RADIANS(AE433))*COS(RADIANS(AF433))","v":186.72236946462664},{"$f":"camera!$B$5*COS(RADIANS(AE433))*SIN(RADIANS(AF433))","v":442.97643480919976},{"$f":"camera!$B$5*SIN(RADIANS(AE433))","v":137.50139979377016},null,{"$f":"TRANSPOSE(MMULT(camera!$A$12:$C$14,MMULT(camera!$A$16:$C$18,TRANSPOSE(AH433:AJ433))))","v":-214.86772132681529},-147.40389428028374,426.73639906015626,null,{"$f":"camera!$B$5*AM433/AN433","v":-172.71071158322317},{"$f":"camera!$B$5*AL433/AN433","v":-251.75696495546163},null,{"$f":"IF( AND( (camera!$B$3) > (AQ433+camera!$B$3/2), 0 < (AQ433+camera!$B$3/2), AN433 >= 0 ), AQ433+camera!$B$3/2, 0)*-1+camera!$B$3","v":751.75696495546163},{"$f":"IF( AND( (camera!$B$4) > (AP433+camera!$B$4/2), 0 < (AP433+camera!$B$4/2), AN433 >= 0 ), AP433+camera!$B$4/2, 0)","v":327.2892884167768},null,null,null,3280.5135,392.99470000000002,-118.38549999999999,null,{"$f":"MMULT(               MMULT(AX433:AZ433-$B$2:$D$2, TRANSPOSE($A$16:$C$18)),     TRANSPOSE($A$12:$C$14))","v":705.49278430624281},-8289.8435898509197,4950.3009353189864,null,-837.30703427596166,71.257565299995491," ",428.74243470000454,0]
[null,null,null,null,null,null,null,null,null,null,null,null,null,null,null,null,null,null,null,null,145.93049999999999,129.68969999999999,null,null,null,"''",null,8.9174570000000006,-60.644609000000003,null,-60.644609000000003,133.761855,null,{"$f":"camera!$B$5*COS(RADIANS(AE434))*COS(RADIANS(AF434))","v":-169.53522955215422},{"$f":"camera!$B$5*COS(RADIANS(AE434))*SIN(RADIANS(AF434))","v":177.02547066123361},{"$f":"camera!$B$5*SIN(RADIANS(AE434))","v":-435.7978759446483},null,{"$f":"TRANSPOSE(MMULT(camera!$A$12:$C$14,MMULT(camera!$A$16:$C$18,TRANSPOSE(AH434:AJ434))))","v":401.11977221316869},184.31888320035662,234.79667296499093,null,{"$f":"camera!$B$5*AM434/AN434","v":392.50744244540311},{"$f":"camera!$B$5*AL434/AN434","v":854.18538335289179},null,{"$f":"IF( AND( (camera!$B$3) > (AQ434+camera!$B$3/2), 0 < (AQ434+camera!$B$3/2), AN434 >= 0 ), AQ434+camera!$B$3/2, 0)*-1+camera!$B$3","v":1000},{"$f":"IF( AND( (camera!$B$4) > (AP434+camera!$B$4/2), 0 < (AP434+camera!$B$4/2), AN434 >= 0 ), AP434+camera!$B$4/2, 0)","v":892.50744244540306},null,null,null,3443.3236000000002,640.85810000000004,-118.38549999999999,null,{"$f":"MMULT(               MMULT(AX434:AZ434-$B$2:$D$2, TRANSPOSE($A$16:$C$18)),     TRANSPOSE($A$12:$C$14))","v":660.15150166829039},-8430.4314295397453,5207.4441272217546,null,-809.45961431155104,63.385365789847711," ",436.6146342101523,0]
[null,null,null,null,null,null,null,null,null,null,null,null,null,null,null,null,null,null,null,null,145.93049999999999,539.68970000000002,null,null,null,"''",null,10.546853,9.3065859999999994,null,9.3065859999999994,158.20279500000001,null,{"$f":"camera!$B$5*COS(RADIANS(AE435))*COS(RADIANS(AF435))","v":-458.14108440589774},{"$f":"camera!$B$5*COS(RADIANS(AE435))*SIN(RADIANS(AF435))","v":183.21743643927593},{"$f":"camera!$B$5*SIN(RADIANS(AE435))","v":80.858628259499667},null,{"$f":"TRANSPOSE(MMULT(camera!$A$12:$C$14,MMULT(camera!$A$16:$C$18,TRANSPOSE(AH435:AJ435))))","v":-104.39080398344252},472.36617102034512,126.38338703828329,null,{"$f":"camera!$B$5*AM435/AN435","v":1868.7826861186227},{"$f":"camera!$B$5*AL435/AN435","v":-412.9925871974815},null,{"$f":"IF( AND( (camera!$B$3) > (AQ435+camera!$B$3/2), 0 < (AQ435+camera!$B$3/2), AN435 >= 0 ), AQ435+camera!$B$3/2, 0)*-1+camera!$B$3","v":912.9925871974815},{"$f":"IF( AND( (camera!$B$4) > (AP435+camera!$B$4/2), 0 < (AP435+camera!$B$4/2), AN435 >= 0 ), AP435+camera!$B$4/2, 0)","v":0},null,null,null,3427.2559999999999,656.92579999999998,0,null,{"$f":"MMULT(               MMULT(AX435:AZ435-$B$2:$D$2, TRANSPOSE($A$16:$C$18)),     TRANSPOSE($A$12:$C$14))","v":541.02820793698152},-8413.0245792809401,5201.2709742209045,null,-808.74699866421815,52.009231072413201," ",447.99076892758683,0]
[null,null,null,null,null,null,null,null,null,null,null,null,null,null,null,null,null,null,null,null,146.2157,75,null,null,null,"''",null,10.621717,-48.225619999999999,null,-48.225619999999999,159.32575500000002,null,{"$f":"camera!$B$5*COS(RADIANS(AE436))*COS(RADIANS(AF436))","v":-311.64886253509246},{"$f":"camera!$B$5*COS(RADIANS(AE436))*SIN(RADIANS(AF436))","v":117.60222734675645},{"$f":"camera!$B$5*SIN(RADIANS(AE436))","v":-372.88698368763806},null,{"$f":"TRANSPOSE(MMULT(camera!$A$12:$C$14,MMULT(camera!$A$16:$C$18,TRANSPOSE(AH436:AJ436))))","v":351.59491943818387},320.7126539969679,153.37668072910617,null,{"$f":"camera!$B$5*AM436/AN436","v":1045.5065674664404},{"$f":"camera!$B$5*AL436/AN436","v":1146.1811462042613},null,{"$f":"IF( AND( (camera!$B$3) > (AQ436+camera!$B$3/2), 0 < (AQ436+camera!$B$3/2), AN436 >= 0 ), AQ436+camera!$B$3/2, 0)*-1+camera!$B$3","v":1000},{"$f":"IF( AND( (camera!$B$4) > (AP436+camera!$B$4/2), 0 < (AP436+camera!$B$4/2), AN436 >= 0 ), AP436+camera!$B$4/2, 0)","v":0},null,null,null,3259.5857000000001,401.66329999999999,0,null,{"$f":"MMULT(               MMULT(AX436:AZ436-$B$2:$D$2, TRANSPOSE($A$16:$C$18)),     TRANSPOSE($A$12:$C$14))","v":587.72299798669292},-8268.2399081766107,4936.4516603411112,null,-837.46793011290936,59.528892251532852," ",440.47110774846715,0]
[null,null,null,null,null,null,null,null,null,null,null,null,null,null,null,null,null,null,null,null,146.2157,90,null,null,null,"''",null,12.541134,-72.132987999999997,null,-72.132987999999997,-171.88299000000001,null,{"$f":"camera!$B$5*COS(RADIANS(AE437))*COS(RADIANS(AF437))","v":-151.86750561595801},{"$f":"camera!$B$5*COS(RADIANS(AE437))*SIN(RADIANS(AF437))","v":-21.659948450600275},{"$f":"camera!$B$5*SIN(RADIANS(AE437))","v":-475.88560324000588},null,{"$f":"TRANSPOSE(MMULT(camera!$A$12:$C$14,MMULT(camera!$A$16:$C$18,TRANSPOSE(AH437:AJ437))))","v":474.70115868191135},149.40181501194772,48.351914307362755,null,{"$f":"camera!$B$5*AM437/AN437","v":1544.9420891821615},{"$f":"camera!$B$5*AL437/AN437","v":4908.8145266011379},null,{"$f":"IF( AND( (camera!$B$3) > (AQ437+camera!$B$3/2), 0 < (AQ437+camera!$B$3/2), AN437 >= 0 ), AQ437+camera!$B$3/2, 0)*-1+camera!$B$3","v":1000},{"$f":"IF( AND( (camera!$B$4) > (AP437+camera!$B$4/2), 0 < (AP437+camera!$B$4/2), AN437 >= 0 ), AP437+camera!$B$4/2, 0)","v":0},null,null,null,3197.6487000000002,102.60469999999999,0,null,{"$f":"MMULT(               MMULT(AX437:AZ437-$B$2:$D$2, TRANSPOSE($A$16:$C$18)),     TRANSPOSE($A$12:$C$14))","v":640.39374738799984},-8232.603271568978,4637.7409968358388,null,-887.56608844540722,69.041560085493884," ",430.95843991450613,0]
[null,null,null,null,null,null,null,null,null,null,null,null,null,null,null,null,null,null,null,null,146.2157,105,null,null,null,"''",null,18.125707999999999,28.762488000000001,null,28.762488000000001,-88.114379999999983,null,{"$f":"camera!$B$5*COS(RADIANS(AE438))*COS(RADIANS(AF438))","v":14.422331205231012},{"$f":"camera!$B$5*COS(RADIANS(AE438))*SIN(RADIANS(AF438))","v":-438.07360719247464},{"$f":"camera!$B$5*SIN(RADIANS(AE438))","v":240.58992298926404},null,{"$f":"TRANSPOSE(MMULT(camera!$A$12:$C$14,MMULT(camera!$A$16:$C$18,TRANSPOSE(AH438:AJ438))))","v":-161.37188364802122},-52.548080493780226,-470.31671712188654,null,{"$f":"camera!$B$5*AM438/AN438","v":55.864568046134266},{"$f":"camera!$B$5*AL438/AN438","v":171.55661044278844},null,{"$f":"IF( AND( (camera!$B$3) > (AQ438+camera!$B$3/2), 0 < (AQ438+camera!$B$3/2), AN438 >= 0 ), AQ438+camera!$B$3/2, 0)*-1+camera!$B$3","v":1000},{"$f":"IF( AND( (camera!$B$4) > (AP438+camera!$B$4/2), 0 < (AP438+camera!$B$4/2), AN438 >= 0 ), AP438+camera!$B$4/2, 0)","v":0},null,null,null,3220.3717999999999,102.60469999999999,-118.38549999999999,null,{"$f":"MMULT(               MMULT(AX438:AZ438-$B$2:$D$2, TRANSPOSE($A$16:$C$18)),     TRANSPOSE($A$12:$C$14))","v":756.63680433179718},-8255.2399033131878,4660.2487843658955,null,-885.70806895628539,81.179872507037217," ",418.8201274929628,0]
[null,null,null,null,null,null,null,null,null,null,null,null,null,null,null,null,null,null,null,null,146.2157,485,null,null,null,"''",null,18.229392000000001,-21.058834000000001,null,-21.058834000000001,-86.559120000000007,null,{"$f":"camera!$B$5*COS(RADIANS(AE439))*COS(RADIANS(AF439))","v":28.005034035172542},{"$f":"camera!$B$5*COS(RADIANS(AE439))*SIN(RADIANS(AF439))","v":-465.76480307929222},{"$f":"camera!$B$5*SIN(RADIANS(AE439))","v":-179.66320235706857},null,{"$f":"TRANSPOSE(MMULT(camera!$A$12:$C$14,MMULT(camera!$A$16:$C$18,TRANSPOSE(AH439:AJ439))))","v":257.08131368644143},-68.492543783810206,-423.34143383240473,null,{"$f":"camera!$B$5*AM439/AN439","v":80.895157324625941},{"$f":"camera!$B$5*AL439/AN439","v":-303.63353683473434},null,{"$f":"IF( AND( (camera!$B$3) > (AQ439+camera!$B$3/2), 0 < (AQ439+camera!$B$3/2), AN439 >= 0 ), AQ439+camera!$B$3/2, 0)*-1+camera!$B$3","v":1000},{"$f":"IF( AND( (camera!$B$4) > (AP439+camera!$B$4/2), 0 < (AP439+camera!$B$4/2), AN439 >= 0 ), AP439+camera!$B$4/2, 0)","v":0},null,null,null,3281.8856999999998,102.60469999999999,-219.43389999999999,null,{"$f":"MMULT(               MMULT(AX439:AZ439-$B$2:$D$2, TRANSPOSE($A$16:$C$18)),     TRANSPOSE($A$12:$C$14))","v":855.21907390468459},-8316.5197243521325,4683.0754944894188,null,-887.9335528690699,91.309554470243114," ",408.69044552975686,0]
[null,null,null,null,null,null,null,null,null,null,null,null,null,null,null,null,null,null,null,null,146.2157,500,null,null,null,"''",null,19.802849999999999,70.267930000000007,null,70.267930000000007,-62.957249999999988,null,{"$f":"camera!$B$5*COS(RADIANS(AE440))*COS(RADIANS(AF440))","v":76.750834466237677},{"$f":"camera!$B$5*COS(RADIANS(AE440))*SIN(RADIANS(AF440))","v":-150.35455494343219},{"$f":"camera!$B$5*SIN(RADIANS(AE440))","v":470.6408579973679},null,{"$f":"TRANSPOSE(MMULT(camera!$A$12:$C$14,MMULT(camera!$A$16:$C$18,TRANSPOSE(AH440:AJ440))))","v":-438.64290380029809},-89.563037280971585,-222.6451555696861,null,{"$f":"camera!$B$5*AM440/AN440","v":201.13403557289416},{"$f":"camera!$B$5*AL440/AN440","v":985.07174494305696},null,{"$f":"IF( AND( (camera!$B$3) > (AQ440+camera!$B$3/2), 0 < (AQ440+camera!$B$3/2), AN440 >= 0 ), AQ440+camera!$B$3/2, 0)*-1+camera!$B$3","v":1000},{"$f":"IF( AND( (camera!$B$4) > (AP440+camera!$B$4/2), 0 < (AP440+camera!$B$4/2), AN440 >= 0 ), AP440+camera!$B$4/2, 0)","v":0},null,null,null,3630.6221999999998,453.55950000000001,-310.32639999999998,null,{"$f":"MMULT(               MMULT(AX440:AZ440-$B$2:$D$2, TRANSPOSE($A$16:$C$18)),     TRANSPOSE($A$12:$C$14))","v":878.74202615213846},-8633.3414504183493,5073.0992492038304,null,-850.89419961311239,86.608006564236632," ",413.39199343576342,0]
[null,null,null,null,null,null,null,null,null,null,null,null,null,null,null,null,null,null,null,null,146.2157,515,null,null,null,"''",null,4.2333629999999998,-42.294367999999999,null,-42.294367999999999,63.500444999999999,null,{"$f":"camera!$B$5*COS(RADIANS(AE441))*COS(RADIANS(AF441))","v":165.02307615906014},{"$f":"camera!$B$5*COS(RADIANS(AE441))*SIN(RADIANS(AF441))","v":330.9915232250998},{"$f":"camera!$B$5*SIN(RADIANS(AE441))","v":-336.46990339126808},null,{"$f":"TRANSPOSE(MMULT(camera!$A$12:$C$14,MMULT(camera!$A$16:$C$18,TRANSPOSE(AH441:AJ441))))","v":271.60327733261266},-135.54730148258375,397.31421923079148,null,{"$f":"camera!$B$5*AM441/AN441","v":-170.57947453404276},{"$f":"camera!$B$5*AL441/AN441","v":341.79909022441007},null,{"$f":"IF( AND( (camera!$B$3) > (AQ441+camera!$B$3/2), 0 < (AQ441+camera!$B$3/2), AN441 >= 0 ), AQ441+camera!$B$3/2, 0)*-1+camera!$B$3","v":158.20090977558993},{"$f":"IF( AND( (camera!$B$4) > (AP441+camera!$B$4/2), 0 < (AP441+camera!$B$4/2), AN441 >= 0 ), AP441+camera!$B$4/2, 0)","v":329.42052546595721},null,null,null,3524.4659000000001,291.94639999999998,-310.32639999999998,null,{"$f":"MMULT(               MMULT(AX441:AZ441-$B$2:$D$2, TRANSPOSE($A$16:$C$18)),     TRANSPOSE($A$12:$C$14))","v":908.3056708631666},-8541.6746169575636,4905.4354884325394,null,-870.63367127134836,92.581552953354858," ",407.41844704664516,0]
[null,null,null,null,null,null,null,null,null,null,null,null,null,null,null,null,null,null,null,null,146.23609999999999,57.260199999999998,null,null,null,"''",null,5.7880789999999998,-51.066513999999998,null,-51.066513999999998,86.821185,null,{"$f":"camera!$B$5*COS(RADIANS(AE442))*COS(RADIANS(AF442))","v":17.423615174660121},{"$f":"camera!$B$5*COS(RADIANS(AE442))*SIN(RADIANS(AF442))","v":313.7254318025233},{"$f":"camera!$B$5*SIN(RADIANS(AE442))","v":-388.93800415305998},null,{"$f":"TRANSPOSE(MMULT(camera!$A$12:$C$14,MMULT(camera!$A$16:$C$18,TRANSPOSE(AH442:AJ442))))","v":328.49492048845548},9.9856599689913921,376.81742768649514,null,{"$f":"camera!$B$5*AM442/AN442","v":13.249997525723877},{"$f":"camera!$B$5*AL442/AN442","v":435.88074270513425},null,{"$f":"IF( AND( (camera!$B$3) > (AQ442+camera!$B$3/2), 0 < (AQ442+camera!$B$3/2), AN442 >= 0 ), AQ442+camera!$B$3/2, 0)*-1+camera!$B$3","v":64.119257294865747},{"$f":"IF( AND( (camera!$B$4) > (AP442+camera!$B$4/2), 0 < (AP442+camera!$B$4/2), AN442 >= 0 ), AP442+camera!$B$4/2, 0)","v":513.24999752572387},null,null,null,3423.4175,333.80200000000002,-285.80790000000002,null,{"$f":"MMULT(               MMULT(AX442:AZ442-$B$2:$D$2, TRANSPOSE($A$16:$C$18)),     TRANSPOSE($A$12:$C$14))","v":878.44848133849848},-8437.3627807207613,4933.5676104777122,null,-855.09751227507559,89.027712873832414," ",410.97228712616754,0]
[null,null,null,null,null,null,null,null,null,null,null,null,null,null,null,null,null,null,null,null,146.23609999999999,467.2602,null,null,null,"''",null,6.3685640000000001,-33.436399999999999,null,-33.436399999999999,95.528459999999995,null,{"$f":"camera!$B$5*COS(RADIANS(AE443))*COS(RADIANS(AF443))","v":-40.197840273005767},{"$f":"camera!$B$5*COS(RADIANS(AE443))*SIN(RADIANS(AF443))","v":415.30813980820676},{"$f":"camera!$B$5*SIN(RADIANS(AE443))","v":-275.5055038405456},null,{"$f":"TRANSPOSE(MMULT(camera!$A$12:$C$14,MMULT(camera!$A$16:$C$18,TRANSPOSE(AH443:AJ443))))","v":200.08525503538965},76.241364748839686,451.83309420477099,null,{"$f":"camera!$B$5*AM443/AN443","v":84.368946992500568},{"$f":"camera!$B$5*AL443/AN443","v":221.41500656070903},null,{"$f":"IF( AND( (camera!$B$3) > (AQ443+camera!$B$3/2), 0 < (AQ443+camera!$B$3/2), AN443 >= 0 ), AQ443+camera!$B$3/2, 0)*-1+camera!$B$3","v":278.584993439291},{"$f":"IF( AND( (camera!$B$4) > (AP443+camera!$B$4/2), 0 < (AP443+camera!$B$4/2), AN443 >= 0 ), AP443+camera!$B$4/2, 0)","v":584.36894699250058},null,null,null,3553.0405999999998,531.14110000000005,-285.80790000000002,null,{"$f":"MMULT(               MMULT(AX443:AZ443-$B$2:$D$2, TRANSPOSE($A$16:$C$18)),     TRANSPOSE($A$12:$C$14))","v":842.34953221169314},-8549.2933898573247,5138.2949243678677,null,-831.91929576804989,81.967806890271305," ",418.03219310972872,0]
[null,null,null,null,null,null,null,null,null,null,null,null,null,null,null,null,null,null,null,null,148.3432,152.16220000000001,null,null,null,"''",null,10.245607,-42.121941999999997,null,-42.121941999999997,153.68410499999999,null,{"$f":"camera!$B$5*COS(RADIANS(AE444))*COS(RADIANS(AF444))","v":-332.42492953686656},{"$f":"camera!$B$5*COS(RADIANS(AE444))*SIN(RADIANS(AF444))","v":164.40939680992545},{"$f":"camera!$B$5*SIN(RADIANS(AE444))","v":-335.35535848261878},null,{"$f":"TRANSPOSE(MMULT(camera!$A$12:$C$14,MMULT(camera!$A$16:$C$18,TRANSPOSE(AH444:AJ444))))","v":306.85086774500911},345.48917541181208,190.9967922175685,null,{"$f":"camera!$B$5*AM444/AN444","v":904.43711488687734},{"$f":"camera!$B$5*AL444/AN444","v":803.28801385174256},null,{"$f":"IF( AND( (camera!$B$3) > (AQ444+camera!$B$3/2), 0 < (AQ444+camera!$B$3/2), AN444 >= 0 ), AQ444+camera!$B$3/2, 0)*-1+camera!$B$3","v":1000},{"$f":"IF( AND( (camera!$B$4) > (AP444+camera!$B$4/2), 0 < (AP444+camera!$B$4/2), AN444 >= 0 ), AP444+camera!$B$4/2, 0)","v":0},null,null,null,3375.5349999999999,102.60469999999999,-285.80790000000002,null,{"$f":"MMULT(               MMULT(AX444:AZ444-$B$2:$D$2, TRANSPOSE($A$16:$C$18)),     TRANSPOSE($A$12:$C$14))","v":919.1673743750614},-8409.8126604921363,4702.6392926844946,null,-894.15880499005993,97.728883417120016," ",402.27111658288004,0]
[null,null,null,null,null,null,null,null,null,null,null,null,null,null,null,null,null,null,null,null,148.3432,562.16219999999998,null,null,null,"''",null,12.558058000000001,69.788238000000007,null,69.788238000000007,-171.62912999999998,null,{"$f":"camera!$B$5*COS(RADIANS(AE445))*COS(RADIANS(AF445))","v":-170.90507785816817},{"$f":"camera!$B$5*COS(RADIANS(AE445))*SIN(RADIANS(AF445))","v":-25.148287565818187},{"$f":"camera!$B$5*SIN(RADIANS(AE445))","v":469.21105911391345},null,{"$f":"TRANSPOSE(MMULT(camera!$A$12:$C$14,MMULT(camera!$A$16:$C$18,TRANSPOSE(AH445:AJ445))))","v":-455.14580014070401},168.06291475763354,-120.81869597643674,null,{"$f":"camera!$B$5*AM445/AN445","v":-695.51700338832836},{"$f":"camera!$B$5*AL445/AN445","v":1883.5901035940292},null,{"$f":"IF( AND( (camera!$B$3) > (AQ445+camera!$B$3/2), 0 < (AQ445+camera!$B$3/2), AN445 >= 0 ), AQ445+camera!$B$3/2, 0)*-1+camera!$B$3","v":1000},{"$f":"IF( AND( (camera!$B$4) > (AP445+camera!$B$4/2), 0 < (AP445+camera!$B$4/2), AN445 >= 0 ), AP445+camera!$B$4/2, 0)","v":0},null,null,null,3774.4238,309.75790000000001,-219.43389999999999,null,{"$f":"MMULT(               MMULT(AX445:AZ445-$B$2:$D$2, TRANSPOSE($A$16:$C$18)),     TRANSPOSE($A$12:$C$14))","v":811.92989539002451},-8789.128977171762,4928.580625585796,null,-891.64910192852051,82.369545825733653," ",417.63045417426633,0]
[null,null,null,null,null,null,null,null,null,null,null,null,null,null,null,null,null,null,null,null,148.34800000000001,134.06639999999999,null,null,null,"''",null,12.628394,-48.541303999999997,null,-48.541303999999997,-170.57409000000001,null,{"$f":"camera!$B$5*COS(RADIANS(AE446))*COS(RADIANS(AF446))","v":-326.57034555968283},{"$f":"camera!$B$5*COS(RADIANS(AE446))*SIN(RADIANS(AF446))","v":-54.215108824337548},{"$f":"camera!$B$5*SIN(RADIANS(AE446))","v":-374.71660141524904},null,{"$f":"TRANSPOSE(MMULT(camera!$A$12:$C$14,MMULT(camera!$A$16:$C$18,TRANSPOSE(AH446:AJ446))))","v":383.34480260516091},320.602488722815,-16.149505885554433,null,{"$f":"camera!$B$5*AM446/AN446","v":-9926.0773361985848},{"$f":"camera!$B$5*AL446/AN446","v":-11868.623266921712},null,{"$f":"IF( AND( (camera!$B$3) > (AQ446+camera!$B$3/2), 0 < (AQ446+camera!$B$3/2), AN446 >= 0 ), AQ446+camera!$B$3/2, 0)*-1+camera!$B$3","v":1000},{"$f":"IF( AND( (camera!$B$4) > (AP446+camera!$B$4/2), 0 < (AP446+camera!$B$4/2), AN446 >= 0 ), AP446+camera!$B$4/2, 0)","v":0},null,null,null,3711.7644,214.3648,-219.43389999999999,null,{"$f":"MMULT(               MMULT(AX446:AZ446-$B$2:$D$2, TRANSPOSE($A$16:$C$18)),     TRANSPOSE($A$12:$C$14))","v":829.38001383037636},-8735.0220715896539,4829.6160861248527,null,-904.31847126366404,85.863969210008918," ",414.13603078999108,0]
[null,null,null,null,null,null,null,null,null,null,null,null,null,null,null,null,null,null,null,null,148.34800000000001,544.06640000000004,null,null,null,"''",null,15.940882,15.661617,null,15.661617,-120.88676999999998,null,{"$f":"camera!$B$5*COS(RADIANS(AE447))*COS(RADIANS(AF447))","v":-247.14205861766476},{"$f":"camera!$B$5*COS(RADIANS(AE447))*SIN(RADIANS(AF447))","v":-413.16076058436414},{"$f":"camera!$B$5*SIN(RADIANS(AE447))","v":134.97773436968225},null,{"$f":"TRANSPOSE(MMULT(camera!$A$12:$C$14,MMULT(camera!$A$16:$C$18,TRANSPOSE(AH447:AJ447))))","v":-57.715160401014586},210.19227550747939,-449.98685267113422,null,{"$f":"camera!$B$5*AM447/AN447","v":-233.55379636068511},{"$f":"camera!$B$5*AL447/AN447","v":64.129829636594735},null,{"$f":"IF( AND( (camera!$B$3) > (AQ447+camera!$B$3/2), 0 < (AQ447+camera!$B$3/2), AN447 >= 0 ), AQ447+camera!$B$3/2, 0)*-1+camera!$B$3","v":1000},{"$f":"IF( AND( (camera!$B$4) > (AP447+camera!$B$4/2), 0 < (AP447+camera!$B$4/2), AN447 >= 0 ), AP447+camera!$B$4/2, 0)","v":0},null,null,null,3625.5142000000001,250.0908,-285.80790000000002,null,{"$f":"MMULT(               MMULT(AX447:AZ447-$B$2:$D$2, TRANSPOSE($A$16:$C$18)),     TRANSPOSE($A$12:$C$14))","v":889.87084411681826},-8645.9863535748973,4868.7881721159492,null,-887.89921104920438,91.385249538396451," ",408.61475046160353,0]
[null,null,null,null,null,null,null,null,null,null,null,null,null,null,null,null,null,null,null,null,148.56870000000001,52.837699999999998,null,null,null,"''",null,18.394967000000001,21.769752,null,21.769752,-84.075494999999989,null,{"$f":"camera!$B$5*COS(RADIANS(AE448))*COS(RADIANS(AF448))","v":47.928315556321891},{"$f":"camera!$B$5*COS(RADIANS(AE448))*SIN(RADIANS(AF448))","v":-461.86072143027019},{"$f":"camera!$B$5*SIN(RADIANS(AE448))","v":185.43880545302255},null,{"$f":"TRANSPOSE(MMULT(camera!$A$12:$C$14,MMULT(camera!$A$16:$C$18,TRANSPOSE(AH448:AJ448))))","v":-103.45085878252127},-87.999748067900427,-481.20054463512906,null,{"$f":"camera!$B$5*AM448/AN448","v":91.437706221453197},{"$f":"camera!$B$5*AL448/AN448","v":107.49245811947596},null,{"$f":"IF( AND( (camera!$B$3) > (AQ448+camera!$B$3/2), 0 < (AQ448+camera!$B$3/2), AN448 >= 0 ), AQ448+camera!$B$3/2, 0)*-1+camera!$B$3","v":1000},{"$f":"IF( AND( (camera!$B$4) > (AP448+camera!$B$4/2), 0 < (AP448+camera!$B$4/2), AN448 >= 0 ), AP448+camera!$B$4/2, 0)","v":0},null,null,null,3708.2037999999998,375.97800000000001,-285.80790000000002,null,{"$f":"MMULT(               MMULT(AX448:AZ448-$B$2:$D$2, TRANSPOSE($A$16:$C$18)),     TRANSPOSE($A$12:$C$14))","v":866.84248500938452},-8717.3895022638008,4999.3884864575657,null,-871.8455793021111,86.694851516090736," ",413.30514848390931,0]
[null,null,null,null,null,null,null,null,null,null,null,null,null,null,null,null,null,null,null,null,148.56870000000001,462.83769999999998,null,null,null,"''",null,18.586784999999999,-8.2440730000000002,null,-8.2440730000000002,-81.198225000000036,null,{"$f":"camera!$B$5*COS(RADIANS(AE449))*COS(RADIANS(AF449))","v":75.717606790213352},{"$f":"camera!$B$5*COS(RADIANS(AE449))*SIN(RADIANS(AF449))","v":-489.00578049179001},{"$f":"camera!$B$5*SIN(RADIANS(AE449))","v":-71.695123039004187},null,{"$f":"TRANSPOSE(MMULT(camera!$A$12:$C$14,MMULT(camera!$A$16:$C$18,TRANSPOSE(AH449:AJ449))))","v":154.05180533698535},-118.04914044326632,-460.79544454456311,null,{"$f":"camera!$B$5*AM449/AN449","v":128.09278155944301},{"$f":"camera!$B$5*AL449/AN449","v":-167.15855935733666},null,{"$f":"IF( AND( (camera!$B$3) > (AQ449+camera!$B$3/2), 0 < (AQ449+camera!$B$3/2), AN449 >= 0 ), AQ449+camera!$B$3/2, 0)*-1+camera!$B$3","v":1000},{"$f":"IF( AND( (camera!$B$4) > (AP449+camera!$B$4/2), 0 < (AP449+camera!$B$4/2), AN449 >= 0 ), AP449+camera!$B$4/2, 0)","v":0},null,null,null,3833.9884000000002,250.19329999999999,0,null,{"$f":"MMULT(               MMULT(AX449:AZ449-$B$2:$D$2, TRANSPOSE($A$16:$C$18)),     TRANSPOSE($A$12:$C$14))","v":605.23213769982044},-8853.6583128401835,4837.1523946089037,null,-915.17256337713809,62.560788696089347," ",437.43921130391061,0]
[null,null,null,null,null,null,null,null,null,null,null,null,null,null,null,null,null,null,null,null,149.2944,34.306199999999997,null,null,null,"''",null,0.94588499999999998,38.499344999999998,null,38.499344999999998,14.188274999999999,null,{"$f":"camera!$B$5*COS(RADIANS(AE450))*COS(RADIANS(AF450))","v":379.37100431366673},{"$f":"camera!$B$5*COS(RADIANS(AE450))*SIN(RADIANS(AF450))","v":95.913021006362158},{"$f":"camera!$B$5*SIN(RADIANS(AE450))","v":311.25284494679397},null,{"$f":"TRANSPOSE(MMULT(camera!$A$12:$C$14,MMULT(camera!$A$16:$C$18,TRANSPOSE(AH450:AJ450))))","v":-328.85752454569399},-369.56801252203434,72.610003926399685,null,{"$f":"camera!$B$5*AM450/AN450","v":-2544.8835734580239},{"$f":"camera!$B$5*AL450/AN450","v":-2264.5469409355546},null,{"$f":"IF( AND( (camera!$B$3) > (AQ450+camera!$B$3/2), 0 < (AQ450+camera!$B$3/2), AN450 >= 0 ), AQ450+camera!$B$3/2, 0)*-1+camera!$B$3","v":1000},{"$f":"IF( AND( (camera!$B$4) > (AP450+camera!$B$4/2), 0 < (AP450+camera!$B$4/2), AN450 >= 0 ), AP450+camera!$B$4/2, 0)","v":0},null,null,null,3789.346,182.2294,0,null,{"$f":"MMULT(               MMULT(AX450:AZ450-$B$2:$D$2, TRANSPOSE($A$16:$C$18)),     TRANSPOSE($A$12:$C$14))","v":617.66467318308776},-8815.109234834621,4766.6439821508984,null,-924.66620832639728,64.790309019929467," ",435.20969098007049,0]
[null,null,null,null,null,null,null,null,null,null,null,null,null,null,null,null,null,null,null,null,149.2944,444.30619999999999,null,null,null,"''",null,4.6363399999999997,-14.30402,null,{"$f":"AC451","v":-14.30402},{"$f":"IF(AB451*15/1>180, (AB451*15/1)-360, AB451*15/1)","v":69.545099999999991},null,{"$f":"camera!$B$5*COS(RADIANS(AE451))*COS(RADIANS(AF451))","v":169.31792431436935},{"$f":"camera!$B$5*COS(RADIANS(AE451))*SIN(RADIANS(AF451))","v":453.9503440147497},{"$f":"camera!$B$5*SIN(RADIANS(AE451))","v":-123.53350021254913},null,{"$f":"TRANSPOSE(MMULT(camera!$A$12:$C$14,MMULT(camera!$A$16:$C$18,TRANSPOSE(AH451:AJ451))))","v":40.566530511060733},-129.10923909071374,481.33684773109985,null,{"$f":"camera!$B$5*AM451/AN451","v":-134.11526636626931},{"$f":"camera!$B$5*AL451/AN451","v":42.139440084715204},null,{"$f":"IF( AND( (camera!$B$3) > (AQ451+camera!$B$3/2), 0 < (AQ451+camera!$B$3/2), AN451 >= 0 ), AQ451+camera!$B$3/2, 0)*-1+camera!$B$3","v":457.86055991528474},{"$f":"IF( AND( (camera!$B$4) > (AP451+camera!$B$4/2), 0 < (AP451+camera!$B$4/2), AN451 >= 0 ), AP451+camera!$B$4/2, 0)","v":365.88473363373066},null,null,null,3768.4182000000001,190.898,-118.38549999999999,null,{"$f":"MMULT(               MMULT(AX451:AZ451-$B$2:$D$2, TRANSPOSE($A$16:$C$18)),     TRANSPOSE($A$12:$C$14))","v":733.06880335199162},-8793.5055531603157,4793.9095598473996,null,-917.15388488057249,76.458347221649163," ",423.54165277835079,0]
[null,null,null,null,null,null,null,null,null,null,null,null,null,null,null,null,null,null,null,null,150.7655,138.44319999999999,null,null,null,"''",null,5.5202090000000004,-35.470519000000003,null,-35.470519000000003,82.803135000000012,null,{"$f":"camera!$B$5*COS(RADIANS(AE452))*COS(RADIANS(AF452))","v":51.014477776084249},{"$f":"camera!$B$5*COS(RADIANS(AE452))*SIN(RADIANS(AF452))","v":403.99894516983676},{"$f":"camera!$B$5*SIN(RADIANS(AE452))","v":-290.14199171938662},null,{"$f":"TRANSPOSE(MMULT(camera!$A$12:$C$14,MMULT(camera!$A$16:$C$18,TRANSPOSE(AH452:AJ452))))","v":215.07528290229823},-15.609524150906772,451.10859606116861,null,{"$f":"camera!$B$5*AM452/AN452","v":-17.301293177740931},{"$f":"camera!$B$5*AL452/AN452","v":238.38526330490811},null,{"$f":"IF( AND( (camera!$B$3) > (AQ452+camera!$B$3/2), 0 < (AQ452+camera!$B$3/2), AN452 >= 0 ), AQ452+camera!$B$3/2, 0)*-1+camera!$B$3","v":261.61473669509189},{"$f":"IF( AND( (camera!$B$4) > (AP452+camera!$B$4/2), 0 < (AP452+camera!$B$4/2), AN452 >= 0 ), AP452+camera!$B$4/2, 0)","v":482.69870682225906},null,null,null,3817.9207000000001,266.26100000000002,-118.38549999999999,null,{"$f":"MMULT(               MMULT(AX452:AZ452-$B$2:$D$2, TRANSPOSE($A$16:$C$18)),     TRANSPOSE($A$12:$C$14))","v":719.28276197040907},-8836.2513629619098,4872.0940856992656,null,{"$f":"$B$5*BC452/BD452","v":-906.82273448888975},{"$f":"$B$5*BB452/BD452","v":73.816591933402108}," ",{"$f":"IF( AND( ($B$3) > (BG452+$B$3/2), 0 < (BG452+$B$3/2), BD452 >= 0 ), BG452+$B$3/2, 0)*-1+$B$3","v":426.18340806659785},{"$f":"IF( AND( ($B$4) > (BF452+$B$4/2), 0 < (BF452+$B$4/2), BD452 >= 0 ), BF452+$B$4/2, 0)","v":0}]
[null,null,null,null,null,null,null,null,null,null,null,null,null,null,null,null,null,null,null,null,150.7655,548.44320000000005,null,null,null,"''",null,16.257297000000001,-63.685682,null,-63.685682,-116.14054499999997,null,{"$f":"camera!$B$5*COS(RADIANS(AE453))*COS(RADIANS(AF453))","v":-97.652291360689333},{"$f":"camera!$B$5*COS(RADIANS(AE453))*SIN(RADIANS(AF453))","v":-198.97660619788084},{"$f":"camera!$B$5*SIN(RADIANS(AE453))","v":-448.18784028349154},null,{"$f":"TRANSPOSE(MMULT(camera!$A$12:$C$14,MMULT(camera!$A$16:$C$18,TRANSPOSE(AH453:AJ453))))","v":477.27721681942705},79.938741007444506,-125.76269713729234,null,{"$f":"camera!$B$5*AM453/AN453","v":-317.81578650534652},{"$f":"camera!$B$5*AL453/AN453","v":-1897.5309359753717},null,{"$f":"IF( AND( (camera!$B$3) > (AQ453+camera!$B$3/2), 0 < (AQ453+camera!$B$3/2), AN453 >= 0 ), AQ453+camera!$B$3/2, 0)*-1+camera!$B$3","v":1000},{"$f":"IF( AND( (camera!$B$4) > (AP453+camera!$B$4/2), 0 < (AP453+camera!$B$4/2), AN453 >= 0 ), AP453+camera!$B$4/2, 0)","v":0},null,null,null,3774.4238,309.75790000000001,219.43389999999999,null,{"$f":"MMULT(               MMULT(AX453:AZ453-$B$2:$D$2, TRANSPOSE($A$16:$C$18)),     TRANSPOSE($A$12:$C$14))","v":379.72948340261337},-8789.128977171762,4852.3720318791011,null,-905.65283529673377,39.128232636313498," ",460.87176736368656,0]
[null,null,null,null,null,null,null,null,null,null,null,null,null,null,null,null,null,null,null,null,150.9014,48.415199999999999,null,null,null,"''",null,16.557608999999999,-78.897148000000001,null,-78.897148000000001,-111.63586500000002,null,{"$f":"camera!$B$5*COS(RADIANS(AE454))*COS(RADIANS(AF454))","v":-35.50105363865805},{"$f":"camera!$B$5*COS(RADIANS(AE454))*SIN(RADIANS(AF454))","v":-89.50170159389161},{"$f":"camera!$B$5*SIN(RADIANS(AE454))","v":-490.6415398255055},null,{"$f":"TRANSPOSE(MMULT(camera!$A$12:$C$14,MMULT(camera!$A$16:$C$18,TRANSPOSE(AH454:AJ454))))","v":499.20754690131844},27.565374131906939,-5.654667606139796,null,{"$f":"camera!$B$5*AM454/AN454","v":-2437.4000429288417},{"$f":"camera!$B$5*AL454/AN454","v":-44141.192875712324},null,{"$f":"IF( AND( (camera!$B$3) > (AQ454+camera!$B$3/2), 0 < (AQ454+camera!$B$3/2), AN454 >= 0 ), AQ454+camera!$B$3/2, 0)*-1+camera!$B$3","v":1000},{"$f":"IF( AND( (camera!$B$4) > (AP454+camera!$B$4/2), 0 < (AP454+camera!$B$4/2), AN454 >= 0 ), AP454+camera!$B$4/2, 0)","v":0},null,null,null,3711.7644,214.3648,219.43389999999999,null,{"$f":"MMULT(               MMULT(AX454:AZ454-$B$2:$D$2, TRANSPOSE($A$16:$C$18)),     TRANSPOSE($A$12:$C$14))","v":397.17960184296521},-8735.0220715896539,4753.4074924181577,null,-918.81687878877449,41.778408696969471," ",458.22159130303055,0]
[null,null,null,null,null,null,null,null,null,null,null,null,null,null,null,null,null,null,null,null,150.9014,458.41520000000003,null,null,null,"''",null,17.937550000000002,37.250539000000003,null,37.250539000000003,-90.936749999999961,null,{"$f":"camera!$B$5*COS(RADIANS(AE455))*COS(RADIANS(AF455))","v":-6.506729899237933},{"$f":"camera!$B$5*COS(RADIANS(AE455))*SIN(RADIANS(AF455))","v":-397.94496249325067},{"$f":"camera!$B$5*SIN(RADIANS(AE455))","v":302.65073813269254},null,{"$f":"TRANSPOSE(MMULT(camera!$A$12:$C$14,MMULT(camera!$A$16:$C$18,TRANSPOSE(AH455:AJ455))))","v":-229.11485569403089},-28.201218951252354,-443.52122175829072,null,{"$f":"camera!$B$5*AM455/AN455","v":31.792412141466137},{"$f":"camera!$B$5*AL455/AN455","v":258.29074738039645},null,{"$f":"IF( AND( (camera!$B$3) > (AQ455+camera!$B$3/2), 0 < (AQ455+camera!$B$3/2), AN455 >= 0 ), AQ455+camera!$B$3/2, 0)*-1+camera!$B$3","v":1000},{"$f":"IF( AND( (camera!$B$4) > (AP455+camera!$B$4/2), 0 < (AP455+camera!$B$4/2), AN455 >= 0 ), AP455+camera!$B$4/2, 0)","v":0},null,null,null,3768.4182000000001,190.898,118.38549999999999,null,{"$f":"MMULT(               MMULT(AX455:AZ455-$B$2:$D$2, TRANSPOSE($A$16:$C$18)),     TRANSPOSE($A$12:$C$14))","v":499.89488686353798},-8793.5055531603157,4752.7947071730232,null,-925.08787933644192,52.589572836912723," ",447.41042716308732,0]
[null,null,null,null,null,null,null,null,null,null,null,null,null,null,null,null,null,null,null,null,151.2157,75,null,null,null,"''",null,22.360938000000001,-1.3873310000000001,null,-1.3873310000000001,-24.585929999999962,null,{"$f":"camera!$B$5*COS(RADIANS(AE456))*COS(RADIANS(AF456))","v":454.53587517717494},{"$f":"camera!$B$5*COS(RADIANS(AE456))*SIN(RADIANS(AF456))","v":-207.96777033855022},{"$f":"camera!$B$5*SIN(RADIANS(AE456))","v":-12.105563899781401},null,{"$f":"TRANSPOSE(MMULT(camera!$A$12:$C$14,MMULT(camera!$A$16:$C$18,TRANSPOSE(AH456:AJ456))))","v":41.018311726638942},-470.93181443542386,-162.91324149882908,null,{"$f":"camera!$B$5*AM456/AN456","v":1445.3454185269791},{"$f":"camera!$B$5*AL456/AN456","v":-125.89004843701963},null,{"$f":"IF( AND( (camera!$B$3) > (AQ456+camera!$B$3/2), 0 < (AQ456+camera!$B$3/2), AN456 >= 0 ), AQ456+camera!$B$3/2, 0)*-1+camera!$B$3","v":1000},{"$f":"IF( AND( (camera!$B$4) > (AP456+camera!$B$4/2), 0 < (AP456+camera!$B$4/2), AN456 >= 0 ), AP456+camera!$B$4/2, 0)","v":0},null,null,null,3817.9207000000001,266.26100000000002,118.38549999999999,null,{"$f":"MMULT(               MMULT(AX456:AZ456-$B$2:$D$2, TRANSPOSE($A$16:$C$18)),     TRANSPOSE($A$12:$C$14))","v":486.10884548195543},-8836.2513629619098,4830.9792330248893,null,-914.54040027296332,50.311626487533175," ",449.6883735124668,0]
[null,null,null,null,null,null,null,null,null,null,null,null,null,null,null,null,null,null,null,null,151.2157,90,null,null,null,"''",null,3.763779,24.367747999999999,null,24.367747999999999,56.456685,null,{"$f":"camera!$B$5*COS(RADIANS(AE457))*COS(RADIANS(AF457))","v":251.67118338294736},{"$f":"camera!$B$5*COS(RADIANS(AE457))*SIN(RADIANS(AF457))","v":379.60983921963032},{"$f":"camera!$B$5*SIN(RADIANS(AE457))","v":206.2958686505217},null,{"$f":"TRANSPOSE(MMULT(camera!$A$12:$C$14,MMULT(camera!$A$16:$C$18,TRANSPOSE(AH457:AJ457))))","v":-272.63838904947119},-217.62832105706161,358.19857996702569,null,{"$f":"camera!$B$5*AM457/AN457","v":-303.78166361951463},{"$f":"camera!$B$5*AL457/AN457","v":-380.56877427399235},null,{"$f":"IF( AND( (camera!$B$3) > (AQ457+camera!$B$3/2), 0 < (AQ457+camera!$B$3/2), AN457 >= 0 ), AQ457+camera!$B$3/2, 0)*-1+camera!$B$3","v":880.5687742739924},{"$f":"IF( AND( (camera!$B$4) > (AP457+camera!$B$4/2), 0 < (AP457+camera!$B$4/2), AN457 >= 0 ), AP457+camera!$B$4/2, 0)","v":196.21833638048537},null,null,null,3630.6221999999998,453.55950000000001,310.32639999999998,null,{"$f":"MMULT(               MMULT(AX457:AZ457-$B$2:$D$2, TRANSPOSE($A$16:$C$18)),     TRANSPOSE($A$12:$C$14))","v":267.51833678340324},-8633.3414504183493,4965.3240215199521,null,-869.36335000505846,26.938658547152809," ",473.06134145284716,0]
[null,null,null,null,null,null,null,null,null,null,null,null,null,null,null,null,null,null,null,null,151.2157,105,null,null,null,"''",null,8.7671240000000008,-46.041527000000002,null,-46.041527000000002,131.50686000000002,null,{"$f":"camera!$B$5*COS(RADIANS(AE458))*COS(RADIANS(AF458))","v":-230.00560824716814},{"$f":"camera!$B$5*COS(RADIANS(AE458))*SIN(RADIANS(AF458))","v":259.9113356389779},{"$f":"camera!$B$5*SIN(RADIANS(AE458))","v":-359.92154392480148},null,{"$f":"TRANSPOSE(MMULT(camera!$A$12:$C$14,MMULT(camera!$A$16:$C$18,TRANSPOSE(AH458:AJ458))))","v":312.97314746445767},251.78313297334694,297.74664215792046,null,{"$f":"camera!$B$5*AM458/AN458","v":422.81439540098131},{"$f":"camera!$B$5*AL458/AN458","v":525.56956679038092},null,{"$f":"IF( AND( (camera!$B$3) > (AQ458+camera!$B$3/2), 0 < (AQ458+camera!$B$3/2), AN458 >= 0 ), AQ458+camera!$B$3/2, 0)*-1+camera!$B$3","v":1000},{"$f":"IF( AND( (camera!$B$4) > (AP458+camera!$B$4/2), 0 < (AP458+camera!$B$4/2), AN458 >= 0 ), AP458+camera!$B$4/2, 0)","v":922.81439540098131},null,null,null,3524.4659000000001,291.94639999999998,310.32639999999998,null,{"$f":"MMULT(               MMULT(AX458:AZ458-$B$2:$D$2, TRANSPOSE($A$16:$C$18)),     TRANSPOSE($A$12:$C$14))","v":297.08198149443137},-8541.6746169575636,4797.6602607486611,null,-890.19169269237295,30.961131608772209," ",469.03886839122777,0]
[null,null,null,null,null,null,null,null,null,null,null,null,null,null,null,null,null,null,null,null,151.2157,485,null,null,null,"''",null,13.977987000000001,-44.803584000000001,null,-44.803584000000001,-150.330195,null,{"$f":"camera!$B$5*COS(RADIANS(AE459))*COS(RADIANS(AF459))","v":-308.25119660291745},{"$f":"camera!$B$5*COS(RADIANS(AE459))*SIN(RADIANS(AF459))","v":-175.60814205018858},{"$f":"camera!$B$5*SIN(RADIANS(AE459))","v":-352.33929703987081},null,{"$f":"TRANSPOSE(MMULT(camera!$A$12:$C$14,MMULT(camera!$A$16:$C$18,TRANSPOSE(AH459:AJ459))))","v":382.0296742375229},291.77294968334218,-137.55680221295478,null,{"$f":"camera!$B$5*AM459/AN459","v":-1060.55442184401},{"$f":"camera!$B$5*AL459/AN459","v":-1388.6251646286969},null,{"$f":"IF( AND( (camera!$B$3) > (AQ459+camera!$B$3/2), 0 < (AQ459+camera!$B$3/2), AN459 >= 0 ), AQ459+camera!$B$3/2, 0)*-1+camera!$B$3","v":1000},{"$f":"IF( AND( (camera!$B$4) > (AP459+camera!$B$4/2), 0 < (AP459+camera!$B$4/2), AN459 >= 0 ), AP459+camera!$B$4/2, 0)","v":0},null,null,null,3625.5142000000001,250.0908,285.80790000000002,null,{"$f":"MMULT(               MMULT(AX459:AZ459-$B$2:$D$2, TRANSPOSE($A$16:$C$18)),     TRANSPOSE($A$12:$C$14))","v":326.93917253254267},-8645.9863535748973,4769.5281301203249,null,-906.37754068102947,34.273744028038124," ",465.7262559719619,0]
[null,null,null,null,null,null,null,null,null,null,null,null,null,null,null,null,null,null,null,null,151.2157,500,null,null,null,"''",null,14.717673,-5.658207,null,-5.658207,-139.234905,null,{"$f":"camera!$B$5*COS(RADIANS(AE460))*COS(RADIANS(AF460))","v":-376.85138845820489},{"$f":"camera!$B$5*COS(RADIANS(AE460))*SIN(RADIANS(AF460))","v":-324.88896797946978},{"$f":"camera!$B$5*SIN(RADIANS(AE460))","v":-49.296952262368798},null,{"$f":"TRANSPOSE(MMULT(camera!$A$12:$C$14,MMULT(camera!$A$16:$C$18,TRANSPOSE(AH460:AJ460))))","v":110.45314985658497},347.10141583580577,-342.52110710369061,null,{"$f":"camera!$B$5*AM460/AN460","v":-506.6861700448851},{"$f":"camera!$B$5*AL460/AN460","v":-161.23553784839856},null,{"$f":"IF( AND( (camera!$B$3) > (AQ460+camera!$B$3/2), 0 < (AQ460+camera!$B$3/2), AN460 >= 0 ), AQ460+camera!$B$3/2, 0)*-1+camera!$B$3","v":1000},{"$f":"IF( AND( (camera!$B$4) > (AP460+camera!$B$4/2), 0 < (AP460+camera!$B$4/2), AN460 >= 0 ), AP460+camera!$B$4/2, 0)","v":0},null,null,null,3708.2037999999998,375.97800000000001,285.80790000000002,null,{"$f":"MMULT(               MMULT(AX460:AZ460-$B$2:$D$2, TRANSPOSE($A$16:$C$18)),     TRANSPOSE($A$12:$C$14))","v":303.91081342510893},-8717.3895022638008,4900.1284444619414,null,-889.50622428235283,31.010494609440777," ",468.9895053905592,0]
[null,null,null,null,null,null,null,null,null,null,null,null,null,null,null,null,null,null,null,null,151.2157,515,null,null,null,"''",null,15.948077,-29.214072999999999,null,-29.214072999999999,-120.77884500000002,null,{"$f":"camera!$B$5*COS(RADIANS(AE461))*COS(RADIANS(AF461))","v":-223.31765591865243},{"$f":"camera!$B$5*COS(RADIANS(AE461))*SIN(RADIANS(AF461))","v":-374.93353353430678},{"$f":"camera!$B$5*SIN(RADIANS(AE461))","v":-244.03702585156464},null,{"$f":"TRANSPOSE(MMULT(camera!$A$12:$C$14,MMULT(camera!$A$16:$C$18,TRANSPOSE(AH461:AJ461))))","v":308.56811669102439},189.79025422025177,-344.62352903533235,null,{"$f":"camera!$B$5*AM461/AN461","v":-275.35881654904887},{"$f":"camera!$B$5*AL461/AN461","v":-447.68869606025737},null,{"$f":"IF( AND( (camera!$B$3) > (AQ461+camera!$B$3/2), 0 < (AQ461+camera!$B$3/2), AN461 >= 0 ), AQ461+camera!$B$3/2, 0)*-1+camera!$B$3","v":1000},{"$f":"IF( AND( (camera!$B$4) > (AP461+camera!$B$4/2), 0 < (AP461+camera!$B$4/2), AN461 >= 0 ), AP461+camera!$B$4/2, 0)","v":0},null,null,null,3486.8206,597.36120000000005,219.43389999999999,null,{"$f":"MMULT(               MMULT(AX461:AZ461-$B$2:$D$2, TRANSPOSE($A$16:$C$18)),     TRANSPOSE($A$12:$C$14))","v":334.33045024677756},-8477.5539149493634,5109.8427432440139,null,-829.53178218233563,32.714358058162659," ",467.2856419418373,0]
[null,null,null,null,null,null,null,null,null,null,null,null,null,null,null,null,null,null,null,null,153.18299999999999,142.81989999999999,null,null,null,"''",null,19.874547,1.0056609999999999,null,1.0056609999999999,-61.881795000000011,null,{"$f":"camera!$B$5*COS(RADIANS(AE462))*COS(RADIANS(AF462))","v":235.60977345062855},{"$f":"camera!$B$5*COS(RADIANS(AE462))*SIN(RADIANS(AF462))","v":-440.92065448149611},{"$f":"camera!$B$5*SIN(RADIANS(AE462))","v":8.7755971963517663},null,{"$f":"TRANSPOSE(MMULT(camera!$A$12:$C$14,MMULT(camera!$A$16:$C$18,TRANSPOSE(AH462:AJ462))))","v":64.065617776201947},-273.14197426423181,-413.87082346305993,null,{"$f":"camera!$B$5*AM462/AN462","v":329.9845734216284},{"$f":"camera!$B$5*AL462/AN462","v":-77.398084310623219},null,{"$f":"IF( AND( (camera!$B$3) > (AQ462+camera!$B$3/2), 0 < (AQ462+camera!$B$3/2), AN462 >= 0 ), AQ462+camera!$B$3/2, 0)*-1+camera!$B$3","v":1000},{"$f":"IF( AND( (camera!$B$4) > (AP462+camera!$B$4/2), 0 < (AP462+camera!$B$4/2), AN462 >= 0 ), AP462+camera!$B$4/2, 0)","v":0},null,null,null,3337.1673000000001,369.52800000000002,219.43389999999999,null,{"$f":"MMULT(               MMULT(AX462:AZ462-$B$2:$D$2, TRANSPOSE($A$16:$C$18)),     TRANSPOSE($A$12:$C$14))","v":376.00764004066502},-8348.3270627060065,4873.4796544731835,null,-856.50578791720113,38.576916977127603," ",461.42308302287245,0]
[null,null,null,null,null,null,null,null,null,null,null,null,null,null,null,null,null,null,null,null,153.18299999999999,552.81989999999996,null,null,null,"''",null,0.156836,-45.747425999999997,null,-45.747425999999997,2.3525399999999999,null,{"$f":"camera!$B$5*COS(RADIANS(AE463))*COS(RADIANS(AF463))","v":348.6172480021616},{"$f":"camera!$B$5*COS(RADIANS(AE463))*SIN(RADIANS(AF463))","v":14.322123278163607},{"$f":"camera!$B$5*SIN(RADIANS(AE463))","v":-358.13529731123185},null,{"$f":"TRANSPOSE(MMULT(camera!$A$12:$C$14,MMULT(camera!$A$16:$C$18,TRANSPOSE(AH463:AJ463))))","v":344.94074524408012},-346.04239883105669,106.16280177965579,null,{"$f":"camera!$B$5*AM463/AN463","v":-1629.7723544885264},{"$f":"camera!$B$5*AL463/AN463","v":1624.5838441604783},null,{"$f":"IF( AND( (camera!$B$3) > (AQ463+camera!$B$3/2), 0 < (AQ463+camera!$B$3/2), AN463 >= 0 ), AQ463+camera!$B$3/2, 0)*-1+camera!$B$3","v":1000},{"$f":"IF( AND( (camera!$B$4) > (AP463+camera!$B$4/2), 0 < (AP463+camera!$B$4/2), AN463 >= 0 ), AP463+camera!$B$4/2, 0)","v":0},null,null,null,3423.4175,333.80200000000002,285.80790000000002,null,{"$f":"MMULT(               MMULT(AX463:AZ463-$B$2:$D$2, TRANSPOSE($A$16:$C$18)),     TRANSPOSE($A$12:$C$14))","v":315.51680975422289},-8437.3627807207613,4834.3075684820869,null,-872.65473505753675,32.633092256197848," ",467.36690774380213,0]
[null,null,null,null,null,null,null,null,null,null,null,null,null,null,null,null,null,null,null,null,153.23410000000001,43.992600000000003,null,null,null,"''",null,1.8921699999999999,19.293852000000001,null,19.293852000000001,28.382549999999998,null,{"$f":"camera!$B$5*COS(RADIANS(AE464))*COS(RADIANS(AF464))","v":415.19051707367754},{"$f":"camera!$B$5*COS(RADIANS(AE464))*SIN(RADIANS(AF464))","v":224.32928330523765},{"$f":"camera!$B$5*SIN(RADIANS(AE464))","v":165.20655914294298},null,{"$f":"TRANSPOSE(MMULT(camera!$A$12:$C$14,MMULT(camera!$A$16:$C$18,TRANSPOSE(AH464:AJ464))))","v":-207.78651265999144},-394.05900650025006,227.02921519627174,null,{"$f":"camera!$B$5*AM464/AN464","v":-867.85968528230478},{"$f":"camera!$B$5*AL464/AN464","v":-457.62064692941709},null,{"$f":"IF( AND( (camera!$B$3) > (AQ464+camera!$B$3/2), 0 < (AQ464+camera!$B$3/2), AN464 >= 0 ), AQ464+camera!$B$3/2, 0)*-1+camera!$B$3","v":957.62064692941703},{"$f":"IF( AND( (camera!$B$4) > (AP464+camera!$B$4/2), 0 < (AP464+camera!$B$4/2), AN464 >= 0 ), AP464+camera!$B$4/2, 0)","v":0},null,null,null,3553.0405999999998,531.14110000000005,285.80790000000002,null,{"$f":"MMULT(               MMULT(AX464:AZ464-$B$2:$D$2, TRANSPOSE($A$16:$C$18)),     TRANSPOSE($A$12:$C$14))","v":279.41786062741755},-8549.2933898573247,5039.0348823722434,null,-848.30662908931322,27.725335024459593," ",472.27466497554042,0]
[null,null,null,null,null,null,null,null,null,null,null,null,null,null,null,null,null,null,null,null,153.23410000000001,453.99259999999998,null,null,null,"''",null,9.8793980000000001,26.006951000000001,null,26.006951000000001,148.19096999999999,null,{"$f":"camera!$B$5*COS(RADIANS(AE465))*COS(RADIANS(AF465))","v":-381.87931888761307},{"$f":"camera!$B$5*COS(RADIANS(AE465))*SIN(RADIANS(AF465))","v":236.85854009649307},{"$f":"camera!$B$5*SIN(RADIANS(AE465))","v":219.24009165590735},null,{"$f":"TRANSPOSE(MMULT(camera!$A$12:$C$14,MMULT(camera!$A$16:$C$18,TRANSPOSE(AH465:AJ465))))","v":-251.10335554028688},401.06973477496297,161.52452657088679,null,{"$f":"camera!$B$5*AM465/AN465","v":1241.5134199416741},{"$f":"camera!$B$5*AL465/AN465","v":-777.29172426977357},null,{"$f":"IF( AND( (camera!$B$3) > (AQ465+camera!$B$3/2), 0 < (AQ465+camera!$B$3/2), AN465 >= 0 ), AQ465+camera!$B$3/2, 0)*-1+camera!$B$3","v":1000},{"$f":"IF( AND( (camera!$B$4) > (AP465+camera!$B$4/2), 0 < (AP465+camera!$B$4/2), AN465 >= 0 ), AP465+camera!$B$4/2, 0)","v":0},null,null,null,3375.5349999999999,102.60469999999999,285.80790000000002,null,{"$f":"MMULT(               MMULT(AX465:AZ465-$B$2:$D$2, TRANSPOSE($A$16:$C$18)),     TRANSPOSE($A$12:$C$14))","v":356.23570279078581},-8409.8126604921363,4603.3792506888694,null,-913.43904146433908,38.692847513864642," ",461.30715248613535,0]
[null,null,null,null,null,null,null,null,null,null,null,null,null,null,null,null,null,null,null,null,153.3432,152.16220000000001,null,null,null,"''",null,15.198918000000001,-48.737819000000002,null,-48.737819000000002,-132.01622999999998,null,{"$f":"camera!$B$5*COS(RADIANS(AE466))*COS(RADIANS(AF466))","v":-220.71711135240753},{"$f":"camera!$B$5*COS(RADIANS(AE466))*SIN(RADIANS(AF466))","v":-244.99158993434142},{"$f":"camera!$B$5*SIN(RADIANS(AE466))","v":-375.84980726041675},null,{"$f":"TRANSPOSE(MMULT(camera!$A$12:$C$14,MMULT(camera!$A$16:$C$18,TRANSPOSE(AH466:AJ466))))","v":415.8606898086},198.52479211973659,-194.0303934586814,null,{"$f":"camera!$B$5*AM466/AN466","v":-511.58168723193427},{"$f":"camera!$B$5*AL466/AN466","v":-1071.6380109211013},null,{"$f":"IF( AND( (camera!$B$3) > (AQ466+camera!$B$3/2), 0 < (AQ466+camera!$B$3/2), AN466 >= 0 ), AQ466+camera!$B$3/2, 0)*-1+camera!$B$3","v":1000},{"$f":"IF( AND( (camera!$B$4) > (AP466+camera!$B$4/2), 0 < (AP466+camera!$B$4/2), AN466 >= 0 ), AP466+camera!$B$4/2, 0)","v":0},null,null,null,3281.8856999999998,102.60469999999999,219.43389999999999,null,{"$f":"MMULT(               MMULT(AX466:AZ466-$B$2:$D$2, TRANSPOSE($A$16:$C$18)),     TRANSPOSE($A$12:$C$14))","v":423.01866191727345},-8316.5197243521325,4606.8669007827239,null,-902.62209691136559,45.911752067918542," ",454.08824793208146,0]
[null,null,null,null,null,null,null,null,null,null,null,null,null,null,null,null,null,null,null,null,153.3432,562.16219999999998,null,null,null,"''",null,23.172640000000001,-45.246710999999998,null,-45.246710999999998,-12.410399999999981,null,{"$f":"camera!$B$5*COS(RADIANS(AE467))*COS(RADIANS(AF467))","v":343.8020132512533},{"$f":"camera!$B$5*COS(RADIANS(AE467))*SIN(RADIANS(AF467))","v":-75.655199276581456},{"$f":"camera!$B$5*SIN(RADIANS(AE467))","v":-355.07248063853916},null,{"$f":"TRANSPOSE(MMULT(camera!$A$12:$C$14,MMULT(camera!$A$16:$C$18,TRANSPOSE(AH467:AJ467))))","v":357.56227804154736},-349.08752787983912,16.944474039688401,null,{"$f":"camera!$B$5*AM467/AN467","v":-10300.925453991213},{"$f":"camera!$B$5*AL467/AN467","v":10550.999612146199},null,{"$f":"IF( AND( (camera!$B$3) > (AQ467+camera!$B$3/2), 0 < (AQ467+camera!$B$3/2), AN467 >= 0 ), AQ467+camera!$B$3/2, 0)*-1+camera!$B$3","v":1000},{"$f":"IF( AND( (camera!$B$4) > (AP467+camera!$B$4/2), 0 < (AP467+camera!$B$4/2), AN467 >= 0 ), AP467+camera!$B$4/2, 0)","v":0},null,null,null,3280.5135,392.99470000000002,118.38549999999999,null,{"$f":"MMULT(               MMULT(AX467:AZ467-$B$2:$D$2, TRANSPOSE($A$16:$C$18)),     TRANSPOSE($A$12:$C$14))","v":472.31886781778917},-8289.8435898509197,4909.18608264461,null,-844.31955219195186,48.105618718301663," ",451.89438128169832,0]
[null,null,null,null,null,null,null,null,null,null,null,null,null,null,null,null,null,null,null,null,154.2944,34.306199999999997,null,null,null,"''",null,2.940458,-8.8981440000000003,null,-8.8981440000000003,44.106870000000001,null,{"$f":"camera!$B$5*COS(RADIANS(AE468))*COS(RADIANS(AF468))","v":354.70055782665327},{"$f":"camera!$B$5*COS(RADIANS(AE468))*SIN(RADIANS(AF468))","v":343.81123271530527},{"$f":"camera!$B$5*SIN(RADIANS(AE468))","v":-77.339191463598723},null,{"$f":"TRANSPOSE(MMULT(camera!$A$12:$C$14,MMULT(camera!$A$16:$C$18,TRANSPOSE(AH468:AJ468))))","v":11.32103335885796},-323.38569176480621,381.17388232338971,null,{"$f":"camera!$B$5*AM468/AN468","v":-424.19707482797088},{"$f":"camera!$B$5*AL468/AN468","v":14.850221754245405},null,{"$f":"IF( AND( (camera!$B$3) > (AQ468+camera!$B$3/2), 0 < (AQ468+camera!$B$3/2), AN468 >= 0 ), AQ468+camera!$B$3/2, 0)*-1+camera!$B$3","v":485.14977824575465},{"$f":"IF( AND( (camera!$B$4) > (AP468+camera!$B$4/2), 0 < (AP468+camera!$B$4/2), AN468 >= 0 ), AP468+camera!$B$4/2, 0)","v":75.80292517202912},null,null,null,3443.3236000000002,640.85810000000004,118.38549999999999,null,{"$f":"MMULT(               MMULT(AX468:AZ468-$B$2:$D$2, TRANSPOSE($A$16:$C$18)),     TRANSPOSE($A$12:$C$14))","v":426.97758517983675},-8430.4314295397453,5166.3292745473782,null,-815.90148261294621,41.32310993836569," ",458.67689006163437,0]
[null,null,null,null,null,null,null,null,null,null,null,null,null,null,null,null,null,null,null,null,154.2944,444.30619999999999,null,null,null,"''",null,6.902209,-24.184211000000001,null,-24.184211000000001,103.533135,null,{"$f":"camera!$B$5*COS(RADIANS(AE469))*COS(RADIANS(AF469))","v":-106.73476034736214},{"$f":"camera!$B$5*COS(RADIANS(AE469))*SIN(RADIANS(AF469))","v":443.45233407286383},{"$f":"camera!$B$5*SIN(RADIANS(AE469))","v":-204.83583265366531},null,{"$f":"TRANSPOSE(MMULT(camera!$A$12:$C$14,MMULT(camera!$A$16:$C$18,TRANSPOSE(AH469:AJ469))))","v":126.62762287969984},144.9780199094383,461.46161147702747,null,{"$f":"camera!$B$5*AM469/AN469","v":157.08567766384573},{"$f":"camera!$B$5*AL469/AN469","v":137.20277020920042},null,{"$f":"IF( AND( (camera!$B$3) > (AQ469+camera!$B$3/2), 0 < (AQ469+camera!$B$3/2), AN469 >= 0 ), AQ469+camera!$B$3/2, 0)*-1+camera!$B$3","v":362.79722979079952},{"$f":"IF( AND( (camera!$B$4) > (AP469+camera!$B$4/2), 0 < (AP469+camera!$B$4/2), AN469 >= 0 ), AP469+camera!$B$4/2, 0)","v":657.08567766384567},null,null,null,3220.3717999999999,102.60469999999999,118.38549999999999,null,{"$f":"MMULT(               MMULT(AX469:AZ469-$B$2:$D$2, TRANSPOSE($A$16:$C$18)),     TRANSPOSE($A$12:$C$14))","v":523.46288784334354},-8255.2399033131878,4619.1339316915191,null,-893.59174527010657,56.662449669612883," ",443.3375503303871,0]
[null,null,null,null,null,null,null,null,null,null,null,null,null,null,null,null,null,null,null,null,155.5667,39.570099999999996,null,null,null,"''",null,9.2394049999999996,2.3142800000000001,null,2.3142800000000001,138.59107499999999,null,{"$f":"camera!$B$5*COS(RADIANS(AE470))*COS(RADIANS(AF470))","v":-374.69815621586315},{"$f":"camera!$B$5*COS(RADIANS(AE470))*SIN(RADIANS(AF470))","v":330.44460806835218},{"$f":"camera!$B$5*SIN(RADIANS(AE470))","v":20.190411758697412},null,{"$f":"TRANSPOSE(MMULT(camera!$A$12:$C$14,MMULT(camera!$A$16:$C$18,TRANSPOSE(AH470:AJ470))))","v":-71.375580395217142},402.07246186015152,288.51908418155449,null,{"$f":"camera!$B$5*AM470/AN470","v":696.78659732460198},{"$f":"camera!$B$5*AL470/AN470","v":-123.69299694280033},null,{"$f":"IF( AND( (camera!$B$3) > (AQ470+camera!$B$3/2), 0 < (AQ470+camera!$B$3/2), AN470 >= 0 ), AQ470+camera!$B$3/2, 0)*-1+camera!$B$3","v":623.69299694280039},{"$f":"IF( AND( (camera!$B$4) > (AP470+camera!$B$4/2), 0 < (AP470+camera!$B$4/2), AN470 >= 0 ), AP470+camera!$B$4/2, 0)","v":0},null,null,null,3981.5770000000002,802.29600000000005,-219.43389999999999,null,{"$f":"MMULT(               MMULT(AX470:AZ470-$B$2:$D$2, TRANSPOSE($A$16:$C$18)),     TRANSPOSE($A$12:$C$14))","v":723.59186623505218},-8952.5663727674801,5429.5704843132498,null,-824.42675701813187,66.634356099216802," ",433.3656439007832,0]
[null,null,null,null,null,null,null,null,null,null,null,null,null,null,null,null,null,null,null,null,155.5667,449.57010000000002,null,null,null,"''",null,12.331766,-0.66680300000000003,null,-0.66680300000000003,-175.02350999999999,null,{"$f":"camera!$B$5*COS(RADIANS(AE471))*COS(RADIANS(AF471))","v":-498.08145608314635},{"$f":"camera!$B$5*COS(RADIANS(AE471))*SIN(RADIANS(AF471))","v":-43.370547727580906},{"$f":"camera!$B$5*SIN(RADIANS(AE471))","v":-5.8188225529200936},null,{"$f":"TRANSPOSE(MMULT(camera!$A$12:$C$14,MMULT(camera!$A$16:$C$18,TRANSPOSE(AH471:AJ471))))","v":20.771161458751706},492.4061134672769,-84.289846788955927,null,{"$f":"camera!$B$5*AM471/AN471","v":-2920.9100041441434},{"$f":"camera!$B$5*AL471/AN471","v":-123.21271333401717},null,{"$f":"IF( AND( (camera!$B$3) > (AQ471+camera!$B$3/2), 0 < (AQ471+camera!$B$3/2), AN471 >= 0 ), AQ471+camera!$B$3/2, 0)*-1+camera!$B$3","v":1000},{"$f":"IF( AND( (camera!$B$4) > (AP471+camera!$B$4/2), 0 < (AP471+camera!$B$4/2), AN471 >= 0 ), AP471+camera!$B$4/2, 0)","v":0},null,null,null,3714.6538,747.01440000000002,-219.43389999999999,null,{"$f":"MMULT(               MMULT(AX471:AZ471-$B$2:$D$2, TRANSPOSE($A$16:$C$18)),     TRANSPOSE($A$12:$C$14))","v":737.19461821204186},-8691.4770050380757,5352.4254443293794,null,-811.91948355359625,68.865472847740634," ",431.13452715225935,0]
[null,null,null,null,null,null,null,null,null,null,null,null,null,null,null,null,null,null,null,null,155.60050000000001,147.19659999999999,null,null,null,"''",null,19.938438000000001,35.083424000000001,null,35.083424000000001,-60.923429999999996,null,{"$f":"camera!$B$5*COS(RADIANS(AE472))*COS(RADIANS(AF472))","v":198.84180642126225},{"$f":"camera!$B$5*COS(RADIANS(AE472))*SIN(RADIANS(AF472))","v":-357.59225315787177},{"$f":"camera!$B$5*SIN(RADIANS(AE472))","v":287.38426627184344},null,{"$f":"TRANSPOSE(MMULT(camera!$A$12:$C$14,MMULT(camera!$A$16:$C$18,TRANSPOSE(AH472:AJ472))))","v":-224.16866013044415},-229.25137174062959,-383.65638320033338,null,{"$f":"camera!$B$5*AM472/AN472","v":298.77174182310125},{"$f":"camera!$B$5*AL472/AN472","v":292.14770032040661},null,{"$f":"IF( AND( (camera!$B$3) > (AQ472+camera!$B$3/2), 0 < (AQ472+camera!$B$3/2), AN472 >= 0 ), AQ472+camera!$B$3/2, 0)*-1+camera!$B$3","v":1000},{"$f":"IF( AND( (camera!$B$4) > (AP472+camera!$B$4/2), 0 < (AP472+camera!$B$4/2), AN472 >= 0 ), AP472+camera!$B$4/2, 0)","v":0},null,null,null,3691.1869999999999,803.66819999999996,-118.38549999999999,null,{"$f":"MMULT(               MMULT(AX472:AZ472-$B$2:$D$2, TRANSPOSE($A$16:$C$18)),     TRANSPOSE($A$12:$C$14))","v":628.23613402501928},-8663.1617992784195,5388.4451715034529,null,-803.86470712304515,58.294750529096731," ",441.70524947090325,0]
[null,null,null,null,null,null,null,null,null,null,null,null,null,null,null,null,null,null,null,null,155.60050000000001,557.19659999999999,null,null,null,"''",null,9.6642670000000006,-1.1428100000000001,null,-1.1428100000000001,144.96400500000001,null,{"$f":"camera!$B$5*COS(RADIANS(AE473))*COS(RADIANS(AF473))","v":-409.31433875861302},{"$f":"camera!$B$5*COS(RADIANS(AE473))*SIN(RADIANS(AF473))","v":286.98837357730451},{"$f":"camera!$B$5*SIN(RADIANS(AE473))","v":-9.9722373644461371},null,{"$f":"TRANSPOSE(MMULT(camera!$A$12:$C$14,MMULT(camera!$A$16:$C$18,TRANSPOSE(AH473:AJ473))))","v":-33.629892537112283},432.76945898333133,248.15242432669675,null,{"$f":"camera!$B$5*AM473/AN473","v":871.98313729464769},{"$f":"camera!$B$5*AL473/AN473","v":-67.760556094422796},null,{"$f":"IF( AND( (camera!$B$3) > (AQ473+camera!$B$3/2), 0 < (AQ473+camera!$B$3/2), AN473 >= 0 ), AQ473+camera!$B$3/2, 0)*-1+camera!$B$3","v":567.76055609442278},{"$f":"IF( AND( (camera!$B$4) > (AP473+camera!$B$4/2), 0 < (AP473+camera!$B$4/2), AN473 >= 0 ), AP473+camera!$B$4/2, 0)","v":0},null,null,null,3981.5770000000002,863.80989999999997,-118.38549999999999,null,{"$f":"MMULT(               MMULT(AX473:AZ473-$B$2:$D$2, TRANSPOSE($A$16:$C$18)),     TRANSPOSE($A$12:$C$14))","v":613.43748923440501},-8947.2050831236756,5472.3724566594447,null,-817.48868100485697,56.048587161487887," ",443.95141283851217,0]
[null,null,null,null,null,null,null,null,null,null,null,null,null,null,null,null,null,null,null,null,156.2157,75,null,null,null,"''",null,11.350116999999999,-54.491019000000001,null,-54.491019000000001,170.25175499999997,null,{"$f":"camera!$B$5*COS(RADIANS(AE474))*COS(RADIANS(AF474))","v":-286.22204496289623},{"$f":"camera!$B$5*COS(RADIANS(AE474))*SIN(RADIANS(AF474))","v":49.172916432547673},{"$f":"camera!$B$5*SIN(RADIANS(AE474))","v":-407.01224215836004},null,{"$f":"TRANSPOSE(MMULT(camera!$A$12:$C$14,MMULT(camera!$A$16:$C$18,TRANSPOSE(AH474:AJ474))))","v":396.65432617611361},289.41858572376162,94.35161770436639,null,{"$f":"camera!$B$5*AM474/AN474","v":1533.7234949728263},{"$f":"camera!$B$5*AL474/AN474","v":2102.0006642544154},null,{"$f":"IF( AND( (camera!$B$3) > (AQ474+camera!$B$3/2), 0 < (AQ474+camera!$B$3/2), AN474 >= 0 ), AQ474+camera!$B$3/2, 0)*-1+camera!$B$3","v":1000},{"$f":"IF( AND( (camera!$B$4) > (AP474+camera!$B$4/2), 0 < (AP474+camera!$B$4/2), AN474 >= 0 ), AP474+camera!$B$4/2, 0)","v":0},null,null,null,3981.5770000000002,886.53309999999999,0,null,{"$f":"MMULT(               MMULT(AX474:AZ474-$B$2:$D$2, TRANSPOSE($A$16:$C$18)),     TRANSPOSE($A$12:$C$14))","v":492.91970384053946},-8945.2246257500719,5474.1078588720611,null,-817.04862749938889,45.02283445526642," ",454.97716554473357,0]
[null,null,null,null,null,null,null,null,null,null,null,null,null,null,null,null,null,null,null,null,156.2157,90,null,null,null,"''",null,13.517405,-39.407307000000003,null,-39.407307000000003,-157.23892499999999,null,{"$f":"camera!$B$5*COS(RADIANS(AE475))*COS(RADIANS(AF475))","v":-356.24161381762275},{"$f":"camera!$B$5*COS(RADIANS(AE475))*SIN(RADIANS(AF475))","v":-149.4654812944672},{"$f":"camera!$B$5*SIN(RADIANS(AE475))","v":-317.41452784336923},null,{"$f":"TRANSPOSE(MMULT(camera!$A$12:$C$14,MMULT(camera!$A$16:$C$18,TRANSPOSE(AH475:AJ475))))","v":343.83944789946071},341.85923188740742,-122.09299587423452,null,{"$f":"camera!$B$5*AM475/AN475","v":-1399.9952636085268},{"$f":"camera!$B$5*AL475/AN475","v":-1408.1047214765811},null,{"$f":"IF( AND( (camera!$B$3) > (AQ475+camera!$B$3/2), 0 < (AQ475+camera!$B$3/2), AN475 >= 0 ), AQ475+camera!$B$3/2, 0)*-1+camera!$B$3","v":1000},{"$f":"IF( AND( (camera!$B$4) > (AP475+camera!$B$4/2), 0 < (AP475+camera!$B$4/2), AN475 >= 0 ), AP475+camera!$B$4/2, 0)","v":0},null,null,null,3682.5183999999999,824.596,0,null,{"$f":"MMULT(               MMULT(AX475:AZ475-$B$2:$D$2, TRANSPOSE($A$16:$C$18)),     TRANSPOSE($A$12:$C$14))","v":508.16012456926137},-8652.7022079654671,5387.6751378699355,null,-803.00890333435996,47.159499372689254," ",452.8405006273108,0]
[null,null,null,null,null,null,null,null,null,null,null,null,null,null,null,null,null,null,null,null,156.2157,105,null,null,null,"''",null,4.0526059999999999,5.9893049999999999,null,5.9893049999999999,60.789090000000002,null,{"$f":"camera!$B$5*COS(RADIANS(AE476))*COS(RADIANS(AF476))","v":242.6809625281482},{"$f":"camera!$B$5*COS(RADIANS(AE476))*SIN(RADIANS(AF476))","v":434.03236555651728},{"$f":"camera!$B$5*SIN(RADIANS(AE476))","v":52.171410521714897},null,{"$f":"TRANSPOSE(MMULT(camera!$A$12:$C$14,MMULT(camera!$A$16:$C$18,TRANSPOSE(AH476:AJ476))))","v":-130.13377683598861},-203.92907500174147,437.58214371170953,null,{"$f":"camera!$B$5*AM476/AN476","v":-233.01804921922869},{"$f":"camera!$B$5*AL476/AN476","v":-148.69639758623711},null,{"$f":"IF( AND( (camera!$B$3) > (AQ476+camera!$B$3/2), 0 < (AQ476+camera!$B$3/2), AN476 >= 0 ), AQ476+camera!$B$3/2, 0)*-1+camera!$B$3","v":648.69639758623714},{"$f":"IF( AND( (camera!$B$4) > (AP476+camera!$B$4/2), 0 < (AP476+camera!$B$4/2), AN476 >= 0 ), AP476+camera!$B$4/2, 0)","v":266.98195078077129},null,null,null,3981.5770000000002,598.9298,-310.32639999999998,null,{"$f":"MMULT(               MMULT(AX476:AZ476-$B$2:$D$2, TRANSPOSE($A$16:$C$18)),     TRANSPOSE($A$12:$C$14))","v":848.28329387616282},-8970.2909049782502,5245.8393038091745,null,-854.99101149215835,80.852962199985498," ",419.14703780001446,0]
[null,null,null,null,null,null,null,null,null,null,null,null,null,null,null,null,null,null,null,null,156.2157,485,null,null,null,"''",null,8.4276759999999999,-3.9064239999999999,null,-3.9064239999999999,126.41513999999999,null,{"$f":"camera!$B$5*COS(RADIANS(AE477))*COS(RADIANS(AF477))","v":-296.12616874076195},{"$f":"camera!$B$5*COS(RADIANS(AE477))*SIN(RADIANS(AF477))","v":401.43363713869115},{"$f":"camera!$B$5*SIN(RADIANS(AE477))","v":-34.063575275055967},null,{"$f":"TRANSPOSE(MMULT(camera!$A$12:$C$14,MMULT(camera!$A$16:$C$18,TRANSPOSE(AH477:AJ477))))","v":-31.415183176786059},329.98656607448515,374.32866905480057,null,{"$f":"camera!$B$5*AM477/AN477","v":440.77116362436044},{"$f":"camera!$B$5*AL477/AN477","v":-41.962031997323415},null,{"$f":"IF( AND( (camera!$B$3) > (AQ477+camera!$B$3/2), 0 < (AQ477+camera!$B$3/2), AN477 >= 0 ), AQ477+camera!$B$3/2, 0)*-1+camera!$B$3","v":541.96203199732349},{"$f":"IF( AND( (camera!$B$4) > (AP477+camera!$B$4/2), 0 < (AP477+camera!$B$4/2), AN477 >= 0 ), AP477+camera!$B$4/2, 0)","v":940.7711636243605},null,null,null,3792.2354,559.71590000000003,-310.32639999999998,null,{"$f":"MMULT(               MMULT(AX477:AZ477-$B$2:$D$2, TRANSPOSE($A$16:$C$18)),     TRANSPOSE($A$12:$C$14))","v":857.93238255145877},-8785.0875235105723,5191.1166026290894,null,-846.16549732877149,82.634666895841917," ",417.36533310415803,0]
[null,null,null,null,null,null,null,null,null,null,null,null,null,null,null,null,null,null,null,null,156.2157,500,null,null,null,"''",null,12.467331,-50.230634999999999,null,-50.230634999999999,-172.99003500000001,null,{"$f":"camera!$B$5*COS(RADIANS(AE478))*COS(RADIANS(AF478))","v":-317.45851720648352},{"$f":"camera!$B$5*COS(RADIANS(AE478))*SIN(RADIANS(AF478))","v":-39.03505127123983},{"$f":"camera!$B$5*SIN(RADIANS(AE478))","v":-384.31283432291525},null,{"$f":"TRANSPOSE(MMULT(camera!$A$12:$C$14,MMULT(camera!$A$16:$C$18,TRANSPOSE(AH478:AJ478))))","v":390.03138619444269},312.8483628184282,1.1914969872371586,null,{"$f":"camera!$B$5*AM478/AN478","v":131283.74060930716},{"$f":"camera!$B$5*AL478/AN478","v":163672.83777143527},null,{"$f":"IF( AND( (camera!$B$3) > (AQ478+camera!$B$3/2), 0 < (AQ478+camera!$B$3/2), AN478 >= 0 ), AQ478+camera!$B$3/2, 0)*-1+camera!$B$3","v":1000},{"$f":"IF( AND( (camera!$B$4) > (AP478+camera!$B$4/2), 0 < (AP478+camera!$B$4/2), AN478 >= 0 ), AP478+camera!$B$4/2, 0)","v":0},null,null,null,3750.3798000000002,660.76419999999996,-285.80790000000002,null,{"$f":"MMULT(               MMULT(AX478:AZ478-$B$2:$D$2, TRANSPOSE($A$16:$C$18)),     TRANSPOSE($A$12:$C$14))","v":816.9397524769804},-8734.5842570652367,5282.4009462178346,null,-826.76271131209216,77.326556692170826," ",422.67344330782919,0]
[null,null,null,null,null,null,null,null,null,null,null,null,null,null,null,null,null,null,null,null,156.2157,515,null,null,null,"''",null,15.085303,-47.051245000000002,null,-47.051245000000002,-133.72045500000002,null,{"$f":"camera!$B$5*COS(RADIANS(AE479))*COS(RADIANS(AF479))","v":-235.45219598501362},{"$f":"camera!$B$5*COS(RADIANS(AE479))*SIN(RADIANS(AF479))","v":-246.21060992151382},{"$f":"camera!$B$5*SIN(RADIANS(AE479))","v":-365.98169212121923},null,{"$f":"TRANSPOSE(MMULT(camera!$A$12:$C$14,MMULT(camera!$A$16:$C$18,TRANSPOSE(AH479:AJ479))))","v":406.57637579649764},213.09756071426568,-198.20464238209695,null,{"$f":"camera!$B$5*AM479/AN479","v":-537.56954971684854},{"$f":"camera!$B$5*AL479/AN479","v":-1025.6479639177767},null,{"$f":"IF( AND( (camera!$B$3) > (AQ479+camera!$B$3/2), 0 < (AQ479+camera!$B$3/2), AN479 >= 0 ), AQ479+camera!$B$3/2, 0)*-1+camera!$B$3","v":1000},{"$f":"IF( AND( (camera!$B$4) > (AP479+camera!$B$4/2), 0 < (AP479+camera!$B$4/2), AN479 >= 0 ), AP479+camera!$B$4/2, 0)","v":0},null,null,null,3981.5770000000002,708.64670000000001,-285.80790000000002,null,{"$f":"MMULT(               MMULT(AX479:AZ479-$B$2:$D$2, TRANSPOSE($A$16:$C$18)),     TRANSPOSE($A$12:$C$14))","v":805.15764438339329},-8960.7284470667801,5349.2206016457658,null,-837.57327603108024,75.25934190634004," ",424.74065809365993,0]
[null,null,null,null,null,null,null,null,null,null,null,null,null,null,null,null,null,null,null,null,157.89940000000001,35.147599999999997,null,null,null,"''",null,15.592105,-14.789536999999999,null,-14.789536999999999,-126.118425,null,{"$f":"camera!$B$5*COS(RADIANS(AE480))*COS(RADIANS(AF480))","v":-284.96374364898247},{"$f":"camera!$B$5*COS(RADIANS(AE480))*SIN(RADIANS(AF480))","v":-390.51898019755259},{"$f":"camera!$B$5*SIN(RADIANS(AE480))","v":-127.63459919246233},null,{"$f":"TRANSPOSE(MMULT(camera!$A$12:$C$14,MMULT(camera!$A$16:$C$18,TRANSPOSE(AH480:AJ480))))","v":197.56316901246186},249.84339879531598,-385.41804618901551,null,{"$f":"camera!$B$5*AM480/AN480","v":-324.12000588159867},{"$f":"camera!$B$5*AL480/AN480","v":-256.29724784030162},null,{"$f":"IF( AND( (camera!$B$3) > (AQ480+camera!$B$3/2), 0 < (AQ480+camera!$B$3/2), AN480 >= 0 ), AQ480+camera!$B$3/2, 0)*-1+camera!$B$3","v":1000},{"$f":"IF( AND( (camera!$B$4) > (AP480+camera!$B$4/2), 0 < (AP480+camera!$B$4/2), AN480 >= 0 ), AP480+camera!$B$4/2, 0)","v":0},null,null,null,3981.5770000000002,395.56360000000001,-219.43389999999999,null,{"$f":"MMULT(               MMULT(AX480:AZ480-$B$2:$D$2, TRANSPOSE($A$16:$C$18)),     TRANSPOSE($A$12:$C$14))","v":793.95144413594937},-8988.0154371890185,5030.5414893279149,null,-893.34472802348614,78.913119573736196," ",421.08688042626386,0]
[null,null,null,null,null,null,null,null,null,null,null,null,null,null,null,null,null,null,null,null,157.89940000000001,445.14760000000001,null,null,null,"''",null,16.329011000000001,46.313366000000002,null,46.313366000000002,-115.06483499999999,null,{"$f":"camera!$B$5*COS(RADIANS(AE481))*COS(RADIANS(AF481))","v":-146.30821156450494},{"$f":"camera!$B$5*COS(RADIANS(AE481))*SIN(RADIANS(AF481))","v":-312.83425993888807},{"$f":"camera!$B$5*SIN(RADIANS(AE481))","v":361.5641478870441},null,{"$f":"TRANSPOSE(MMULT(camera!$A$12:$C$14,MMULT(camera!$A$16:$C$18,TRANSPOSE(AH481:AJ481))))","v":-299.74050044333882},118.4861623659575,-382.25209184746757,null,{"$f":"camera!$B$5*AM481/AN481","v":-154.98432172509573},{"$f":"camera!$B$5*AL481/AN481","v":392.07175949601623},null,{"$f":"IF( AND( (camera!$B$3) > (AQ481+camera!$B$3/2), 0 < (AQ481+camera!$B$3/2), AN481 >= 0 ), AQ481+camera!$B$3/2, 0)*-1+camera!$B$3","v":1000},{"$f":"IF( AND( (camera!$B$4) > (AP481+camera!$B$4/2), 0 < (AP481+camera!$B$4/2), AN481 >= 0 ), AP481+camera!$B$4/2, 0)","v":0},null,null,null,3869.817,372.41730000000001,-219.43389999999999,null,{"$f":"MMULT(               MMULT(AX481:AZ481-$B$2:$D$2, TRANSPOSE($A$16:$C$18)),     TRANSPOSE($A$12:$C$14))","v":799.64688680829124},-8878.6980506986438,4998.2410288455876,null,-888.18226246577194,79.992829696828423," ",420.00717030317162,0]
[null,null,null,null,null,null,null,null,null,null,null,null,null,null,null,null,null,null,null,null,158.0179,151.57339999999999,null,null,null,"''",null,17.004826999999999,30.926404999999999,null,30.926404999999999,-104.92759500000003,null,{"$f":"camera!$B$5*COS(RADIANS(AE482))*COS(RADIANS(AF482))","v":-110.48749021707609},{"$f":"camera!$B$5*COS(RADIANS(AE482))*SIN(RADIANS(AF482))","v":-414.43913538753509},{"$f":"camera!$B$5*SIN(RADIANS(AE482))","v":256.96832015788232},null,{"$f":"TRANSPOSE(MMULT(camera!$A$12:$C$14,MMULT(camera!$A$16:$C$18,TRANSPOSE(AH482:AJ482))))","v":-179.69948216015865},73.946301291316928,-460.6951710585912,null,{"$f":"camera!$B$5*AM482/AN482","v":-80.255129570169117},{"$f":"camera!$B$5*AL482/AN482","v":195.03078548364519},null,{"$f":"IF( AND( (camera!$B$3) > (AQ482+camera!$B$3/2), 0 < (AQ482+camera!$B$3/2), AN482 >= 0 ), AQ482+camera!$B$3/2, 0)*-1+camera!$B$3","v":1000},{"$f":"IF( AND( (camera!$B$4) > (AP482+camera!$B$4/2), 0 < (AP482+camera!$B$4/2), AN482 >= 0 ), AP482+camera!$B$4/2, 0)","v":0},null,null,null,3834.0909999999999,458.66750000000002,-285.80790000000002,null,{"$f":"MMULT(               MMULT(AX482:AZ482-$B$2:$D$2, TRANSPOSE($A$16:$C$18)),     TRANSPOSE($A$12:$C$14))","v":850.63301214021681},-8835.5907986714847,5091.3169752460635,null,-867.71171797297688,83.537620646680097," ",416.46237935331988,0]
[null,null,null,null,null,null,null,null,null,null,null,null,null,null,null,null,null,null,null,null,158.0179,561.57339999999999,null,null,null,"''",null,19.361211000000001,-17.847197000000001,null,-17.847197000000001,-69.581835000000012,null,{"$f":"camera!$B$5*COS(RADIANS(AE483))*COS(RADIANS(AF483))","v":166.04032105164958},{"$f":"camera!$B$5*COS(RADIANS(AE483))*SIN(RADIANS(AF483))","v":-446.03608497518837},{"$f":"camera!$B$5*SIN(RADIANS(AE483))","v":-153.23975556320775},null,{"$f":"TRANSPOSE(MMULT(camera!$A$12:$C$14,MMULT(camera!$A$16:$C$18,TRANSPOSE(AH483:AJ483))))","v":225.55739268875635},-204.28309377937467,-396.72695925457015,null,{"$f":"camera!$B$5*AM483/AN483","v":257.46056451925051},{"$f":"camera!$B$5*AL483/AN483","v":-284.27283226802541},null,{"$f":"IF( AND( (camera!$B$3) > (AQ483+camera!$B$3/2), 0 < (AQ483+camera!$B$3/2), AN483 >= 0 ), AQ483+camera!$B$3/2, 0)*-1+camera!$B$3","v":1000},{"$f":"IF( AND( (camera!$B$4) > (AP483+camera!$B$4/2), 0 < (AP483+camera!$B$4/2), AN483 >= 0 ), AP483+camera!$B$4/2, 0)","v":0},null,null,null,3981.5770000000002,489.21289999999999,-285.80790000000002,null,{"$f":"MMULT(               MMULT(AX483:AZ483-$B$2:$D$2, TRANSPOSE($A$16:$C$18)),     TRANSPOSE($A$12:$C$14))","v":843.1169255844726},-8979.8533628897203,5133.9428202843292,null,-874.55720459235613,82.112029204269447," ",417.88797079573055,0]
[null,null,null,null,null,null,null,null,null,null,null,null,null,null,null,null,null,null,null,null,161.2157,75,null,null,null,"''",null,21.263731,5.2478449999999999,null,5.2478449999999999,-41.044035000000008,null,{"$f":"camera!$B$5*COS(RADIANS(AE484))*COS(RADIANS(AF484))","v":375.52189468163408},{"$f":"camera!$B$5*COS(RADIANS(AE484))*SIN(RADIANS(AF484))","v":-326.94324165834922},{"$f":"camera!$B$5*SIN(RADIANS(AE484))","v":45.732082268862371},null,{"$f":"TRANSPOSE(MMULT(camera!$A$12:$C$14,MMULT(camera!$A$16:$C$18,TRANSPOSE(AH484:AJ484))))","v":5.8364381115223551},-402.58790156227121,-296.46065085582165,null,{"$f":"camera!$B$5*AM484/AN484","v":678.99045016612115},{"$f":"camera!$B$5*AL484/AN484","v":-9.8435291406696717},null,{"$f":"IF( AND( (camera!$B$3) > (AQ484+camera!$B$3/2), 0 < (AQ484+camera!$B$3/2), AN484 >= 0 ), AQ484+camera!$B$3/2, 0)*-1+camera!$B$3","v":1000},{"$f":"IF( AND( (camera!$B$4) > (AP484+camera!$B$4/2), 0 < (AP484+camera!$B$4/2), AN484 >= 0 ), AP484+camera!$B$4/2, 0)","v":0},null,null,null,3981.5770000000002,311.32650000000001,0,null,{"$f":"MMULT(               MMULT(AX484:AZ484-$B$2:$D$2, TRANSPOSE($A$16:$C$18)),     TRANSPOSE($A$12:$C$14))","v":592.42319454305061},-8995.3571842064266,4909.7955210624095,null,-916.06230296327692,60.330740048300292," ",439.6692599516997,0]
[null,null,null,null,null,null,null,null,null,null,null,null,null,null,null,null,null,null,null,null,161.2157,90,null,null,null,"''",null,0.43671599999999999,-43.679828999999998,null,-43.679828999999998,6.5507400000000002,null,{"$f":"camera!$B$5*COS(RADIANS(AE485))*COS(RADIANS(AF485))","v":359.24432109541431},{"$f":"camera!$B$5*COS(RADIANS(AE485))*SIN(RADIANS(AF485))","v":41.253022338442605},{"$f":"camera!$B$5*SIN(RADIANS(AE485))","v":-345.31392371093119},null,{"$f":"TRANSPOSE(MMULT(camera!$A$12:$C$14,MMULT(camera!$A$16:$C$18,TRANSPOSE(AH485:AJ485))))","v":327.49461631719203},-354.28185019232762,131.26936774265454,null,{"$f":"camera!$B$5*AM485/AN485","v":-1349.4460142707294},{"$f":"camera!$B$5*AL485/AN485","v":1247.4144651904812},null,{"$f":"IF( AND( (camera!$B$3) > (AQ485+camera!$B$3/2), 0 < (AQ485+camera!$B$3/2), AN485 >= 0 ), AQ485+camera!$B$3/2, 0)*-1+camera!$B$3","v":1000},{"$f":"IF( AND( (camera!$B$4) > (AP485+camera!$B$4/2), 0 < (AP485+camera!$B$4/2), AN485 >= 0 ), AP485+camera!$B$4/2, 0)","v":0},null,null,null,3901.9522999999999,294.83569999999997,0,null,{"$f":"MMULT(               MMULT(AX485:AZ485-$B$2:$D$2, TRANSPOSE($A$16:$C$18)),     TRANSPOSE($A$12:$C$14))","v":596.480969977104},-8917.4727481517839,4886.7827330151713,null,-912.40732761712695,61.030027583103944," ",438.9699724168961,0]
[null,null,null,null,null,null,null,null,null,null,null,null,null,null,null,null,null,null,null,null,161.2157,105,null,null,null,"''",null,1.520851,-49.072702,null,-49.072702,22.812764999999999,null,{"$f":"camera!$B$5*COS(RADIANS(AE486))*COS(RADIANS(AF486))","v":301.92838428532821},{"$f":"camera!$B$5*COS(RADIANS(AE486))*SIN(RADIANS(AF486))","v":126.99816678816879},{"$f":"camera!$B$5*SIN(RADIANS(AE486))","v":-377.77071934613417},null,{"$f":"TRANSPOSE(MMULT(camera!$A$12:$C$14,MMULT(camera!$A$16:$C$18,TRANSPOSE(AH486:AJ486))))","v":345.49293558836166},-289.71083607443722,216.10706355782719,null,{"$f":"camera!$B$5*AM486/AN486","v":-670.29469399299558},{"$f":"camera!$B$5*AL486/AN486","v":799.35595324933149},null,{"$f":"IF( AND( (camera!$B$3) > (AQ486+camera!$B$3/2), 0 < (AQ486+camera!$B$3/2), AN486 >= 0 ), AQ486+camera!$B$3/2, 0)*-1+camera!$B$3","v":1000},{"$f":"IF( AND( (camera!$B$4) > (AP486+camera!$B$4/2), 0 < (AP486+camera!$B$4/2), AN486 >= 0 ), AP486+camera!$B$4/2, 0)","v":0},null,null,null,3893.2837,315.76350000000002,-118.38549999999999,null,{"$f":"MMULT(               MMULT(AX486:AZ486-$B$2:$D$2, TRANSPOSE($A$16:$C$18)),     TRANSPOSE($A$12:$C$14))","v":709.57887700979984},-8907.0131568388315,4927.1275520560312,null,-903.8748299830437,72.007358193284546," ",427.99264180671548,0]
[null,null,null,null,null,null,null,null,null,null,null,null,null,null,null,null,null,null,null,null,161.2157,485,null,null,null,"''",null,2.9042949999999998,52.762478999999999,null,52.762478999999999,43.564425,null,{"$f":"camera!$B$5*COS(RADIANS(AE487))*COS(RADIANS(AF487))","v":219.23516702035184},{"$f":"camera!$B$5*COS(RADIANS(AE487))*SIN(RADIANS(AF487))","v":208.5154145665195},{"$f":"camera!$B$5*SIN(RADIANS(AE487))","v":398.06690823241132},null,{"$f":"TRANSPOSE(MMULT(camera!$A$12:$C$14,MMULT(camera!$A$16:$C$18,TRANSPOSE(AH487:AJ487))))","v":-431.40791618653844},-200.22759519005194,154.2599104628203,null,{"$f":"camera!$B$5*AM487/AN487","v":-648.99426749735721},{"$f":"camera!$B$5*AL487/AN487","v":-1398.3150738652748},null,{"$f":"IF( AND( (camera!$B$3) > (AQ487+camera!$B$3/2), 0 < (AQ487+camera!$B$3/2), AN487 >= 0 ), AQ487+camera!$B$3/2, 0)*-1+camera!$B$3","v":1000},{"$f":"IF( AND( (camera!$B$4) > (AP487+camera!$B$4/2), 0 < (AP487+camera!$B$4/2), AN487 >= 0 ), AP487+camera!$B$4/2, 0)","v":0},null,null,null,3981.5770000000002,334.04969999999997,-118.38549999999999,null,{"$f":"MMULT(               MMULT(AX487:AZ487-$B$2:$D$2, TRANSPOSE($A$16:$C$18)),     TRANSPOSE($A$12:$C$14))","v":705.07932563763916},-8993.3767268328229,4952.6457759494015,null,-907.9365993128016,71.182087063603731," ",428.81791293639628,0]
[null,null,null,null,null,null,null,null,null,null,null,null,null,null,null,null,null,null,null,null,161.2157,500,null,null,null,"''",null,4.6053170000000003,-3.3524590000000001,null,-3.3524590000000001,69.079755000000006,null,{"$f":"camera!$B$5*COS(RADIANS(AE488))*COS(RADIANS(AF488))","v":178.22850887402205},{"$f":"camera!$B$5*COS(RADIANS(AE488))*SIN(RADIANS(AF488))","v":466.23993560307702},{"$f":"camera!$B$5*SIN(RADIANS(AE488))","v":-29.239033386575876},null,{"$f":"TRANSPOSE(MMULT(camera!$A$12:$C$14,MMULT(camera!$A$16:$C$18,TRANSPOSE(AH488:AJ488))))","v":-54.556192577440143},-136.91480770299194,477.78442553426339,null,{"$f":"camera!$B$5*AM488/AN488","v":-143.28094469581382},{"$f":"camera!$B$5*AL488/AN488","v":-57.092895521274954},null,{"$f":"IF( AND( (camera!$B$3) > (AQ488+camera!$B$3/2), 0 < (AQ488+camera!$B$3/2), AN488 >= 0 ), AQ488+camera!$B$3/2, 0)*-1+camera!$B$3","v":557.09289552127495},{"$f":"IF( AND( (camera!$B$4) > (AP488+camera!$B$4/2), 0 < (AP488+camera!$B$4/2), AN488 >= 0 ), AP488+camera!$B$4/2, 0)","v":356.71905530418621},null,null,null,3981.5770000000002,395.56360000000001,219.43389999999999,null,{"$f":"MMULT(               MMULT(AX488:AZ488-$B$2:$D$2, TRANSPOSE($A$16:$C$18)),     TRANSPOSE($A$12:$C$14))","v":361.75103214853823},-8988.0154371890185,4954.3328956212199,null,-907.08634507916111,36.508551178329583," ",463.49144882167047,0]
[null,null,null,null,null,null,null,null,null,null,null,null,null,null,null,null,null,null,null,null,161.2157,515,null,null,null,"''",null,7.6970039999999997,-72.606098000000003,null,-72.606098000000003,115.45506,null,{"$f":"camera!$B$5*COS(RADIANS(AE489))*COS(RADIANS(AF489))","v":-64.242492174839057},{"$f":"camera!$B$5*COS(RADIANS(AE489))*SIN(RADIANS(AF489))","v":134.95950539445815},{"$f":"camera!$B$5*SIN(RADIANS(AE489))","v":-477.13607503818969},null,{"$f":"TRANSPOSE(MMULT(camera!$A$12:$C$14,MMULT(camera!$A$16:$C$18,TRANSPOSE(AH489:AJ489))))","v":447.51328669577987},75.760526030285689,209.74317849778845,null,{"$f":"camera!$B$5*AM489/AN489","v":180.603075086622},{"$f":"camera!$B$5*AL489/AN489","v":1066.8124939770055},null,{"$f":"IF( AND( (camera!$B$3) > (AQ489+camera!$B$3/2), 0 < (AQ489+camera!$B$3/2), AN489 >= 0 ), AQ489+camera!$B$3/2, 0)*-1+camera!$B$3","v":1000},{"$f":"IF( AND( (camera!$B$4) > (AP489+camera!$B$4/2), 0 < (AP489+camera!$B$4/2), AN489 >= 0 ), AP489+camera!$B$4/2, 0)","v":680.60307508662197},null,null,null,3869.817,372.41730000000001,219.43389999999999,null,{"$f":"MMULT(               MMULT(AX489:AZ489-$B$2:$D$2, TRANSPOSE($A$16:$C$18)),     TRANSPOSE($A$12:$C$14))","v":367.4464748208801},-8878.6980506986438,4922.0324351388927,null,-901.93412657266447,37.326701892255137," ",462.67329810774481,0]
[null,null,null,null,null,null,null,null,null,null,null,null,null,null,null,null,null,null,null,null,167.0736,104.1421,null,null,null,"''",null,11.143165,-58.975037,null,-58.975037,167.14747499999999,null,{"$f":"camera!$B$5*COS(RADIANS(AE490))*COS(RADIANS(AF490))","v":-251.24914116471089},{"$f":"camera!$B$5*COS(RADIANS(AE490))*SIN(RADIANS(AF490))","v":57.324672509986009},{"$f":"camera!$B$5*SIN(RADIANS(AE490))","v":-428.47141209842465},null,{"$f":"TRANSPOSE(MMULT(camera!$A$12:$C$14,MMULT(camera!$A$16:$C$18,TRANSPOSE(AH490:AJ490))))","v":415.84803689572936},255.28923673876363,109.07710949281518,null,{"$f":"camera!$B$5*AM490/AN490","v":1170.2236973724507},{"$f":"camera!$B$5*AL490/AN490","v":1906.2112978118519},null,{"$f":"IF( AND( (camera!$B$3) > (AQ490+camera!$B$3/2), 0 < (AQ490+camera!$B$3/2), AN490 >= 0 ), AQ490+camera!$B$3/2, 0)*-1+camera!$B$3","v":1000},{"$f":"IF( AND( (camera!$B$4) > (AP490+camera!$B$4/2), 0 < (AP490+camera!$B$4/2), AN490 >= 0 ), AP490+camera!$B$4/2, 0)","v":0},null,null,null,3893.2837,315.76350000000002,118.38549999999999,null,{"$f":"MMULT(               MMULT(AX490:AZ490-$B$2:$D$2, TRANSPOSE($A$16:$C$18)),     TRANSPOSE($A$12:$C$14))","v":476.4049605213462},-8907.0131568388315,4886.0126993816548,null,-911.48076200928108,48.751915911069695," ",451.24808408893034,0]
[null,null,null,null,null,null,null,null,null,null,null,null,null,null,null,null,null,null,null,null,167.0736,514.14210000000003,null,null,null,"''",null,16.113451999999999,-20.669191999999999,null,-20.669191999999999,-118.29822000000001,null,{"$f":"camera!$B$5*COS(RADIANS(AE491))*COS(RADIANS(AF491))","v":-221.77371744637855},{"$f":"camera!$B$5*COS(RADIANS(AE491))*SIN(RADIANS(AF491))","v":-411.90914621671271},{"$f":"camera!$B$5*SIN(RADIANS(AE491))","v":-176.48590174014652},null,{"$f":"TRANSPOSE(MMULT(camera!$A$12:$C$14,MMULT(camera!$A$16:$C$18,TRANSPOSE(AH491:AJ491))))","v":248.41619418027855},185.02955391310783,-392.4964441210933,null,{"$f":"camera!$B$5*AM491/AN491","v":-235.70857352279907},{"$f":"camera!$B$5*AL491/AN491","v":-316.45661750713464},null,{"$f":"IF( AND( (camera!$B$3) > (AQ491+camera!$B$3/2), 0 < (AQ491+camera!$B$3/2), AN491 >= 0 ), AQ491+camera!$B$3/2, 0)*-1+camera!$B$3","v":1000},{"$f":"IF( AND( (camera!$B$4) > (AP491+camera!$B$4/2), 0 < (AP491+camera!$B$4/2), AN491 >= 0 ), AP491+camera!$B$4/2, 0)","v":0},null,null,null,3981.5770000000002,334.04969999999997,118.38549999999999,null,{"$f":"MMULT(               MMULT(AX491:AZ491-$B$2:$D$2, TRANSPOSE($A$16:$C$18)),     TRANSPOSE($A$12:$C$14))","v":471.90540914918552},-8993.3767268328229,4911.5309232750251,null,-915.53701557843476,48.040561743477475," ",451.9594382565225,0]
[null,null,null,null,null,null,null,null,null,null,null,null,null,null,null,null,null,null,null,null,169.75129999999999,78.535499999999999,null,null,null,"''",null,18.010753999999999,2.931568,null,2.931568,-89.838690000000042,null,{"$f":"camera!$B$5*COS(RADIANS(AE492))*COS(RADIANS(AF492))","v":1.4058512432357135},{"$f":"camera!$B$5*COS(RADIANS(AE492))*SIN(RADIANS(AF492))","v":-499.34368630449575},{"$f":"camera!$B$5*SIN(RADIANS(AE492))","v":25.57159615900601},null,{"$f":"TRANSPOSE(MMULT(camera!$A$12:$C$14,MMULT(camera!$A$16:$C$18,TRANSPOSE(AH492:AJ492))))","v":61.175780046948205},-44.921171421039041,-494.20604234854221,null,{"$f":"camera!$B$5*AM492/AN492","v":45.447816873673588},{"$f":"camera!$B$5*AL492/AN492","v":-61.89299078197385},null,{"$f":"IF( AND( (camera!$B$3) > (AQ492+camera!$B$3/2), 0 < (AQ492+camera!$B$3/2), AN492 >= 0 ), AQ492+camera!$B$3/2, 0)*-1+camera!$B$3","v":1000},{"$f":"IF( AND( (camera!$B$4) > (AP492+camera!$B$4/2), 0 < (AP492+camera!$B$4/2), AN492 >= 0 ), AP492+camera!$B$4/2, 0)","v":0},null,null,null,3981.5770000000002,598.9298,310.32639999999998,null,{"$f":"MMULT(               MMULT(AX492:AZ492-$B$2:$D$2, TRANSPOSE($A$16:$C$18)),     TRANSPOSE($A$12:$C$14))","v":237.05960450742759},-8970.2909049782502,5138.0640761252962,null,-872.92516909821256,23.068961479962546," ",476.93103852003742,0]
[null,null,null,null,null,null,null,null,null,null,null,null,null,null,null,null,null,null,null,null,169.75129999999999,488.53550000000001,null,null,null,"''",null,1.139742,-55.245759999999997,null,-55.245759999999997,17.096130000000002,null,{"$f":"camera!$B$5*COS(RADIANS(AE493))*COS(RADIANS(AF493))","v":272.43417935888209},{"$f":"camera!$B$5*COS(RADIANS(AE493))*SIN(RADIANS(AF493))","v":83.791554667234735},{"$f":"camera!$B$5*SIN(RADIANS(AE493))","v":-410.8023774073128},null,{"$f":"TRANSPOSE(MMULT(camera!$A$12:$C$14,MMULT(camera!$A$16:$C$18,TRANSPOSE(AH493:AJ493))))","v":385.94334592691143},-264.09456987329014,176.92312426074284,null,{"$f":"camera!$B$5*AM493/AN493","v":-746.3540195121052},{"$f":"camera!$B$5*AL493/AN493","v":1090.7091640494723},null,{"$f":"IF( AND( (camera!$B$3) > (AQ493+camera!$B$3/2), 0 < (AQ493+camera!$B$3/2), AN493 >= 0 ), AQ493+camera!$B$3/2, 0)*-1+camera!$B$3","v":1000},{"$f":"IF( AND( (camera!$B$4) > (AP493+camera!$B$4/2), 0 < (AP493+camera!$B$4/2), AN493 >= 0 ), AP493+camera!$B$4/2, 0)","v":0},null,null,null,3792.2354,559.71590000000003,310.32639999999998,null,{"$f":"MMULT(               MMULT(AX493:AZ493-$B$2:$D$2, TRANSPOSE($A$16:$C$18)),     TRANSPOSE($A$12:$C$14))","v":246.70869318272355},-8785.0875235105723,5083.3413749452111,null,-864.10560254821155,24.266390449272414," ",475.73360955072758,0]
[null,null,null,null,null,null,null,null,null,null,null,null,null,null,null,null,null,null,null,null,170.60910000000001,100.6066,null,null,null,"''",null,7.6874539999999998,-9.5511309999999998,null,-9.5511309999999998,115.31180999999999,null,{"$f":"camera!$B$5*COS(RADIANS(AE494))*COS(RADIANS(AF494))","v":-210.80877735301999},{"$f":"camera!$B$5*COS(RADIANS(AE494))*SIN(RADIANS(AF494))","v":445.73159919946841},{"$f":"camera!$B$5*SIN(RADIANS(AE494))","v":-82.963852767390776},null,{"$f":"TRANSPOSE(MMULT(camera!$A$12:$C$14,MMULT(camera!$A$16:$C$18,TRANSPOSE(AH494:AJ494))))","v":7.7879696178001012},248.85465490461289,433.60201597955955,null,{"$f":"camera!$B$5*AM494/AN494","v":286.96205936960422},{"$f":"camera!$B$5*AL494/AN494","v":8.9805505172826905},null,{"$f":"IF( AND( (camera!$B$3) > (AQ494+camera!$B$3/2), 0 < (AQ494+camera!$B$3/2), AN494 >= 0 ), AQ494+camera!$B$3/2, 0)*-1+camera!$B$3","v":491.01944948271733},{"$f":"IF( AND( (camera!$B$4) > (AP494+camera!$B$4/2), 0 < (AP494+camera!$B$4/2), AN494 >= 0 ), AP494+camera!$B$4/2, 0)","v":786.96205936960428},null,null,null,3834.0909999999999,458.66750000000002,285.80790000000002,null,{"$f":"MMULT(               MMULT(AX494:AZ494-$B$2:$D$2, TRANSPOSE($A$16:$C$18)),     TRANSPOSE($A$12:$C$14))","v":287.70134055594121},-8835.5907986714847,4992.0569332504383,null,-884.96494699615096,28.815911397129494," ",471.18408860287047,0]
[null,null,null,null,null,null,null,null,null,null,null,null,null,null,null,null,null,null,null,null,170.60910000000001,510.60660000000001,null,null,null,"''",null,7.7301299999999999,-28.954826000000001,null,-28.954826000000001,115.95195,null,{"$f":"camera!$B$5*COS(RADIANS(AE495))*COS(RADIANS(AF495))","v":-191.45790769700562},{"$f":"camera!$B$5*COS(RADIANS(AE495))*SIN(RADIANS(AF495))","v":393.38384930579593},{"$f":"camera!$B$5*SIN(RADIANS(AE495))","v":-242.05994440559499},null,{"$f":"TRANSPOSE(MMULT(camera!$A$12:$C$14,MMULT(camera!$A$16:$C$18,TRANSPOSE(AH495:AJ495))))","v":173.229670472549},225.01501412667528,411.53338222499548,null,{"$f":"camera!$B$5*AM495/AN495","v":273.38610164515649},{"$f":"camera!$B$5*AL495/AN495","v":210.46855243670132},null,{"$f":"IF( AND( (camera!$B$3) > (AQ495+camera!$B$3/2), 0 < (AQ495+camera!$B$3/2), AN495 >= 0 ), AQ495+camera!$B$3/2, 0)*-1+camera!$B$3","v":289.53144756329868},{"$f":"IF( AND( (camera!$B$4) > (AP495+camera!$B$4/2), 0 < (AP495+camera!$B$4/2), AN495 >= 0 ), AP495+camera!$B$4/2, 0)","v":773.38610164515649},null,null,null,3981.5770000000002,489.21289999999999,285.80790000000002,null,{"$f":"MMULT(               MMULT(AX495:AZ495-$B$2:$D$2, TRANSPOSE($A$16:$C$18)),     TRANSPOSE($A$12:$C$14))","v":280.18525400019701},-8979.8533628897203,5034.6827782887049,null,-891.79932066563924,27.825512186036111," ",472.17448781396388,0]
[null,null,null,null,null,null,null,null,null,null,null,null,null,null,null,null,null,null,null,null,173.2868,82.071100000000001,null,null,null,"''",null,8.7447499999999998,18.154309000000001,null,18.154309000000001,131.17124999999999,null,{"$f":"camera!$B$5*COS(RADIANS(AE496))*COS(RADIANS(AF496))","v":-312.77080406837439},{"$f":"camera!$B$5*COS(RADIANS(AE496))*SIN(RADIANS(AF496))","v":357.63714501296352},{"$f":"camera!$B$5*SIN(RADIANS(AE496))","v":155.78862804903014},null,{"$f":"TRANSPOSE(MMULT(camera!$A$12:$C$14,MMULT(camera!$A$16:$C$18,TRANSPOSE(AH496:AJ496))))","v":-210.55495673443892},342.75074773856346,296.96554534021982,null,{"$f":"camera!$B$5*AM496/AN496","v":577.0884082627997},{"$f":"camera!$B$5*AL496/AN496","v":-354.51075055393341},null,{"$f":"IF( AND( (camera!$B$3) > (AQ496+camera!$B$3/2), 0 < (AQ496+camera!$B$3/2), AN496 >= 0 ), AQ496+camera!$B$3/2, 0)*-1+camera!$B$3","v":854.51075055393335},{"$f":"IF( AND( (camera!$B$4) > (AP496+camera!$B$4/2), 0 < (AP496+camera!$B$4/2), AN496 >= 0 ), AP496+camera!$B$4/2, 0)","v":0},null,null,null,3981.5770000000002,802.29600000000005,219.43389999999999,null,{"$f":"MMULT(               MMULT(AX496:AZ496-$B$2:$D$2, TRANSPOSE($A$16:$C$18)),     TRANSPOSE($A$12:$C$14))","v":291.39145424764104},-8952.5663727674801,5353.3618906065549,null,-836.16300893802668,27.215744069062492," ",472.78425593093755,0]
[null,null,null,null,null,null,null,null,null,null,null,null,null,null,null,null,null,null,null,null,173.2868,492.0711,null,null,null,"''",null,20.952893,41.167135999999999,null,41.167135999999999,-45.706605000000025,null,{"$f":"camera!$B$5*COS(RADIANS(AE497))*COS(RADIANS(AF497))","v":262.84987305002102},{"$f":"camera!$B$5*COS(RADIANS(AE497))*SIN(RADIANS(AF497))","v":-269.41439958402333},{"$f":"camera!$B$5*SIN(RADIANS(AE497))","v":329.128888939224},null,{"$f":"TRANSPOSE(MMULT(camera!$A$12:$C$14,MMULT(camera!$A$16:$C$18,TRANSPOSE(AH497:AJ497))))","v":-281.50147125305944},-285.33066202917922,-298.90355465994924,null,{"$f":"camera!$B$5*AM497/AN497","v":477.29553158674986},{"$f":"camera!$B$5*AL497/AN497","v":470.89013640756559},null,{"$f":"IF( AND( (camera!$B$3) > (AQ497+camera!$B$3/2), 0 < (AQ497+camera!$B$3/2), AN497 >= 0 ), AQ497+camera!$B$3/2, 0)*-1+camera!$B$3","v":1000},{"$f":"IF( AND( (camera!$B$4) > (AP497+camera!$B$4/2), 0 < (AP497+camera!$B$4/2), AN497 >= 0 ), AP497+camera!$B$4/2, 0)","v":0},null,null,null,3714.6538,747.01440000000002,219.43389999999999,null,{"$f":"MMULT(               MMULT(AX497:AZ497-$B$2:$D$2, TRANSPOSE($A$16:$C$18)),     TRANSPOSE($A$12:$C$14))","v":304.99420622463072},-8691.4770050380757,5276.2168506226844,null,-823.64668199832715,28.902736075815017," ",471.09726392418497,0]
[null,null,null,null,null,null,null,null,null,null,null,null,null,null,null,null,null,null,null,null,174.1447,97.071100000000001,null,null,null,"''",null,2.0572680000000001,72.421294000000003,null,72.421294000000003,30.859020000000001,null,{"$f":"camera!$B$5*COS(RADIANS(AE498))*COS(RADIANS(AF498))","v":129.62993310595189},{"$f":"camera!$B$5*COS(RADIANS(AE498))*SIN(RADIANS(AF498))","v":77.456042669562208},{"$f":"camera!$B$5*SIN(RADIANS(AE498))","v":476.65148892762039},null,{"$f":"TRANSPOSE(MMULT(camera!$A$12:$C$14,MMULT(camera!$A$16:$C$18,TRANSPOSE(AH498:AJ498))))","v":-484.77087665937813},-122.38591314497693,4.3457342956255616,null,{"$f":"camera!$B$5*AM498/AN498","v":-14081.154624222103},{"$f":"camera!$B$5*AL498/AN498","v":-55775.485071343523},null,{"$f":"IF( AND( (camera!$B$3) > (AQ498+camera!$B$3/2), 0 < (AQ498+camera!$B$3/2), AN498 >= 0 ), AQ498+camera!$B$3/2, 0)*-1+camera!$B$3","v":1000},{"$f":"IF( AND( (camera!$B$4) > (AP498+camera!$B$4/2), 0 < (AP498+camera!$B$4/2), AN498 >= 0 ), AP498+camera!$B$4/2, 0)","v":0},null,null,null,3750.3798000000002,660.76419999999996,285.80790000000002,null,{"$f":"MMULT(               MMULT(AX498:AZ498-$B$2:$D$2, TRANSPOSE($A$16:$C$18)),     TRANSPOSE($A$12:$C$14))","v":254.00808089270481},-8734.5842570652367,5183.1409042222094,null,-842.59567880452619,24.503296899162891," ",475.49670310083707,0]
[null,null,null,null,null,null,null,null,null,null,null,null,null,null,null,null,null,null,null,null,174.1447,507.0711,null,null,null,"''",null,6.6113989999999996,-19.255879,null,-19.255879,99.170984999999988,null,{"$f":"camera!$B$5*COS(RADIANS(AE499))*COS(RADIANS(AF499))","v":-75.232359283246211},{"$f":"camera!$B$5*COS(RADIANS(AE499))*SIN(RADIANS(AF499))","v":465.99371340448164},{"$f":"camera!$B$5*SIN(RADIANS(AE499))","v":-164.89375726260349},null,{"$f":"TRANSPOSE(MMULT(camera!$A$12:$C$14,MMULT(camera!$A$16:$C$18,TRANSPOSE(AH499:AJ499))))","v":82.916211827487473},115.56010565041012,479.34409748973155,null,{"$f":"camera!$B$5*AM499/AN499","v":120.53982332898721},{"$f":"camera!$B$5*AL499/AN499","v":86.489238379808867},null,{"$f":"IF( AND( (camera!$B$3) > (AQ499+camera!$B$3/2), 0 < (AQ499+camera!$B$3/2), AN499 >= 0 ), AQ499+camera!$B$3/2, 0)*-1+camera!$B$3","v":413.51076162019115},{"$f":"IF( AND( (camera!$B$4) > (AP499+camera!$B$4/2), 0 < (AP499+camera!$B$4/2), AN499 >= 0 ), AP499+camera!$B$4/2, 0)","v":620.53982332898727},null,null,null,3981.5770000000002,708.64670000000001,285.80790000000002,null,{"$f":"MMULT(               MMULT(AX499:AZ499-$B$2:$D$2, TRANSPOSE($A$16:$C$18)),     TRANSPOSE($A$12:$C$14))","v":242.2259727991177},-8960.7284470667801,5249.9605596501406,null,-853.40912043574724,23.069313573591849," ",476.9306864264081,0]
[null,null,null,null,null,null,null,null,null,null,null,null,null,null,null,null,null,null,null,null,176.82230000000001,85.6066,null,null,null,"''",null,13.398996,54.920470999999999,null,54.920470999999999,-159.01506000000001,null,{"$f":"camera!$B$5*COS(RADIANS(AE500))*COS(RADIANS(AF500))","v":-268.29741640556688},{"$f":"camera!$B$5*COS(RADIANS(AE500))*SIN(RADIANS(AF500))","v":-102.90882456161718},{"$f":"camera!$B$5*SIN(RADIANS(AE500))","v":409.17755336460499},null,{"$f":"TRANSPOSE(MMULT(camera!$A$12:$C$14,MMULT(camera!$A$16:$C$18,TRANSPOSE(AH500:AJ500))))","v":-381.09876748813628},258.30736869498287,-195.04110514683214,null,{"$f":"camera!$B$5*AM500/AN500","v":-662.18700027494765},{"$f":"camera!$B$5*AL500/AN500","v":976.97038580978847},null,{"$f":"IF( AND( (camera!$B$3) > (AQ500+camera!$B$3/2), 0 < (AQ500+camera!$B$3/2), AN500 >= 0 ), AQ500+camera!$B$3/2, 0)*-1+camera!$B$3","v":1000},{"$f":"IF( AND( (camera!$B$4) > (AP500+camera!$B$4/2), 0 < (AP500+camera!$B$4/2), AN500 >= 0 ), AP500+camera!$B$4/2, 0)","v":0},null,null,null,3691.1869999999999,803.66819999999996,118.38549999999999,null,{"$f":"MMULT(               MMULT(AX500:AZ500-$B$2:$D$2, TRANSPOSE($A$16:$C$18)),     TRANSPOSE($A$12:$C$14))","v":395.06221753656564},-8663.1617992784195,5347.3303188290765,null,-810.04550707982276,36.940135916558994," ",463.05986408344097,0]
[null,null,null,null,null,null,null,null,null,null,null,null,null,null,null,null,null,null,null,null,176.82230000000001,495.60660000000001,null,null,null,"''",null,4.1443570000000003,47.712513000000001,null,47.712513000000001,62.165355000000005,null,{"$f":"camera!$B$5*COS(RADIANS(AE501))*COS(RADIANS(AF501))","v":157.08426923735655},{"$f":"camera!$B$5*COS(RADIANS(AE501))*SIN(RADIANS(AF501))","v":297.50065271174003},{"$f":"camera!$B$5*SIN(RADIANS(AE501))","v":369.88902929696951},null,{"$f":"TRANSPOSE(MMULT(camera!$A$12:$C$14,MMULT(camera!$A$16:$C$18,TRANSPOSE(AH501:AJ501))))","v":-418.11082821331371},-130.55762581286609,241.11831467743085,null,{"$f":"camera!$B$5*AM501/AN501","v":-270.73353176743683},{"$f":"camera!$B$5*AL501/AN501","v":-867.02420090457304},null,{"$f":"IF( AND( (camera!$B$3) > (AQ501+camera!$B$3/2), 0 < (AQ501+camera!$B$3/2), AN501 >= 0 ), AQ501+camera!$B$3/2, 0)*-1+camera!$B$3","v":1000},{"$f":"IF( AND( (camera!$B$4) > (AP501+camera!$B$4/2), 0 < (AP501+camera!$B$4/2), AN501 >= 0 ), AP501+camera!$B$4/2, 0)","v":229.26646823256317},null,null,null,3981.5770000000002,863.80989999999997,118.38549999999999,null,{"$f":"MMULT(               MMULT(AX501:AZ501-$B$2:$D$2, TRANSPOSE($A$16:$C$18)),     TRANSPOSE($A$12:$C$14))","v":380.26357274595136},-8947.2050831236756,5431.2576039850683,null,-823.67710533181651,35.006954233485551," ",464.99304576651446,0]
[null,null,null,null,null,null,null,null,null,null,null,null,null,null,null,null,null,null,null,null,177.68020000000001,93.535499999999999,null,null,null,"''",null,5.9857779999999998,-42.815134999999998,null,-42.815134999999998,89.786670000000001,null,{"$f":"camera!$B$5*COS(RADIANS(AE502))*COS(RADIANS(AF502))","v":1.3656148690993783},{"$f":"camera!$B$5*COS(RADIANS(AE502))*SIN(RADIANS(AF502))","v":366.77263803892436},{"$f":"camera!$B$5*SIN(RADIANS(AE502))","v":-339.8175496968887},null,{"$f":"TRANSPOSE(MMULT(camera!$A$12:$C$14,MMULT(camera!$A$16:$C$18,TRANSPOSE(AH502:AJ502))))","v":271.18724692302135},30.605923395568372,418.95197166192781,null,{"$f":"camera!$B$5*AM502/AN502","v":36.526768538835924},{"$f":"camera!$B$5*AL502/AN502","v":323.64956518435383},null,{"$f":"IF( AND( (camera!$B$3) > (AQ502+camera!$B$3/2), 0 < (AQ502+camera!$B$3/2), AN502 >= 0 ), AQ502+camera!$B$3/2, 0)*-1+camera!$B$3","v":176.35043481564617},{"$f":"IF( AND( (camera!$B$4) > (AP502+camera!$B$4/2), 0 < (AP502+camera!$B$4/2), AN502 >= 0 ), AP502+camera!$B$4/2, 0)","v":536.52676853883588},null,null,null,4476.3334999999997,597.36120000000005,-219.43389999999999,null,{"$f":"MMULT(               MMULT(AX502:AZ502-$B$2:$D$2, TRANSPOSE($A$16:$C$18)),     TRANSPOSE($A$12:$C$14))","v":751.55514267559101},-9463.3014196227523,5270.9828630190777,null,-897.67901599687877,71.291745980475497," ",428.70825401952447,0]
[null,null,null,null,null,null,null,null,null,null,null,null,null,null,null,null,null,null,null,null,177.68020000000001,503.53550000000001,null,null,null,"''",null,9.0106850000000005,41.782910999999999,null,41.782910999999999,135.16027500000001,null,{"$f":"camera!$B$5*COS(RADIANS(AE503))*COS(RADIANS(AF503))","v":-264.37228488811337},{"$f":"camera!$B$5*COS(RADIANS(AE503))*SIN(RADIANS(AF503))","v":262.89733578020571},{"$f":"camera!$B$5*SIN(RADIANS(AE503))","v":333.15504772208982},null,{"$f":"TRANSPOSE(MMULT(camera!$A$12:$C$14,MMULT(camera!$A$16:$C$18,TRANSPOSE(AH503:AJ503))))","v":-369.57047353860355},286.27928109424334,177.37485251471094,null,{"$f":"camera!$B$5*AM503/AN503","v":806.98948310753406},{"$f":"camera!$B$5*AL503/AN503","v":-1041.7780995982857},null,{"$f":"IF( AND( (camera!$B$3) > (AQ503+camera!$B$3/2), 0 < (AQ503+camera!$B$3/2), AN503 >= 0 ), AQ503+camera!$B$3/2, 0)*-1+camera!$B$3","v":1000},{"$f":"IF( AND( (camera!$B$4) > (AP503+camera!$B$4/2), 0 < (AP503+camera!$B$4/2), AN503 >= 0 ), AP503+camera!$B$4/2, 0)","v":0},null,null,null,4248.5002000000004,747.01440000000002,-219.43389999999999,null,{"$f":"MMULT(               MMULT(AX503:AZ503-$B$2:$D$2, TRANSPOSE($A$16:$C$18)),     TRANSPOSE($A$12:$C$14))","v":729.11515409008132},-9223.2919583134408,5398.2463623165077,null,-854.28594206985406,67.532593471447441," ",432.4674065285526,0]
[null,null,null,null,null,null,null,null,null,null,null,null,null,null,null,null,null,null,null,null,180.3579,89.142099999999999,null,null,null,"''",null,9.1879849999999994,-62.316977000000001,null,-62.316977000000001,137.81977499999999,null,{"$f":"camera!$B$5*COS(RADIANS(AE504))*COS(RADIANS(AF504))","v":-172.13522393451905},{"$f":"camera!$B$5*COS(RADIANS(AE504))*SIN(RADIANS(AF504))","v":155.97446667444814},{"$f":"camera!$B$5*SIN(RADIANS(AE504))","v":-442.7656608485288},null,{"$f":"TRANSPOSE(MMULT(camera!$A$12:$C$14,MMULT(camera!$A$16:$C$18,TRANSPOSE(AH504:AJ504))))","v":411.66260857533604},185.07426793108459,215.1311508143875,null,{"$f":"camera!$B$5*AM504/AN504","v":430.142885468884},{"$f":"camera!$B$5*AL504/AN504","v":956.77126956503264},null,{"$f":"IF( AND( (camera!$B$3) > (AQ504+camera!$B$3/2), 0 < (AQ504+camera!$B$3/2), AN504 >= 0 ), AQ504+camera!$B$3/2, 0)*-1+camera!$B$3","v":1000},{"$f":"IF( AND( (camera!$B$4) > (AP504+camera!$B$4/2), 0 < (AP504+camera!$B$4/2), AN504 >= 0 ), AP504+camera!$B$4/2, 0)","v":930.14288546888406},null,null,null,4271.9669999999996,803.66819999999996,-118.38549999999999,null,{"$f":"MMULT(               MMULT(AX504:AZ504-$B$2:$D$2, TRANSPOSE($A$16:$C$18)),     TRANSPOSE($A$12:$C$14))","v":619.44635634223982},-9241.7317560361444,5438.2944778742822,null,-849.69026536133322,56.952263146328242," ",443.04773685367172,0]
[null,null,null,null,null,null,null,null,null,null,null,null,null,null,null,null,null,null,null,null,180.3579,499.14210000000003,null,null,null,"''",null,19.377303000000001,-44.458964999999999,null,-44.458964999999999,-69.340454999999963,null,{"$f":"camera!$B$5*COS(RADIANS(AE505))*COS(RADIANS(AF505))","v":125.91098817381889},{"$f":"camera!$B$5*COS(RADIANS(AE505))*SIN(RADIANS(AF505))","v":-333.92662855357275},{"$f":"camera!$B$5*SIN(RADIANS(AE505))","v":-350.19912878237818},null,{"$f":"TRANSPOSE(MMULT(camera!$A$12:$C$14,MMULT(camera!$A$16:$C$18,TRANSPOSE(AH505:AJ505))))","v":400.73832257888978},-154.53548218505884,-255.98355721117917,null,{"$f":"camera!$B$5*AM505/AN505","v":301.84650113595279},{"$f":"camera!$B$5*AL505/AN505","v":-782.74231154677648},null,{"$f":"IF( AND( (camera!$B$3) > (AQ505+camera!$B$3/2), 0 < (AQ505+camera!$B$3/2), AN505 >= 0 ), AQ505+camera!$B$3/2, 0)*-1+camera!$B$3","v":1000},{"$f":"IF( AND( (camera!$B$4) > (AP505+camera!$B$4/2), 0 < (AP505+camera!$B$4/2), AN505 >= 0 ), AP505+camera!$B$4/2, 0)","v":0},null,null,null,4519.8303999999998,640.85810000000004,-118.38549999999999,null,{"$f":"MMULT(               MMULT(AX505:AZ505-$B$2:$D$2, TRANSPOSE($A$16:$C$18)),     TRANSPOSE($A$12:$C$14))","v":643.85917850633518},-9502.8417961594569,5299.8424833694871,null,-896.52115378699182,60.743237230796716," ",439.25676276920331,0]
[null,null,null,null,null,null,null,null,null,null,null,null,null,null,null,null,null,null,null,null,403.68740000000003,7.0659000000000001,null,null,null,"''",null,19.398102999999999,-40.615940000000002,null,-40.615940000000002,-69.028455000000008,null,{"$f":"camera!$B$5*COS(RADIANS(AE506))*COS(RADIANS(AF506))","v":135.840812624975},{"$f":"camera!$B$5*COS(RADIANS(AE506))*SIN(RADIANS(AF506))","v":-354.40339666225111},{"$f":"camera!$B$5*SIN(RADIANS(AE506))","v":-325.49271275966458},null,{"$f":"TRANSPOSE(MMULT(camera!$A$12:$C$14,MMULT(camera!$A$16:$C$18,TRANSPOSE(AH506:AJ506))))","v":379.79919299003745},-166.21218858986575,-279.51043159117182,null,{"$f":"camera!$B$5*AM506/AN506","v":297.32734417758212},{"$f":"camera!$B$5*AL506/AN506","v":-679.4007487090031},null,{"$f":"IF( AND( (camera!$B$3) > (AQ506+camera!$B$3/2), 0 < (AQ506+camera!$B$3/2), AN506 >= 0 ), AQ506+camera!$B$3/2, 0)*-1+camera!$B$3","v":1000},{"$f":"IF( AND( (camera!$B$4) > (AP506+camera!$B$4/2), 0 < (AP506+camera!$B$4/2), AN506 >= 0 ), AP506+camera!$B$4/2, 0)","v":0},null,null,null,4535.8981000000003,656.92579999999998,0,null,{"$f":"MMULT(               MMULT(AX506:AZ506-$B$2:$D$2, TRANSPOSE($A$16:$C$18)),     TRANSPOSE($A$12:$C$14))","v":524.24953513700609},-9517.4479613822405,5296.4275562287194,null,-898.47806472775267,49.490862432402828," ",450.50913756759712,0]
[null,null,null,null,null,null,null,null,null,null,null,null,null,null,null,null,null,null,null,null,406.75319999999999,11.0152,null,null,null,"''",null,20.257867000000001,47.714207999999999,null,47.714207999999999,-56.131994999999961,null,{"$f":"camera!$B$5*COS(RADIANS(AE507))*COS(RADIANS(AF507))","v":187.47760944320734},{"$f":"camera!$B$5*COS(RADIANS(AE507))*SIN(RADIANS(AF507))","v":-279.33293625862882},{"$f":"camera!$B$5*SIN(RADIANS(AE507))","v":369.89898172148713},null,{"$f":"TRANSPOSE(MMULT(camera!$A$12:$C$14,MMULT(camera!$A$16:$C$18,TRANSPOSE(AH507:AJ507))))","v":-318.79567621287265},-211.10967007174318,-322.18321500378795,null,{"$f":"camera!$B$5*AM507/AN507","v":327.62363189724385},{"$f":"camera!$B$5*AL507/AN507","v":494.74283787428925},null,{"$f":"IF( AND( (camera!$B$3) > (AQ507+camera!$B$3/2), 0 < (AQ507+camera!$B$3/2), AN507 >= 0 ), AQ507+camera!$B$3/2, 0)*-1+camera!$B$3","v":1000},{"$f":"IF( AND( (camera!$B$4) > (AP507+camera!$B$4/2), 0 < (AP507+camera!$B$4/2), AN507 >= 0 ), AP507+camera!$B$4/2, 0)","v":0},null,null,null,4280.6355999999996,824.596,0,null,{"$f":"MMULT(               MMULT(AX507:AZ507-$B$2:$D$2, TRANSPOSE($A$16:$C$18)),     TRANSPOSE($A$12:$C$14))","v":499.10795814437313},-9248.5433914429468,5439.0125247435581,null,-850.20427415535357,45.882221807156569," ",454.11777819284339,0]
[null,null,null,null,null,null,null,null,null,null,null,null,null,null,null,null,null,null,null,null,409.98079999999999,14.833399999999999,null,null,null,"''",null,23.382842,-20.100580000000001,null,-20.100580000000001,-9.2573699999999803,null,{"$f":"camera!$B$5*COS(RADIANS(AE508))*COS(RADIANS(AF508))","v":463.42987815385135},{"$f":"camera!$B$5*COS(RADIANS(AE508))*SIN(RADIANS(AF508))","v":-75.535542075263464},{"$f":"camera!$B$5*SIN(RADIANS(AE508))","v":-171.83460046714276},null,{"$f":"TRANSPOSE(MMULT(camera!$A$12:$C$14,MMULT(camera!$A$16:$C$18,TRANSPOSE(AH508:AJ508))))","v":175.27699356243153},-468.24974382758694,-4.4892018349072593,null,{"$f":"camera!$B$5*AM508/AN508","v":52152.894996451003},{"$f":"camera!$B$5*AL508/AN508","v":-19522.066506289364},null,{"$f":"IF( AND( (camera!$B$3) > (AQ508+camera!$B$3/2), 0 < (AQ508+camera!$B$3/2), AN508 >= 0 ), AQ508+camera!$B$3/2, 0)*-1+camera!$B$3","v":1000},{"$f":"IF( AND( (camera!$B$4) > (AP508+camera!$B$4/2), 0 < (AP508+camera!$B$4/2), AN508 >= 0 ), AP508+camera!$B$4/2, 0)","v":0},null,null,null,4332.5317999999997,453.55950000000001,-310.32639999999998,null,{"$f":"MMULT(               MMULT(AX508:AZ508-$B$2:$D$2, TRANSPOSE($A$16:$C$18)),     TRANSPOSE($A$12:$C$14))","v":868.11902030240424},-9332.5800724780474,5133.345309149121,null,-909.01541883853622,84.556850165053433," ",415.44314983494655,0]
[null,null,null,null,null,null,null,null,null,null,null,null,null,null,null,null,null,null,null,null,413.36470000000003,18.5139,null,null,null,"''",null,4.4006129999999999,-34.016846000000001,null,-34.016846000000001,66.009195000000005,null,{"$f":"camera!$B$5*COS(RADIANS(AE509))*COS(RADIANS(AF509))","v":168.50577385663928},{"$f":"camera!$B$5*COS(RADIANS(AE509))*SIN(RADIANS(AF509))","v":378.63368582041159},{"$f":"camera!$B$5*SIN(RADIANS(AE509))","v":-279.71831570175198},null,{"$f":"TRANSPOSE(MMULT(camera!$A$12:$C$14,MMULT(camera!$A$16:$C$18,TRANSPOSE(AH509:AJ509))))","v":207.41967156683893},-134.86445839686934,434.49816766981155,null,{"$f":"camera!$B$5*AM509/AN509","v":-155.19565838463669},{"$f":"camera!$B$5*AL509/AN509","v":238.68877592651148},null,{"$f":"IF( AND( (camera!$B$3) > (AQ509+camera!$B$3/2), 0 < (AQ509+camera!$B$3/2), AN509 >= 0 ), AQ509+camera!$B$3/2, 0)*-1+camera!$B$3","v":261.31122407348857},{"$f":"IF( AND( (camera!$B$4) > (AP509+camera!$B$4/2), 0 < (AP509+camera!$B$4/2), AN509 >= 0 ), AP509+camera!$B$4/2, 0)","v":344.80434161536334},null,null,null,4170.9186,559.71590000000003,-310.32639999999998,null,{"$f":"MMULT(               MMULT(AX509:AZ509-$B$2:$D$2, TRANSPOSE($A$16:$C$18)),     TRANSPOSE($A$12:$C$14))","v":852.20122593414499},-9162.3297196069907,5223.6196069582429,null,-877.00966083002072,81.571907035396563," ",418.42809296460348,0]
[null,null,null,null,null,null,null,null,null,null,null,null,null,null,null,null,null,null,null,null,416.89890000000003,22.0502,null,null,null,"''",null,5.8581659999999998,39.148479999999999,null,39.148479999999999,87.872489999999999,null,{"$f":"camera!$B$5*COS(RADIANS(AE510))*COS(RADIANS(AF510))","v":14.394877559791329},{"$f":"camera!$B$5*COS(RADIANS(AE510))*SIN(RADIANS(AF510))","v":387.4889596305153},{"$f":"camera!$B$5*SIN(RADIANS(AE510))","v":315.66611104852473},null,{"$f":"TRANSPOSE(MMULT(camera!$A$12:$C$14,MMULT(camera!$A$16:$C$18,TRANSPOSE(AH510:AJ510))))","v":-378.11899717676306},19.431787378370913,326.57071150567202,null,{"$f":"camera!$B$5*AM510/AN510","v":29.751270848478118},{"$f":"camera!$B$5*AL510/AN510","v":-578.92362029868639},null,{"$f":"IF( AND( (camera!$B$3) > (AQ510+camera!$B$3/2), 0 < (AQ510+camera!$B$3/2), AN510 >= 0 ), AQ510+camera!$B$3/2, 0)*-1+camera!$B$3","v":1000},{"$f":"IF( AND( (camera!$B$4) > (AP510+camera!$B$4/2), 0 < (AP510+camera!$B$4/2), AN510 >= 0 ), AP510+camera!$B$4/2, 0)","v":529.75127084847816},null,null,null,4212.7743,660.76419999999996,-285.80790000000002,null,{"$f":"MMULT(               MMULT(AX510:AZ510-$B$2:$D$2, TRANSPOSE($A$16:$C$18)),     TRANSPOSE($A$12:$C$14))","v":809.94167255559887},-9195.2192063920211,5322.0890296481975,null,-863.87311027375347,76.092458059569324," ",423.90754194043063,0]
[null,null,null,null,null,null,null,null,null,null,null,null,null,null,null,null,null,null,null,null,420.57740000000001,25.436299999999999,null,null,null,"''",null,7.2805080000000002,-67.957151999999994,null,-67.957151999999994,109.20762000000001,null,{"$f":"camera!$B$5*COS(RADIANS(AE511))*COS(RADIANS(AF511))","v":-61.735372927763365},{"$f":"camera!$B$5*COS(RADIANS(AE511))*SIN(RADIANS(AF511))","v":177.20395682098487},{"$f":"camera!$B$5*SIN(RADIANS(AE511))","v":-463.45172501184686},null,{"$f":"TRANSPOSE(MMULT(camera!$A$12:$C$14,MMULT(camera!$A$16:$C$18,TRANSPOSE(AH511:AJ511))))","v":426.69113129929286},76.944793669911419,249.02645883043107,null,{"$f":"camera!$B$5*AM511/AN511","v":154.49120151988595},{"$f":"camera!$B$5*AL511/AN511","v":856.71846538571731},null,{"$f":"IF( AND( (camera!$B$3) > (AQ511+camera!$B$3/2), 0 < (AQ511+camera!$B$3/2), AN511 >= 0 ), AQ511+camera!$B$3/2, 0)*-1+camera!$B$3","v":1000},{"$f":"IF( AND( (camera!$B$4) > (AP511+camera!$B$4/2), 0 < (AP511+camera!$B$4/2), AN511 >= 0 ), AP511+camera!$B$4/2, 0)","v":654.49120151988598},null,null,null,4410.1134000000002,531.14110000000005,-285.80790000000002,null,{"$f":"MMULT(               MMULT(AX511:AZ511-$B$2:$D$2, TRANSPOSE($A$16:$C$18)),     TRANSPOSE($A$12:$C$14))","v":829.37821885731228},-9403.1047690959713,5211.858897971133,null,-902.08742726672847,79.566449811234506," ",420.43355018876548,0]
[null,null,null,null,null,null,null,null,null,null,null,null,null,null,null,null,null,null,null,null,424.39370000000002,28.6662,null,null,null,"''",null,8.6683730000000008,-35.308351999999999,null,-35.308351999999999,130.02559500000001,null,{"$f":"camera!$B$5*COS(RADIANS(AE512))*COS(RADIANS(AF512))","v":-262.41409283107936},{"$f":"camera!$B$5*COS(RADIANS(AE512))*SIN(RADIANS(AF512))","v":312.44937227838074},{"$f":"camera!$B$5*SIN(RADIANS(AE512))","v":-288.98829326892729},null,{"$f":"TRANSPOSE(MMULT(camera!$A$12:$C$14,MMULT(camera!$A$16:$C$18,TRANSPOSE(AH512:AJ512))))","v":234.51959836459804},288.6472850948382,334.19051870196262,null,{"$f":"camera!$B$5*AM512/AN512","v":431.86037445942515},{"$f":"camera!$B$5*AL512/AN512","v":350.87709740464993},null,{"$f":"IF( AND( (camera!$B$3) > (AQ512+camera!$B$3/2), 0 < (AQ512+camera!$B$3/2), AN512 >= 0 ), AQ512+camera!$B$3/2, 0)*-1+camera!$B$3","v":149.12290259535007},{"$f":"IF( AND( (camera!$B$4) > (AP512+camera!$B$4/2), 0 < (AP512+camera!$B$4/2), AN512 >= 0 ), AP512+camera!$B$4/2, 0)","v":931.8603744594252},null,null,null,4188.7302,309.75790000000001,-219.43389999999999,null,{"$f":"MMULT(               MMULT(AX512:AZ512-$B$2:$D$2, TRANSPOSE($A$16:$C$18)),     TRANSPOSE($A$12:$C$14))","v":805.65960173571034},-9201.8588162372398,4964.1412279911729,null,-926.83289955077828,81.147933220841765," ",418.85206677915824,0]
[null,null,null,null,null,null,null,null,null,null,null,null,null,null,null,null,null,null,null,null,428.34120000000001,31.734400000000001,null,null,null,"''",null,12.194202000000001,-52.368459999999999,null,-52.368459999999999,-177.08696999999998,null,{"$f":"camera!$B$5*COS(RADIANS(AE513))*COS(RADIANS(AF513))","v":-304.89611559465106},{"$f":"camera!$B$5*COS(RADIANS(AE513))*SIN(RADIANS(AF513))","v":-15.514888025838314},{"$f":"camera!$B$5*SIN(RADIANS(AE513))","v":-395.97682627249651},null,{"$f":"TRANSPOSE(MMULT(camera!$A$12:$C$14,MMULT(camera!$A$16:$C$18,TRANSPOSE(AH513:AJ513))))","v":397.25935929098648},302.38368223462066,27.36987712699608,null,{"$f":"camera!$B$5*AM513/AN513","v":5524.0233785406135},{"$f":"camera!$B$5*AL513/AN513","v":7257.2368054066383},null,{"$f":"IF( AND( (camera!$B$3) > (AQ513+camera!$B$3/2), 0 < (AQ513+camera!$B$3/2), AN513 >= 0 ), AQ513+camera!$B$3/2, 0)*-1+camera!$B$3","v":1000},{"$f":"IF( AND( (camera!$B$4) > (AP513+camera!$B$4/2), 0 < (AP513+camera!$B$4/2), AN513 >= 0 ), AP513+camera!$B$4/2, 0)","v":0},null,null,null,4093.337,372.41730000000001,-219.43389999999999,null,{"$f":"MMULT(               MMULT(AX513:AZ513-$B$2:$D$2, TRANSPOSE($A$16:$C$18)),     TRANSPOSE($A$12:$C$14))","v":796.2640376956241},-9101.3674896161101,5017.4261195167674,null,-906.97573544866384,79.349851769447966," ",420.65014823055208,0]
[null,null,null,null,null,null,null,null,null,null,null,null,null,null,null,null,null,null,null,null,432.41300000000001,34.6355,null,null,null,"''",null,15.849316,-33.627164999999998,null,-33.627164999999998,-122.26025999999999,null,{"$f":"camera!$B$5*COS(RADIANS(AE514))*COS(RADIANS(AF514))","v":-222.22245176012157},{"$f":"camera!$B$5*COS(RADIANS(AE514))*SIN(RADIANS(AF514))","v":-352.06155760263925},{"$f":"camera!$B$5*SIN(RADIANS(AE514))","v":-276.89319527955894},null,{"$f":"TRANSPOSE(MMULT(camera!$A$12:$C$14,MMULT(camera!$A$16:$C$18,TRANSPOSE(AH514:AJ514))))","v":336.9519882705232},190.69264169462633,-316.38532520340766,null,{"$f":"camera!$B$5*AM514/AN514","v":-301.36138831980895},{"$f":"camera!$B$5*AL514/AN514","v":-532.50255531588425},null,{"$f":"IF( AND( (camera!$B$3) > (AQ514+camera!$B$3/2), 0 < (AQ514+camera!$B$3/2), AN514 >= 0 ), AQ514+camera!$B$3/2, 0)*-1+camera!$B$3","v":1000},{"$f":"IF( AND( (camera!$B$4) > (AP514+camera!$B$4/2), 0 < (AP514+camera!$B$4/2), AN514 >= 0 ), AP514+camera!$B$4/2, 0)","v":0},null,null,null,4129.0630000000001,458.66750000000002,-285.80790000000002,null,{"$f":"MMULT(               MMULT(AX514:AZ514-$B$2:$D$2, TRANSPOSE($A$16:$C$18)),     TRANSPOSE($A$12:$C$14))","v":846.16877731352724},-9129.4403411570038,5116.6349090571721,null,-892.13325783676646,82.68801588869357," ",417.3119841113064,0]
[null,null,null,null,null,null,null,null,null,null,null,null,null,null,null,null,null,null,null,null,435.03699999999998,36.855699999999999,null,null,null,"''",null,20.009844999999999,-72.910504000000003,null,{"$f":"AC515","v":-72.910504000000003},{"$f":"IF(AB515*15/1>180, (AB515*15/1)-360, AB515*15/1)","v":-59.852325000000008},null,{"$f":"camera!$B$5*COS(RADIANS(AE515))*COS(RADIANS(AF515))","v":73.793998598042464},{"$f":"camera!$B$5*COS(RADIANS(AE515))*SIN(RADIANS(AF515))","v":-127.05754340731173},{"$f":"camera!$B$5*SIN(RADIANS(AE515))","v":-477.92345248398431},null,{"$f":"TRANSPOSE(MMULT(camera!$A$12:$C$14,MMULT(camera!$A$16:$C$18,TRANSPOSE(AH515:AJ515))))","v":491.52524412345861},-84.586984721716675,-35.32670951365958,null,{"$f":"camera!$B$5*AM515/AN515","v":1197.2100697492062},{"$f":"camera!$B$5*AL515/AN515","v":-6956.8500844014825},null,{"$f":"IF( AND( (camera!$B$3) > (AQ515+camera!$B$3/2), 0 < (AQ515+camera!$B$3/2), AN515 >= 0 ), AQ515+camera!$B$3/2, 0)*-1+camera!$B$3","v":1000},{"$f":"IF( AND( (camera!$B$4) > (AP515+camera!$B$4/2), 0 < (AP515+camera!$B$4/2), AN515 >= 0 ), AP515+camera!$B$4/2, 0)","v":0},null,null,null,4254.9502000000002,375.97800000000001,-285.80790000000002,null,{"$f":"MMULT(               MMULT(AX515:AZ515-$B$2:$D$2, TRANSPOSE($A$16:$C$18)),     TRANSPOSE($A$12:$C$14))","v":858.56778666429682},-9262.0553671445505,5046.3166327448826,null,-917.70453988601275,85.068758972947109," ",414.93124102705292,0]
[null,null,null,null,null,null,null,null,null,null,null,null,null,null,null,null,null,null,null,null,435.58150000000001,5.3038999999999996,null,null,null,"''",null,22.487825000000001,-43.495564999999999,null,-43.495564999999999,-22.682624999999973,null,{"$f":"camera!$B$5*COS(RADIANS(AE516))*COS(RADIANS(AF516))","v":334.65975137175025},{"$f":"camera!$B$5*COS(RADIANS(AE516))*SIN(RADIANS(AF516))","v":-139.87197747025823},{"$f":"camera!$B$5*SIN(RADIANS(AE516))","v":-344.14921288644246},null,{"$f":"TRANSPOSE(MMULT(camera!$A$12:$C$14,MMULT(camera!$A$16:$C$18,TRANSPOSE(AH516:AJ516))))","v":358.05201535345259},-345.57691606724342,-48.737556183957103,null,{"$f":"camera!$B$5*AM516/AN516","v":3545.2835874954753},{"$f":"camera!$B$5*AL516/AN516","v":-3673.2659922668859},null,{"$f":"IF( AND( (camera!$B$3) > (AQ516+camera!$B$3/2), 0 < (AQ516+camera!$B$3/2), AN516 >= 0 ), AQ516+camera!$B$3/2, 0)*-1+camera!$B$3","v":1000},{"$f":"IF( AND( (camera!$B$4) > (AP516+camera!$B$4/2), 0 < (AP516+camera!$B$4/2), AN516 >= 0 ), AP516+camera!$B$4/2, 0)","v":0},null,null,null,4129.1656000000003,250.19329999999999,0,null,{"$f":"MMULT(               MMULT(AX516:AZ516-$B$2:$D$2, TRANSPOSE($A$16:$C$18)),     TRANSPOSE($A$12:$C$14))","v":600.76479728688378},-9147.7122744777516,4862.4879410748354,null,{"$f":"$B$5*BC516/BD516","v":-940.64112706628976},{"$f":"$B$5*BB516/BD516","v":61.775453694398976}," ",{"$f":"IF( AND( ($B$3) > (BG516+$B$3/2), 0 < (BG516+$B$3/2), BD516 >= 0 ), BG516+$B$3/2, 0)*-1+$B$3","v":438.22454630560105},{"$f":"IF( AND( ($B$4) > (BF516+$B$4/2), 0 < (BF516+$B$4/2), BD516 >= 0 ), BF516+$B$4/2, 0)","v":0}]
[null,null,null,null,null,null,null,null,null,null,null,null,null,null,null,null,null,null,null,null,436.60219999999998,37.364400000000003,null,null,null,"''",null,22.775521000000001,23.565653999999999,null,23.565653999999999,-18.367185000000006,null,{"$f":"camera!$B$5*COS(RADIANS(AE517))*COS(RADIANS(AF517))","v":434.95386917723721},{"$f":"camera!$B$5*COS(RADIANS(AE517))*SIN(RADIANS(AF517))","v":-144.41326944598444},{"$f":"camera!$B$5*SIN(RADIANS(AE517))","v":199.899823150678},null,{"$f":"TRANSPOSE(MMULT(camera!$A$12:$C$14,MMULT(camera!$A$16:$C$18,TRANSPOSE(AH517:AJ517))))","v":-178.46400198799648},-445.88518415003688,-139.05755121501358,null,{"$f":"camera!$B$5*AM517/AN517","v":1603.2397387057401},{"$f":"camera!$B$5*AL517/AN517","v":641.69115746922603},null,{"$f":"IF( AND( (camera!$B$3) > (AQ517+camera!$B$3/2), 0 < (AQ517+camera!$B$3/2), AN517 >= 0 ), AQ517+camera!$B$3/2, 0)*-1+camera!$B$3","v":1000},{"$f":"IF( AND( (camera!$B$4) > (AP517+camera!$B$4/2), 0 < (AP517+camera!$B$4/2), AN517 >= 0 ), AP517+camera!$B$4/2, 0)","v":0},null,null,null,4061.2017000000001,294.83569999999997,0,null,{"$f":"MMULT(               MMULT(AX517:AZ517-$B$2:$D$2, TRANSPOSE($A$16:$C$18)),     TRANSPOSE($A$12:$C$14))","v":594.07082014047739},-9076.1161561060744,4900.4513719661863,null,-926.04899704009358,60.61388788989462," ",439.38611211010539,0]
[null,null,null,null,null,null,null,null,null,null,null,null,null,null,null,null,null,null,null,null,438.57249999999999,40.391300000000001,null,null,null,"''",null,3.9827499999999998,35.791032999999999,null,35.791032999999999,59.741249999999994,null,{"$f":"camera!$B$5*COS(RADIANS(AE518))*COS(RADIANS(AF518))","v":204.37298226192402},{"$f":"camera!$B$5*COS(RADIANS(AE518))*SIN(RADIANS(AF518))","v":350.32119183946577},{"$f":"camera!$B$5*SIN(RADIANS(AE518))","v":292.41536667819543},null,{"$f":"TRANSPOSE(MMULT(camera!$A$12:$C$14,MMULT(camera!$A$16:$C$18,TRANSPOSE(AH518:AJ518))))","v":-351.66714001764353},-173.06277768751357,310.45047529500306,null,{"$f":"camera!$B$5*AM518/AN518","v":-278.72847919311778},{"$f":"camera!$B$5*AL518/AN518","v":-566.38202870115538},null,{"$f":"IF( AND( (camera!$B$3) > (AQ518+camera!$B$3/2), 0 < (AQ518+camera!$B$3/2), AN518 >= 0 ), AQ518+camera!$B$3/2, 0)*-1+camera!$B$3","v":1000},{"$f":"IF( AND( (camera!$B$4) > (AP518+camera!$B$4/2), 0 < (AP518+camera!$B$4/2), AN518 >= 0 ), AP518+camera!$B$4/2, 0)","v":221.27152080688222},null,null,null,4069.8703,315.76350000000002,-118.38549999999999,null,{"$f":"MMULT(               MMULT(AX518:AZ518-$B$2:$D$2, TRANSPOSE($A$16:$C$18)),     TRANSPOSE($A$12:$C$14))","v":706.90633843106446},-9082.9277915128787,4942.2842715098404,null,-918.89977311423388,71.516155242837598," ",428.48384475716239,0]
[null,null,null,null,null,null,null,null,null,null,null,null,null,null,null,null,null,null,null,null,439.34429999999998,8.5955999999999992,null,null,null,"''",null,21.56635,45.591836999999998,null,45.591836999999998,-36.504750000000001,null,{"$f":"camera!$B$5*COS(RADIANS(AE519))*COS(RADIANS(AF519))","v":281.23824374878723},{"$f":"camera!$B$5*COS(RADIANS(AE519))*SIN(RADIANS(AF519))","v":-208.14143717339252},{"$f":"camera!$B$5*SIN(RADIANS(AE519))","v":357.18649524372057},null,{"$f":"TRANSPOSE(MMULT(camera!$A$12:$C$14,MMULT(camera!$A$16:$C$18,TRANSPOSE(AH519:AJ519))))","v":-320.01056717584731},-298.30876887658786,-242.084934077127,null,{"$f":"camera!$B$5*AM519/AN519","v":616.12419214313479},{"$f":"camera!$B$5*AL519/AN519","v":660.94688708280705},null,{"$f":"IF( AND( (camera!$B$3) > (AQ519+camera!$B$3/2), 0 < (AQ519+camera!$B$3/2), AN519 >= 0 ), AQ519+camera!$B$3/2, 0)*-1+camera!$B$3","v":1000},{"$f":"IF( AND( (camera!$B$4) > (AP519+camera!$B$4/2), 0 < (AP519+camera!$B$4/2), AN519 >= 0 ), AP519+camera!$B$4/2, 0)","v":0},null,null,null,4145.2332999999999,266.26100000000002,-118.38549999999999,null,{"$f":"MMULT(               MMULT(AX519:AZ519-$B$2:$D$2, TRANSPOSE($A$16:$C$18)),     TRANSPOSE($A$12:$C$14))","v":714.32907040600855},-9162.3184397005334,4900.187866608444,null,-934.89460905526744,72.887926937831409," ",427.11207306216863,0]
[null,null,null,null,null,null,null,null,null,null,null,null,null,null,null,null,null,null,null,null,440.90140000000002,39.916499999999999,null,null,null,"''",null,2.0000840000000002,-21.077831,null,-21.077831,30.001260000000002,null,{"$f":"camera!$B$5*COS(RADIANS(AE520))*COS(RADIANS(AF520))","v":404.03588521279801},{"$f":"camera!$B$5*COS(RADIANS(AE520))*SIN(RADIANS(AF520))","v":233.28207419120599},{"$f":"camera!$B$5*SIN(RADIANS(AE520))","v":-179.81790044753436},null,{"$f":"TRANSPOSE(MMULT(camera!$A$12:$C$14,MMULT(camera!$A$16:$C$18,TRANSPOSE(AH520:AJ520))))","v":130.61634922073944},-382.16653424194561,294.76789075770387,null,{"$f":"camera!$B$5*AM520/AN520","v":-648.24993872226491},{"$f":"camera!$B$5*AL520/AN520","v":221.55796699055105},null,{"$f":"IF( AND( (camera!$B$3) > (AQ520+camera!$B$3/2), 0 < (AQ520+camera!$B$3/2), AN520 >= 0 ), AQ520+camera!$B$3/2, 0)*-1+camera!$B$3","v":278.44203300944901},{"$f":"IF( AND( (camera!$B$4) > (AP520+camera!$B$4/2), 0 < (AP520+camera!$B$4/2), AN520 >= 0 ), AP520+camera!$B$4/2, 0)","v":0},null,null,null,4188.7302,309.75790000000001,219.43389999999999,null,{"$f":"MMULT(               MMULT(AX520:AZ520-$B$2:$D$2, TRANSPOSE($A$16:$C$18)),     TRANSPOSE($A$12:$C$14))","v":373.4591897482992},-9201.8588162372398,4887.9326342844779,null,-941.28330980816156,38.202162109274667," ",461.7978378907253,0]
[null,null,null,null,null,null,null,null,null,null,null,null,null,null,null,null,null,null,null,null,442.10809999999998,43.9268,null,null,null,"''",null,6.247592,-6.2747760000000001,null,-6.2747760000000001,93.713880000000003,null,{"$f":"camera!$B$5*COS(RADIANS(AE521))*COS(RADIANS(AF521))","v":-32.193001345907511},{"$f":"camera!$B$5*COS(RADIANS(AE521))*SIN(RADIANS(AF521))","v":495.9608528536736},{"$f":"camera!$B$5*SIN(RADIANS(AE521))","v":-54.648358630420624},null,{"$f":"TRANSPOSE(MMULT(camera!$A$12:$C$14,MMULT(camera!$A$16:$C$18,TRANSPOSE(AH521:AJ521))))","v":-31.489625240050572},75.296333760677399,493.29389376358773,null,{"$f":"camera!$B$5*AM521/AN521","v":76.31995318876109},{"$f":"camera!$B$5*AL521/AN521","v":-31.917712380139506},null,{"$f":"IF( AND( (camera!$B$3) > (AQ521+camera!$B$3/2), 0 < (AQ521+camera!$B$3/2), AN521 >= 0 ), AQ521+camera!$B$3/2, 0)*-1+camera!$B$3","v":531.91771238013951},{"$f":"IF( AND( (camera!$B$4) > (AP521+camera!$B$4/2), 0 < (AP521+camera!$B$4/2), AN521 >= 0 ), AP521+camera!$B$4/2, 0)","v":576.31995318876113},null,null,null,4093.337,372.41730000000001,219.43389999999999,null,{"$f":"MMULT(               MMULT(AX521:AZ521-$B$2:$D$2, TRANSPOSE($A$16:$C$18)),     TRANSPOSE($A$12:$C$14))","v":364.06362570821295},-9101.3674896161101,4941.2175258100724,null,-920.9640581573077,36.839465557481979," ",463.16053444251804,0]
[null,null,null,null,null,null,null,null,null,null,null,null,null,null,null,null,null,null,null,null,443.27499999999998,11.684900000000001,null,null,null,"''",null,10.406592,-74.031611999999996,null,-74.031611999999996,156.09888000000001,null,{"$f":"camera!$B$5*COS(RADIANS(AE522))*COS(RADIANS(AF522))","v":-125.75772084293934},{"$f":"camera!$B$5*COS(RADIANS(AE522))*SIN(RADIANS(AF522))","v":55.731092146566205},{"$f":"camera!$B$5*SIN(RADIANS(AE522))","v":-480.70681399012881},null,{"$f":"TRANSPOSE(MMULT(camera!$A$12:$C$14,MMULT(camera!$A$16:$C$18,TRANSPOSE(AH522:AJ522))))","v":465.66629311743861},130.13645947801012,127.35542928666993,null,{"$f":"camera!$B$5*AM522/AN522","v":510.9183809709449},{"$f":"camera!$B$5*AL522/AN522","v":1828.2153172647627},null,{"$f":"IF( AND( (camera!$B$3) > (AQ522+camera!$B$3/2), 0 < (AQ522+camera!$B$3/2), AN522 >= 0 ), AQ522+camera!$B$3/2, 0)*-1+camera!$B$3","v":1000},{"$f":"IF( AND( (camera!$B$4) > (AP522+camera!$B$4/2), 0 < (AP522+camera!$B$4/2), AN522 >= 0 ), AP522+camera!$B$4/2, 0)","v":0},null,null,null,4069.8703,315.76350000000002,118.38549999999999,null,{"$f":"MMULT(               MMULT(AX522:AZ522-$B$2:$D$2, TRANSPOSE($A$16:$C$18)),     TRANSPOSE($A$12:$C$14))","v":473.73242194261081},-9082.9277915128787,4901.1694188354641,null,-926.60822502959059,48.328509122948397," ",451.67149087705161,0]
[null,null,null,null,null,null,null,null,null,null,null,null,null,null,null,null,null,null,null,null,445.30309999999997,42.287399999999998,null,null,null,"'Alcor'",null,13.420413,54.987957999999999,null,54.987957999999999,-158.693805,null,{"$f":"camera!$B$5*COS(RADIANS(AE523))*COS(RADIANS(AF523))","v":-267.26699385382881},{"$f":"camera!$B$5*COS(RADIANS(AE523))*SIN(RADIANS(AF523))","v":-104.23633845440479},{"$f":"camera!$B$5*SIN(RADIANS(AE523))","v":409.51573808824025},null,{"$f":"TRANSPOSE(MMULT(camera!$A$12:$C$14,MMULT(camera!$A$16:$C$18,TRANSPOSE(AH523:AJ523))))","v":-381.21776612127047},257.16516675281343,-196.3137585664997,null,{"$f":"camera!$B$5*AM523/AN523","v":-654.98508263164047},{"$f":"camera!$B$5*AL523/AN523","v":970.94001180802627},null,{"$f":"IF( AND( (camera!$B$3) > (AQ523+camera!$B$3/2), 0 < (AQ523+camera!$B$3/2), AN523 >= 0 ), AQ523+camera!$B$3/2, 0)*-1+camera!$B$3","v":1000},{"$f":"IF( AND( (camera!$B$4) > (AP523+camera!$B$4/2), 0 < (AP523+camera!$B$4/2), AN523 >= 0 ), AP523+camera!$B$4/2, 0)","v":0},null,null,null,4145.2332999999999,266.26100000000002,118.38549999999999,null,{"$f":"MMULT(               MMULT(AX523:AZ523-$B$2:$D$2, TRANSPOSE($A$16:$C$18)),     TRANSPOSE($A$12:$C$14))","v":481.15515391755491},-9162.3184397005334,4859.0730139340676,null,-942.80518253443722,49.511002668387121," ",450.48899733161284,0]
[null,null,null,null,null,null,null,null,null,null,null,null,null,null,null,null,null,null,null,null,445.64359999999999,47.462299999999999,null,null,null,"''",null,23.290497999999999,-58.235734000000001,null,-58.235734000000001,-10.642530000000022,null,{"$f":"camera!$B$5*COS(RADIANS(AE524))*COS(RADIANS(AF524))","v":258.68517120914754},{"$f":"camera!$B$5*COS(RADIANS(AE524))*SIN(RADIANS(AF524))","v":-48.610385725332478},{"$f":"camera!$B$5*SIN(RADIANS(AE524))","v":-425.11058866620624},null,{"$f":"TRANSPOSE(MMULT(camera!$A$12:$C$14,MMULT(camera!$A$16:$C$18,TRANSPOSE(AH524:AJ524))))","v":423.14613340809058},-261.93747030664974,48.333336643928853,null,{"$f":"camera!$B$5*AM524/AN524","v":-2709.6977830885144},{"$f":"camera!$B$5*AL524/AN524","v":4377.3734940482527},null,{"$f":"IF( AND( (camera!$B$3) > (AQ524+camera!$B$3/2), 0 < (AQ524+camera!$B$3/2), AN524 >= 0 ), AQ524+camera!$B$3/2, 0)*-1+camera!$B$3","v":1000},{"$f":"IF( AND( (camera!$B$4) > (AP524+camera!$B$4/2), 0 < (AP524+camera!$B$4/2), AN524 >= 0 ), AP524+camera!$B$4/2, 0)","v":0},null,null,null,4332.5317999999997,453.55950000000001,310.32639999999998,null,{"$f":"MMULT(               MMULT(AX524:AZ524-$B$2:$D$2, TRANSPOSE($A$16:$C$18)),     TRANSPOSE($A$12:$C$14))","v":256.89533093366902},-9332.5800724780474,5025.5700814652428,null,-928.50959405555272,25.558824846669857," ",474.44117515333016,0]
[null,null,null,null,null,null,null,null,null,null,null,null,null,null,null,null,null,null,null,null,447.36279999999999,14.5632,null,null,null,"''",null,9.0407770000000003,-66.396075999999994,null,-66.396075999999994,135.61165500000001,null,{"$f":"camera!$B$5*COS(RADIANS(AE525))*COS(RADIANS(AF525))","v":-143.07013356957779},{"$f":"camera!$B$5*COS(RADIANS(AE525))*SIN(RADIANS(AF525))","v":140.04762522903081},{"$f":"camera!$B$5*SIN(RADIANS(AE525))","v":-458.16765441057936},null,{"$f":"TRANSPOSE(MMULT(camera!$A$12:$C$14,MMULT(camera!$A$16:$C$18,TRANSPOSE(AH525:AJ525))))","v":429.14587029509357},154.73166331417312,204.67519238221334,null,{"$f":"camera!$B$5*AM525/AN525","v":377.993203556455},{"$f":"camera!$B$5*AL525/AN525","v":1048.3582922294279},null,{"$f":"IF( AND( (camera!$B$3) > (AQ525+camera!$B$3/2), 0 < (AQ525+camera!$B$3/2), AN525 >= 0 ), AQ525+camera!$B$3/2, 0)*-1+camera!$B$3","v":1000},{"$f":"IF( AND( (camera!$B$4) > (AP525+camera!$B$4/2), 0 < (AP525+camera!$B$4/2), AN525 >= 0 ), AP525+camera!$B$4/2, 0)","v":877.993203556455},null,null,null,4170.9186,559.71590000000003,310.32639999999998,null,{"$f":"MMULT(               MMULT(AX525:AZ525-$B$2:$D$2, TRANSPOSE($A$16:$C$18)),     TRANSPOSE($A$12:$C$14))","v":240.97753656540976},-9162.3297196069907,5115.8443792743647,null,-895.48557777930125,23.552078474246926," ",476.44792152575303,0]
[null,null,null,null,null,null,null,null,null,null,null,null,null,null,null,null,null,null,null,null,449.17910000000001,50.997900000000001,null,null,null,"''",null,11.398736,10.529508999999999,null,10.529508999999999,170.98104000000001,null,{"$f":"camera!$B$5*COS(RADIANS(AE526))*COS(RADIANS(AF526))","v":-485.50281513005098},{"$f":"camera!$B$5*COS(RADIANS(AE526))*SIN(RADIANS(AF526))","v":77.060790428583971},{"$f":"camera!$B$5*SIN(RADIANS(AE526))","v":91.370953148784864},null,{"$f":"TRANSPOSE(MMULT(camera!$A$12:$C$14,MMULT(camera!$A$16:$C$18,TRANSPOSE(AH526:AJ526))))","v":-95.965557135581562},490.37162076769852,18.063371482586206,null,{"$f":"camera!$B$5*AM526/AN526","v":13573.646017312878},{"$f":"camera!$B$5*AL526/AN526","v":-2656.357846266299},null,{"$f":"IF( AND( (camera!$B$3) > (AQ526+camera!$B$3/2), 0 < (AQ526+camera!$B$3/2), AN526 >= 0 ), AQ526+camera!$B$3/2, 0)*-1+camera!$B$3","v":1000},{"$f":"IF( AND( (camera!$B$4) > (AP526+camera!$B$4/2), 0 < (AP526+camera!$B$4/2), AN526 >= 0 ), AP526+camera!$B$4/2, 0)","v":0},null,null,null,4129.0630000000001,458.66750000000002,285.80790000000002,null,{"$f":"MMULT(               MMULT(AX526:AZ526-$B$2:$D$2, TRANSPOSE($A$16:$C$18)),     TRANSPOSE($A$12:$C$14))","v":283.23710572925165},-9129.4403411570038,5017.3748670615478,null,-909.78256389518185,28.225627268620947," ",471.774372731379,0]
[null,null,null,null,null,null,null,null,null,null,null,null,null,null,null,null,null,null,null,null,449.7998,44.472799999999999,null,null,null,"''",null,16.199926000000001,-19.460708,null,-19.460708,-117.00110999999998,null,{"$f":"camera!$B$5*COS(RADIANS(AE527))*COS(RADIANS(AF527))","v":-214.03519109410362},{"$f":"camera!$B$5*COS(RADIANS(AE527))*SIN(RADIANS(AF527))","v":-420.04759702057646},{"$f":"camera!$B$5*SIN(RADIANS(AE527))","v":-166.58017052023317},null,{"$f":"TRANSPOSE(MMULT(camera!$A$12:$C$14,MMULT(camera!$A$16:$C$18,TRANSPOSE(AH527:AJ527))))","v":239.95168443975143},176.61116226530228,-401.5366564808561,null,{"$f":"camera!$B$5*AM527/AN527","v":-219.91910254614888},{"$f":"camera!$B$5*AL527/AN527","v":-298.79175483346131},null,{"$f":"IF( AND( (camera!$B$3) > (AQ527+camera!$B$3/2), 0 < (AQ527+camera!$B$3/2), AN527 >= 0 ), AQ527+camera!$B$3/2, 0)*-1+camera!$B$3","v":1000},{"$f":"IF( AND( (camera!$B$4) > (AP527+camera!$B$4/2), 0 < (AP527+camera!$B$4/2), AN527 >= 0 ), AP527+camera!$B$4/2, 0)","v":0},null,null,null,4254.9502000000002,375.97800000000001,285.80790000000002,null,{"$f":"MMULT(               MMULT(AX527:AZ527-$B$2:$D$2, TRANSPOSE($A$16:$C$18)),     TRANSPOSE($A$12:$C$14))","v":295.63611508002123},-9262.0553671445505,4947.0565907492582,null,-936.11779016881667,29.880001335829224," ",470.11999866417079,0]
[null,null,null,null,null,null,null,null,null,null,null,null,null,null,null,null,null,null,null,null,451.59629999999999,17.2224,null,null,null,"''",null,1.7276750000000001,50.688732000000002,null,50.688732000000002,25.915125,null,{"$f":"camera!$B$5*COS(RADIANS(AE528))*COS(RADIANS(AF528))","v":284.9132547222024},{"$f":"camera!$B$5*COS(RADIANS(AE528))*SIN(RADIANS(AF528))","v":138.43940040763738},{"$f":"camera!$B$5*SIN(RADIANS(AE528))","v":386.85781586827898},null,{"$f":"TRANSPOSE(MMULT(camera!$A$12:$C$14,MMULT(camera!$A$16:$C$18,TRANSPOSE(AH528:AJ528))))","v":-409.24084886455438},-271.76328500225293,93.094814814806639,null,{"$f":"camera!$B$5*AM528/AN528","v":-1459.6048423474022},{"$f":"camera!$B$5*AL528/AN528","v":-2197.9787471442769},null,{"$f":"IF( AND( (camera!$B$3) > (AQ528+camera!$B$3/2), 0 < (AQ528+camera!$B$3/2), AN528 >= 0 ), AQ528+camera!$B$3/2, 0)*-1+camera!$B$3","v":1000},{"$f":"IF( AND( (camera!$B$4) > (AP528+camera!$B$4/2), 0 < (AP528+camera!$B$4/2), AN528 >= 0 ), AP528+camera!$B$4/2, 0)","v":0},null,null,null,4476.3334999999997,597.36120000000005,219.43389999999999,null,{"$f":"MMULT(               MMULT(AX528:AZ528-$B$2:$D$2, TRANSPOSE($A$16:$C$18)),     TRANSPOSE($A$12:$C$14))","v":319.35473068817987},-9463.3014196227523,5194.7742693123828,null,-910.84818406126647,30.738075817339787," ",469.26192418266021,0]
[null,null,null,null,null,null,null,null,null,null,null,null,null,null,null,null,null,null,null,null,452.71469999999999,54.5334,null,null,null,"''",null,4.758375,-3.2546569999999999,null,-3.2546569999999999,71.375624999999999,null,{"$f":"camera!$B$5*COS(RADIANS(AE529))*COS(RADIANS(AF529))","v":159.423685548854},{"$f":"camera!$B$5*COS(RADIANS(AE529))*SIN(RADIANS(AF529))","v":473.05207801655558},{"$f":"camera!$B$5*SIN(RADIANS(AE529))","v":-28.38696831714736},null,{"$f":"TRANSPOSE(MMULT(camera!$A$12:$C$14,MMULT(camera!$A$16:$C$18,TRANSPOSE(AH529:AJ529))))","v":-56.289127233787696},-117.58782507615797,482.70553917385007,null,{"$f":"camera!$B$5*AM529/AN529","v":-121.80078280996048},{"$f":"camera!$B$5*AL529/AN529","v":-58.305864202559668},null,{"$f":"IF( AND( (camera!$B$3) > (AQ529+camera!$B$3/2), 0 < (AQ529+camera!$B$3/2), AN529 >= 0 ), AQ529+camera!$B$3/2, 0)*-1+camera!$B$3","v":558.30586420255963},{"$f":"IF( AND( (camera!$B$4) > (AP529+camera!$B$4/2), 0 < (AP529+camera!$B$4/2), AN529 >= 0 ), AP529+camera!$B$4/2, 0)","v":378.19921719003952},null,null,null,4248.5002000000004,747.01440000000002,219.43389999999999,null,{"$f":"MMULT(               MMULT(AX529:AZ529-$B$2:$D$2, TRANSPOSE($A$16:$C$18)),     TRANSPOSE($A$12:$C$14))","v":296.91474210267017},-9223.2919583134408,5322.0377686098127,null,-866.51883726885762,27.894836058278134," ",472.10516394172191,0]
[null,null,null,null,null,null,null,null,null,null,null,null,null,null,null,null,null,null,null,null,454.3836,46.469099999999997,null,null,null,"''",null,7.0684810000000002,20.570297,null,20.570297,106.027215,null,{"$f":"camera!$B$5*COS(RADIANS(AE530))*COS(RADIANS(AF530))","v":-129.24533368146416},{"$f":"camera!$B$5*COS(RADIANS(AE530))*SIN(RADIANS(AF530))","v":449.92535537909492},{"$f":"camera!$B$5*SIN(RADIANS(AE530))","v":175.67816685223627},null,{"$f":"TRANSPOSE(MMULT(camera!$A$12:$C$14,MMULT(camera!$A$16:$C$18,TRANSPOSE(AH530:AJ530))))","v":-248.88458022075466},167.96709469564215,399.804353187711,null,{"$f":"camera!$B$5*AM530/AN530","v":210.06161308201214},{"$f":"camera!$B$5*AL530/AN530","v":-311.257966848477},null,{"$f":"IF( AND( (camera!$B$3) > (AQ530+camera!$B$3/2), 0 < (AQ530+camera!$B$3/2), AN530 >= 0 ), AQ530+camera!$B$3/2, 0)*-1+camera!$B$3","v":811.25796684847705},{"$f":"IF( AND( (camera!$B$4) > (AP530+camera!$B$4/2), 0 < (AP530+camera!$B$4/2), AN530 >= 0 ), AP530+camera!$B$4/2, 0)","v":710.06161308201217},null,null,null,4212.7743,660.76419999999996,285.80790000000002,null,{"$f":"MMULT(               MMULT(AX530:AZ530-$B$2:$D$2, TRANSPOSE($A$16:$C$18)),     TRANSPOSE($A$12:$C$14))","v":247.01000097132328},-9195.2192063920211,5222.8289876525723,null,-880.2910480249958,23.647146168799146," ",476.35285383120083,0]
[null,null,null,null,null,null,null,null,null,null,null,null,null,null,null,null,null,null,null,null,455.96379999999999,19.6553,null,null,null,"''",null,7.2468490000000001,-26.772666999999998,null,-26.772666999999998,108.702735,null,{"$f":"camera!$B$5*COS(RADIANS(AE531))*COS(RADIANS(AF531))","v":-143.14195235200492},{"$f":"camera!$B$5*COS(RADIANS(AE531))*SIN(RADIANS(AF531))","v":422.82821847883986},{"$f":"camera!$B$5*SIN(RADIANS(AE531))","v":-225.22584029117715},null,{"$f":"TRANSPOSE(MMULT(camera!$A$12:$C$14,MMULT(camera!$A$16:$C$18,TRANSPOSE(AH531:AJ531))))","v":150.82657480746164},179.44916144376094,441.64390948928548,null,{"$f":"camera!$B$5*AM531/AN531","v":203.16046206917574},{"$f":"camera!$B$5*AL531/AN531","v":170.75586413257304},null,{"$f":"IF( AND( (camera!$B$3) > (AQ531+camera!$B$3/2), 0 < (AQ531+camera!$B$3/2), AN531 >= 0 ), AQ531+camera!$B$3/2, 0)*-1+camera!$B$3","v":329.24413586742696},{"$f":"IF( AND( (camera!$B$4) > (AP531+camera!$B$4/2), 0 < (AP531+camera!$B$4/2), AN531 >= 0 ), AP531+camera!$B$4/2, 0)","v":703.16046206917576},null,null,null,4410.1134000000002,531.14110000000005,285.80790000000002,null,{"$f":"MMULT(               MMULT(AX531:AZ531-$B$2:$D$2, TRANSPOSE($A$16:$C$18)),     TRANSPOSE($A$12:$C$14))","v":266.44654727303669},-9403.1047690959713,5112.5988559755078,null,-919.60126679074415,26.057838173790913," ",473.94216182620903,0]
[null,null,null,null,null,null,null,null,null,null,null,null,null,null,null,null,null,null,null,null,456.25020000000001,58.068899999999999,null,null,null,"''",null,14.699332,-37.793498,null,-37.793498,-139.51002,null,{"$f":"camera!$B$5*COS(RADIANS(AE532))*COS(RADIANS(AF532))","v":-300.49060607220116},{"$f":"camera!$B$5*COS(RADIANS(AE532))*SIN(RADIANS(AF532))","v":-256.55235289911883},{"$f":"camera!$B$5*SIN(RADIANS(AE532))","v":-306.40869094117943},null,{"$f":"TRANSPOSE(MMULT(camera!$A$12:$C$14,MMULT(camera!$A$16:$C$18,TRANSPOSE(AH532:AJ532))))","v":350.6817331791176},276.98713772492005,-224.2776126800139,null,{"$f":"camera!$B$5*AM532/AN532","v":-617.50955526735743},{"$f":"camera!$B$5*AL532/AN532","v":-781.80280454351384},null,{"$f":"IF( AND( (camera!$B$3) > (AQ532+camera!$B$3/2), 0 < (AQ532+camera!$B$3/2), AN532 >= 0 ), AQ532+camera!$B$3/2, 0)*-1+camera!$B$3","v":1000},{"$f":"IF( AND( (camera!$B$4) > (AP532+camera!$B$4/2), 0 < (AP532+camera!$B$4/2), AN532 >= 0 ), AP532+camera!$B$4/2, 0)","v":0},null,null,null,4271.9669999999996,803.66819999999996,118.38549999999999,null,{"$f":"MMULT(               MMULT(AX532:AZ532-$B$2:$D$2, TRANSPOSE($A$16:$C$18)),     TRANSPOSE($A$12:$C$14))","v":386.27243985378618},-9241.7317560361444,5397.1796251999058,null,-856.16307014182803,35.784656679781996," ",464.21534332021804,0]
[null,null,null,null,null,null,null,null,null,null,null,null,null,null,null,null,null,null,null,null,459.04660000000001,48.2727,null,null,null,"''",null,16.031531999999999,58.565251000000004,null,58.565251000000004,-119.52702000000002,null,{"$f":"camera!$B$5*COS(RADIANS(AE533))*COS(RADIANS(AF533))","v":-128.51315652100536},{"$f":"camera!$B$5*COS(RADIANS(AE533))*SIN(RADIANS(AF533))","v":-226.89650508775671},{"$f":"camera!$B$5*SIN(RADIANS(AE533))","v":426.61732803528872},null,{"$f":"TRANSPOSE(MMULT(camera!$A$12:$C$14,MMULT(camera!$A$16:$C$18,TRANSPOSE(AH533:AJ533))))","v":-378.94084298281706},108.24879173348894,-307.71096276816604,null,{"$f":"camera!$B$5*AM533/AN533","v":-175.89362231310099},{"$f":"camera!$B$5*AL533/AN533","v":615.74153805549759},null,{"$f":"IF( AND( (camera!$B$3) > (AQ533+camera!$B$3/2), 0 < (AQ533+camera!$B$3/2), AN533 >= 0 ), AQ533+camera!$B$3/2, 0)*-1+camera!$B$3","v":1000},{"$f":"IF( AND( (camera!$B$4) > (AP533+camera!$B$4/2), 0 < (AP533+camera!$B$4/2), AN533 >= 0 ), AP533+camera!$B$4/2, 0)","v":0},null,null,null,4519.8303999999998,640.85810000000004,118.38549999999999,null,{"$f":"MMULT(               MMULT(AX533:AZ533-$B$2:$D$2, TRANSPOSE($A$16:$C$18)),     TRANSPOSE($A$12:$C$14))","v":410.68526201788154},-9502.8417961594569,5258.7276306951107,null,-903.53051760006724,39.047968525762592," ",460.9520314742374,0]
[null,null,null,null,null,null,null,null,null,null,null,null,null,null,null,null,null,null,null,null,459.78579999999999,61.604500000000002,null,null,null,"''",null,16.330687000000001,-50.155507999999998,null,-50.155507999999998,-115.03969499999999,null,{"$f":"camera!$B$5*COS(RADIANS(AE534))*COS(RADIANS(AF534))","v":-135.58816622018256},{"$f":"camera!$B$5*COS(RADIANS(AE534))*SIN(RADIANS(AF534))","v":-290.24459825256997},{"$f":"camera!$B$5*SIN(RADIANS(AE534))","v":-383.89311320503316},null,{"$f":"TRANSPOSE(MMULT(camera!$A$12:$C$14,MMULT(camera!$A$16:$C$18,TRANSPOSE(AH534:AJ534))))","v":430.32162127549594},109.77572877332979,-229.72285832087533,null,{"$f":"camera!$B$5*AM534/AN534","v":-238.93079159757752},{"$f":"camera!$B$5*AL534/AN534","v":-936.61036698930855},null,{"$f":"IF( AND( (camera!$B$3) > (AQ534+camera!$B$3/2), 0 < (AQ534+camera!$B$3/2), AN534 >= 0 ), AQ534+camera!$B$3/2, 0)*-1+camera!$B$3","v":1000},{"$f":"IF( AND( (camera!$B$4) > (AP534+camera!$B$4/2), 0 < (AP534+camera!$B$4/2), AN534 >= 0 ), AP534+camera!$B$4/2, 0)","v":0},null,null,null,4625.9867000000004,369.52800000000002,-219.43389999999999,null,{"$f":"MMULT(               MMULT(AX534:AZ534-$B$2:$D$2, TRANSPOSE($A$16:$C$18)),     TRANSPOSE($A$12:$C$14))","v":788.70249743037448},-9632.2421157837907,5060.3097453513847,null,-951.74432006186737,77.930258928804719," ",422.06974107119527,0]
[null,null,null,null,null,null,null,null,null,null,null,null,null,null,null,null,null,null,null,null,460.45330000000001,21.8551,null,null,null,"''",null,18.71726,-71.428112999999996,null,-71.428112999999996,-79.241100000000017,null,{"$f":"camera!$B$5*COS(RADIANS(AE535))*COS(RADIANS(AF535))","v":29.727717115247199},{"$f":"camera!$B$5*COS(RADIANS(AE535))*SIN(RADIANS(AF535))","v":-156.44777792623637},{"$f":"camera!$B$5*SIN(RADIANS(AE535))","v":-473.96239894854409},null,{"$f":"TRANSPOSE(MMULT(camera!$A$12:$C$14,MMULT(camera!$A$16:$C$18,TRANSPOSE(AH535:AJ535))))","v":493.37542628044832},-43.249916462962304,-68.63041212562149,null,{"$f":"camera!$B$5*AM535/AN535","v":315.09293856342737},{"$f":"camera!$B$5*AL535/AN535","v":-3594.4372982736222},null,{"$f":"IF( AND( (camera!$B$3) > (AQ535+camera!$B$3/2), 0 < (AQ535+camera!$B$3/2), AN535 >= 0 ), AQ535+camera!$B$3/2, 0)*-1+camera!$B$3","v":1000},{"$f":"IF( AND( (camera!$B$4) > (AP535+camera!$B$4/2), 0 < (AP535+camera!$B$4/2), AN535 >= 0 ), AP535+camera!$B$4/2, 0)","v":0},null,null,null,4682.6405000000004,392.99470000000002,-118.38549999999999,null,{"$f":"MMULT(               MMULT(AX535:AZ535-$B$2:$D$2, TRANSPOSE($A$16:$C$18)),     TRANSPOSE($A$12:$C$14))","v":684.27238309920654},-9686.6350733022045,5070.6478108894453,null,-955.16741002004881,67.473862178881816," ",432.52613782111814,0]
[null,null,null,null,null,null,null,null,null,null,null,null,null,null,null,null,null,null,null,null,463.32130000000001,65.14,null,null,null,"''",null,20.489926000000001,30.368555000000001,null,30.368555000000001,-52.651110000000017,null,{"$f":"camera!$B$5*COS(RADIANS(AE536))*COS(RADIANS(AF536))","v":261.71347126861451},{"$f":"camera!$B$5*COS(RADIANS(AE536))*SIN(RADIANS(AF536))","v":-342.94059047717417},{"$f":"camera!$B$5*SIN(RADIANS(AE536))","v":252.7801621166092},null,{"$f":"TRANSPOSE(MMULT(camera!$A$12:$C$14,MMULT(camera!$A$16:$C$18,TRANSPOSE(AH536:AJ536))))","v":-193.57635019777354},-290.60681437833875,-357.87690073680744,null,{"$f":"camera!$B$5*AM536/AN536","v":406.01504844267532},{"$f":"camera!$B$5*AL536/AN536","v":270.45102631551924},null,{"$f":"IF( AND( (camera!$B$3) > (AQ536+camera!$B$3/2), 0 < (AQ536+camera!$B$3/2), AN536 >= 0 ), AQ536+camera!$B$3/2, 0)*-1+camera!$B$3","v":1000},{"$f":"IF( AND( (camera!$B$4) > (AP536+camera!$B$4/2), 0 < (AP536+camera!$B$4/2), AN536 >= 0 ), AP536+camera!$B$4/2, 0)","v":0},null,null,null,4703.5682999999999,401.66329999999999,0,null,{"$f":"MMULT(               MMULT(AX536:AZ536-$B$2:$D$2, TRANSPOSE($A$16:$C$18)),     TRANSPOSE($A$12:$C$14))","v":565.86913588434459},-9706.7277184333452,5060.3910711705912,null,-959.08869313809214,55.911601289882654," ",444.0883987101173,0]
[null,null,null,null,null,null,null,null,null,null,null,null,null,null,null,null,null,null,null,null,463.78070000000002,49.880600000000001,null,null,null,"''",null,8.8422040000000006,-27.709844,null,-27.709844,132.63306,null,{"$f":"camera!$B$5*COS(RADIANS(AE537))*COS(RADIANS(AF537))","v":-299.81176164695717},{"$f":"camera!$B$5*COS(RADIANS(AE537))*SIN(RADIANS(AF537))","v":325.66549665502777},{"$f":"camera!$B$5*SIN(RADIANS(AE537))","v":-232.4970792646269},null,{"$f":"TRANSPOSE(MMULT(camera!$A$12:$C$14,MMULT(camera!$A$16:$C$18,TRANSPOSE(AH537:AJ537))))","v":177.16638254393854},327.05450562649878,334.13683311736418,null,{"$f":"camera!$B$5*AM537/AN537","v":489.40205510300962},{"$f":"camera!$B$5*AL537/AN537","v":265.11052506700088},null,{"$f":"IF( AND( (camera!$B$3) > (AQ537+camera!$B$3/2), 0 < (AQ537+camera!$B$3/2), AN537 >= 0 ), AQ537+camera!$B$3/2, 0)*-1+camera!$B$3","v":234.88947493299906},{"$f":"IF( AND( (camera!$B$4) > (AP537+camera!$B$4/2), 0 < (AP537+camera!$B$4/2), AN537 >= 0 ), AP537+camera!$B$4/2, 0)","v":989.40205510300962},null,null,null,4438.6881999999996,291.94639999999998,-310.32639999999998,null,{"$f":"MMULT(               MMULT(AX537:AZ537-$B$2:$D$2, TRANSPOSE($A$16:$C$18)),     TRANSPOSE($A$12:$C$14))","v":894.46943206424226},-9452.4180250948066,4983.9046979847681,null,-948.29441952580612,89.735808193314696," ",410.26419180668529,0]
[null,null,null,null,null,null,null,null,null,null,null,null,null,null,null,null,null,null,null,null,465.05220000000003,23.8157,null,null,null,"''",null,12.140224999999999,-24.728874999999999,null,-24.728874999999999,-177.896625,null,{"$f":"camera!$B$5*COS(RADIANS(AE538))*COS(RADIANS(AF538))","v":-453.84274595783228},{"$f":"camera!$B$5*COS(RADIANS(AE538))*SIN(RADIANS(AF538))","v":-16.668427569848436},{"$f":"camera!$B$5*SIN(RADIANS(AE538))","v":-209.16243798493858},null,{"$f":"TRANSPOSE(MMULT(camera!$A$12:$C$14,MMULT(camera!$A$16:$C$18,TRANSPOSE(AH538:AJ538))))","v":215.73687236062619},450.66298810530577,-18.986127989980616,null,{"$f":"camera!$B$5*AM538/AN538","v":-11868.217372787391},{"$f":"camera!$B$5*AL538/AN538","v":-5681.4341627338426},null,{"$f":"IF( AND( (camera!$B$3) > (AQ538+camera!$B$3/2), 0 < (AQ538+camera!$B$3/2), AN538 >= 0 ), AQ538+camera!$B$3/2, 0)*-1+camera!$B$3","v":1000},{"$f":"IF( AND( (camera!$B$4) > (AP538+camera!$B$4/2), 0 < (AP538+camera!$B$4/2), AN538 >= 0 ), AP538+camera!$B$4/2, 0)","v":0},null,null,null,4539.7365,333.80200000000002,-285.80790000000002,null,{"$f":"MMULT(               MMULT(AX538:AZ538-$B$2:$D$2, TRANSPOSE($A$16:$C$18)),     TRANSPOSE($A$12:$C$14))","v":861.55362298755199},-9549.4338498998404,5029.3831134884513,null,-949.36432902565434,85.652017707392957," ",414.34798229260707,0]
[null,null,null,null,null,null,null,null,null,null,null,null,null,null,null,null,null,null,null,null,466.85680000000002,68.6755,null,null,null,"''",null,18.993711000000001,15.068298,null,15.068298,-75.094335000000001,null,{"$f":"camera!$B$5*COS(RADIANS(AE539))*COS(RADIANS(AF539))","v":124.19198043968019},{"$f":"camera!$B$5*COS(RADIANS(AE539))*SIN(RADIANS(AF539))","v":-466.56212538983829},{"$f":"camera!$B$5*SIN(RADIANS(AE539))","v":129.98513432768735},null,{"$f":"TRANSPOSE(MMULT(camera!$A$12:$C$14,MMULT(camera!$A$16:$C$18,TRANSPOSE(AH539:AJ539))))","v":-49.180577454325501},-164.38296103580055,-469.63764001872931,null,{"$f":"camera!$B$5*AM539/AN539","v":175.01041976665763},{"$f":"camera!$B$5*AL539/AN539","v":52.360131794764328},null,{"$f":"IF( AND( (camera!$B$3) > (AQ539+camera!$B$3/2), 0 < (AQ539+camera!$B$3/2), AN539 >= 0 ), AQ539+camera!$B$3/2, 0)*-1+camera!$B$3","v":1000},{"$f":"IF( AND( (camera!$B$4) > (AP539+camera!$B$4/2), 0 < (AP539+camera!$B$4/2), AN539 >= 0 ), AP539+camera!$B$4/2, 0)","v":0},null,null,null,4251.3896000000004,214.3648,-219.43389999999999,null,{"$f":"MMULT(               MMULT(AX539:AZ539-$B$2:$D$2, TRANSPOSE($A$16:$C$18)),     TRANSPOSE($A$12:$C$14))","v":821.21309083022948},-9272.5938347863521,4875.9330080578038,null,-950.8532848444363,84.210866871337259," ",415.7891331286628,0]
[null,null,null,null,null,null,null,null,null,null,null,null,null,null,null,null,null,null,null,null,468.57760000000002,51.2898,null,null,null,"''",null,19.028008,-5.739115,null,-5.739115,-74.579880000000003,null,{"$f":"camera!$B$5*COS(RADIANS(AE540))*COS(RADIANS(AF540))","v":132.28093257958619},{"$f":"camera!$B$5*COS(RADIANS(AE540))*SIN(RADIANS(AF540))","v":-479.5850321330098},{"$f":"camera!$B$5*SIN(RADIANS(AE540))","v":-49.999518296228338},null,{"$f":"TRANSPOSE(MMULT(camera!$A$12:$C$14,MMULT(camera!$A$16:$C$18,TRANSPOSE(AH540:AJ540))))","v":130.20008084407601},-173.57615338062737,-450.46560126804457,null,{"$f":"camera!$B$5*AM540/AN540","v":192.6630500664387},{"$f":"camera!$B$5*AL540/AN540","v":-144.5172289266566},null,{"$f":"IF( AND( (camera!$B$3) > (AQ540+camera!$B$3/2), 0 < (AQ540+camera!$B$3/2), AN540 >= 0 ), AQ540+camera!$B$3/2, 0)*-1+camera!$B$3","v":1000},{"$f":"IF( AND( (camera!$B$4) > (AP540+camera!$B$4/2), 0 < (AP540+camera!$B$4/2), AN540 >= 0 ), AP540+camera!$B$4/2, 0)","v":0},null,null,null,4337.6397999999999,250.0908,-285.80790000000002,null,{"$f":"MMULT(               MMULT(AX540:AZ540-$B$2:$D$2, TRANSPOSE($A$16:$C$18)),     TRANSPOSE($A$12:$C$14))","v":879.09322486991607},-9355.4021006703006,4929.9110882096675,null,-948.84085466009708,89.159135848549866," ",410.84086415145009,0]
[null,null,null,null,null,null,null,null,null,null,null,null,null,null,null,null,null,null,null,null,469.42059999999998,55.996099999999998,null,null,null,"''",null,2.288573,33.847194000000002,null,33.847194000000002,34.328595,null,{"$f":"camera!$B$5*COS(RADIANS(AE541))*COS(RADIANS(AF541))","v":342.93121200826954},{"$f":"camera!$B$5*COS(RADIANS(AE541))*SIN(RADIANS(AF541))","v":234.18268794928957},{"$f":"camera!$B$5*SIN(RADIANS(AE541))","v":278.48995043876351},null,{"$f":"TRANSPOSE(MMULT(camera!$A$12:$C$14,MMULT(camera!$A$16:$C$18,TRANSPOSE(AH541:AJ541))))","v":-319.95978566550747},-321.21588910595108,210.82240901468674,null,{"$f":"camera!$B$5*AM541/AN541","v":-761.81628558179943},{"$f":"camera!$B$5*AL541/AN541","v":-758.83722978238472},null,{"$f":"IF( AND( (camera!$B$3) > (AQ541+camera!$B$3/2), 0 < (AQ541+camera!$B$3/2), AN541 >= 0 ), AQ541+camera!$B$3/2, 0)*-1+camera!$B$3","v":1000},{"$f":"IF( AND( (camera!$B$4) > (AP541+camera!$B$4/2), 0 < (AP541+camera!$B$4/2), AN541 >= 0 ), AP541+camera!$B$4/2, 0)","v":0},null,null,null,4173.808,182.2294,0,null,{"$f":"MMULT(               MMULT(AX541:AZ541-$B$2:$D$2, TRANSPOSE($A$16:$C$18)),     TRANSPOSE($A$12:$C$14))","v":611.84605768758729},-9198.1082408523707,4799.6429904258766,null,-958.20754368609971,63.738705035777848," ",436.2612949642222,0]
[null,null,null,null,null,null,null,null,null,null,null,null,null,null,null,null,null,null,null,null,469.74790000000002,25.531600000000001,null,null,null,"''",null,5.0569699999999997,60.442245,null,60.442245,75.854549999999989,null,{"$f":"camera!$B$5*COS(RADIANS(AE542))*COS(RADIANS(AF542))","v":60.277463025129492},{"$f":"camera!$B$5*COS(RADIANS(AE542))*SIN(RADIANS(AF542))","v":239.17150358617073},{"$f":"camera!$B$5*SIN(RADIANS(AE542))","v":434.92944177600174},null,{"$f":"TRANSPOSE(MMULT(camera!$A$12:$C$14,MMULT(camera!$A$16:$C$18,TRANSPOSE(AH542:AJ542))))","v":-470.60780678124422},-39.202919040928336,164.29066721885795,null,{"$f":"camera!$B$5*AM542/AN542","v":-119.30963488237774},{"$f":"camera!$B$5*AL542/AN542","v":-1432.241449705507},null,{"$f":"IF( AND( (camera!$B$3) > (AQ542+camera!$B$3/2), 0 < (AQ542+camera!$B$3/2), AN542 >= 0 ), AQ542+camera!$B$3/2, 0)*-1+camera!$B$3","v":1000},{"$f":"IF( AND( (camera!$B$4) > (AP542+camera!$B$4/2), 0 < (AP542+camera!$B$4/2), AN542 >= 0 ), AP542+camera!$B$4/2, 0)","v":380.69036511762226},null,null,null,4194.7358000000004,190.898,-118.38549999999999,null,{"$f":"MMULT(               MMULT(AX542:AZ542-$B$2:$D$2, TRANSPOSE($A$16:$C$18)),     TRANSPOSE($A$12:$C$14))","v":726.6167269611791},-9218.2008859835132,4830.5011033813989,null,-954.16610913624277,75.211319841386654," ",424.78868015861337,0]
[null,null,null,null,null,null,null,null,null,null,null,null,null,null,null,null,null,null,null,null,470.39240000000001,72.211100000000002,null,null,null,"''",null,8.7782839999999993,28.759898,null,28.759898,131.67426,null,{"$f":"camera!$B$5*COS(RADIANS(AE543))*COS(RADIANS(AF543))","v":-291.4379295242872},{"$f":"camera!$B$5*COS(RADIANS(AE543))*SIN(RADIANS(AF543))","v":327.39877173691082},{"$f":"camera!$B$5*SIN(RADIANS(AE543))","v":240.57010932316331},null,{"$f":"TRANSPOSE(MMULT(camera!$A$12:$C$14,MMULT(camera!$A$16:$C$18,TRANSPOSE(AH543:AJ543))))","v":-289.14042043788493},318.86360334033213,254.40876504912799,null,{"$f":"camera!$B$5*AM543/AN543","v":626.67574224252348},{"$f":"camera!$B$5*AL543/AN543","v":-568.25954951286769},null,{"$f":"IF( AND( (camera!$B$3) > (AQ543+camera!$B$3/2), 0 < (AQ543+camera!$B$3/2), AN543 >= 0 ), AQ543+camera!$B$3/2, 0)*-1+camera!$B$3","v":1000},{"$f":"IF( AND( (camera!$B$4) > (AP543+camera!$B$4/2), 0 < (AP543+camera!$B$4/2), AN543 >= 0 ), AP543+camera!$B$4/2, 0)","v":0},null,null,null,4251.3896000000004,214.3648,219.43389999999999,null,{"$f":"MMULT(               MMULT(AX543:AZ543-$B$2:$D$2, TRANSPOSE($A$16:$C$18)),     TRANSPOSE($A$12:$C$14))","v":389.01267884281833},-9272.5938347863521,4799.7244143511089,null,-965.95064990204708,40.524480705566745," ",459.4755192944333,0]
[null,null,null,null,null,null,null,null,null,null,null,null,null,null,null,null,null,null,null,null,470.71469999999999,60.825800000000001,null,null,null,"''",null,12.9099,-57.177923999999997,null,-57.177923999999997,-166.35149999999999,null,{"$f":"camera!$B$5*COS(RADIANS(AE544))*COS(RADIANS(AF544))","v":-263.36296316641068},{"$f":"camera!$B$5*COS(RADIANS(AE544))*SIN(RADIANS(AF544))","v":-63.950235161902874},{"$f":"camera!$B$5*SIN(RADIANS(AE544))","v":-420.17891076890709},null,{"$f":"TRANSPOSE(MMULT(camera!$A$12:$C$14,MMULT(camera!$A$16:$C$18,TRANSPOSE(AH544:AJ544))))","v":428.84388338382729},256.78715733568697,-12.380610313532202,null,{"$f":"camera!$B$5*AM544/AN544","v":-10370.537107327194},{"$f":"camera!$B$5*AL544/AN544","v":-17319.17379368181},null,{"$f":"IF( AND( (camera!$B$3) > (AQ544+camera!$B$3/2), 0 < (AQ544+camera!$B$3/2), AN544 >= 0 ), AQ544+camera!$B$3/2, 0)*-1+camera!$B$3","v":1000},{"$f":"IF( AND( (camera!$B$4) > (AP544+camera!$B$4/2), 0 < (AP544+camera!$B$4/2), AN544 >= 0 ), AP544+camera!$B$4/2, 0)","v":0},null,null,null,4194.7358000000004,190.898,118.38549999999999,null,{"$f":"MMULT(               MMULT(AX544:AZ544-$B$2:$D$2, TRANSPOSE($A$16:$C$18)),     TRANSPOSE($A$12:$C$14))","v":493.44281047272545},-9218.2008859835132,4789.3862507070226,null,-962.35722109724361,51.514200843571771," ",448.48579915642824,0]
[null,null,null,null,null,null,null,null,null,null,null,null,null,null,null,null,null,null,null,null,472.00880000000001,65.6554,null,null,null,"''",null,18.090913,2.5000990000000001,null,2.5000990000000001,-88.636304999999993,null,{"$f":"camera!$B$5*COS(RADIANS(AE545))*COS(RADIANS(AF545))","v":11.888033875727038},{"$f":"camera!$B$5*COS(RADIANS(AE545))*SIN(RADIANS(AF545))","v":-499.38259307140061},{"$f":"camera!$B$5*SIN(RADIANS(AE545))","v":21.810556798337657},null,{"$f":"TRANSPOSE(MMULT(camera!$A$12:$C$14,MMULT(camera!$A$16:$C$18,TRANSPOSE(AH545:AJ545))))","v":64.72776922777382},-55.366857132123776,-492.69141155707905,null,{"$f":"camera!$B$5*AM545/AN545","v":56.188169545258496},{"$f":"camera!$B$5*AL545/AN545","v":-65.687941487767347},null,{"$f":"IF( AND( (camera!$B$3) > (AQ545+camera!$B$3/2), 0 < (AQ545+camera!$B$3/2), AN545 >= 0 ), AQ545+camera!$B$3/2, 0)*-1+camera!$B$3","v":1000},{"$f":"IF( AND( (camera!$B$4) > (AP545+camera!$B$4/2), 0 < (AP545+camera!$B$4/2), AN545 >= 0 ), AP545+camera!$B$4/2, 0)","v":0},null,null,null,4438.6881999999996,291.94639999999998,310.32639999999998,null,{"$f":"MMULT(               MMULT(AX545:AZ545-$B$2:$D$2, TRANSPOSE($A$16:$C$18)),     TRANSPOSE($A$12:$C$14))","v":283.24574269550703},-9452.4180250948066,4876.1294703008898,null,-969.25420896499793,29.04411628328122," ",470.95588371671874,0]
[null,null,null,null,null,null,null,null,null,null,null,null,null,null,null,null,null,null,null,null,473.30290000000002,70.484999999999999,null,null,null,"''",null,20.553546999999998,11.303262999999999,null,11.303262999999999,-51.696795000000009,null,{"$f":"camera!$B$5*COS(RADIANS(AE546))*COS(RADIANS(AF546))","v":303.90026633941},{"$f":"camera!$B$5*COS(RADIANS(AE546))*SIN(RADIANS(AF546))","v":-384.76022805867893},{"$f":"camera!$B$5*SIN(RADIANS(AE546))","v":98.000995010607284},null,{"$f":"TRANSPOSE(MMULT(camera!$A$12:$C$14,MMULT(camera!$A$16:$C$18,TRANSPOSE(AH546:AJ546))))","v":-34.552829652776367},-336.27789753220208,-368.40640275965347,null,{"$f":"camera!$B$5*AM546/AN546","v":456.39529472508667},{"$f":"camera!$B$5*AL546/AN546","v":46.894990686845446},null,{"$f":"IF( AND( (camera!$B$3) > (AQ546+camera!$B$3/2), 0 < (AQ546+camera!$B$3/2), AN546 >= 0 ), AQ546+camera!$B$3/2, 0)*-1+camera!$B$3","v":1000},{"$f":"IF( AND( (camera!$B$4) > (AP546+camera!$B$4/2), 0 < (AP546+camera!$B$4/2), AN546 >= 0 ), AP546+camera!$B$4/2, 0)","v":0},null,null,null,4337.6397999999999,250.0908,285.80790000000002,null,{"$f":"MMULT(               MMULT(AX546:AZ546-$B$2:$D$2, TRANSPOSE($A$16:$C$18)),     TRANSPOSE($A$12:$C$14))","v":316.16155328564048},-9355.4021006703006,4830.6510462140432,null,-968.33760203011036,32.724528253125193," ",467.27547174687481,0]
[null,null,null,null,null,null,null,null,null,null,null,null,null,null,null,null,null,null,null,null,473.42899999999997,52.498100000000001,null,null,null,"''",null,23.988524999999999,6.863321,null,6.863321,-0.17212499999999409,null,{"$f":"camera!$B$5*COS(RADIANS(AE547))*COS(RADIANS(AF547))","v":496.41478315237737},{"$f":"camera!$B$5*COS(RADIANS(AE547))*SIN(RADIANS(AF547))","v":-1.4913079518717884},{"$f":"camera!$B$5*SIN(RADIANS(AE547))","v":59.750640736069236},null,{"$f":"TRANSPOSE(MMULT(camera!$A$12:$C$14,MMULT(camera!$A$16:$C$18,TRANSPOSE(AH547:AJ547))))","v":-66.097874484290543},-494.65575108297276,30.769447658335181,null,{"$f":"camera!$B$5*AM547/AN547","v":-8038.0992953731929},{"$f":"camera!$B$5*AL547/AN547","v":-1074.0828892712541},null,{"$f":"IF( AND( (camera!$B$3) > (AQ547+camera!$B$3/2), 0 < (AQ547+camera!$B$3/2), AN547 >= 0 ), AQ547+camera!$B$3/2, 0)*-1+camera!$B$3","v":1000},{"$f":"IF( AND( (camera!$B$4) > (AP547+camera!$B$4/2), 0 < (AP547+camera!$B$4/2), AN547 >= 0 ), AP547+camera!$B$4/2, 0)","v":0},null,null,null,4625.9867000000004,369.52800000000002,219.43389999999999,null,{"$f":"MMULT(               MMULT(AX547:AZ547-$B$2:$D$2, TRANSPOSE($A$16:$C$18)),     TRANSPOSE($A$12:$C$14))","v":356.50208544296333},-9632.2421157837907,4984.1011516446897,null,-966.29681287720985,35.763929602965845," ",464.23607039703415,0]
[null,null,null,null,null,null,null,null,null,null,null,null,null,null,null,null,null,null,null,null,473.92790000000002,75.746600000000001,null,null,null,"''",null,4.1977609999999999,-6.8375810000000001,null,-6.8375810000000001,62.966414999999998,null,{"$f":"camera!$B$5*COS(RADIANS(AE548))*COS(RADIANS(AF548))","v":225.64002016414724},{"$f":"camera!$B$5*COS(RADIANS(AE548))*SIN(RADIANS(AF548))","v":442.20249173867046},{"$f":"camera!$B$5*SIN(RADIANS(AE548))","v":-59.527620483556085},null,{"$f":"TRANSPOSE(MMULT(camera!$A$12:$C$14,MMULT(camera!$A$16:$C$18,TRANSPOSE(AH548:AJ548))))","v":-21.287128884430167},-186.24090515248906,463.53121080660708,null,{"$f":"camera!$B$5*AM548/AN548","v":-200.89359768073078},{"$f":"camera!$B$5*AL548/AN548","v":-22.961915387949475},null,{"$f":"IF( AND( (camera!$B$3) > (AQ548+camera!$B$3/2), 0 < (AQ548+camera!$B$3/2), AN548 >= 0 ), AQ548+camera!$B$3/2, 0)*-1+camera!$B$3","v":522.96191538794949},{"$f":"IF( AND( (camera!$B$4) > (AP548+camera!$B$4/2), 0 < (AP548+camera!$B$4/2), AN548 >= 0 ), AP548+camera!$B$4/2, 0)","v":299.10640231926925},null,null,null,4539.7365,333.80200000000002,285.80790000000002,null,{"$f":"MMULT(               MMULT(AX548:AZ548-$B$2:$D$2, TRANSPOSE($A$16:$C$18)),     TRANSPOSE($A$12:$C$14))","v":298.6219514032764},-9549.4338498998404,4930.1230714928261,null,-968.4782419648908,30.285445928315802," ",469.71455407168423,0]
[null,null,null,null,null,null,null,null,null,null,null,null,null,null,null,null,null,null,null,null,474.5274,26.998200000000001,null,null,null,"''",null,11.764322,6.5293760000000001,null,6.5293760000000001,176.46483000000001,null,{"$f":"camera!$B$5*COS(RADIANS(AE549))*COS(RADIANS(AF549))","v":-495.81158214519326},{"$f":"camera!$B$5*COS(RADIANS(AE549))*SIN(RADIANS(AF549))","v":30.630630650022859},{"$f":"camera!$B$5*SIN(RADIANS(AE549))","v":56.85630551365562},null,{"$f":"TRANSPOSE(MMULT(camera!$A$12:$C$14,MMULT(camera!$A$16:$C$18,TRANSPOSE(AH549:AJ549))))","v":-53.787414838790511},496.59450475065341,-22.378826073168128,null,{"$f":"camera!$B$5*AM549/AN549","v":-11095.18665382682},{"$f":"camera!$B$5*AL549/AN549","v":1201.7479081103543},null,{"$f":"IF( AND( (camera!$B$3) > (AQ549+camera!$B$3/2), 0 < (AQ549+camera!$B$3/2), AN549 >= 0 ), AQ549+camera!$B$3/2, 0)*-1+camera!$B$3","v":1000},{"$f":"IF( AND( (camera!$B$4) > (AP549+camera!$B$4/2), 0 < (AP549+camera!$B$4/2), AN549 >= 0 ), AP549+camera!$B$4/2, 0)","v":0},null,null,null,4682.6405000000004,392.99470000000002,118.38549999999999,null,{"$f":"MMULT(               MMULT(AX549:AZ549-$B$2:$D$2, TRANSPOSE($A$16:$C$18)),     TRANSPOSE($A$12:$C$14))","v":451.09846661075289},-9686.6350733022045,5029.5329582150689,null,-962.97560367711503,44.844965761079656," ",455.15503423892039,0]
[null,null,null,null,null,null,null,null,null,null,null,null,null,null,null,null,null,null,null,null,474.59699999999998,75.314700000000002,null,null,null,"''",null,14.419967,51.850743999999999,null,51.850743999999999,-143.70049499999999,null,{"$f":"camera!$B$5*COS(RADIANS(AE550))*COS(RADIANS(AF550))","v":-248.91742922991747},{"$f":"camera!$B$5*COS(RADIANS(AE550))*SIN(RADIANS(AF550))","v":-182.84471888842415},{"$f":"camera!$B$5*SIN(RADIANS(AE550))","v":393.20213910936724},null,{"$f":"TRANSPOSE(MMULT(camera!$A$12:$C$14,MMULT(camera!$A$16:$C$18,TRANSPOSE(AH550:AJ550))))","v":-351.83145880500933},232.03425597926369,-269.02551672153436,null,{"$f":"camera!$B$5*AM550/AN550","v":-431.24953128412733},{"$f":"camera!$B$5*AL550/AN550","v":653.89979190930535},null,{"$f":"IF( AND( (camera!$B$3) > (AQ550+camera!$B$3/2), 0 < (AQ550+camera!$B$3/2), AN550 >= 0 ), AQ550+camera!$B$3/2, 0)*-1+camera!$B$3","v":1000},{"$f":"IF( AND( (camera!$B$4) > (AP550+camera!$B$4/2), 0 < (AP550+camera!$B$4/2), AN550 >= 0 ), AP550+camera!$B$4/2, 0)","v":0},null,null,null,1926.8779999999999,4468.5,428.80650000000003,null,{"$f":"MMULT(               MMULT(AX550:AZ550-$B$2:$D$2, TRANSPOSE($A$16:$C$18)),     TRANSPOSE($A$12:$C$14))","v":-517.91067074637658},-6586.1553901086336,8737.4135698040682,null,-376.8938792636506,-29.63752754798297," ",529.63752754798293,123.1061207363494]
[null,null,null,null,null,null,null,null,null,null,null,null,null,null,null,null,null,null,null,null,478.32659999999998,53.5032,null,null,null,"''",null,22.589272000000001,-0.11749800000000001,null,-0.11749800000000001,-21.160919999999976,null,{"$f":"camera!$B$5*COS(RADIANS(AE551))*COS(RADIANS(AF551))","v":466.28413916658639},{"$f":"camera!$B$5*COS(RADIANS(AE551))*SIN(RADIANS(AF551))","v":-180.49390624860038},{"$f":"camera!$B$5*SIN(RADIANS(AE551))","v":-1.0253627635631786},null,{"$f":"TRANSPOSE(MMULT(camera!$A$12:$C$14,MMULT(camera!$A$16:$C$18,TRANSPOSE(AH551:AJ551))))","v":25.176008244484279},-480.24086770254996,-136.87540903016708,null,{"$f":"camera!$B$5*AM551/AN551","v":1754.2992970954549},{"$f":"camera!$B$5*AL551/AN551","v":-91.966878575447893},null,{"$f":"IF( AND( (camera!$B$3) > (AQ551+camera!$B$3/2), 0 < (AQ551+camera!$B$3/2), AN551 >= 0 ), AQ551+camera!$B$3/2, 0)*-1+camera!$B$3","v":1000},{"$f":"IF( AND( (camera!$B$4) > (AP551+camera!$B$4/2), 0 < (AP551+camera!$B$4/2), AN551 >= 0 ), AP551+camera!$B$4/2, 0)","v":0},null,null,null,2033.0196000000001,4407.2191000000003,402.7894,null,{"$f":"MMULT(               MMULT(AX551:AZ551-$B$2:$D$2, TRANSPOSE($A$16:$C$18)),     TRANSPOSE($A$12:$C$14))","v":-483.29439900876423},-6697.2340716313529,8690.9214447725954,null,-385.30057567483811,-27.80455456190181," ",527.8045545619018,114.69942432516189]
[null,null,null,null,null,null,null,null,null,null,null,null,null,null,null,null,null,null,null,null,478.48379999999997,76.818700000000007,null,null,null,"''",null,3.1510050000000001,49.613278000000001,null,49.613278000000001,47.265075000000003,null,{"$f":"camera!$B$5*COS(RADIANS(AE552))*COS(RADIANS(AF552))","v":219.84963084628788},{"$f":"camera!$B$5*COS(RADIANS(AE552))*SIN(RADIANS(AF552))","v":237.9575646526248},{"$f":"camera!$B$5*SIN(RADIANS(AE552))","v":380.84424275724962},null,{"$f":"TRANSPOSE(MMULT(camera!$A$12:$C$14,MMULT(camera!$A$16:$C$18,TRANSPOSE(AH552:AJ552))))","v":-419.54932207739751},-198.27366833677607,186.18785886484193,null,{"$f":"camera!$B$5*AM552/AN552","v":-532.45595482331498},{"$f":"camera!$B$5*AL552/AN552","v":-1126.6828155050594},null,{"$f":"IF( AND( (camera!$B$3) > (AQ552+camera!$B$3/2), 0 < (AQ552+camera!$B$3/2), AN552 >= 0 ), AQ552+camera!$B$3/2, 0)*-1+camera!$B$3","v":1000},{"$f":"IF( AND( (camera!$B$4) > (AP552+camera!$B$4/2), 0 < (AP552+camera!$B$4/2), AN552 >= 0 ), AP552+camera!$B$4/2, 0)","v":0},null,null,null,2062.7671999999998,4432.0886,397.91120000000001,null,{"$f":"MMULT(               MMULT(AX552:AZ552-$B$2:$D$2, TRANSPOSE($A$16:$C$18)),     TRANSPOSE($A$12:$C$14))","v":-483.24263296665868},-6724.7009532880447,8718.7202991300019,null,-385.64724653221583,-27.712933572079326," ",527.71293357207935,114.35275346778417]
[null,null,null,null,null,null,null,null,null,null,null,null,null,null,null,null,null,null,null,null,479.37740000000002,28.211400000000001,null,null,null,"''",null,8.3087029999999995,-76.919721999999993,null,-76.919721999999993,124.630545,null,{"$f":"camera!$B$5*COS(RADIANS(AE553))*COS(RADIANS(AF553))","v":-64.305720492721804},{"$f":"camera!$B$5*COS(RADIANS(AE553))*SIN(RADIANS(AF553))","v":93.110211993227892},{"$f":"camera!$B$5*SIN(RADIANS(AE553))","v":-487.02696304669627},null,{"$f":"TRANSPOSE(MMULT(camera!$A$12:$C$14,MMULT(camera!$A$16:$C$18,TRANSPOSE(AH553:AJ553))))","v":464.49426701874205},72.176107495480849,170.39860742835407,null,{"$f":"camera!$B$5*AM553/AN553","v":211.7860837736836},{"$f":"camera!$B$5*AL553/AN553","v":1362.9638000828254},null,{"$f":"IF( AND( (camera!$B$3) > (AQ553+camera!$B$3/2), 0 < (AQ553+camera!$B$3/2), AN553 >= 0 ), AQ553+camera!$B$3/2, 0)*-1+camera!$B$3","v":1000},{"$f":"IF( AND( (camera!$B$4) > (AP553+camera!$B$4/2), 0 < (AP553+camera!$B$4/2), AN553 >= 0 ), AP553+camera!$B$4/2, 0)","v":711.78608377368357},null,null,null,2049.4396999999999,4468.5,402.7894,null,{"$f":"MMULT(               MMULT(AX553:AZ553-$B$2:$D$2, TRANSPOSE($A$16:$C$18)),     TRANSPOSE($A$12:$C$14))","v":-494.143731148092},-6708.2507058377441,8752.4510648893593,null,-383.22126316981263,-28.228877115940698," ",528.22887711594069,116.77873683018737]
[null,null,null,null,null,null,null,null,null,null,null,null,null,null,null,null,null,null,null,null,483.26170000000002,54.3035,null,null,null,"''",null,8.7399869999999993,-42.649276,null,-42.649276,131.099805,null,{"$f":"camera!$B$5*COS(RADIANS(AE554))*COS(RADIANS(AF554))","v":-241.75362937881192},{"$f":"camera!$B$5*COS(RADIANS(AE554))*SIN(RADIANS(AF554))","v":277.12929235458415},{"$f":"camera!$B$5*SIN(RADIANS(AE554))","v":-338.75439185524885},null,{"$f":"TRANSPOSE(MMULT(camera!$A$12:$C$14,MMULT(camera!$A$16:$C$18,TRANSPOSE(AH554:AJ554))))","v":289.32688220901048},264.98709314390595,309.95450585264325,null,{"$f":"camera!$B$5*AM554/AN554","v":427.46126954173815},{"$f":"camera!$B$5*AL554/AN554","v":466.72475596557479},null,{"$f":"IF( AND( (camera!$B$3) > (AQ554+camera!$B$3/2), 0 < (AQ554+camera!$B$3/2), AN554 >= 0 ), AQ554+camera!$B$3/2, 0)*-1+camera!$B$3","v":33.275244034425214},{"$f":"IF( AND( (camera!$B$4) > (AP554+camera!$B$4/2), 0 < (AP554+camera!$B$4/2), AN554 >= 0 ), AP554+camera!$B$4/2, 0)","v":927.46126954173815},null,null,null,2135.2033999999999,4468.5,364.50490000000002,null,{"$f":"MMULT(               MMULT(AX554:AZ554-$B$2:$D$2, TRANSPOSE($A$16:$C$18)),     TRANSPOSE($A$12:$C$14))","v":-457.73884394820743},-6793.6880490664762,8766.460338529334,null,-387.48182200788858,-26.107392623246497," ",526.10739262324648,112.51817799211142]
[null,null,null,null,null,null,null,null,null,null,null,null,null,null,null,null,null,null,null,null,483.48379999999997,76.818700000000007,null,null,null,"''",null,11.352276,6.0293219999999996,null,6.0293219999999996,170.28414000000001,null,{"$f":"camera!$B$5*COS(RADIANS(AE555))*COS(RADIANS(AF555))","v":-490.10220286577788},{"$f":"camera!$B$5*COS(RADIANS(AE555))*SIN(RADIANS(AF555))","v":83.914339017085652},{"$f":"camera!$B$5*SIN(RADIANS(AE555))","v":52.518705747928713},null,{"$f":"TRANSPOSE(MMULT(camera!$A$12:$C$14,MMULT(camera!$A$16:$C$18,TRANSPOSE(AH555:AJ555))))","v":-58.819531043862142},495.55083256218592,31.138964573417084,null,{"$f":"camera!$B$5*AM555/AN555","v":7957.0859107054421},{"$f":"camera!$B$5*AL555/AN555","v":-944.46831886753853},null,{"$f":"IF( AND( (camera!$B$3) > (AQ555+camera!$B$3/2), 0 < (AQ555+camera!$B$3/2), AN555 >= 0 ), AQ555+camera!$B$3/2, 0)*-1+camera!$B$3","v":1000},{"$f":"IF( AND( (camera!$B$4) > (AP555+camera!$B$4/2), 0 < (AP555+camera!$B$4/2), AN555 >= 0 ), AP555+camera!$B$4/2, 0)","v":0},null,null,null,2132.3777,4413.4364999999998,363.28530000000001,null,{"$f":"MMULT(               MMULT(AX555:AZ555-$B$2:$D$2, TRANSPOSE($A$16:$C$18)),     TRANSPOSE($A$12:$C$14))","v":-446.9697156717134},-6795.6722019488634,8712.4089736029637,null,-389.99960989770631,-25.651327722674147," ",525.65132772267407,110.00039010229369]
[null,null,null,null,null,null,null,null,null,null,null,null,null,null,null,null,null,null,null,null,484.28449999999998,29.1677,null,null,null,"''",null,13.824623000000001,15.797905,null,15.797905,-152.63065499999999,null,{"$f":"camera!$B$5*COS(RADIANS(AE556))*COS(RADIANS(AF556))","v":-427.25878766417202},{"$f":"camera!$B$5*COS(RADIANS(AE556))*SIN(RADIANS(AF556))","v":-221.17998256389379},{"$f":"camera!$B$5*SIN(RADIANS(AE556))","v":136.12253184824905},null,{"$f":"TRANSPOSE(MMULT(camera!$A$12:$C$14,MMULT(camera!$A$16:$C$18,TRANSPOSE(AH556:AJ556))))","v":-89.326855216495119},406.35583332288479,-277.30064850554373,null,{"$f":"camera!$B$5*AM556/AN556","v":-732.69903174200658},{"$f":"camera!$B$5*AL556/AN556","v":161.06499515580708},null,{"$f":"IF( AND( (camera!$B$3) > (AQ556+camera!$B$3/2), 0 < (AQ556+camera!$B$3/2), AN556 >= 0 ), AQ556+camera!$B$3/2, 0)*-1+camera!$B$3","v":1000},{"$f":"IF( AND( (camera!$B$4) > (AP556+camera!$B$4/2), 0 < (AP556+camera!$B$4/2), AN556 >= 0 ), AP556+camera!$B$4/2, 0)","v":0},null,null,null,2107.2930999999999,4364.3373000000001,364.50490000000002,null,{"$f":"MMULT(               MMULT(AX556:AZ556-$B$2:$D$2, TRANSPOSE($A$16:$C$18)),     TRANSPOSE($A$12:$C$14))","v":-439.29760328466955},-6774.9623336694267,8661.8748656230164,null,-391.07943942700501,-25.358113000924341," ",525.35811300092428,108.92056057299499]
[null,null,null,null,null,null,null,null,null,null,null,null,null,null,null,null,null,null,null,null,488.226,54.897500000000001,null,null,null,"''",null,14.342623,-37.885294999999999,null,-37.885294999999999,-144.86065500000001,null,{"$f":"camera!$B$5*COS(RADIANS(AE557))*COS(RADIANS(AF557))","v":-322.70304875925183},{"$f":"camera!$B$5*COS(RADIANS(AE557))*SIN(RADIANS(AF557))","v":-227.13071943889062},{"$f":"camera!$B$5*SIN(RADIANS(AE557))","v":-307.04133045675769},null,{"$f":"TRANSPOSE(MMULT(camera!$A$12:$C$14,MMULT(camera!$A$16:$C$18,TRANSPOSE(AH557:AJ557))))","v":346.55136257167618},301.67931967850222,-197.20989117696575,null,{"$f":"camera!$B$5*AM557/AN557","v":-764.86863280044895},{"$f":"camera!$B$5*AL557/AN557","v":-878.63585468109022},null,{"$f":"IF( AND( (camera!$B$3) > (AQ557+camera!$B$3/2), 0 < (AQ557+camera!$B$3/2), AN557 >= 0 ), AQ557+camera!$B$3/2, 0)*-1+camera!$B$3","v":1000},{"$f":"IF( AND( (camera!$B$4) > (AP557+camera!$B$4/2), 0 < (AP557+camera!$B$4/2), AN557 >= 0 ), AP557+camera!$B$4/2, 0)","v":0},null,null,null,1988.1588999999999,4362.3584000000001,402.7894,null,{"$f":"MMULT(               MMULT(AX557:AZ557-$B$2:$D$2, TRANSPOSE($A$16:$C$18)),     TRANSPOSE($A$12:$C$14))","v":-474.85512203747021},-6656.4539477673488,8643.0599267145772,null,-385.07507782013136,-27.470312948412786," ",527.47031294841281,114.92492217986864]
[null,null,null,null,null,null,null,null,null,null,null,null,null,null,null,null,null,null,null,null,488.48379999999997,76.818700000000007,null,null,null,"''",null,14.631454,-49.425828000000003,null,-49.425828000000003,-140.52819,null,{"$f":"camera!$B$5*COS(RADIANS(AE558))*COS(RADIANS(AF558))","v":-251.0463636146944},{"$f":"camera!$B$5*COS(RADIANS(AE558))*SIN(RADIANS(AF558))","v":-206.73928574605213},{"$f":"camera!$B$5*SIN(RADIANS(AE558))","v":-379.78229427535302},null,{"$f":"TRANSPOSE(MMULT(camera!$A$12:$C$14,MMULT(camera!$A$16:$C$18,TRANSPOSE(AH558:AJ558))))","v":413.57528322066628},232.07254040385354,-158.42291847913745,null,{"$f":"camera!$B$5*AM558/AN558","v":-732.44623515257024},{"$f":"camera!$B$5*AL558/AN558","v":-1305.2886766352863},null,{"$f":"IF( AND( (camera!$B$3) > (AQ558+camera!$B$3/2), 0 < (AQ558+camera!$B$3/2), AN558 >= 0 ), AQ558+camera!$B$3/2, 0)*-1+camera!$B$3","v":1000},{"$f":"IF( AND( (camera!$B$4) > (AP558+camera!$B$4/2), 0 < (AP558+camera!$B$4/2), AN558 >= 0 ), AP558+camera!$B$4/2, 0)","v":0},null,null,null,2026.3558,4369.0222000000003,397.91120000000001,null,{"$f":"MMULT(               MMULT(AX558:AZ558-$B$2:$D$2, TRANSPOSE($A$16:$C$18)),     TRANSPOSE($A$12:$C$14))","v":-471.78187478704353},-6693.9247085923671,8653.7231096269152,null,-386.76559347881425,-27.258895900089836," ",527.25889590008978,113.23440652118575]
[null,null,null,null,null,null,null,null,null,null,null,null,null,null,null,null,null,null,null,null,489.23509999999999,29.864699999999999,null,null,null,"''",null,22.826528,-13.592632,null,-13.592632,-17.602080000000001,null,{"$f":"camera!$B$5*COS(RADIANS(AE559))*COS(RADIANS(AF559))","v":463.24115018366592},{"$f":"camera!$B$5*COS(RADIANS(AE559))*SIN(RADIANS(AF559))","v":-146.96725821044376},{"$f":"camera!$B$5*SIN(RADIANS(AE559))","v":-117.50856049930574},null,{"$f":"TRANSPOSE(MMULT(camera!$A$12:$C$14,MMULT(camera!$A$16:$C$18,TRANSPOSE(AH559:AJ559))))","v":134.13593092084369},-474.28741829980811,-84.017836668778045,null,{"$f":"camera!$B$5*AM559/AN559","v":2822.5400528317728},{"$f":"camera!$B$5*AL559/AN559","v":-798.25865696617075},null,{"$f":"IF( AND( (camera!$B$3) > (AQ559+camera!$B$3/2), 0 < (AQ559+camera!$B$3/2), AN559 >= 0 ), AQ559+camera!$B$3/2, 0)*-1+camera!$B$3","v":1000},{"$f":"IF( AND( (camera!$B$4) > (AP559+camera!$B$4/2), 0 < (AP559+camera!$B$4/2), AN559 >= 0 ), AP559+camera!$B$4/2, 0)","v":0},null,null,null,2077.3143,4318.0636999999997,363.28530000000001,null,{"$f":"MMULT(               MMULT(AX559:AZ559-$B$2:$D$2, TRANSPOSE($A$16:$C$18)),     TRANSPOSE($A$12:$C$14))","v":-429.63807005056492},-6749.130622031882,8614.116326887688,null,-391.74828652855956,-24.93802345746791," ",524.93802345746792,108.25171347144044]
[null,null,null,null,null,null,null,null,null,null,null,null,null,null,null,null,null,null,null,null,493.2106,55.284300000000002,null,null,null,"''",null,4.9395210000000001,13.514466000000001,null,13.514466000000001,74.092815000000002,null,{"$f":"camera!$B$5*COS(RADIANS(AE560))*COS(RADIANS(AF560))","v":133.24540533683532},{"$f":"camera!$B$5*COS(RADIANS(AE560))*SIN(RADIANS(AF560))","v":467.53909727171373},{"$f":"camera!$B$5*SIN(RADIANS(AE560))","v":116.84542985916696},null,{"$f":"TRANSPOSE(MMULT(camera!$A$12:$C$14,MMULT(camera!$A$16:$C$18,TRANSPOSE(AH560:AJ560))))","v":-197.96524927069262},-91.98964905535513,449.8307065417668,null,{"$f":"camera!$B$5*AM560/AN560","v":-102.24918810296234},{"$f":"camera!$B$5*AL560/AN560","v":-220.04417038647799},null,{"$f":"IF( AND( (camera!$B$3) > (AQ560+camera!$B$3/2), 0 < (AQ560+camera!$B$3/2), AN560 >= 0 ), AQ560+camera!$B$3/2, 0)*-1+camera!$B$3","v":720.04417038647796},{"$f":"IF( AND( (camera!$B$4) > (AP560+camera!$B$4/2), 0 < (AP560+camera!$B$4/2), AN560 >= 0 ), AP560+camera!$B$4/2, 0)","v":397.75081189703769},null,null,null,2031.0407,4288.0848999999998,364.50490000000002,null,{"$f":"MMULT(               MMULT(AX560:AZ560-$B$2:$D$2, TRANSPOSE($A$16:$C$18)),     TRANSPOSE($A$12:$C$14))","v":-424.95286226801295},-6705.6459316309474,8580.5217966881282,null,-390.74814390770285,-24.762646860942326," ",524.76264686094237,109.25185609229715]
[null,null,null,null,null,null,null,null,null,null,null,null,null,null,null,null,null,null,null,null,493.48379999999997,76.818700000000007,null,null,null,"''",null,7.5987080000000002,26.895741000000001,null,26.895741000000001,113.98062,null,{"$f":"camera!$B$5*COS(RADIANS(AE561))*COS(RADIANS(AF561))","v":-181.23240656204993},{"$f":"camera!$B$5*COS(RADIANS(AE561))*SIN(RADIANS(AF561))","v":407.42547601874895},{"$f":"camera!$B$5*SIN(RADIANS(AE561))","v":226.18420878262833},null,{"$f":"TRANSPOSE(MMULT(camera!$A$12:$C$14,MMULT(camera!$A$16:$C$18,TRANSPOSE(AH561:AJ561))))","v":-290.48458349287807},216.05223251625407,344.87699195178499,null,{"$f":"camera!$B$5*AM561/AN561","v":313.23085847730158},{"$f":"camera!$B$5*AL561/AN561","v":-421.14230620158162},null,{"$f":"IF( AND( (camera!$B$3) > (AQ561+camera!$B$3/2), 0 < (AQ561+camera!$B$3/2), AN561 >= 0 ), AQ561+camera!$B$3/2, 0)*-1+camera!$B$3","v":921.14230620158162},{"$f":"IF( AND( (camera!$B$4) > (AP561+camera!$B$4/2), 0 < (AP561+camera!$B$4/2), AN561 >= 0 ), AP561+camera!$B$4/2, 0)","v":813.23085847730158},null,null,null,1926.8779999999999,4345.9382999999998,402.7894,null,{"$f":"MMULT(               MMULT(AX561:AZ561-$B$2:$D$2, TRANSPOSE($A$16:$C$18)),     TRANSPOSE($A$12:$C$14))","v":-471.0871998774544},-6596.8373461045485,8621.6909782707444,null,-382.57212899015769,-27.319884293274711," ",527.31988429327475,117.42787100984231]
[null,null,null,null,null,null,null,null,null,null,null,null,null,null,null,null,null,null,null,null,494.21550000000002,30.3002,null,null,null,"''",null,11.414702,-17.684010000000001,null,-17.684010000000001,171.22053,null,{"$f":"camera!$B$5*COS(RADIANS(AE562))*COS(RADIANS(AF562))","v":-470.79154686030199},{"$f":"camera!$B$5*COS(RADIANS(AE562))*SIN(RADIANS(AF562))","v":72.709656693430745},{"$f":"camera!$B$5*SIN(RADIANS(AE562))","v":-151.88359104395559},null,{"$f":"TRANSPOSE(MMULT(camera!$A$12:$C$14,MMULT(camera!$A$16:$C$18,TRANSPOSE(AH562:AJ562))))","v":144.1234484796878},475.33710702268763,57.298047834327107,null,{"$f":"camera!$B$5*AM562/AN562","v":4147.9345718469176},{"$f":"camera!$B$5*AL562/AN562","v":1257.6645621191985},null,{"$f":"IF( AND( (camera!$B$3) > (AQ562+camera!$B$3/2), 0 < (AQ562+camera!$B$3/2), AN562 >= 0 ), AQ562+camera!$B$3/2, 0)*-1+camera!$B$3","v":1000},{"$f":"IF( AND( (camera!$B$4) > (AP562+camera!$B$4/2), 0 < (AP562+camera!$B$4/2), AN562 >= 0 ), AP562+camera!$B$4/2, 0)","v":0},null,null,null,1963.2893999999999,4332.6108000000004,397.91120000000001,null,{"$f":"MMULT(               MMULT(AX562:AZ562-$B$2:$D$2, TRANSPOSE($A$16:$C$18)),     TRANSPOSE($A$12:$C$14))","v":-464.52868720355127},-6634.2717578961165,8612.5882387503789,null,-385.14971190929117,-26.96800742856313," ",526.96800742856317,114.85028809070883]
[null,null,null,null,null,null,null,null,null,null,null,null,null,null,null,null,null,null,null,null,498.20710000000003,55.463099999999997,null,null,null,"''",null,12.292916999999999,-67.960735999999997,null,-67.960735999999997,-175.606245,null,{"$f":"camera!$B$5*COS(RADIANS(AE563))*COS(RADIANS(AF563))","v":-187.06954816646544},{"$f":"camera!$B$5*COS(RADIANS(AE563))*SIN(RADIANS(AF563))","v":-14.373706905868739},{"$f":"camera!$B$5*SIN(RADIANS(AE563))","v":-463.463462096613},null,{"$f":"TRANSPOSE(MMULT(camera!$A$12:$C$14,MMULT(camera!$A$16:$C$18,TRANSPOSE(AH563:AJ563))))","v":461.74007289513111},185.10494095643315,50.321624738419892,null,{"$f":"camera!$B$5*AM563/AN563","v":1839.2186452508158},{"$f":"camera!$B$5*AL563/AN563","v":4587.889155957625},null,{"$f":"IF( AND( (camera!$B$3) > (AQ563+camera!$B$3/2), 0 < (AQ563+camera!$B$3/2), AN563 >= 0 ), AQ563+camera!$B$3/2, 0)*-1+camera!$B$3","v":1000},{"$f":"IF( AND( (camera!$B$4) > (AP563+camera!$B$4/2), 0 < (AP563+camera!$B$4/2), AN563 >= 0 ), AP563+camera!$B$4/2, 0)","v":0},null,null,null,1981.9414999999999,4263.0002000000004,363.28530000000001,null,{"$f":"MMULT(               MMULT(AX563:AZ563-$B$2:$D$2, TRANSPOSE($A$16:$C$18)),     TRANSPOSE($A$12:$C$14))","v":-418.66936515683983},-6658.9198445705033,8551.9097102391515,null,-389.32355872500722,-24.478121223354911," ",524.47812122335495,110.67644127499278]
[null,null,null,null,null,null,null,null,null,null,null,null,null,null,null,null,null,null,null,null,498.48379999999997,76.818700000000007,null,null,null,"''",null,12.307297999999999,-64.003071000000006,null,-64.003071000000006,-175.39053000000001,null,{"$f":"camera!$B$5*COS(RADIANS(AE564))*COS(RADIANS(AF564))","v":-218.45263196007471},{"$f":"camera!$B$5*COS(RADIANS(AE564))*SIN(RADIANS(AF564))","v":-17.612622094075544},{"$f":"camera!$B$5*SIN(RADIANS(AE564))","v":-449.40877064504144},null,{"$f":"TRANSPOSE(MMULT(camera!$A$12:$C$14,MMULT(camera!$A$16:$C$18,TRANSPOSE(AH564:AJ564))))","v":448.93416055504207},216.08631258247087,42.009820295383683,null,{"$f":"camera!$B$5*AM564/AN564","v":2571.8547599478288},{"$f":"camera!$B$5*AL564/AN564","v":5343.2049625355567},null,{"$f":"IF( AND( (camera!$B$3) > (AQ564+camera!$B$3/2), 0 < (AQ564+camera!$B$3/2), AN564 >= 0 ), AQ564+camera!$B$3/2, 0)*-1+camera!$B$3","v":1000},{"$f":"IF( AND( (camera!$B$4) > (AP564+camera!$B$4/2), 0 < (AP564+camera!$B$4/2), AN564 >= 0 ), AP564+camera!$B$4/2, 0)","v":0},null,null,null,1926.8779999999999,4260.1746000000003,364.50490000000002,null,{"$f":"MMULT(               MMULT(AX564:AZ564-$B$2:$D$2, TRANSPOSE($A$16:$C$18)),     TRANSPOSE($A$12:$C$14))","v":-418.54828850088484},-6604.3121450788367,8544.1996539202137,null,-386.47927322535554,-24.493124309709234," ",524.49312430970917,113.52072677464446]
[null,null,null,null,null,null,null,null,null,null,null,null,null,null,null,null,null,null,null,null,499.21190000000001,30.473199999999999,null,null,null,"''",null,14.727624,-35.173654999999997,null,-35.173654999999997,-139.08563999999998,null,{"$f":"camera!$B$5*COS(RADIANS(AE565))*COS(RADIANS(AF565))","v":-308.85396199350294},{"$f":"camera!$B$5*COS(RADIANS(AE565))*SIN(RADIANS(AF565))","v":-267.67321454474609},{"$f":"camera!$B$5*SIN(RADIANS(AE565))","v":-288.02826315519485},null,{"$f":"TRANSPOSE(MMULT(camera!$A$12:$C$14,MMULT(camera!$A$16:$C$18,TRANSPOSE(AH565:AJ565))))","v":334.63088894018853},284.3494215952565,-239.09741655974102,null,{"$f":"camera!$B$5*AM565/AN565","v":-594.63089498545207},{"$f":"camera!$B$5*AL565/AN565","v":-699.77939066643455},null,{"$f":"IF( AND( (camera!$B$3) > (AQ565+camera!$B$3/2), 0 < (AQ565+camera!$B$3/2), AN565 >= 0 ), AQ565+camera!$B$3/2, 0)*-1+camera!$B$3","v":1000},{"$f":"IF( AND( (camera!$B$4) > (AP565+camera!$B$4/2), 0 < (AP565+camera!$B$4/2), AN565 >= 0 ), AP565+camera!$B$4/2, 0)","v":0},null,null,null,1865.5971999999999,4362.3584000000001,402.7894,null,{"$f":"MMULT(               MMULT(AX565:AZ565-$B$2:$D$2, TRANSPOSE($A$16:$C$18)),     TRANSPOSE($A$12:$C$14))","v":-473.00021984486079},-6534.3586320382374,8632.5402536324618,null,-378.47252604983009,-27.396351823892648," ",527.3963518238927,121.52747395016991]
[null,null,null,null,null,null,null,null,null,null,null,null,null,null,null,null,null,null,null,null,503.20659999999998,55.433599999999998,null,null,null,"''",null,16.993068999999998,-53.160437999999999,null,-53.160437999999999,-105.10396500000002,null,{"$f":"camera!$B$5*COS(RADIANS(AE566))*COS(RADIANS(AF566))","v":-78.116200817337358},{"$f":"camera!$B$5*COS(RADIANS(AE566))*SIN(RADIANS(AF566))","v":-289.43187308962035},{"$f":"camera!$B$5*SIN(RADIANS(AE566))","v":-400.1587809978675},null,{"$f":"TRANSPOSE(MMULT(camera!$A$12:$C$14,MMULT(camera!$A$16:$C$18,TRANSPOSE(AH566:AJ566))))","v":445.3297800413709},52.593295215329761,-221.1681087017235,null,{"$f":"camera!$B$5*AM566/AN566","v":-118.89891251513858},{"$f":"camera!$B$5*AL566/AN566","v":-1006.7676182056636},null,{"$f":"IF( AND( (camera!$B$3) > (AQ566+camera!$B$3/2), 0 < (AQ566+camera!$B$3/2), AN566 >= 0 ), AQ566+camera!$B$3/2, 0)*-1+camera!$B$3","v":1000},{"$f":"IF( AND( (camera!$B$4) > (AP566+camera!$B$4/2), 0 < (AP566+camera!$B$4/2), AN566 >= 0 ), AP566+camera!$B$4/2, 0)","v":0},null,null,null,1890.4666,4332.6108000000004,397.91120000000001,null,{"$f":"MMULT(               MMULT(AX566:AZ566-$B$2:$D$2, TRANSPOSE($A$16:$C$18)),     TRANSPOSE($A$12:$C$14))","v":-463.42655520479525},-6561.7260706359211,8606.337737583015,null,-381.2147669955782,-26.923563153991616," ",526.92356315399161,118.7852330044218]
[null,null,null,null,null,null,null,null,null,null,null,null,null,null,null,null,null,null,null,null,503.48379999999997,76.818700000000007,null,null,null,"''",null,14.266908000000001,-6.0005470000000001,null,-6.0005470000000001,-145.99637999999999,null,{"$f":"camera!$B$5*COS(RADIANS(AE567))*COS(RADIANS(AF567))","v":-412.23002612141801},{"$f":"camera!$B$5*COS(RADIANS(AE567))*SIN(RADIANS(AF567))","v":-278.09055971516005},{"$f":"camera!$B$5*SIN(RADIANS(AE567))","v":-52.268978957350811},null,{"$f":"TRANSPOSE(MMULT(camera!$A$12:$C$14,MMULT(camera!$A$16:$C$18,TRANSPOSE(AH567:AJ567))))","v":105.81992582646778},386.42417713329161,-299.12956828929373,null,{"$f":"camera!$B$5*AM567/AN567","v":-645.9143764075734},{"$f":"camera!$B$5*AL567/AN567","v":-176.87974885205492},null,{"$f":"IF( AND( (camera!$B$3) > (AQ567+camera!$B$3/2), 0 < (AQ567+camera!$B$3/2), AN567 >= 0 ), AQ567+camera!$B$3/2, 0)*-1+camera!$B$3","v":1000},{"$f":"IF( AND( (camera!$B$4) > (AP567+camera!$B$4/2), 0 < (AP567+camera!$B$4/2), AN567 >= 0 ), AP567+camera!$B$4/2, 0)","v":0},null,null,null,1871.8145,4263.0002000000004,363.28530000000001,null,{"$f":"MMULT(               MMULT(AX567:AZ567-$B$2:$D$2, TRANSPOSE($A$16:$C$18)),     TRANSPOSE($A$12:$C$14))","v":-417.00265513433328},-6549.2119110537542,8542.4573279899359,null,-383.33301880214378,-24.407652220163634," ",524.40765222016364,116.66698119785622]
[null,null,null,null,null,null,null,null,null,null,null,null,null,null,null,null,null,null,null,null,504.21050000000002,30.383099999999999,null,null,null,"''",null,15.147394,-45.279857,null,-45.279857,-132.78908999999999,null,{"$f":"camera!$B$5*COS(RADIANS(AE568))*COS(RADIANS(AF568))","v":-238.99342647031295},{"$f":"camera!$B$5*COS(RADIANS(AE568))*SIN(RADIANS(AF568))","v":-258.18802258139982},{"$f":"camera!$B$5*SIN(RADIANS(AE568))","v":-355.27607166749311},null,{"$f":"TRANSPOSE(MMULT(camera!$A$12:$C$14,MMULT(camera!$A$16:$C$18,TRANSPOSE(AH568:AJ568))))","v":398.15893370065277},215.58141545187416,-212.11816712890385,null,{"$f":"camera!$B$5*AM568/AN568","v":-508.16348823357907},{"$f":"camera!$B$5*AL568/AN568","v":-938.53095915799679},null,{"$f":"IF( AND( (camera!$B$3) > (AQ568+camera!$B$3/2), 0 < (AQ568+camera!$B$3/2), AN568 >= 0 ), AQ568+camera!$B$3/2, 0)*-1+camera!$B$3","v":1000},{"$f":"IF( AND( (camera!$B$4) > (AP568+camera!$B$4/2), 0 < (AP568+camera!$B$4/2), AN568 >= 0 ), AP568+camera!$B$4/2, 0)","v":0},null,null,null,1822.7153000000001,4288.0848999999998,364.50490000000002,null,{"$f":"MMULT(               MMULT(AX568:AZ568-$B$2:$D$2, TRANSPOSE($A$16:$C$18)),     TRANSPOSE($A$12:$C$14))","v":-421.79997485509216},-6498.1132726731057,8562.6408836239279,null,-379.44562670500193,-24.630250210643872," ",524.63025021064391,120.55437329499807]
[null,null,null,null,null,null,null,null,null,null,null,null,null,null,null,null,null,null,null,null,508.20060000000001,55.195999999999998,null,null,null,"''",null,15.291917,-58.801208000000003,null,-58.801208000000003,-130.62124500000002,null,{"$f":"camera!$B$5*COS(RADIANS(AE569))*COS(RADIANS(AF569))","v":-168.62634968101133},{"$f":"camera!$B$5*COS(RADIANS(AE569))*SIN(RADIANS(AF569))","v":-196.59216355015516},{"$f":"camera!$B$5*SIN(RADIANS(AE569))","v":-427.68759091646126},null,{"$f":"TRANSPOSE(MMULT(camera!$A$12:$C$14,MMULT(camera!$A$16:$C$18,TRANSPOSE(AH569:AJ569))))","v":457.75008612080495},150.85053947820535,-133.0750667688356,null,{"$f":"camera!$B$5*AM569/AN569","v":-566.78738978296917},{"$f":"camera!$B$5*AL569/AN569","v":-1719.8942568105624},null,{"$f":"IF( AND( (camera!$B$3) > (AQ569+camera!$B$3/2), 0 < (AQ569+camera!$B$3/2), AN569 >= 0 ), AQ569+camera!$B$3/2, 0)*-1+camera!$B$3","v":1000},{"$f":"IF( AND( (camera!$B$4) > (AP569+camera!$B$4/2), 0 < (AP569+camera!$B$4/2), AN569 >= 0 ), AP569+camera!$B$4/2, 0)","v":0},null,null,null,1820.7365,4407.2191000000003,402.7894,null,{"$f":"MMULT(               MMULT(AX569:AZ569-$B$2:$D$2, TRANSPOSE($A$16:$C$18)),     TRANSPOSE($A$12:$C$14))","v":-480.08161403887721},-6485.7587729168736,8672.7008357825343,null,-373.91805019708528,-27.67774555638524," ",527.67774555638516,126.08194980291472]
[null,null,null,null,null,null,null,null,null,null,null,null,null,null,null,null,null,null,null,null,508.48379999999997,76.818700000000007,null,null,null,"''",null,22.486183,58.415197999999997,null,58.415197999999997,-22.707254999999975,null,{"$f":"camera!$B$5*COS(RADIANS(AE570))*COS(RADIANS(AF570))","v":241.58145895493169},{"$f":"camera!$B$5*COS(RADIANS(AE570))*SIN(RADIANS(AF570))","v":-101.09165787925649},{"$f":"camera!$B$5*SIN(RADIANS(AE570))","v":425.93294706611977},null,{"$f":"TRANSPOSE(MMULT(camera!$A$12:$C$14,MMULT(camera!$A$16:$C$18,TRANSPOSE(AH570:AJ570))))","v":-405.63068519545914},-249.47288709623032,-152.40415293466845,null,{"$f":"camera!$B$5*AM570/AN570","v":818.45829753462374},{"$f":"camera!$B$5*AL570/AN570","v":1330.7730707618646},null,{"$f":"IF( AND( (camera!$B$3) > (AQ570+camera!$B$3/2), 0 < (AQ570+camera!$B$3/2), AN570 >= 0 ), AQ570+camera!$B$3/2, 0)*-1+camera!$B$3","v":1000},{"$f":"IF( AND( (camera!$B$4) > (AP570+camera!$B$4/2), 0 < (AP570+camera!$B$4/2), AN570 >= 0 ), AP570+camera!$B$4/2, 0)","v":0},null,null,null,1827.4002,4369.0222000000003,397.91120000000001,null,{"$f":"MMULT(               MMULT(AX570:AZ570-$B$2:$D$2, TRANSPOSE($A$16:$C$18)),     TRANSPOSE($A$12:$C$14))","v":-468.7707940116311},-6495.7261947167044,8636.6464219679183,null,-376.05604521416825,-27.13847314735958," ",527.1384731473596,123.94395478583175]
[null,null,null,null,null,null,null,null,null,null,null,null,null,null,null,null,null,null,null,null,509.19749999999999,30.0303,null,null,null,"''",null,0.78898100000000004,24.267178000000001,null,24.267178000000001,11.834715000000001,null,{"$f":"camera!$B$5*COS(RADIANS(AE571))*COS(RADIANS(AF571))","v":446.13021811107893},{"$f":"camera!$B$5*COS(RADIANS(AE571))*SIN(RADIANS(AF571))","v":93.483597634252433},{"$f":"camera!$B$5*SIN(RADIANS(AE571))","v":205.49609597634287},null,{"$f":"TRANSPOSE(MMULT(camera!$A$12:$C$14,MMULT(camera!$A$16:$C$18,TRANSPOSE(AH571:AJ571))))","v":-225.2975616503866},-436.28492555423441,94.321113482223097,null,{"$f":"camera!$B$5*AM571/AN571","v":-2312.7638629735957},{"$f":"camera!$B$5*AL571/AN571","v":-1194.3113971658579},null,{"$f":"IF( AND( (camera!$B$3) > (AQ571+camera!$B$3/2), 0 < (AQ571+camera!$B$3/2), AN571 >= 0 ), AQ571+camera!$B$3/2, 0)*-1+camera!$B$3","v":1000},{"$f":"IF( AND( (camera!$B$4) > (AP571+camera!$B$4/2), 0 < (AP571+camera!$B$4/2), AN571 >= 0 ), AP571+camera!$B$4/2, 0)","v":0},null,null,null,1776.4418000000001,4318.0636999999997,363.28530000000001,null,{"$f":"MMULT(               MMULT(AX571:AZ571-$B$2:$D$2, TRANSPOSE($A$16:$C$18)),     TRANSPOSE($A$12:$C$14))","v":-425.08453448483942},-6449.4030327302735,8588.2919434188061,null,-375.47646698668882,-24.747908972201451," ",524.74790897220146,124.52353301331118]
[null,null,null,null,null,null,null,null,null,null,null,null,null,null,null,null,null,null,null,null,513.18039999999996,54.750500000000002,null,null,null,"''",null,2.362498,-68.659418000000002,null,-68.659418000000002,35.437469999999998,null,{"$f":"camera!$B$5*COS(RADIANS(AE572))*COS(RADIANS(AF572))","v":148.24804166704016},{"$f":"camera!$B$5*COS(RADIANS(AE572))*SIN(RADIANS(AF572))","v":105.50038184971535},{"$f":"camera!$B$5*SIN(RADIANS(AE572))","v":-465.71685343291131},null,{"$f":"TRANSPOSE(MMULT(camera!$A$12:$C$14,MMULT(camera!$A$16:$C$18,TRANSPOSE(AH572:AJ572))))","v":438.14768137078835},-138.48894897091608,197.0974893861744,null,{"$f":"camera!$B$5*AM572/AN572","v":-351.32093615757265},{"$f":"camera!$B$5*AL572/AN572","v":1111.4999047814424},null,{"$f":"IF( AND( (camera!$B$3) > (AQ572+camera!$B$3/2), 0 < (AQ572+camera!$B$3/2), AN572 >= 0 ), AQ572+camera!$B$3/2, 0)*-1+camera!$B$3","v":1000},{"$f":"IF( AND( (camera!$B$4) > (AP572+camera!$B$4/2), 0 < (AP572+camera!$B$4/2), AN572 >= 0 ), AP572+camera!$B$4/2, 0)","v":148.67906384242735},null,null,null,1746.4629,4364.3373000000001,364.50490000000002,null,{"$f":"MMULT(               MMULT(AX572:AZ572-$B$2:$D$2, TRANSPOSE($A$16:$C$18)),     TRANSPOSE($A$12:$C$14))","v":-433.83664175150238},-6415.5052015180436,8630.9042137623346,null,-371.65892718912664,-25.132745712768536," ",525.13274571276861,128.34107281087336]
[null,null,null,null,null,null,null,null,null,null,null,null,null,null,null,null,null,null,null,null,513.48379999999997,76.818700000000007,null,null,null,"''",null,2.6580439999999999,0.328511,null,0.328511,39.870660000000001,null,{"$f":"camera!$B$5*COS(RADIANS(AE573))*COS(RADIANS(AF573))","v":383.74045458654956},{"$f":"camera!$B$5*COS(RADIANS(AE573))*SIN(RADIANS(AF573))","v":320.52308039453368},{"$f":"camera!$B$5*SIN(RADIANS(AE573))","v":2.8667835822691137},null,{"$f":"TRANSPOSE(MMULT(camera!$A$12:$C$14,MMULT(camera!$A$16:$C$18,TRANSPOSE(AH573:AJ573))))","v":-64.077378381009723},-354.34477916288398,346.8917223858532,null,{"$f":"camera!$B$5*AM573/AN573","v":-510.74262701596069},{"$f":"camera!$B$5*AL573/AN573","v":-92.35933613563634},null,{"$f":"IF( AND( (camera!$B$3) > (AQ573+camera!$B$3/2), 0 < (AQ573+camera!$B$3/2), AN573 >= 0 ), AQ573+camera!$B$3/2, 0)*-1+camera!$B$3","v":592.35933613563634},{"$f":"IF( AND( (camera!$B$4) > (AP573+camera!$B$4/2), 0 < (AP573+camera!$B$4/2), AN573 >= 0 ), AP573+camera!$B$4/2, 0)","v":0},null,null,null,1804.3163,4468.5,402.7894,null,{"$f":"MMULT(               MMULT(AX573:AZ573-$B$2:$D$2, TRANSPOSE($A$16:$C$18)),     TRANSPOSE($A$12:$C$14))","v":-490.43392676287385},-6464.060074379523,8731.4117187251341,null,-370.16122264151664,-28.084457735001969," ",528.08445773500193,129.83877735848336]
[null,null,null,null,null,null,null,null,null,null,null,null,null,null,null,null,null,null,null,null,514.15899999999999,29.415500000000002,null,null,null,"''",null,3.039863,-23.624472000000001,null,-23.624472000000001,45.597945000000003,null,{"$f":"camera!$B$5*COS(RADIANS(AE574))*COS(RADIANS(AF574))","v":320.52459402997209},{"$f":"camera!$B$5*COS(RADIANS(AE574))*SIN(RADIANS(AF574))","v":327.28545576719699},{"$f":"camera!$B$5*SIN(RADIANS(AE574))","v":-200.37019505200783},null,{"$f":"TRANSPOSE(MMULT(camera!$A$12:$C$14,MMULT(camera!$A$16:$C$18,TRANSPOSE(AH574:AJ574))))","v":135.85890457388393},-290.78009419277146,383.39182942418995,null,{"$f":"camera!$B$5*AM574/AN574","v":-379.2205152487071},{"$f":"camera!$B$5*AL574/AN574","v":177.18022939863928},null,{"$f":"IF( AND( (camera!$B$3) > (AQ574+camera!$B$3/2), 0 < (AQ574+camera!$B$3/2), AN574 >= 0 ), AQ574+camera!$B$3/2, 0)*-1+camera!$B$3","v":322.81977060136069},{"$f":"IF( AND( (camera!$B$4) > (AP574+camera!$B$4/2), 0 < (AP574+camera!$B$4/2), AN574 >= 0 ), AP574+camera!$B$4/2, 0)","v":120.7794847512929},null,null,null,1790.9888000000001,4432.0886,397.91120000000001,null,{"$f":"MMULT(               MMULT(AX574:AZ574-$B$2:$D$2, TRANSPOSE($A$16:$C$18)),     TRANSPOSE($A$12:$C$14))","v":-479.12942019249022},-6453.9567521521867,8695.3931103036412,null,-371.11356958114663,-27.550762462064185," ",527.5507624620642,128.88643041885337]
[null,null,null,null,null,null,null,null,null,null,null,null,null,null,null,null,null,null,null,null,518.13720000000001,54.097999999999999,null,null,null,"''",null,6.9031669999999998,-12.038627999999999,null,-12.038627999999999,103.547505,null,{"$f":"camera!$B$5*COS(RADIANS(AE575))*COS(RADIANS(AF575))","v":-114.54982452121112},{"$f":"camera!$B$5*COS(RADIANS(AE575))*SIN(RADIANS(AF575))","v":475.39758319224973},{"$f":"camera!$B$5*SIN(RADIANS(AE575))","v":-104.28554836183086},null,{"$f":"TRANSPOSE(MMULT(camera!$A$12:$C$14,MMULT(camera!$A$16:$C$18,TRANSPOSE(AH575:AJ575))))","v":22.197074535873284},155.54755731893249,474.67067246056223,null,{"$f":"camera!$B$5*AM575/AN575","v":163.84787005337483},{"$f":"camera!$B$5*AL575/AN575","v":23.381552541270093},null,{"$f":"IF( AND( (camera!$B$3) > (AQ575+camera!$B$3/2), 0 < (AQ575+camera!$B$3/2), AN575 >= 0 ), AQ575+camera!$B$3/2, 0)*-1+camera!$B$3","v":476.61844745872986},{"$f":"IF( AND( (camera!$B$4) > (AP575+camera!$B$4/2), 0 < (AP575+camera!$B$4/2), AN575 >= 0 ), AP575+camera!$B$4/2, 0)","v":663.84787005337489},null,null,null,1721.3783000000001,4413.4364999999998,363.28530000000001,null,{"$f":"MMULT(               MMULT(AX575:AZ575-$B$2:$D$2, TRANSPOSE($A$16:$C$18)),     TRANSPOSE($A$12:$C$14))","v":-440.74947159692465},-6386.2367787499752,8677.1322164680296,null,-367.99236311219028,-25.397185418037161," ",525.39718541803722,132.00763688780972]
[null,null,null,null,null,null,null,null,null,null,null,null,null,null,null,null,null,null,null,null,518.48379999999997,76.818700000000007,null,null,null,"''",null,9.574071,-59.229753000000002,null,-59.229753000000002,143.611065,null,{"$f":"camera!$B$5*COS(RADIANS(AE576))*COS(RADIANS(AF576))","v":-205.91983581342888},{"$f":"camera!$B$5*COS(RADIANS(AE576))*SIN(RADIANS(AF576))","v":151.75582187757968},{"$f":"camera!$B$5*SIN(RADIANS(AE576))","v":-429.61283936217598},null,{"$f":"TRANSPOSE(MMULT(camera!$A$12:$C$14,MMULT(camera!$A$16:$C$18,TRANSPOSE(AH576:AJ576))))","v":399.95069141382913},218.36264004128236,205.80865353964435,null,{"$f":"camera!$B$5*AM576/AN576","v":530.49917067559011},{"$f":"camera!$B$5*AL576/AN576","v":971.6566444976711},null,{"$f":"IF( AND( (camera!$B$3) > (AQ576+camera!$B$3/2), 0 < (AQ576+camera!$B$3/2), AN576 >= 0 ), AQ576+camera!$B$3/2, 0)*-1+camera!$B$3","v":1000},{"$f":"IF( AND( (camera!$B$4) > (AP576+camera!$B$4/2), 0 < (AP576+camera!$B$4/2), AN576 >= 0 ), AP576+camera!$B$4/2, 0)","v":0},null,null,null,1718.5526,4468.5,364.50490000000002,null,{"$f":"MMULT(               MMULT(AX576:AZ576-$B$2:$D$2, TRANSPOSE($A$16:$C$18)),     TRANSPOSE($A$12:$C$14))","v":-451.43306912236585},-6378.6227311507919,8730.698512400937,null,-365.2985337937568,-25.853204556379879," ",525.85320455637986,134.7014662062432]
[null,null,null,null,null,null,null,null,null,null,null,null,null,null,null,null,null,null,null,null,519.08130000000006,28.540700000000001,null,null,null,"''",null,10.996244000000001,-18.298783,null,-18.298783,164.94366000000002,null,{"$f":"camera!$B$5*COS(RADIANS(AE577))*COS(RADIANS(AF577))","v":-458.41947782345386},{"$f":"camera!$B$5*COS(RADIANS(AE577))*SIN(RADIANS(AF577))","v":123.3163927157493},{"$f":"camera!$B$5*SIN(RADIANS(AE577))","v":-156.9861447378303},null,{"$f":"TRANSPOSE(MMULT(camera!$A$12:$C$14,MMULT(camera!$A$16:$C$18,TRANSPOSE(AH577:AJ577))))","v":140.20691125221575},467.4227851098143,108.8942698092865,null,{"$f":"camera!$B$5*AM577/AN577","v":2146.2230562197706},{"$f":"camera!$B$5*AL577/AN577","v":643.77543234262498},null,{"$f":"IF( AND( (camera!$B$3) > (AQ577+camera!$B$3/2), 0 < (AQ577+camera!$B$3/2), AN577 >= 0 ), AQ577+camera!$B$3/2, 0)*-1+camera!$B$3","v":1000},{"$f":"IF( AND( (camera!$B$4) > (AP577+camera!$B$4/2), 0 < (AP577+camera!$B$4/2), AN577 >= 0 ), AP577+camera!$B$4/2, 0)","v":0},null,null,null,1820.7365,4529.7808000000005,402.7894,null,{"$f":"MMULT(               MMULT(AX577:AZ577-$B$2:$D$2, TRANSPOSE($A$16:$C$18)),     TRANSPOSE($A$12:$C$14))","v":-501.28324311690585},-6475.0768169209578,8792.9412493190357,null,-368.19743435806623,-28.504867080496386," ",528.50486708049641,131.80256564193377]
[null,null,null,null,null,null,null,null,null,null,null,null,null,null,null,null,null,null,null,null,523.06259999999997,53.239699999999999,null,null,null,"''",null,18.922249000000001,43.946088000000003,null,43.946088000000003,-76.16626500000001,null,{"$f":"camera!$B$5*COS(RADIANS(AE578))*COS(RADIANS(AF578))","v":86.077051493059969},{"$f":"camera!$B$5*COS(RADIANS(AE578))*SIN(RADIANS(AF578))","v":-349.55437718335656},{"$f":"camera!$B$5*SIN(RADIANS(AE578))","v":346.99060304022191},null,{"$f":"TRANSPOSE(MMULT(camera!$A$12:$C$14,MMULT(camera!$A$16:$C$18,TRANSPOSE(AH578:AJ578))))","v":-282.55326297073327},-116.21517369886699,-395.80005935665781,null,{"$f":"camera!$B$5*AM578/AN578","v":146.81045511686597},{"$f":"camera!$B$5*AL578/AN578","v":356.93938933460697},null,{"$f":"IF( AND( (camera!$B$3) > (AQ578+camera!$B$3/2), 0 < (AQ578+camera!$B$3/2), AN578 >= 0 ), AQ578+camera!$B$3/2, 0)*-1+camera!$B$3","v":1000},{"$f":"IF( AND( (camera!$B$4) > (AP578+camera!$B$4/2), 0 < (AP578+camera!$B$4/2), AN578 >= 0 ), AP578+camera!$B$4/2, 0)","v":0},null,null,null,1790.9888000000001,4504.9114,397.91120000000001,null,{"$f":"MMULT(               MMULT(AX578:AZ578-$B$2:$D$2, TRANSPOSE($A$16:$C$18)),     TRANSPOSE($A$12:$C$14))","v":-491.72684658281833},-6447.6098269292224,8766.8366655650807,null,-367.72726998864601,-28.04471358034154," ",528.04471358034152,132.27273001135399]
[null,null,null,null,null,null,null,null,null,null,null,null,null,null,null,null,null,null,null,null,523.48379999999997,76.818700000000007,null,null,null,"''",null,21.099118000000001,-17.232861,null,{"$f":"AC579","v":-17.232861},{"$f":"IF(AB579*15/1>180, (AB579*15/1)-360, AB579*15/1)","v":-43.513229999999965},null,{"$f":"camera!$B$5*COS(RADIANS(AE579))*COS(RADIANS(AF579))","v":346.32973790418629},{"$f":"camera!$B$5*COS(RADIANS(AE579))*SIN(RADIANS(AF579))","v":-328.80666863311512},{"$f":"camera!$B$5*SIN(RADIANS(AE579))","v":-148.12794235258409},null,{"$f":"TRANSPOSE(MMULT(camera!$A$12:$C$14,MMULT(camera!$A$16:$C$18,TRANSPOSE(AH579:AJ579))))","v":197.51544955956493},-373.6692381167565,-267.13095603191647,null,{"$f":"camera!$B$5*AM579/AN579","v":699.4120854943352},{"$f":"camera!$B$5*AL579/AN579","v":-369.69779259870961},null,{"$f":"IF( AND( (camera!$B$3) > (AQ579+camera!$B$3/2), 0 < (AQ579+camera!$B$3/2), AN579 >= 0 ), AQ579+camera!$B$3/2, 0)*-1+camera!$B$3","v":1000},{"$f":"IF( AND( (camera!$B$4) > (AP579+camera!$B$4/2), 0 < (AP579+camera!$B$4/2), AN579 >= 0 ), AP579+camera!$B$4/2, 0)","v":0},null,null,null,1721.3783000000001,4523.5635000000002,363.28530000000001,null,{"$f":"MMULT(               MMULT(AX579:AZ579-$B$2:$D$2, TRANSPOSE($A$16:$C$18)),     TRANSPOSE($A$12:$C$14))","v":-459.80005432771327},-6376.6385782684038,8785.1734399622746,null,-362.92047173833527,-26.169093727629797," ",526.16909372762984,137.07952826166473]
[null,null,null,null,null,null,null,null,null,null,null,null,null,null,null,null,null,null,null,null,523.95069999999998,27.408200000000001,null,null,null,"''",null,21.368110000000001,19.804507999999998,null,19.804507999999998,-39.478349999999978,null,{"$f":"camera!$B$5*COS(RADIANS(AE580))*COS(RADIANS(AF580))","v":363.10612365999719},{"$f":"camera!$B$5*COS(RADIANS(AE580))*SIN(RADIANS(AF580))","v":-299.09122199441651},{"$f":"camera!$B$5*SIN(RADIANS(AE580))","v":169.40597358563684},null,{"$f":"TRANSPOSE(MMULT(camera!$A$12:$C$14,MMULT(camera!$A$16:$C$18,TRANSPOSE(AH580:AJ580))))","v":-120.58871150894774},-387.79191283696298,-291.67755312135534,null,{"$f":"camera!$B$5*AM580/AN580","v":664.76132408382193},{"$f":"camera!$B$5*AL580/AN580","v":206.71578977964001},null,{"$f":"IF( AND( (camera!$B$3) > (AQ580+camera!$B$3/2), 0 < (AQ580+camera!$B$3/2), AN580 >= 0 ), AQ580+camera!$B$3/2, 0)*-1+camera!$B$3","v":1000},{"$f":"IF( AND( (camera!$B$4) > (AP580+camera!$B$4/2), 0 < (AP580+camera!$B$4/2), AN580 >= 0 ), AP580+camera!$B$4/2, 0)","v":0},null,null,null,1746.4629,4572.6626999999999,364.50490000000002,null,{"$f":"MMULT(               MMULT(AX580:AZ580-$B$2:$D$2, TRANSPOSE($A$16:$C$18)),     TRANSPOSE($A$12:$C$14))","v":-469.87430978590419},-6397.3484465478405,8835.2839853072546,null,{"$f":"$B$5*BC580/BD580","v":-362.03411555227825},{"$f":"$B$5*BB580/BD580","v":-26.59078704019517}," ",{"$f":"IF( AND( ($B$3) > (BG580+$B$3/2), 0 < (BG580+$B$3/2), BD580 >= 0 ), BG580+$B$3/2, 0)*-1+$B$3","v":526.59078704019521},{"$f":"IF( AND( ($B$4) > (BF580+$B$4/2), 0 < (BF580+$B$4/2), BD580 >= 0 ), BF580+$B$4/2, 0)","v":137.96588444772175}]
[null,null,null,null,null,null,null,null,null,null,null,null,null,null,null,null,null,null,null,null,525.40300000000002,75.314700000000002,null,null,null,"''",null,5.6151080000000002,9.290673,null,9.290673,84.226619999999997,null,{"$f":"camera!$B$5*COS(RADIANS(AE581))*COS(RADIANS(AF581))","v":49.637233142660563},{"$f":"camera!$B$5*COS(RADIANS(AE581))*SIN(RADIANS(AF581))","v":490.93805174797996},{"$f":"camera!$B$5*SIN(RADIANS(AE581))","v":80.721585910083135},null,{"$f":"TRANSPOSE(MMULT(camera!$A$12:$C$14,MMULT(camera!$A$16:$C$18,TRANSPOSE(AH581:AJ581))))","v":-165.17256931355203},-6.6602779414789026,471.88310315596397,null,{"$f":"camera!$B$5*AM581/AN581","v":-7.0571269631555209},{"$f":"camera!$B$5*AL581/AN581","v":-175.01428659860298},null,{"$f":"IF( AND( (camera!$B$3) > (AQ581+camera!$B$3/2), 0 < (AQ581+camera!$B$3/2), AN581 >= 0 ), AQ581+camera!$B$3/2, 0)*-1+camera!$B$3","v":675.01428659860301},{"$f":"IF( AND( (camera!$B$4) > (AP581+camera!$B$4/2), 0 < (AP581+camera!$B$4/2), AN581 >= 0 ), AP581+camera!$B$4/2, 0)","v":492.9428730368445},null,null,null,1865.5971999999999,4574.6414999999997,402.7894,null,{"$f":"MMULT(               MMULT(AX581:AZ581-$B$2:$D$2, TRANSPOSE($A$16:$C$18)),     TRANSPOSE($A$12:$C$14))","v":-509.7225200882001},-6515.8569407849618,8840.8027673770557,null,-368.51047988700503,-28.827841401976425," ",528.82784140197646,131.48952011299497]
[null,null,null,null,null,null,null,null,null,null,null,null,null,null,null,null,null,null,null,null,526.69709999999998,70.484999999999999,null,null,null,"''",null,15.812327,18.141563999999999,null,18.141563999999999,-122.81509500000001,null,{"$f":"camera!$B$5*COS(RADIANS(AE582))*COS(RADIANS(AF582))","v":-257.49519043429132},{"$f":"camera!$B$5*COS(RADIANS(AE582))*SIN(RADIANS(AF582))","v":-399.32323902528367},{"$f":"camera!$B$5*SIN(RADIANS(AE582))","v":155.6829395841568},null,{"$f":"TRANSPOSE(MMULT(camera!$A$12:$C$14,MMULT(camera!$A$16:$C$18,TRANSPOSE(AH582:AJ582))))","v":-80.342835006968642},221.71203000111615,-440.89545769470925,null,{"$f":"camera!$B$5*AM582/AN582","v":-251.43378791014555},{"$f":"camera!$B$5*AL582/AN582","v":91.113248735940374},null,{"$f":"IF( AND( (camera!$B$3) > (AQ582+camera!$B$3/2), 0 < (AQ582+camera!$B$3/2), AN582 >= 0 ), AQ582+camera!$B$3/2, 0)*-1+camera!$B$3","v":1000},{"$f":"IF( AND( (camera!$B$4) > (AP582+camera!$B$4/2), 0 < (AP582+camera!$B$4/2), AN582 >= 0 ), AP582+camera!$B$4/2, 0)","v":0},null,null,null,1827.4002,4567.9777999999997,397.91120000000001,null,{"$f":"MMULT(               MMULT(AX582:AZ582-$B$2:$D$2, TRANSPOSE($A$16:$C$18)),     TRANSPOSE($A$12:$C$14))","v":-503.18760476243369},-6478.3860716248992,8831.8338550681692,null,-366.76335730134133,-28.487153009206477," ",528.48715300920639,133.23664269865867]
[null,null,null,null,null,null,null,null,null,null,null,null,null,null,null,null,null,null,null,null,527.46339999999998,74.3553,null,null,null,"''",null,1.613299,41.405459,null,41.405459,24.199484999999999,null,{"$f":"camera!$B$5*COS(RADIANS(AE583))*COS(RADIANS(AF583))","v":342.0683427190794},{"$f":"camera!$B$5*COS(RADIANS(AE583))*SIN(RADIANS(AF583))","v":153.72791308878357},{"$f":"camera!$B$5*SIN(RADIANS(AE583))","v":330.69166552362617},null,{"$f":"TRANSPOSE(MMULT(camera!$A$12:$C$14,MMULT(camera!$A$16:$C$18,TRANSPOSE(AH583:AJ583))))","v":-357.4377185297173},-327.36839895547666,122.75263230415237,null,{"$f":"camera!$B$5*AM583/AN583","v":-1333.447571797622},{"$f":"camera!$B$5*AL583/AN583","v":-1455.9268987571284},null,{"$f":"IF( AND( (camera!$B$3) > (AQ583+camera!$B$3/2), 0 < (AQ583+camera!$B$3/2), AN583 >= 0 ), AQ583+camera!$B$3/2, 0)*-1+camera!$B$3","v":1000},{"$f":"IF( AND( (camera!$B$4) > (AP583+camera!$B$4/2), 0 < (AP583+camera!$B$4/2), AN583 >= 0 ), AP583+camera!$B$4/2, 0)","v":0},null,null,null,1776.4418000000001,4618.9362000000001,363.28530000000001,null,{"$f":"MMULT(               MMULT(AX583:AZ583-$B$2:$D$2, TRANSPOSE($A$16:$C$18)),     TRANSPOSE($A$12:$C$14))","v":-477.13168416356598},-6423.1802665204286,8883.4659971546898,null,-361.52444713458277,-26.855040831832294," ",526.8550408318323,138.47555286541723]
[null,null,null,null,null,null,null,null,null,null,null,null,null,null,null,null,null,null,null,null,527.94799999999998,52.176900000000003,null,null,null,"''",null,2.736634,49.228448,null,49.228448,41.049509999999998,null,{"$f":"camera!$B$5*COS(RADIANS(AE584))*COS(RADIANS(AF584))","v":246.24433283819107},{"$f":"camera!$B$5*COS(RADIANS(AE584))*SIN(RADIANS(AF584))","v":214.43078786326021},{"$f":"camera!$B$5*SIN(RADIANS(AE584))","v":378.65969651048897},null,{"$f":"TRANSPOSE(MMULT(camera!$A$12:$C$14,MMULT(camera!$A$16:$C$18,TRANSPOSE(AH584:AJ584))))","v":-413.7275971179559},-226.61842422435708,165.75151638845318,null,{"$f":"camera!$B$5*AM584/AN584","v":-683.608901933835},{"$f":"camera!$B$5*AL584/AN584","v":-1248.0356322905338},null,{"$f":"IF( AND( (camera!$B$3) > (AQ584+camera!$B$3/2), 0 < (AQ584+camera!$B$3/2), AN584 >= 0 ), AQ584+camera!$B$3/2, 0)*-1+camera!$B$3","v":1000},{"$f":"IF( AND( (camera!$B$4) > (AP584+camera!$B$4/2), 0 < (AP584+camera!$B$4/2), AN584 >= 0 ), AP584+camera!$B$4/2, 0)","v":0},null,null,null,1822.7153000000001,4648.9151000000002,364.50490000000002,null,{"$f":"MMULT(               MMULT(AX584:AZ584-$B$2:$D$2, TRANSPOSE($A$16:$C$18)),     TRANSPOSE($A$12:$C$14))","v":-484.21905080256079},-6466.6648485863197,8916.6370542421446,null,-362.61792474270135,-27.152560312645598," ",527.15256031264562,137.38207525729865]
[null,null,null,null,null,null,null,null,null,null,null,null,null,null,null,null,null,null,null,null,527.99120000000005,65.6554,null,null,null,"''",null,7.8206379999999998,-46.373204999999999,null,-46.373204999999999,117.30956999999999,null,{"$f":"camera!$B$5*COS(RADIANS(AE585))*COS(RADIANS(AF585))","v":-158.27569662226665},{"$f":"camera!$B$5*COS(RADIANS(AE585))*SIN(RADIANS(AF585))","v":306.5279121886403},{"$f":"camera!$B$5*SIN(RADIANS(AE585))","v":-361.92463705585095},null,{"$f":"TRANSPOSE(MMULT(camera!$A$12:$C$14,MMULT(camera!$A$16:$C$18,TRANSPOSE(AH585:AJ585))))","v":305.79613726918939},184.38907767156951,349.98484319563181,null,{"$f":"camera!$B$5*AM585/AN585","v":263.42437573575313},{"$f":"camera!$B$5*AL585/AN585","v":436.87054341701571},null,{"$f":"IF( AND( (camera!$B$3) > (AQ585+camera!$B$3/2), 0 < (AQ585+camera!$B$3/2), AN585 >= 0 ), AQ585+camera!$B$3/2, 0)*-1+camera!$B$3","v":63.12945658298429},{"$f":"IF( AND( (camera!$B$4) > (AP585+camera!$B$4/2), 0 < (AP585+camera!$B$4/2), AN585 >= 0 ), AP585+camera!$B$4/2, 0)","v":763.42437573575307},null,null,null,1926.8779999999999,4591.0617000000002,402.7894,null,{"$f":"MMULT(               MMULT(AX585:AZ585-$B$2:$D$2, TRANSPOSE($A$16:$C$18)),     TRANSPOSE($A$12:$C$14))","v":-513.49045803351146},-6575.4734341127178,8862.1718053437471,null,-370.98544118428242,-28.970915330477172," ",528.97091533047717,129.01455881571758]
[null,null,null,null,null,null,null,null,null,null,null,null,null,null,null,null,null,null,null,null,528.75390000000004,26.021100000000001,null,null,null,"''",null,18.480505000000001,-49.070588000000001,null,-49.070588000000001,-82.79242499999998,null,{"$f":"camera!$B$5*COS(RADIANS(AE586))*COS(RADIANS(AF586))","v":41.097666352051021},{"$f":"camera!$B$5*COS(RADIANS(AE586))*SIN(RADIANS(AF586))","v":-324.97599370291749},{"$f":"camera!$B$5*SIN(RADIANS(AE586))","v":-377.75863370307877},null,{"$f":"TRANSPOSE(MMULT(camera!$A$12:$C$14,MMULT(camera!$A$16:$C$18,TRANSPOSE(AH586:AJ586))))","v":427.614391479875},-69.264801430192804,-249.69645468474749,null,{"$f":"camera!$B$5*AM586/AN586","v":138.69800738188812},{"$f":"camera!$B$5*AL586/AN586","v":-856.26844806378324},null,{"$f":"IF( AND( (camera!$B$3) > (AQ586+camera!$B$3/2), 0 < (AQ586+camera!$B$3/2), AN586 >= 0 ), AQ586+camera!$B$3/2, 0)*-1+camera!$B$3","v":1000},{"$f":"IF( AND( (camera!$B$4) > (AP586+camera!$B$4/2), 0 < (AP586+camera!$B$4/2), AN586 >= 0 ), AP586+camera!$B$4/2, 0)","v":0},null,null,null,1890.4666,4604.3891999999996,397.91120000000001,null,{"$f":"MMULT(               MMULT(AX586:AZ586-$B$2:$D$2, TRANSPOSE($A$16:$C$18)),     TRANSPOSE($A$12:$C$14))","v":-510.44079234592573},-6538.0390223211507,8872.9687259447037,null,-368.42455012851667,-28.763811082382642," ",528.76381108238263,131.57544987148333]
[null,null,null,null,null,null,null,null,null,null,null,null,null,null,null,null,null,null,null,null,529.28530000000001,60.825800000000001,null,null,null,"''",null,19.167154,-39.340795999999997,null,-39.340795999999997,-72.492689999999982,null,{"$f":"camera!$B$5*COS(RADIANS(AE587))*COS(RADIANS(AF587))","v":116.32833493631466},{"$f":"camera!$B$5*COS(RADIANS(AE587))*SIN(RADIANS(AF587))","v":-368.78227555936343},{"$f":"camera!$B$5*SIN(RADIANS(AE587))","v":-316.96585261539195},null,{"$f":"TRANSPOSE(MMULT(camera!$A$12:$C$14,MMULT(camera!$A$16:$C$18,TRANSPOSE(AH587:AJ587))))","v":374.18455014193819},-148.02716363994529,-296.77244019583111,null,{"$f":"camera!$B$5*AM587/AN587","v":249.39506435009039},{"$f":"camera!$B$5*AL587/AN587","v":-630.42334708543888},null,{"$f":"IF( AND( (camera!$B$3) > (AQ587+camera!$B$3/2), 0 < (AQ587+camera!$B$3/2), AN587 >= 0 ), AQ587+camera!$B$3/2, 0)*-1+camera!$B$3","v":1000},{"$f":"IF( AND( (camera!$B$4) > (AP587+camera!$B$4/2), 0 < (AP587+camera!$B$4/2), AN587 >= 0 ), AP587+camera!$B$4/2, 0)","v":0},null,null,null,1871.8145,4673.9997000000003,363.28530000000001,null,{"$f":"MMULT(               MMULT(AX587:AZ587-$B$2:$D$2, TRANSPOSE($A$16:$C$18)),     TRANSPOSE($A$12:$C$14))","v":-488.10038754384777},-6513.3909443623379,8945.6726052200611,null,-364.05261134649527,-27.281368829607455," ",527.28136882960746,135.94738865350473]
[null,null,null,null,null,null,null,null,null,null,null,null,null,null,null,null,null,null,null,null,530.57939999999996,55.996099999999998,null,null,null,"''",null,2.677781,-39.855375000000002,null,-39.855375000000002,40.166714999999996,null,{"$f":"camera!$B$5*COS(RADIANS(AE588))*COS(RADIANS(AF588))","v":293.31342879111855},{"$f":"camera!$B$5*COS(RADIANS(AE588))*SIN(RADIANS(AF588))","v":247.57712751229727},{"$f":"camera!$B$5*SIN(RADIANS(AE588))","v":-320.4259640284431},null,{"$f":"TRANSPOSE(MMULT(camera!$A$12:$C$14,MMULT(camera!$A$16:$C$18,TRANSPOSE(AH588:AJ588))))","v":268.29111827076872},-270.61951420515715,323.70504226592629,null,{"$f":"camera!$B$5*AM588/AN588","v":-418.00324194956625},{"$f":"camera!$B$5*AL588/AN588","v":414.40676424552788},null,{"$f":"IF( AND( (camera!$B$3) > (AQ588+camera!$B$3/2), 0 < (AQ588+camera!$B$3/2), AN588 >= 0 ), AQ588+camera!$B$3/2, 0)*-1+camera!$B$3","v":85.593235754472062},{"$f":"IF( AND( (camera!$B$4) > (AP588+camera!$B$4/2), 0 < (AP588+camera!$B$4/2), AN588 >= 0 ), AP588+camera!$B$4/2, 0)","v":81.996758050433755},null,null,null,1926.8779999999999,4676.8253999999997,364.50490000000002,null,{"$f":"MMULT(               MMULT(AX588:AZ588-$B$2:$D$2, TRANSPOSE($A$16:$C$18)),     TRANSPOSE($A$12:$C$14))","v":-490.62362456968867},-6567.9986351384305,8952.9591970100573,null,-366.80601858053194,-27.400081569317216," ",527.40008156931719,133.19398141946806]
[null,null,null,null,null,null,null,null,null,null,null,null,null,null,null,null,null,null,null,null,530.99900000000002,70.819800000000001,null,null,null,"''",null,7.0626369999999996,-15.633286,null,-15.633286,105.939555,null,{"$f":"camera!$B$5*COS(RADIANS(AE589))*COS(RADIANS(AF589))","v":-132.23187341057738},{"$f":"camera!$B$5*COS(RADIANS(AE589))*SIN(RADIANS(AF589))","v":462.99023211437276},{"$f":"camera!$B$5*SIN(RADIANS(AE589))","v":-134.73966239013777},null,{"$f":"TRANSPOSE(MMULT(camera!$A$12:$C$14,MMULT(camera!$A$16:$C$18,TRANSPOSE(AH589:AJ589))))","v":54.602445306063785},172.08094877519486,466.26893531011382,null,{"$f":"camera!$B$5*AM589/AN589","v":184.52971637574828},{"$f":"camera!$B$5*AL589/AN589","v":58.552523201816875},null,{"$f":"IF( AND( (camera!$B$3) > (AQ589+camera!$B$3/2), 0 < (AQ589+camera!$B$3/2), AN589 >= 0 ), AQ589+camera!$B$3/2, 0)*-1+camera!$B$3","v":441.44747679818317},{"$f":"IF( AND( (camera!$B$4) > (AP589+camera!$B$4/2), 0 < (AP589+camera!$B$4/2), AN589 >= 0 ), AP589+camera!$B$4/2, 0)","v":684.52971637574831},null,null,null,1988.1588999999999,4574.6414999999997,402.7894,null,{"$f":"MMULT(               MMULT(AX589:AZ589-$B$2:$D$2, TRANSPOSE($A$16:$C$18)),     TRANSPOSE($A$12:$C$14))","v":-511.57742228080906},-6637.9522565140733,8851.3224404591674,null,-374.96952015735889,-28.89836099193505," ",528.89836099193508,125.03047984264111]
[null,null,null,null,null,null,null,null,null,null,null,null,null,null,null,null,null,null,null,null,532.78489999999999,50.9116,null,null,null,"''",null,8.6273990000000005,-42.989080999999999,null,-42.989080999999999,129.41098500000001,null,{"$f":"camera!$B$5*COS(RADIANS(AE590))*COS(RADIANS(AF590))","v":-232.20168004821559},{"$f":"camera!$B$5*COS(RADIANS(AE590))*SIN(RADIANS(AF590))","v":282.5764771443246},{"$f":"camera!$B$5*SIN(RADIANS(AE590))","v":-340.92948588746191},null,{"$f":"TRANSPOSE(MMULT(camera!$A$12:$C$14,MMULT(camera!$A$16:$C$18,TRANSPOSE(AH590:AJ590))))","v":290.3820740095822},255.94624530055847,316.49608308862184,null,{"$f":"camera!$B$5*AM590/AN590","v":404.3434642268403},{"$f":"camera!$B$5*AL590/AN590","v":458.74513070715091},null,{"$f":"IF( AND( (camera!$B$3) > (AQ590+camera!$B$3/2), 0 < (AQ590+camera!$B$3/2), AN590 >= 0 ), AQ590+camera!$B$3/2, 0)*-1+camera!$B$3","v":41.254869292849094},{"$f":"IF( AND( (camera!$B$4) > (AP590+camera!$B$4/2), 0 < (AP590+camera!$B$4/2), AN590 >= 0 ), AP590+camera!$B$4/2, 0)","v":904.3434642268403},null,null,null,1963.2893999999999,4604.3891999999996,397.91120000000001,null,{"$f":"MMULT(               MMULT(AX590:AZ590-$B$2:$D$2, TRANSPOSE($A$16:$C$18)),     TRANSPOSE($A$12:$C$14))","v":-511.54292434468175},-6610.584709581346,8879.2192271120675,null,-372.25033758578644,-28.805625317973995," ",528.80562531797398,127.74966241421356]
[null,null,null,null,null,null,null,null,null,null,null,null,null,null,null,null,null,null,null,null,533.47739999999999,24.383199999999999,null,null,null,"''",null,9.8579699999999999,-14.846603,null,-14.846603,147.86955,null,{"$f":"camera!$B$5*COS(RADIANS(AE591))*COS(RADIANS(AF591))","v":-409.28395285401541},{"$f":"camera!$B$5*COS(RADIANS(AE591))*SIN(RADIANS(AF591))","v":257.04654883770559},{"$f":"camera!$B$5*SIN(RADIANS(AE591))","v":-128.11603204446018},null,{"$f":"TRANSPOSE(MMULT(camera!$A$12:$C$14,MMULT(camera!$A$16:$C$18,TRANSPOSE(AH591:AJ591))))","v":87.898130791587533},430.1295867318745,239.29575261841117,null,{"$f":"camera!$B$5*AM591/AN591","v":898.74053765127462},{"$f":"camera!$B$5*AL591/AN591","v":183.66003121616782},null,{"$f":"IF( AND( (camera!$B$3) > (AQ591+camera!$B$3/2), 0 < (AQ591+camera!$B$3/2), AN591 >= 0 ), AQ591+camera!$B$3/2, 0)*-1+camera!$B$3","v":316.33996878383221},{"$f":"IF( AND( (camera!$B$4) > (AP591+camera!$B$4/2), 0 < (AP591+camera!$B$4/2), AN591 >= 0 ), AP591+camera!$B$4/2, 0)","v":0},null,null,null,1981.9414999999999,4673.9997000000003,363.28530000000001,null,{"$f":"MMULT(               MMULT(AX591:AZ591-$B$2:$D$2, TRANSPOSE($A$16:$C$18)),     TRANSPOSE($A$12:$C$14))","v":-489.76709756635432},-6623.098877879087,8955.1249874692767,null,-369.793771005243,-27.345631593734058," ",527.34563159373408,130.206228994757]
[null,null,null,null,null,null,null,null,null,null,null,null,null,null,null,null,null,null,null,null,534.53449999999998,67.284199999999998,null,null,null,"''",null,10.591165999999999,-78.607786000000004,null,-78.607786000000004,158.86749,null,{"$f":"camera!$B$5*COS(RADIANS(AE592))*COS(RADIANS(AF592))","v":-92.120228387464508},{"$f":"camera!$B$5*COS(RADIANS(AE592))*SIN(RADIANS(AF592))","v":35.60630318747824},{"$f":"camera!$B$5*SIN(RADIANS(AE592))","v":-490.14901274526989},null,{"$f":"TRANSPOSE(MMULT(camera!$A$12:$C$14,MMULT(camera!$A$16:$C$18,TRANSPOSE(AH592:AJ592))))","v":477.93729397885966},94.872976907395824,112.13858067986149,null,{"$f":"camera!$B$5*AM592/AN592","v":423.01666532700142},{"$f":"camera!$B$5*AL592/AN592","v":2131.0118742420041},null,{"$f":"IF( AND( (camera!$B$3) > (AQ592+camera!$B$3/2), 0 < (AQ592+camera!$B$3/2), AN592 >= 0 ), AQ592+camera!$B$3/2, 0)*-1+camera!$B$3","v":1000},{"$f":"IF( AND( (camera!$B$4) > (AP592+camera!$B$4/2), 0 < (AP592+camera!$B$4/2), AN592 >= 0 ), AP592+camera!$B$4/2, 0)","v":923.01666532700142},null,null,null,2031.0407,4648.9151000000002,364.50490000000002,null,{"$f":"MMULT(               MMULT(AX592:AZ592-$B$2:$D$2, TRANSPOSE($A$16:$C$18)),     TRANSPOSE($A$12:$C$14))","v":-487.37193821548158},-6674.1975075441615,8934.5179673063431,null,-373.50630061782488,-27.274663277800691," ",527.27466327780076,126.49369938217512]
[null,null,null,null,null,null,null,null,null,null,null,null,null,null,null,null,null,null,null,null,537.56489999999997,49.445900000000002,null,null,null,"''",null,11.775232000000001,-61.178398000000001,null,-61.178398000000001,176.62848000000002,null,{"$f":"camera!$B$5*COS(RADIANS(AE593))*COS(RADIANS(AF593))","v":-240.62481576398193},{"$f":"camera!$B$5*COS(RADIANS(AE593))*SIN(RADIANS(AF593))","v":14.175722231453003},{"$f":"camera!$B$5*SIN(RADIANS(AE593))","v":-438.06249204624498},null,{"$f":"TRANSPOSE(MMULT(camera!$A$12:$C$14,MMULT(camera!$A$16:$C$18,TRANSPOSE(AH593:AJ593))))","v":432.5968380756172},240.94466129344863,69.322765965904495,null,{"$f":"camera!$B$5*AM593/AN593","v":1737.8465640851241},{"$f":"camera!$B$5*AL593/AN593","v":3120.1642926970367},null,{"$f":"IF( AND( (camera!$B$3) > (AQ593+camera!$B$3/2), 0 < (AQ593+camera!$B$3/2), AN593 >= 0 ), AQ593+camera!$B$3/2, 0)*-1+camera!$B$3","v":1000},{"$f":"IF( AND( (camera!$B$4) > (AP593+camera!$B$4/2), 0 < (AP593+camera!$B$4/2), AN593 >= 0 ), AP593+camera!$B$4/2, 0)","v":0},null,null,null,2033.0196000000001,4529.7808000000005,402.7894,null,{"$f":"MMULT(               MMULT(AX593:AZ593-$B$2:$D$2, TRANSPOSE($A$16:$C$18)),     TRANSPOSE($A$12:$C$14))","v":-504.4960280867931},-6686.5521156354371,8811.1618583090985,null,-379.43645929792376,-28.628235197554758," ",528.62823519755477,120.56354070207624]
[null,null,null,null,null,null,null,null,null,null,null,null,null,null,null,null,null,null,null,null,538.07000000000005,63.748699999999999,null,null,null,"''",null,15.612,-66.317036999999999,null,-66.317036999999999,-125.82,null,{"$f":"camera!$B$5*COS(RADIANS(AE594))*COS(RADIANS(AF594))","v":-117.53843186350912},{"$f":"camera!$B$5*COS(RADIANS(AE594))*SIN(RADIANS(AF594))","v":-162.85120770722199},{"$f":"camera!$B$5*SIN(RADIANS(AE594))","v":-457.89103636494838},null,{"$f":"TRANSPOSE(MMULT(camera!$A$12:$C$14,MMULT(camera!$A$16:$C$18,TRANSPOSE(AH594:AJ594))))","v":480.88472652880398},102.89774467936959,-90.343422180127206,null,{"$f":"camera!$B$5*AM594/AN594","v":-569.48110994850026},{"$f":"camera!$B$5*AL594/AN594","v":-2661.4263381013693},null,{"$f":"IF( AND( (camera!$B$3) > (AQ594+camera!$B$3/2), 0 < (AQ594+camera!$B$3/2), AN594 >= 0 ), AQ594+camera!$B$3/2, 0)*-1+camera!$B$3","v":1000},{"$f":"IF( AND( (camera!$B$4) > (AP594+camera!$B$4/2), 0 < (AP594+camera!$B$4/2), AN594 >= 0 ), AP594+camera!$B$4/2, 0)","v":0},null,null,null,2026.3558,4567.9777999999997,397.91120000000001,null,{"$f":"MMULT(               MMULT(AX594:AZ594-$B$2:$D$2, TRANSPOSE($A$16:$C$18)),     TRANSPOSE($A$12:$C$14))","v":-506.19868553784613},-6676.5845855005618,8848.9105427271661,null,-377.25460966423611,-28.602316810281572," ",528.60231681028154,122.74539033576389]
[null,null,null,null,null,null,null,null,null,null,null,null,null,null,null,null,null,null,null,null,538.10820000000001,22.499199999999998,null,null,null,"''",null,19.157869000000002,-37.904474,null,-37.904474,-72.63196499999998,null,{"$f":"camera!$B$5*COS(RADIANS(AE595))*COS(RADIANS(AF595))","v":117.76694640126334},{"$f":"camera!$B$5*COS(RADIANS(AE595))*SIN(RADIANS(AF595))","v":-376.53080107936245},{"$f":"camera!$B$5*SIN(RADIANS(AE595))","v":-307.17340733510048},null,{"$f":"TRANSPOSE(MMULT(camera!$A$12:$C$14,MMULT(camera!$A$16:$C$18,TRANSPOSE(AH595:AJ595))))","v":365.85949877242285},-150.13562925083585,-305.95117255445689,null,{"$f":"camera!$B$5*AM595/AN595","v":245.35880676207069},{"$f":"camera!$B$5*AL595/AN595","v":-597.90504432092473},null,{"$f":"IF( AND( (camera!$B$3) > (AQ595+camera!$B$3/2), 0 < (AQ595+camera!$B$3/2), AN595 >= 0 ), AQ595+camera!$B$3/2, 0)*-1+camera!$B$3","v":1000},{"$f":"IF( AND( (camera!$B$4) > (AP595+camera!$B$4/2), 0 < (AP595+camera!$B$4/2), AN595 >= 0 ), AP595+camera!$B$4/2, 0)","v":0},null,null,null,2077.3143,4618.9362000000001,363.28530000000001,null,{"$f":"MMULT(               MMULT(AX595:AZ595-$B$2:$D$2, TRANSPOSE($A$16:$C$18)),     TRANSPOSE($A$12:$C$14))","v":-481.68521972929148},-6722.9078558220372,8909.2903806235699,null,-377.2976055670718,-27.032748914374135," ",527.03274891437411,122.7023944329282]
[null,null,null,null,null,null,null,null,null,null,null,null,null,null,null,null,null,null,null,null,541.60559999999998,60.213200000000001,null,null,null,"''",null,23.014676999999999,-52.754137,null,-52.754137,-14.779845000000023,null,{"$f":"camera!$B$5*COS(RADIANS(AE596))*COS(RADIANS(AF596))","v":292.60558228543312},{"$f":"camera!$B$5*COS(RADIANS(AE596))*SIN(RADIANS(AF596))","v":-77.199624321338092},{"$f":"camera!$B$5*SIN(RADIANS(AE596))","v":-398.02285263543206},null,{"$f":"TRANSPOSE(MMULT(camera!$A$12:$C$14,MMULT(camera!$A$16:$C$18,TRANSPOSE(AH596:AJ596))))","v":400.90213254528055},-298.22052030236284,18.493279623535514,null,{"$f":"camera!$B$5*AM596/AN596","v":-8062.9430358807704},{"$f":"camera!$B$5*AL596/AN596","v":10839.130232883937},null,{"$f":"IF( AND( (camera!$B$3) > (AQ596+camera!$B$3/2), 0 < (AQ596+camera!$B$3/2), AN596 >= 0 ), AQ596+camera!$B$3/2, 0)*-1+camera!$B$3","v":1000},{"$f":"IF( AND( (camera!$B$4) > (AP596+camera!$B$4/2), 0 < (AP596+camera!$B$4/2), AN596 >= 0 ), AP596+camera!$B$4/2, 0)","v":0},null,null,null,2107.2930999999999,4572.6626999999999,364.50490000000002,null,{"$f":"MMULT(               MMULT(AX596:AZ596-$B$2:$D$2, TRANSPOSE($A$16:$C$18)),     TRANSPOSE($A$12:$C$14))","v":-475.33527131907135},-6756.8055786992236,8866.2546371679382,null,-381.04057774148725,-26.805866218100359," ",526.80586621810039,118.95942225851275]
[null,null,null,null,null,null,null,null,null,null,null,null,null,null,null,null,null,null,null,null,542.27959999999996,47.782400000000003,null,null,null,"''",null,2.659799,-68.266946000000004,null,-68.266946000000004,39.896985000000001,null,{"$f":"camera!$B$5*COS(RADIANS(AE597))*COS(RADIANS(AF597))","v":142.04024609309343},{"$f":"camera!$B$5*COS(RADIANS(AE597))*SIN(RADIANS(AF597))","v":118.75138079484181},{"$f":"camera!$B$5*SIN(RADIANS(AE597))","v":-464.4595548044328},null,{"$f":"TRANSPOSE(MMULT(camera!$A$12:$C$14,MMULT(camera!$A$16:$C$18,TRANSPOSE(AH597:AJ597))))","v":434.71117964339209},-131.14987527810203,209.34636492566273,null,{"$f":"camera!$B$5*AM597/AN597","v":-313.23657166120927},{"$f":"camera!$B$5*AL597/AN597","v":1038.2582468001169},null,{"$f":"IF( AND( (camera!$B$3) > (AQ597+camera!$B$3/2), 0 < (AQ597+camera!$B$3/2), AN597 >= 0 ), AQ597+camera!$B$3/2, 0)*-1+camera!$B$3","v":1000},{"$f":"IF( AND( (camera!$B$4) > (AP597+camera!$B$4/2), 0 < (AP597+camera!$B$4/2), AN597 >= 0 ), AP597+camera!$B$4/2, 0)","v":186.76342833879073},null,null,null,2062.7671999999998,4504.9114,397.91120000000001,null,{"$f":"MMULT(               MMULT(AX597:AZ597-$B$2:$D$2, TRANSPOSE($A$16:$C$18)),     TRANSPOSE($A$12:$C$14))","v":-495.84005935698679},-6718.3540280650805,8790.1638543914414,null,-382.15180850745384,-28.204255777852882," ",528.20425577785295,117.84819149254616]
[null,null,null,null,null,null,null,null,null,null,null,null,null,null,null,null,null,null,null,null,542.6336,20.374199999999998,null,null,null,"''",null,4.2482949999999997,48.409331000000002,null,48.409331000000002,63.724424999999997,null,{"$f":"camera!$B$5*COS(RADIANS(AE598))*COS(RADIANS(AF598))","v":146.9294512548031},{"$f":"camera!$B$5*COS(RADIANS(AE598))*SIN(RADIANS(AF598))","v":297.60849002810829},{"$f":"camera!$B$5*SIN(RADIANS(AE598))","v":373.9531026975867},null,{"$f":"TRANSPOSE(MMULT(camera!$A$12:$C$14,MMULT(camera!$A$16:$C$18,TRANSPOSE(AH598:AJ598))))","v":-421.97812626153194},-120.43205133715564,239.64678584853033,null,{"$f":"camera!$B$5*AM598/AN598","v":-251.26990731533363},{"$f":"camera!$B$5*AL598/AN598","v":-880.41682839060661},null,{"$f":"IF( AND( (camera!$B$3) > (AQ598+camera!$B$3/2), 0 < (AQ598+camera!$B$3/2), AN598 >= 0 ), AQ598+camera!$B$3/2, 0)*-1+camera!$B$3","v":1000},{"$f":"IF( AND( (camera!$B$4) > (AP598+camera!$B$4/2), 0 < (AP598+camera!$B$4/2), AN598 >= 0 ), AP598+camera!$B$4/2, 0)","v":248.73009268466637},null,null,null,2132.3777,4523.5635000000002,363.28530000000001,null,{"$f":"MMULT(               MMULT(AX598:AZ598-$B$2:$D$2, TRANSPOSE($A$16:$C$18)),     TRANSPOSE($A$12:$C$14))","v":-466.02029840250202},-6786.074001467292,8820.4501970972087,null,-384.67843759837649,-26.417035864896572," ",526.41703586489655,115.32156240162351]
[null,null,null,null,null,null,null,null,null,null,null,null,null,null,null,null,null,null,null,null,545.14110000000005,56.677599999999998,null,null,null,"''",null,6.0397220000000003,9.6472759999999997,null,9.6472759999999997,90.595830000000007,null,{"$f":"camera!$B$5*COS(RADIANS(AE599))*COS(RADIANS(AF599))","v":-5.1259730440176536},{"$f":"camera!$B$5*COS(RADIANS(AE599))*SIN(RADIANS(AF599))","v":492.90239521356506},{"$f":"camera!$B$5*SIN(RADIANS(AE599))","v":83.791128367402962},null,{"$f":"TRANSPOSE(MMULT(camera!$A$12:$C$14,MMULT(camera!$A$16:$C$18,TRANSPOSE(AH599:AJ599))))","v":-167.706474946822},48.065741525949591,468.57680560658531,null,{"$f":"camera!$B$5*AM599/AN599","v":51.289074652048974},{"$f":"camera!$B$5*AL599/AN599","v":-178.95302641977921},null,{"$f":"IF( AND( (camera!$B$3) > (AQ599+camera!$B$3/2), 0 < (AQ599+camera!$B$3/2), AN599 >= 0 ), AQ599+camera!$B$3/2, 0)*-1+camera!$B$3","v":678.95302641977923},{"$f":"IF( AND( (camera!$B$4) > (AP599+camera!$B$4/2), 0 < (AP599+camera!$B$4/2), AN599 >= 0 ), AP599+camera!$B$4/2, 0)","v":551.28907465204895},null,null,null,2280.3530000000001,4468.5,211.15110000000001,null,{"$f":"MMULT(               MMULT(AX599:AZ599-$B$2:$D$2, TRANSPOSE($A$16:$C$18)),     TRANSPOSE($A$12:$C$14))","v":-308.91159007162923},-6938.2853110166134,8805.5483762733784,null,-393.97235779840128,-17.540735503991666," ",517.54073550399164,106.02764220159872]
[null,null,null,null,null,null,null,null,null,null,null,null,null,null,null,null,null,null,null,null,546.92100000000005,45.923999999999999,null,null,null,"''",null,12.086817,8.7329849999999993,null,8.7329849999999993,-178.697745,null,{"$f":"camera!$B$5*COS(RADIANS(AE600))*COS(RADIANS(AF600))","v":-494.07567632521085},{"$f":"camera!$B$5*COS(RADIANS(AE600))*SIN(RADIANS(AF600))","v":-11.231601034801145},{"$f":"camera!$B$5*SIN(RADIANS(AE600))","v":75.914933985221296},null,{"$f":"TRANSPOSE(MMULT(camera!$A$12:$C$14,MMULT(camera!$A$16:$C$18,TRANSPOSE(AH600:AJ600))))","v":-65.341133511684887},491.21667068083497,-66.608698505857973,null,{"$f":"camera!$B$5*AM600/AN600","v":-3687.3312472667094},{"$f":"camera!$B$5*AL600/AN600","v":490.48498902841038},null,{"$f":"IF( AND( (camera!$B$3) > (AQ600+camera!$B$3/2), 0 < (AQ600+camera!$B$3/2), AN600 >= 0 ), AQ600+camera!$B$3/2, 0)*-1+camera!$B$3","v":1000},{"$f":"IF( AND( (camera!$B$4) > (AP600+camera!$B$4/2), 0 < (AP600+camera!$B$4/2), AN600 >= 0 ), AP600+camera!$B$4/2, 0)","v":0},null,null,null,2215.3157999999999,4468.5,298.43340000000001,null,{"$f":"MMULT(               MMULT(AX600:AZ600-$B$2:$D$2, TRANSPOSE($A$16:$C$18)),     TRANSPOSE($A$12:$C$14))","v":-393.88357447776366},-6873.4955971978816,8784.8097136718425,null,-391.21482543330603,-22.418446575158068," ",522.41844657515799,108.78517456669397]
[null,null,null,null,null,null,null,null,null,null,null,null,null,null,null,null,null,null,null,null,547.04079999999999,18.014099999999999,null,null,null,"''",null,19.921026000000001,-41.868288,null,-41.868288,-61.184609999999964,null,{"$f":"camera!$B$5*COS(RADIANS(AE601))*COS(RADIANS(AF601))","v":179.46405471493026},{"$f":"camera!$B$5*COS(RADIANS(AE601))*SIN(RADIANS(AF601))","v":-326.23630178607999},{"$f":"camera!$B$5*SIN(RADIANS(AE601))","v":-333.71024626495705},null,{"$f":"TRANSPOSE(MMULT(camera!$A$12:$C$14,MMULT(camera!$A$16:$C$18,TRANSPOSE(AH601:AJ601))))","v":382.35911819839851},-207.21450699847543,-246.7055994904087,null,{"$f":"camera!$B$5*AM601/AN601","v":419.96312087462655},{"$f":"camera!$B$5*AL601/AN601","v":-774.92995495074615},null,{"$f":"IF( AND( (camera!$B$3) > (AQ601+camera!$B$3/2), 0 < (AQ601+camera!$B$3/2), AN601 >= 0 ), AQ601+camera!$B$3/2, 0)*-1+camera!$B$3","v":1000},{"$f":"IF( AND( (camera!$B$4) > (AP601+camera!$B$4/2), 0 < (AP601+camera!$B$4/2), AN601 >= 0 ), AP601+camera!$B$4/2, 0)","v":0},null,null,null,2205.3202000000001,4393.8915999999999,298.43340000000001,null,{"$f":"MMULT(               MMULT(AX601:AZ601-$B$2:$D$2, TRANSPOSE($A$16:$C$18)),     TRANSPOSE($A$12:$C$14))","v":-380.82598402934764},-6870.0405839908499,8710.7564383537265,null,-394.34236467351167,-21.859524297600565," ",521.8595242976005,105.65763532648833]
[null,null,null,null,null,null,null,null,null,null,null,null,null,null,null,null,null,null,null,null,548.67660000000001,53.142099999999999,null,null,null,"''",null,20.863692,-26.919132999999999,null,-26.919132999999999,-47.044620000000009,null,{"$f":"camera!$B$5*COS(RADIANS(AE602))*COS(RADIANS(AF602))","v":303.79667786366446},{"$f":"camera!$B$5*COS(RADIANS(AE602))*SIN(RADIANS(AF602))","v":-326.29113176964495},{"$f":"camera!$B$5*SIN(RADIANS(AE602))","v":-226.36624272953128},null,{"$f":"TRANSPOSE(MMULT(camera!$A$12:$C$14,MMULT(camera!$A$16:$C$18,TRANSPOSE(AH602:AJ602))))","v":274.77369205781736},-331.07878572702589,-254.72780726578287,null,{"$f":"camera!$B$5*AM602/AN602","v":649.86777313553841},{"$f":"camera!$B$5*AL602/AN602","v":-539.34765702889797},null,{"$f":"IF( AND( (camera!$B$3) > (AQ602+camera!$B$3/2), 0 < (AQ602+camera!$B$3/2), AN602 >= 0 ), AQ602+camera!$B$3/2, 0)*-1+camera!$B$3","v":1000},{"$f":"IF( AND( (camera!$B$4) > (AP602+camera!$B$4/2), 0 < (AP602+camera!$B$4/2), AN602 >= 0 ), AP602+camera!$B$4/2, 0)","v":0},null,null,null,2268.1035999999999,4377.0689000000002,211.15110000000001,null,{"$f":"MMULT(               MMULT(AX602:AZ602-$B$2:$D$2, TRANSPOSE($A$16:$C$18)),     TRANSPOSE($A$12:$C$14))","v":-292.90977459979513},-6934.0512691125441,8714.7975711070903,null,-397.83203296090284,-16.805311437806875," ",516.80531143780695,102.16796703909716]
[null,null,null,null,null,null,null,null,null,null,null,null,null,null,null,null,null,null,null,null,551.31790000000001,15.4254,null,null,null,"''",null,22.495954999999999,-43.749223999999998,null,-43.749223999999998,-22.560675000000003,null,{"$f":"camera!$B$5*COS(RADIANS(AE603))*COS(RADIANS(AF603))","v":333.54640688342545},{"$f":"camera!$B$5*COS(RADIANS(AE603))*SIN(RADIANS(AF603))","v":-138.57344835829167},{"$f":"camera!$B$5*SIN(RADIANS(AE603))","v":-345.75163609916331},null,{"$f":"TRANSPOSE(MMULT(camera!$A$12:$C$14,MMULT(camera!$A$16:$C$18,TRANSPOSE(AH603:AJ603))))","v":359.42231483072646},-344.3546339215917,-47.280923197931365,null,{"$f":"camera!$B$5*AM603/AN603","v":3641.5811138038216},{"$f":"camera!$B$5*AL603/AN603","v":-3800.9231897406344},null,{"$f":"IF( AND( (camera!$B$3) > (AQ603+camera!$B$3/2), 0 < (AQ603+camera!$B$3/2), AN603 >= 0 ), AQ603+camera!$B$3/2, 0)*-1+camera!$B$3","v":1000},{"$f":"IF( AND( (camera!$B$4) > (AP603+camera!$B$4/2), 0 < (AP603+camera!$B$4/2), AN603 >= 0 ), AP603+camera!$B$4/2, 0)","v":0},null,null,null,2232.9962999999998,4291.7624999999998,211.15110000000001,null,{"$f":"MMULT(               MMULT(AX603:AZ603-$B$2:$D$2, TRANSPOSE($A$16:$C$18)),     TRANSPOSE($A$12:$C$14))","v":-277.62151359714471},-6906.5125056413553,8628.0935344291884,null,-400.23398437220766,-16.088230412044982," ",516.08823041204505,99.766015627792342]
[null,null,null,null,null,null,null,null,null,null,null,null,null,null,null,null,null,null,null,null,551.48099999999999,43.873800000000003,null,null,null,"''",null,5.3991189999999998,-7.808065,null,-7.808065,80.986784999999998,null,{"$f":"camera!$B$5*COS(RADIANS(AE604))*COS(RADIANS(AF604))","v":77.604903952686072},{"$f":"camera!$B$5*COS(RADIANS(AE604))*SIN(RADIANS(AF604))","v":489.24772009570393},{"$f":"camera!$B$5*SIN(RADIANS(AE604))","v":-67.927514776047161},null,{"$f":"TRANSPOSE(MMULT(camera!$A$12:$C$14,MMULT(camera!$A$16:$C$18,TRANSPOSE(AH604:AJ604))))","v":-18.912651333346332},-34.668845431045582,498.43794275317919,null,{"$f":"camera!$B$5*AM604/AN604","v":-34.77749430505655},{"$f":"camera!$B$5*AL604/AN604","v":-18.971921789180147},null,{"$f":"IF( AND( (camera!$B$3) > (AQ604+camera!$B$3/2), 0 < (AQ604+camera!$B$3/2), AN604 >= 0 ), AQ604+camera!$B$3/2, 0)*-1+camera!$B$3","v":518.97192178918021},{"$f":"IF( AND( (camera!$B$4) > (AP604+camera!$B$4/2), 0 < (AP604+camera!$B$4/2), AN604 >= 0 ), AP604+camera!$B$4/2, 0)","v":465.22250569494344},null,null,null,2176.6723999999999,4324.2811000000002,298.43340000000001,null,{"$f":"MMULT(               MMULT(AX604:AZ604-$B$2:$D$2, TRANSPOSE($A$16:$C$18)),     TRANSPOSE($A$12:$C$14))","v":-368.35067675171103},-6847.5687523493916,8640.0054549959223,null,-396.27108964323122,-21.316576631251959," ",521.31657663125202,103.72891035676878]
[null,null,null,null,null,null,null,null,null,null,null,null,null,null,null,null,null,null,null,null,552.21220000000005,49.6066,null,null,null,"''",null,6.4827190000000003,20.212133000000001,null,20.212133000000001,97.240785000000002,null,{"$f":"camera!$B$5*COS(RADIANS(AE605))*COS(RADIANS(AF605))","v":-59.138949362847981},{"$f":"camera!$B$5*COS(RADIANS(AE605))*SIN(RADIANS(AF605))","v":465.46810092330134},{"$f":"camera!$B$5*SIN(RADIANS(AE605))","v":172.74846364328064},null,{"$f":"TRANSPOSE(MMULT(camera!$A$12:$C$14,MMULT(camera!$A$16:$C$18,TRANSPOSE(AH605:AJ605))))","v":-249.74910541242821},99.482125867297611,421.57880755395541,null,{"$f":"camera!$B$5*AM605/AN605","v":117.98757917233004},{"$f":"camera!$B$5*AL605/AN605","v":-296.20690240752231},null,{"$f":"IF( AND( (camera!$B$3) > (AQ605+camera!$B$3/2), 0 < (AQ605+camera!$B$3/2), AN605 >= 0 ), AQ605+camera!$B$3/2, 0)*-1+camera!$B$3","v":796.20690240752231},{"$f":"IF( AND( (camera!$B$4) > (AP605+camera!$B$4/2), 0 < (AP605+camera!$B$4/2), AN605 >= 0 ), AP605+camera!$B$4/2, 0)","v":617.98757917233002},null,null,null,2130.7118,4264.6661999999997,298.43340000000001,null,{"$f":"MMULT(               MMULT(AX605:AZ605-$B$2:$D$2, TRANSPOSE($A$16:$C$18)),     TRANSPOSE($A$12:$C$14))","v":-357.34246280691877},-6806.9788271966045,8577.5747713843593,null,-396.78924454878324,-20.830040677642863," ",520.83004067764284,103.21075545121676]
[null,null,null,null,null,null,null,null,null,null,null,null,null,null,null,null,null,null,null,null,555.45280000000002,12.615399999999999,null,null,null,"''",null,15.897093,-16.729292999999998,null,-16.729292999999998,-121.54360500000001,null,{"$f":"camera!$B$5*COS(RADIANS(AE606))*COS(RADIANS(AF606))","v":-250.50267158301412},{"$f":"camera!$B$5*COS(RADIANS(AE606))*SIN(RADIANS(AF606))","v":-408.08575115581789},{"$f":"camera!$B$5*SIN(RADIANS(AE606))","v":-143.92508896424002},null,{"$f":"TRANSPOSE(MMULT(camera!$A$12:$C$14,MMULT(camera!$A$16:$C$18,TRANSPOSE(AH606:AJ606))))","v":216.12345068155003},213.98241654209514,-396.86544253223263,null,{"$f":"camera!$B$5*AM606/AN606","v":-269.59063905484277},{"$f":"camera!$B$5*AL606/AN606","v":-272.2880698588375},null,{"$f":"IF( AND( (camera!$B$3) > (AQ606+camera!$B$3/2), 0 < (AQ606+camera!$B$3/2), AN606 >= 0 ), AQ606+camera!$B$3/2, 0)*-1+camera!$B$3","v":1000},{"$f":"IF( AND( (camera!$B$4) > (AP606+camera!$B$4/2), 0 < (AP606+camera!$B$4/2), AN606 >= 0 ), AP606+camera!$B$4/2, 0)","v":0},null,null,null,2176.6723999999999,4218.7055,211.15110000000001,null,{"$f":"MMULT(               MMULT(AX606:AZ606-$B$2:$D$2, TRANSPOSE($A$16:$C$18)),     TRANSPOSE($A$12:$C$14))","v":-264.13114310489618},-6856.7702721834212,8551.5858415165912,null,-400.90635814557868,-15.443401259131459," ",515.44340125913141,99.093641854421321]
[null,null,null,null,null,null,null,null,null,null,null,null,null,null,null,null,null,null,null,null,555.74770000000001,46.070999999999998,null,null,null,"''",null,20.768260000000001,-25.270897999999999,null,-25.270897999999999,-48.476099999999974,null,{"$f":"camera!$B$5*COS(RADIANS(AE607))*COS(RADIANS(AF607))","v":299.74472098349474},{"$f":"camera!$B$5*COS(RADIANS(AE607))*SIN(RADIANS(AF607))","v":-338.51513740392863},{"$f":"camera!$B$5*SIN(RADIANS(AE607))","v":-213.44930075061427},null,{"$f":"TRANSPOSE(MMULT(camera!$A$12:$C$14,MMULT(camera!$A$16:$C$18,TRANSPOSE(AH607:AJ607))))","v":264.22891041144931},-328.10764005651197,-269.31108302356336,null,{"$f":"camera!$B$5*AM607/AN607","v":609.16104226539426},{"$f":"camera!$B$5*AL607/AN607","v":-490.56449412505356},null,{"$f":"IF( AND( (camera!$B$3) > (AQ607+camera!$B$3/2), 0 < (AQ607+camera!$B$3/2), AN607 >= 0 ), AQ607+camera!$B$3/2, 0)*-1+camera!$B$3","v":1000},{"$f":"IF( AND( (camera!$B$4) > (AP607+camera!$B$4/2), 0 < (AP607+camera!$B$4/2), AN607 >= 0 ), AP607+camera!$B$4/2, 0)","v":0},null,null,null,2103.6154999999999,4162.3816999999999,211.15110000000001,null,{"$f":"MMULT(               MMULT(AX607:AZ607-$B$2:$D$2, TRANSPOSE($A$16:$C$18)),     TRANSPOSE($A$12:$C$14))","v":-253.28216075673754},-6788.9003183677733,8490.0582051641268,null,-399.81471000036174,-14.916397192817666," ",514.91639719281761,100.18528999963826]
[null,null,null,null,null,null,null,null,null,null,null,null,null,null,null,null,null,null,null,null,555.95159999999998,41.6355,null,null,null,"''",null,22.767692,-81.381614999999996,null,-81.381614999999996,-18.484620000000007,null,{"$f":"camera!$B$5*COS(RADIANS(AE608))*COS(RADIANS(AF608))","v":71.060765115030492},{"$f":"camera!$B$5*COS(RADIANS(AE608))*SIN(RADIANS(AF608))","v":-23.755390836099963},{"$f":"camera!$B$5*SIN(RADIANS(AE608))","v":-494.35417371302793},null,{"$f":"TRANSPOSE(MMULT(camera!$A$12:$C$14,MMULT(camera!$A$16:$C$18,TRANSPOSE(AH608:AJ608))))","v":489.87774156420915},-72.860776182517441,68.637494228963249,null,{"$f":"camera!$B$5*AM608/AN608","v":-530.76512335565474},{"$f":"camera!$B$5*AL608/AN608","v":3568.5870169594086},null,{"$f":"IF( AND( (camera!$B$3) > (AQ608+camera!$B$3/2), 0 < (AQ608+camera!$B$3/2), AN608 >= 0 ), AQ608+camera!$B$3/2, 0)*-1+camera!$B$3","v":1000},{"$f":"IF( AND( (camera!$B$4) > (AP608+camera!$B$4/2), 0 < (AP608+camera!$B$4/2), AN608 >= 0 ), AP608+camera!$B$4/2, 0)","v":0},null,null,null,2071.0969,4218.7055,298.43340000000001,null,{"$f":"MMULT(               MMULT(AX608:AZ608-$B$2:$D$2, TRANSPOSE($A$16:$C$18)),     TRANSPOSE($A$12:$C$14))","v":-348.48960320813171},-6751.5965188350374,8527.3677096901283,null,-395.87811553868011,-20.433597745065185," ",520.43359774506519,104.12188446131989]
[null,null,null,null,null,null,null,null,null,null,null,null,null,null,null,null,null,null,null,null,559.28319999999997,42.535499999999999,null,null,null,"''",null,23.665844,5.6262920000000003,null,5.6262920000000003,-5.0123399999999947,null,{"$f":"camera!$B$5*COS(RADIANS(AE609))*COS(RADIANS(AF609))","v":495.68842131305956},{"$f":"camera!$B$5*COS(RADIANS(AE609))*SIN(RADIANS(AF609))","v":-43.474694904966356},{"$f":"camera!$B$5*SIN(RADIANS(AE609))","v":49.019790687913556},null,{"$f":"TRANSPOSE(MMULT(camera!$A$12:$C$14,MMULT(camera!$A$16:$C$18,TRANSPOSE(AH609:AJ609))))","v":-48.25646038659265},-497.59124654270749,-8.6177372338506721,null,{"$f":"camera!$B$5*AM609/AN609","v":28870.179783862375},{"$f":"camera!$B$5*AL609/AN609","v":2799.8335918760758},null,{"$f":"IF( AND( (camera!$B$3) > (AQ609+camera!$B$3/2), 0 < (AQ609+camera!$B$3/2), AN609 >= 0 ), AQ609+camera!$B$3/2, 0)*-1+camera!$B$3","v":1000},{"$f":"IF( AND( (camera!$B$4) > (AP609+camera!$B$4/2), 0 < (AP609+camera!$B$4/2), AN609 >= 0 ), AP609+camera!$B$4/2, 0)","v":0},null,null,null,2001.4864,4190.0577999999996,298.43340000000001,null,{"$f":"MMULT(               MMULT(AX609:AZ609-$B$2:$D$2, TRANSPOSE($A$16:$C$18)),     TRANSPOSE($A$12:$C$14))","v":-342.4803965928736},-6684.7477193750328,8493.287805462689,null,-393.53121385310618,-20.161826870661208," ",520.16182687066123,106.46878614689382]
[null,null,null,null,null,null,null,null,null,null,null,null,null,null,null,null,null,null,null,null,559.43430000000001,9.5916999999999994,null,null,null,"''",null,3.5145490000000001,12.936678000000001,null,12.936678000000001,52.718235,null,{"$f":"camera!$B$5*COS(RADIANS(AE610))*COS(RADIANS(AF610))","v":295.18023971804723},{"$f":"camera!$B$5*COS(RADIANS(AE610))*SIN(RADIANS(AF610))","v":387.73538242999291},{"$f":"camera!$B$5*SIN(RADIANS(AE610))","v":111.93703270974852},null,{"$f":"TRANSPOSE(MMULT(camera!$A$12:$C$14,MMULT(camera!$A$16:$C$18,TRANSPOSE(AH610:AJ610))))","v":-181.7771774182084},-260.26362454333582,386.28992157372511,null,{"$f":"camera!$B$5*AM610/AN610","v":-336.87602239664358},{"$f":"camera!$B$5*AL610/AN610","v":-235.2859436219014},null,{"$f":"IF( AND( (camera!$B$3) > (AQ610+camera!$B$3/2), 0 < (AQ610+camera!$B$3/2), AN610 >= 0 ), AQ610+camera!$B$3/2, 0)*-1+camera!$B$3","v":735.28594362190142},{"$f":"IF( AND( (camera!$B$4) > (AP610+camera!$B$4/2), 0 < (AP610+camera!$B$4/2), AN610 >= 0 ), AP610+camera!$B$4/2, 0)","v":163.12397760335642},null,null,null,2018.3090999999999,4127.2744000000002,211.15110000000001,null,{"$f":"MMULT(               MMULT(AX610:AZ610-$B$2:$D$2, TRANSPOSE($A$16:$C$18)),     TRANSPOSE($A$12:$C$14))","v":-245.91797617921725},-6706.9783377818449,8448.2938390533254,null,-396.94277125980005,-14.554298232527719," ",514.5542982325278,103.05722874019995]
[null,null,null,null,null,null,null,null,null,null,null,null,null,null,null,null,null,null,null,null,560.3252,39.213000000000001,null,null,null,"''",null,3.7721040000000001,23.948357999999999,null,23.948357999999999,56.581560000000003,null,{"$f":"camera!$B$5*COS(RADIANS(AE611))*COS(RADIANS(AF611))","v":251.66815585027439},{"$f":"camera!$B$5*COS(RADIANS(AE611))*SIN(RADIANS(AF611))","v":381.40763299368649},{"$f":"camera!$B$5*SIN(RADIANS(AE611))","v":202.95653925181949},null,{"$f":"TRANSPOSE(MMULT(camera!$A$12:$C$14,MMULT(camera!$A$16:$C$18,TRANSPOSE(AH611:AJ611))))","v":-269.66074140755723},-217.4686169933795,360.5419326049514,null,{"$f":"camera!$B$5*AM611/AN611","v":-301.58574818488802},{"$f":"camera!$B$5*AL611/AN611","v":-373.96585115527546},null,{"$f":"IF( AND( (camera!$B$3) > (AQ611+camera!$B$3/2), 0 < (AQ611+camera!$B$3/2), AN611 >= 0 ), AQ611+camera!$B$3/2, 0)*-1+camera!$B$3","v":873.96585115527546},{"$f":"IF( AND( (camera!$B$4) > (AP611+camera!$B$4/2), 0 < (AP611+camera!$B$4/2), AN611 >= 0 ), AP611+camera!$B$4/2, 0)","v":198.41425181511198},null,null,null,1926.8779999999999,4115.0249999999996,211.15110000000001,null,{"$f":"MMULT(               MMULT(AX611:AZ611-$B$2:$D$2, TRANSPOSE($A$16:$C$18)),     TRANSPOSE($A$12:$C$14))","v":-242.41522627373251},-6616.9627662763614,8428.4287571956829,null,-392.53833406536177,-14.380807696023595," ",514.38080769602357,107.46166593463823]
[null,null,null,null,null,null,null,null,null,null,null,null,null,null,null,null,null,null,null,null,562.81880000000001,39,null,null,null,"''",null,8.6276019999999995,5.7037820000000004,null,5.7037820000000004,129.41403,null,{"$f":"camera!$B$5*COS(RADIANS(AE612))*COS(RADIANS(AF612))","v":-315.88811661742596},{"$f":"camera!$B$5*COS(RADIANS(AE612))*SIN(RADIANS(AF612))","v":384.37654946808937},{"$f":"camera!$B$5*SIN(RADIANS(AE612))","v":49.692715752924308},null,{"$f":"TRANSPOSE(MMULT(camera!$A$12:$C$14,MMULT(camera!$A$16:$C$18,TRANSPOSE(AH612:AJ612))))","v":-110.64928086717373},348.18669062814007,341.35431023058902,null,{"$f":"camera!$B$5*AM612/AN612","v":510.00775468886809},{"$f":"camera!$B$5*AL612/AN612","v":-162.07394714370062},null,{"$f":"IF( AND( (camera!$B$3) > (AQ612+camera!$B$3/2), 0 < (AQ612+camera!$B$3/2), AN612 >= 0 ), AQ612+camera!$B$3/2, 0)*-1+camera!$B$3","v":662.07394714370059},{"$f":"IF( AND( (camera!$B$4) > (AP612+camera!$B$4/2), 0 < (AP612+camera!$B$4/2), AN612 >= 0 ), AP612+camera!$B$4/2, 0)","v":0},null,null,null,1926.8779999999999,4180.0622000000003,298.43340000000001,null,{"$f":"MMULT(               MMULT(AX612:AZ612-$B$2:$D$2, TRANSPOSE($A$16:$C$18)),     TRANSPOSE($A$12:$C$14))","v":-339.6221277506545},-6611.2944008041341,8477.0777573422329,null,-389.95126563973702,-20.031792645555143," ",520.03179264555513,110.04873436026298]
[null,null,null,null,null,null,null,null,null,null,null,null,null,null,null,null,null,null,null,null,563.25109999999995,6.3628,null,null,null,"''",null,12.114687,-64.613730000000004,null,-64.613730000000004,-178.279695,null,{"$f":"camera!$B$5*COS(RADIANS(AE613))*COS(RADIANS(AF613))","v":-214.26271056572938},{"$f":"camera!$B$5*COS(RADIANS(AE613))*SIN(RADIANS(AF613))","v":-6.4351688523605866},{"$f":"camera!$B$5*SIN(RADIANS(AE613))","v":-451.71902712069601},null,{"$f":"TRANSPOSE(MMULT(camera!$A$12:$C$14,MMULT(camera!$A$16:$C$18,TRANSPOSE(AH613:AJ613))))","v":449.21234843993517},212.88651434331177,53.736375201842513,null,{"$f":"camera!$B$5*AM613/AN613","v":1980.8417812298987},{"$f":"camera!$B$5*AL613/AN613","v":4179.7790300575816},null,{"$f":"IF( AND( (camera!$B$3) > (AQ613+camera!$B$3/2), 0 < (AQ613+camera!$B$3/2), AN613 >= 0 ), AQ613+camera!$B$3/2, 0)*-1+camera!$B$3","v":1000},{"$f":"IF( AND( (camera!$B$4) > (AP613+camera!$B$4/2), 0 < (AP613+camera!$B$4/2), AN613 >= 0 ), AP613+camera!$B$4/2, 0)","v":0},null,null,null,1852.2697000000001,4190.0577999999996,298.43340000000001,null,{"$f":"MMULT(               MMULT(AX613:AZ613-$B$2:$D$2, TRANSPOSE($A$16:$C$18)),     TRANSPOSE($A$12:$C$14))","v":-340.2220860113141},-6536.0988339682863,8480.48028971844,null,-385.36135989211118,-20.059128397703631," ",520.0591283977036,114.63864010788882]
[null,null,null,null,null,null,null,null,null,null,null,null,null,null,null,null,null,null,null,null,564.59400000000005,36.610399999999998,null,null,null,"''",null,15.548829,31.359133,null,31.359133,-126.76756500000002,null,{"$f":"camera!$B$5*COS(RADIANS(AE614))*COS(RADIANS(AF614))","v":-255.5661947172735},{"$f":"camera!$B$5*COS(RADIANS(AE614))*SIN(RADIANS(AF614))","v":-342.02587608866941},{"$f":"camera!$B$5*SIN(RADIANS(AE614))","v":260.20034627861435},null,{"$f":"TRANSPOSE(MMULT(camera!$A$12:$C$14,MMULT(camera!$A$16:$C$18,TRANSPOSE(AH614:AJ614))))","v":-193.21330319961854},224.78416891940407,-402.66698010875575,null,{"$f":"camera!$B$5*AM614/AN614","v":-279.11919777813966},{"$f":"camera!$B$5*AL614/AN614","v":239.91699437017883},null,{"$f":"IF( AND( (camera!$B$3) > (AQ614+camera!$B$3/2), 0 < (AQ614+camera!$B$3/2), AN614 >= 0 ), AQ614+camera!$B$3/2, 0)*-1+camera!$B$3","v":1000},{"$f":"IF( AND( (camera!$B$4) > (AP614+camera!$B$4/2), 0 < (AP614+camera!$B$4/2), AN614 >= 0 ), AP614+camera!$B$4/2, 0)","v":0},null,null,null,1835.4468999999999,4127.2744000000002,211.15110000000001,null,{"$f":"MMULT(               MMULT(AX614:AZ614-$B$2:$D$2, TRANSPOSE($A$16:$C$18)),     TRANSPOSE($A$12:$C$14))","v":-243.15045993453964},-6524.8119836604519,8432.5984744893885,null,-386.88027204185971,-14.417291459455083," ",514.4172914594551,113.11972795814029]
[null,null,null,null,null,null,null,null,null,null,null,null,null,null,null,null,null,null,null,null,568.75070000000005,33.832299999999996,null,null,null,"''",null,15.959794,26.877880000000001,null,26.877880000000001,-120.60308999999998,null,{"$f":"camera!$B$5*COS(RADIANS(AE615))*COS(RADIANS(AF615))","v":-227.04608126098992},{"$f":"camera!$B$5*COS(RADIANS(AE615))*SIN(RADIANS(AF615))","v":-383.86670678011671},{"$f":"camera!$B$5*SIN(RADIANS(AE615))","v":226.04519107872173},null,{"$f":"TRANSPOSE(MMULT(camera!$A$12:$C$14,MMULT(camera!$A$16:$C$18,TRANSPOSE(AH615:AJ615))))","v":-152.77074112145772},192.72591442918721,-435.33644754905851,null,{"$f":"camera!$B$5*AM615/AN615","v":-221.35283585171069},{"$f":"camera!$B$5*AL615/AN615","v":175.4628425687259},null,{"$f":"IF( AND( (camera!$B$3) > (AQ615+camera!$B$3/2), 0 < (AQ615+camera!$B$3/2), AN615 >= 0 ), AQ615+camera!$B$3/2, 0)*-1+camera!$B$3","v":1000},{"$f":"IF( AND( (camera!$B$4) > (AP615+camera!$B$4/2), 0 < (AP615+camera!$B$4/2), AN615 >= 0 ), AP615+camera!$B$4/2, 0)","v":0},null,null,null,1750.1405,4162.3816999999999,211.15110000000001,null,{"$f":"MMULT(               MMULT(AX615:AZ615-$B$2:$D$2, TRANSPOSE($A$16:$C$18)),     TRANSPOSE($A$12:$C$14))","v":-247.93251602651208},-6436.7703974597935,8459.7188622641843,null,-380.43642479491558,-14.653708950805173," ",514.65370895080514,119.56357520508442]
[null,null,null,null,null,null,null,null,null,null,null,null,null,null,null,null,null,null,null,null,572.78809999999999,30.883400000000002,null,null,null,"''",null,21.744091999999998,25.645036000000001,null,25.645036000000001,-33.838620000000049,null,{"$f":"camera!$B$5*COS(RADIANS(AE616))*COS(RADIANS(AF616))","v":374.39408101503489},{"$f":"camera!$B$5*COS(RADIANS(AE616))*SIN(RADIANS(AF616))","v":-251.00061101520987},{"$f":"camera!$B$5*SIN(RADIANS(AE616))","v":216.39723974879817},null,{"$f":"TRANSPOSE(MMULT(camera!$A$12:$C$14,MMULT(camera!$A$16:$C$18,TRANSPOSE(AH616:AJ616))))","v":-175.35598108289435},-394.84554318725588,-251.68884942248934,null,{"$f":"camera!$B$5*AM616/AN616","v":784.39220508426502},{"$f":"camera!$B$5*AL616/AN616","v":348.3586608728516},null,{"$f":"IF( AND( (camera!$B$3) > (AQ616+camera!$B$3/2), 0 < (AQ616+camera!$B$3/2), AN616 >= 0 ), AQ616+camera!$B$3/2, 0)*-1+camera!$B$3","v":1000},{"$f":"IF( AND( (camera!$B$4) > (AP616+camera!$B$4/2), 0 < (AP616+camera!$B$4/2), AN616 >= 0 ), AP616+camera!$B$4/2, 0)","v":0},null,null,null,1782.6591000000001,4218.7055,298.43340000000001,null,{"$f":"MMULT(               MMULT(AX616:AZ616-$B$2:$D$2, TRANSPOSE($A$16:$C$18)),     TRANSPOSE($A$12:$C$14))","v":-344.1242598125084},-6464.2563117457894,8502.6106170541425,null,-380.13362030128042,-20.236388287750113," ",520.23638828775006,119.86637969871958]
[null,null,null,null,null,null,null,null,null,null,null,null,null,null,null,null,null,null,null,null,576.69920000000002,27.768999999999998,null,null,null,"''",null,22.266159999999999,37.748736999999998,null,37.748736999999998,-26.007600000000025,null,{"$f":"camera!$B$5*COS(RADIANS(AE617))*COS(RADIANS(AF617))","v":355.31661346116414},{"$f":"camera!$B$5*COS(RADIANS(AE617))*SIN(RADIANS(AF617))","v":-173.35783806205805},{"$f":"camera!$B$5*SIN(RADIANS(AE617))","v":306.09992515670257},null,{"$f":"TRANSPOSE(MMULT(camera!$A$12:$C$14,MMULT(camera!$A$16:$C$18,TRANSPOSE(AH617:AJ617))))","v":-276.83837537904287},-369.07365761135276,-192.73076862522512,null,{"$f":"camera!$B$5*AM617/AN617","v":957.48504570392549},{"$f":"camera!$B$5*AL617/AN617","v":718.1997388215924},null,{"$f":"IF( AND( (camera!$B$3) > (AQ617+camera!$B$3/2), 0 < (AQ617+camera!$B$3/2), AN617 >= 0 ), AQ617+camera!$B$3/2, 0)*-1+camera!$B$3","v":1000},{"$f":"IF( AND( (camera!$B$4) > (AP617+camera!$B$4/2), 0 < (AP617+camera!$B$4/2), AN617 >= 0 ), AP617+camera!$B$4/2, 0)","v":0},null,null,null,1723.0442,4264.6661999999997,298.43340000000001,null,{"$f":"MMULT(               MMULT(AX617:AZ617-$B$2:$D$2, TRANSPOSE($A$16:$C$18)),     TRANSPOSE($A$12:$C$14))","v":-351.17264364566631},-6400.8625254928183,8542.5839881448192,null,-374.64440117742902,-20.55424003632945," ",520.55424003632947,125.35559882257098]
[null,null,null,null,null,null,null,null,null,null,null,null,null,null,null,null,null,null,null,null,580.47720000000004,24.494299999999999,null,null,null,"''",null,7.1977390000000003,-0.49276399999999998,null,-0.49276399999999998,107.96608500000001,null,{"$f":"camera!$B$5*COS(RADIANS(AE618))*COS(RADIANS(AF618))","v":-154.22128769826921},{"$f":"camera!$B$5*COS(RADIANS(AE618))*SIN(RADIANS(AF618))","v":475.60204305002225},{"$f":"camera!$B$5*SIN(RADIANS(AE618))","v":-4.3001241066279734},null,{"$f":"TRANSPOSE(MMULT(camera!$A$12:$C$14,MMULT(camera!$A$16:$C$18,TRANSPOSE(AH618:AJ618))))","v":-75.704310220258265},195.08587845222587,454.10390599795346,null,{"$f":"camera!$B$5*AM618/AN618","v":214.803127517147},{"$f":"camera!$B$5*AL618/AN618","v":-83.355713549620347},null,{"$f":"IF( AND( (camera!$B$3) > (AQ618+camera!$B$3/2), 0 < (AQ618+camera!$B$3/2), AN618 >= 0 ), AQ618+camera!$B$3/2, 0)*-1+camera!$B$3","v":583.3557135496203},{"$f":"IF( AND( (camera!$B$4) > (AP618+camera!$B$4/2), 0 < (AP618+camera!$B$4/2), AN618 >= 0 ), AP618+camera!$B$4/2, 0)","v":714.803127517147},null,null,null,1677.0835999999999,4218.7055,211.15110000000001,null,{"$f":"MMULT(               MMULT(AX618:AZ618-$B$2:$D$2, TRANSPOSE($A$16:$C$18)),     TRANSPOSE($A$12:$C$14))","v":-256.57014843426941},-6359.0825583974047,8508.7053099028399,null,-373.68097300281391,-15.076920582480437," ",515.0769205824804,126.31902699718609]
[null,null,null,null,null,null,null,null,null,null,null,null,null,null,null,null,null,null,null,null,584.1155,21.065100000000001,null,null,null,"''",null,17.394708000000001,37.145946000000002,null,37.145946000000002,-99.079379999999958,null,{"$f":"camera!$B$5*COS(RADIANS(AE619))*COS(RADIANS(AF619))","v":-62.892262391377699},{"$f":"camera!$B$5*COS(RADIANS(AE619))*SIN(RADIANS(AF619))","v":-393.55640981833221},{"$f":"camera!$B$5*SIN(RADIANS(AE619))","v":301.92369172060518},null,{"$f":"TRANSPOSE(MMULT(camera!$A$12:$C$14,MMULT(camera!$A$16:$C$18,TRANSPOSE(AH619:AJ619))))","v":-228.30465581367955},28.352237134466868,-443.92920019217956,null,{"$f":"camera!$B$5*AM619/AN619","v":-31.93328702211188},{"$f":"camera!$B$5*AL619/AN619","v":257.14084105623726},null,{"$f":"IF( AND( (camera!$B$3) > (AQ619+camera!$B$3/2), 0 < (AQ619+camera!$B$3/2), AN619 >= 0 ), AQ619+camera!$B$3/2, 0)*-1+camera!$B$3","v":1000},{"$f":"IF( AND( (camera!$B$4) > (AP619+camera!$B$4/2), 0 < (AP619+camera!$B$4/2), AN619 >= 0 ), AP619+camera!$B$4/2, 0)","v":0},null,null,null,1620.7597000000001,4291.7624999999998,211.15110000000001,null,{"$f":"MMULT(               MMULT(AX619:AZ619-$B$2:$D$2, TRANSPOSE($A$16:$C$18)),     TRANSPOSE($A$12:$C$14))","v":-268.35565801799135},-6296.6056507436397,8575.5442561399323,null,-367.12571602877483,-15.646567145044678," ",515.64656714504463,132.87428397122517]
[null,null,null,null,null,null,null,null,null,null,null,null,null,null,null,null,null,null,null,null,587.6078,17.487400000000001,null,null,null,"''",null,23.673469000000001,44.333931999999997,null,44.333931999999997,-4.8979649999999992,null,{"$f":"camera!$B$5*COS(RADIANS(AE620))*COS(RADIANS(AF620))","v":356.33351292713542},{"$f":"camera!$B$5*COS(RADIANS(AE620))*SIN(RADIANS(AF620))","v":-30.535809180126371},{"$f":"camera!$B$5*SIN(RADIANS(AE620))","v":349.4195070724042},null,{"$f":"TRANSPOSE(MMULT(camera!$A$12:$C$14,MMULT(camera!$A$16:$C$18,TRANSPOSE(AH620:AJ620))))","v":-344.22163627803837},-357.63892745991348,-60.048835820460489,null,{"$f":"camera!$B$5*AM620/AN620","v":2977.900591855062},{"$f":"camera!$B$5*AL620/AN620","v":2866.1807641635532},null,{"$f":"IF( AND( (camera!$B$3) > (AQ620+camera!$B$3/2), 0 < (AQ620+camera!$B$3/2), AN620 >= 0 ), AQ620+camera!$B$3/2, 0)*-1+camera!$B$3","v":1000},{"$f":"IF( AND( (camera!$B$4) > (AP620+camera!$B$4/2), 0 < (AP620+camera!$B$4/2), AN620 >= 0 ), AP620+camera!$B$4/2, 0)","v":0},null,null,null,1677.0835999999999,4324.2811000000002,298.43340000000001,null,{"$f":"MMULT(               MMULT(AX620:AZ620-$B$2:$D$2, TRANSPOSE($A$16:$C$18)),     TRANSPOSE($A$12:$C$14))","v":-360.78968208108427},-6349.8810385633751,8597.1249233821691,null,-369.30259215456925,-20.98315921290272," ",520.98315921290271,130.69740784543075]
[null,null,null,null,null,null,null,null,null,null,null,null,null,null,null,null,null,null,null,null,590.94799999999998,13.767300000000001,null,null,null,"''",null,6.0686710000000001,23.263341,null,23.263341,91.030065000000008,null,{"$f":"camera!$B$5*COS(RADIANS(AE621))*COS(RADIANS(AF621))","v":-8.2577547354160838},{"$f":"camera!$B$5*COS(RADIANS(AE621))*SIN(RADIANS(AF621))","v":459.2754046150564},{"$f":"camera!$B$5*SIN(RADIANS(AE621))","v":197.47889052353415},null,{"$f":"TRANSPOSE(MMULT(camera!$A$12:$C$14,MMULT(camera!$A$16:$C$18,TRANSPOSE(AH621:AJ621))))","v":-273.80262132234293},48.254820500519962,415.57622267819448,null,{"$f":"camera!$B$5*AM621/AN621","v":58.057725475173008},{"$f":"camera!$B$5*AL621/AN621","v":-329.42527312777071},null,{"$f":"IF( AND( (camera!$B$3) > (AQ621+camera!$B$3/2), 0 < (AQ621+camera!$B$3/2), AN621 >= 0 ), AQ621+camera!$B$3/2, 0)*-1+camera!$B$3","v":829.42527312777065},{"$f":"IF( AND( (camera!$B$4) > (AP621+camera!$B$4/2), 0 < (AP621+camera!$B$4/2), AN621 >= 0 ), AP621+camera!$B$4/2, 0)","v":558.05772547517302},null,null,null,1648.4358999999999,4393.8915999999999,298.43340000000001,null,{"$f":"MMULT(               MMULT(AX621:AZ621-$B$2:$D$2, TRANSPOSE($A$16:$C$18)),     TRANSPOSE($A$12:$C$14))","v":-372.39785428653613},-6315.2753968803163,8662.9581393699391,null,-364.49878293765073,-21.493688893296486," ",521.49368889329651,135.50121706234927]
[null,null,null,null,null,null,null,null,null,null,null,null,null,null,null,null,null,null,null,null,594.13049999999998,9.9114000000000004,null,null,null,"''",null,7.485195,31.784549999999999,null,31.784549999999999,112.277925,null,{"$f":"camera!$B$5*COS(RADIANS(AE622))*COS(RADIANS(AF622))","v":-161.1239460074589},{"$f":"camera!$B$5*COS(RADIANS(AE622))*SIN(RADIANS(AF622))","v":393.29231655225499},{"$f":"camera!$B$5*SIN(RADIANS(AE622))","v":263.36329995644104},null,{"$f":"TRANSPOSE(MMULT(camera!$A$12:$C$14,MMULT(camera!$A$16:$C$18,TRANSPOSE(AH622:AJ622))))","v":-324.95831251409811},194.78850471431011,326.28137176239915,null,{"$f":"camera!$B$5*AM622/AN622","v":298.49774086422065},{"$f":"camera!$B$5*AL622/AN622","v":-497.97251795106388},null,{"$f":"IF( AND( (camera!$B$3) > (AQ622+camera!$B$3/2), 0 < (AQ622+camera!$B$3/2), AN622 >= 0 ), AQ622+camera!$B$3/2, 0)*-1+camera!$B$3","v":997.97251795106388},{"$f":"IF( AND( (camera!$B$4) > (AP622+camera!$B$4/2), 0 < (AP622+camera!$B$4/2), AN622 >= 0 ), AP622+camera!$B$4/2, 0)","v":798.49774086422065},null,null,null,1585.6524999999999,4377.0689000000002,211.15110000000001,null,{"$f":"MMULT(               MMULT(AX622:AZ622-$B$2:$D$2, TRANSPOSE($A$16:$C$18)),     TRANSPOSE($A$12:$C$14))","v":-282.58126217104723},-6254.1971015856634,8656.221666346235,null,-361.25444464418052,-16.32243680113173," ",516.32243680113174,138.74555535581948]
[null,null,null,null,null,null,null,null,null,null,null,null,null,null,null,null,null,null,null,null,597.14949999999999,5.9261999999999997,null,null,null,"''",null,17.439503999999999,-24.175308999999999,null,-24.175308999999999,-98.407440000000008,null,{"$f":"camera!$B$5*COS(RADIANS(AE623))*COS(RADIANS(AF623))","v":-66.694127246661054},{"$f":"camera!$B$5*COS(RADIANS(AE623))*SIN(RADIANS(AF623))","v":-451.2462775740135},{"$f":"camera!$B$5*SIN(RADIANS(AE623))","v":-204.76496371792359},null,{"$f":"TRANSPOSE(MMULT(camera!$A$12:$C$14,MMULT(camera!$A$16:$C$18,TRANSPOSE(AH623:AJ623))))","v":280.72341938441105},27.111631472900903,-412.86719565497287,null,{"$f":"camera!$B$5*AM623/AN623","v":-32.833356292561568},{"$f":"camera!$B$5*AL623/AN623","v":-339.96818146216629},null,{"$f":"IF( AND( (camera!$B$3) > (AQ623+camera!$B$3/2), 0 < (AQ623+camera!$B$3/2), AN623 >= 0 ), AQ623+camera!$B$3/2, 0)*-1+camera!$B$3","v":1000},{"$f":"IF( AND( (camera!$B$4) > (AP623+camera!$B$4/2), 0 < (AP623+camera!$B$4/2), AN623 >= 0 ), AP623+camera!$B$4/2, 0)","v":0},null,null,null,1573.403,4468.5,211.15110000000001,null,{"$f":"MMULT(               MMULT(AX623:AZ623-$B$2:$D$2, TRANSPOSE($A$16:$C$18)),     TRANSPOSE($A$12:$C$14))","v":-298.21230061117785},-6234.0254692006538,8744.8696904734934,null,-356.43901452253147,-17.050700077100352," ",517.05070007710037,143.56098547746853]
[null,null,null,null,null,null,null,null,null,null,null,null,null,null,null,null,null,null,null,null,819.64210000000003,499.14210000000003,null,null,null,"''",null,0.54999699999999996,62.931783000000003,null,62.931783000000003,8.2499549999999999,null,{"$f":"camera!$B$5*COS(RADIANS(AE624))*COS(RADIANS(AF624))","v":225.17096220328011},{"$f":"camera!$B$5*COS(RADIANS(AE624))*SIN(RADIANS(AF624))","v":32.648055158634456},{"$f":"camera!$B$5*SIN(RADIANS(AE624))","v":445.23268329583328},null,{"$f":"TRANSPOSE(MMULT(camera!$A$12:$C$14,MMULT(camera!$A$16:$C$18,TRANSPOSE(AH624:AJ624))))","v":-447.52413587708867},-221.46865321450719,-25.957339055023688,null,{"$f":"camera!$B$5*AM624/AN624","v":4266.0122585185591},{"$f":"camera!$B$5*AL624/AN624","v":8620.3777461248756},null,{"$f":"IF( AND( (camera!$B$3) > (AQ624+camera!$B$3/2), 0 < (AQ624+camera!$B$3/2), AN624 >= 0 ), AQ624+camera!$B$3/2, 0)*-1+camera!$B$3","v":1000},{"$f":"IF( AND( (camera!$B$4) > (AP624+camera!$B$4/2), 0 < (AP624+camera!$B$4/2), AN624 >= 0 ), AP624+camera!$B$4/2, 0)","v":0},null,null,null,1638.4402,4468.5,298.43340000000001,null,{"$f":"MMULT(               MMULT(AX624:AZ624-$B$2:$D$2, TRANSPOSE($A$16:$C$18)),     TRANSPOSE($A$12:$C$14))","v":-385.15288768651749},-6298.8151830193865,8735.2955283998708,null,-360.53818457205659,-22.045784623675445," ",522.04578462367544,139.46181542794341]
[null,null,null,null,null,null,null,null,null,null,null,null,null,null,null,null,null,null,null,null,819.64210000000003,89.142099999999999,null,null,null,"''",null,3.8242370000000001,-36.200249999999997,null,-36.200249999999997,57.363555000000005,null,{"$f":"camera!$B$5*COS(RADIANS(AE625))*COS(RADIANS(AF625))","v":217.59879506301021},{"$f":"camera!$B$5*COS(RADIANS(AE625))*SIN(RADIANS(AF625))","v":339.7733964862029},{"$f":"camera!$B$5*SIN(RADIANS(AE625))","v":-295.30459432144909},null,{"$f":"TRANSPOSE(MMULT(camera!$A$12:$C$14,MMULT(camera!$A$16:$C$18,TRANSPOSE(AH625:AJ625))))","v":228.74850458857392},-187.15756321627353,403.29414597714862,null,{"$f":"camera!$B$5*AM625/AN625","v":-232.03605244852503},{"$f":"camera!$B$5*AL625/AN625","v":283.60008057435977},null,{"$f":"IF( AND( (camera!$B$3) > (AQ625+camera!$B$3/2), 0 < (AQ625+camera!$B$3/2), AN625 >= 0 ), AQ625+camera!$B$3/2, 0)*-1+camera!$B$3","v":216.39991942564029},{"$f":"IF( AND( (camera!$B$4) > (AP625+camera!$B$4/2), 0 < (AP625+camera!$B$4/2), AN625 >= 0 ), AP625+camera!$B$4/2, 0)","v":267.96394755147497},null,null,null,1648.4358999999999,4543.1082999999999,298.43340000000001,null,{"$f":"MMULT(               MMULT(AX625:AZ625-$B$2:$D$2, TRANSPOSE($A$16:$C$18)),     TRANSPOSE($A$12:$C$14))","v":-398.21046234963796},-6302.2703045614617,8809.3487141951264,null,-357.70353229440036,-22.601583571551284," ",522.60158357155126,142.29646770559964]
[null,null,null,null,null,null,null,null,null,null,null,null,null,null,null,null,null,null,null,null,822.31979999999999,503.53550000000001,null,null,null,"''",null,22.280564999999999,-7.78329,null,-7.78329,-25.791525000000036,null,{"$f":"camera!$B$5*COS(RADIANS(AE626))*COS(RADIANS(AF626))","v":446.0441254484337},{"$f":"camera!$B$5*COS(RADIANS(AE626))*SIN(RADIANS(AF626))","v":-215.54476511525246},{"$f":"camera!$B$5*SIN(RADIANS(AE626))","v":-67.713310245125527},null,{"$f":"TRANSPOSE(MMULT(camera!$A$12:$C$14,MMULT(camera!$A$16:$C$18,TRANSPOSE(AH626:AJ626))))","v":97.220493877235683},-463.13275698568839,-161.41940706464536,null,{"$f":"camera!$B$5*AM626/AN626","v":1434.5634313977275},{"$f":"camera!$B$5*AL626/AN626","v":-301.1425194936466},null,{"$f":"IF( AND( (camera!$B$3) > (AQ626+camera!$B$3/2), 0 < (AQ626+camera!$B$3/2), AN626 >= 0 ), AQ626+camera!$B$3/2, 0)*-1+camera!$B$3","v":1000},{"$f":"IF( AND( (camera!$B$4) > (AP626+camera!$B$4/2), 0 < (AP626+camera!$B$4/2), AN626 >= 0 ), AP626+camera!$B$4/2, 0)","v":0},null,null,null,1585.6524999999999,4559.9310999999998,211.15110000000001,null,{"$f":"MMULT(               MMULT(AX626:AZ626-$B$2:$D$2, TRANSPOSE($A$16:$C$18)),     TRANSPOSE($A$12:$C$14))","v":-314.21411759645548},-6238.2596107241925,8835.6205042229485,null,-353.01762947733221,-17.781100797973281," ",517.78110079797329,146.98237052266779]
[null,null,null,null,null,null,null,null,null,null,null,null,null,null,null,null,null,null,null,null,822.31979999999999,93.535499999999999,null,null,null,"''",null,14.214929,-10.273702,null,-10.273702,-146.77606500000002,null,{"$f":"camera!$B$5*COS(RADIANS(AE627))*COS(RADIANS(AF627))","v":-411.56166351280467},{"$f":"camera!$B$5*COS(RADIANS(AE627))*SIN(RADIANS(AF627))","v":-269.56402290876701},{"$f":"camera!$B$5*SIN(RADIANS(AE627))","v":-89.175303082269664},null,{"$f":"TRANSPOSE(MMULT(camera!$A$12:$C$14,MMULT(camera!$A$16:$C$18,TRANSPOSE(AH627:AJ627))))","v":140.68046128746616},386.50149449461469,-284.2984392594779,null,{"$f":"camera!$B$5*AM627/AN627","v":-679.74607159530785},{"$f":"camera!$B$5*AL627/AN627","v":-247.41687230837687},null,{"$f":"IF( AND( (camera!$B$3) > (AQ627+camera!$B$3/2), 0 < (AQ627+camera!$B$3/2), AN627 >= 0 ), AQ627+camera!$B$3/2, 0)*-1+camera!$B$3","v":1000},{"$f":"IF( AND( (camera!$B$4) > (AP627+camera!$B$4/2), 0 < (AP627+camera!$B$4/2), AN627 >= 0 ), AP627+camera!$B$4/2, 0)","v":0},null,null,null,1620.7597000000001,4645.2375000000002,211.15110000000001,null,{"$f":"MMULT(               MMULT(AX627:AZ627-$B$2:$D$2, TRANSPOSE($A$16:$C$18)),     TRANSPOSE($A$12:$C$14))","v":-329.50237708566215},-6265.7982745759109,8922.3245323176852,null,-351.13037257726216,-18.465052234547549," ",518.46505223454756,148.86962742273784]
[null,null,null,null,null,null,null,null,null,null,null,null,null,null,null,null,null,null,null,null,823.17769999999996,495.60660000000001,null,null,null,"''",null,14.273073999999999,46.088304999999998,null,46.088304999999998,-145.90389000000002,null,{"$f":"camera!$B$5*COS(RADIANS(AE628))*COS(RADIANS(AF628))","v":-287.16336181006147},{"$f":"camera!$B$5*COS(RADIANS(AE628))*SIN(RADIANS(AF628))","v":-194.39578016960414},{"$f":"camera!$B$5*SIN(RADIANS(AE628))","v":360.20478104294324},null,{"$f":"TRANSPOSE(MMULT(camera!$A$12:$C$14,MMULT(camera!$A$16:$C$18,TRANSPOSE(AH628:AJ628))))","v":-316.75838614905359},269.12790991369252,-277.91058437874295,null,{"$f":"camera!$B$5*AM628/AN628","v":-484.19874060449382},{"$f":"camera!$B$5*AL628/AN628","v":569.89262725842775},null,{"$f":"IF( AND( (camera!$B$3) > (AQ628+camera!$B$3/2), 0 < (AQ628+camera!$B$3/2), AN628 >= 0 ), AQ628+camera!$B$3/2, 0)*-1+camera!$B$3","v":1000},{"$f":"IF( AND( (camera!$B$4) > (AP628+camera!$B$4/2), 0 < (AP628+camera!$B$4/2), AN628 >= 0 ), AP628+camera!$B$4/2, 0)","v":0},null,null,null,1677.0835999999999,4612.7188999999998,298.43340000000001,null,{"$f":"MMULT(               MMULT(AX628:AZ628-$B$2:$D$2, TRANSPOSE($A$16:$C$18)),     TRANSPOSE($A$12:$C$14))","v":-410.68578541257034},-6324.7420278678746,8880.0997870757928,null,-356.11886012097426,-23.12393977882363," ",523.12393977882357,143.88113987902574]
[null,null,null,null,null,null,null,null,null,null,null,null,null,null,null,null,null,null,null,null,823.17769999999996,85.6066,null,null,null,"''",null,16.606242000000002,-35.255325999999997,null,-35.255325999999997,-110.90636999999998,null,{"$f":"camera!$B$5*COS(RADIANS(AE629))*COS(RADIANS(AF629))","v":-145.69637281084599},{"$f":"camera!$B$5*COS(RADIANS(AE629))*SIN(RADIANS(AF629))","v":-381.41384024678177},{"$f":"camera!$B$5*SIN(RADIANS(AE629))","v":-288.61054973435284},null,{"$f":"TRANSPOSE(MMULT(camera!$A$12:$C$14,MMULT(camera!$A$16:$C$18,TRANSPOSE(AH629:AJ629))))","v":352.41072562612055},111.89954758441823,-336.57862634765382,null,{"$f":"camera!$B$5*AM629/AN629","v":-166.23091727285828},{"$f":"camera!$B$5*AL629/AN629","v":-523.51916913184152},null,{"$f":"IF( AND( (camera!$B$3) > (AQ629+camera!$B$3/2), 0 < (AQ629+camera!$B$3/2), AN629 >= 0 ), AQ629+camera!$B$3/2, 0)*-1+camera!$B$3","v":1000},{"$f":"IF( AND( (camera!$B$4) > (AP629+camera!$B$4/2), 0 < (AP629+camera!$B$4/2), AN629 >= 0 ), AP629+camera!$B$4/2, 0)","v":0},null,null,null,1723.0442,4672.3338000000003,298.43340000000001,null,{"$f":"MMULT(               MMULT(AX629:AZ629-$B$2:$D$2, TRANSPOSE($A$16:$C$18)),     TRANSPOSE($A$12:$C$14))","v":-421.6939993573626},-6365.3319530206627,8942.5304706873558,null,-355.90216739465023,-23.578001816131898," ",523.57800181613197,144.09783260534977]
[null,null,null,null,null,null,null,null,null,null,null,null,null,null,null,null,null,null,null,null,825.85530000000006,507.0711,null,null,null,"''",null,22.250544000000001,57.043587000000002,null,57.043587000000002,-26.241839999999968,null,{"$f":"camera!$B$5*COS(RADIANS(AE630))*COS(RADIANS(AF630))","v":243.96690675338786},{"$f":"camera!$B$5*COS(RADIANS(AE630))*SIN(RADIANS(AF630))","v":-120.26797187164622},{"$f":"camera!$B$5*SIN(RADIANS(AE630))","v":419.5423260543144},null,{"$f":"TRANSPOSE(MMULT(camera!$A$12:$C$14,MMULT(camera!$A$16:$C$18,TRANSPOSE(AH630:AJ630))))","v":-396.05599390063946},-253.52058343479604,-169.90280595168883,null,{"$f":"camera!$B$5*AM630/AN630","v":746.07532822878625},{"$f":"camera!$B$5*AL630/AN630","v":1165.5369423776801},null,{"$f":"IF( AND( (camera!$B$3) > (AQ630+camera!$B$3/2), 0 < (AQ630+camera!$B$3/2), AN630 >= 0 ), AQ630+camera!$B$3/2, 0)*-1+camera!$B$3","v":1000},{"$f":"IF( AND( (camera!$B$4) > (AP630+camera!$B$4/2), 0 < (AP630+camera!$B$4/2), AN630 >= 0 ), AP630+camera!$B$4/2, 0)","v":0},null,null,null,1677.0835999999999,4718.2943999999998,211.15110000000001,null,{"$f":"MMULT(               MMULT(AX630:AZ630-$B$2:$D$2, TRANSPOSE($A$16:$C$18)),     TRANSPOSE($A$12:$C$14))","v":-342.99273027917138},-6315.5405167494191,8998.8321271242548,null,-350.9088972619644,-19.057624669168103," ",519.05762466916804,149.0911027380356]
[null,null,null,null,null,null,null,null,null,null,null,null,null,null,null,null,null,null,null,null,825.85530000000006,97.071100000000001,null,null,null,"''",null,22.677593999999999,-27.043617000000001,null,-27.043617000000001,-19.836090000000013,null,{"$f":"camera!$B$5*COS(RADIANS(AE631))*COS(RADIANS(AF631))","v":418.90764176489193},{"$f":"camera!$B$5*COS(RADIANS(AE631))*SIN(RADIANS(AF631))","v":-151.11416540908809},{"$f":"camera!$B$5*SIN(RADIANS(AE631))","v":-227.33432799225849},null,{"$f":"TRANSPOSE(MMULT(camera!$A$12:$C$14,MMULT(camera!$A$16:$C$18,TRANSPOSE(AH631:AJ631))))","v":243.68152353900774},-430.48403904222317,-72.820376376408021,null,{"$f":"camera!$B$5*AM631/AN631","v":2955.7938345241046},{"$f":"camera!$B$5*AL631/AN631","v":-1673.1685255196953},null,{"$f":"IF( AND( (camera!$B$3) > (AQ631+camera!$B$3/2), 0 < (AQ631+camera!$B$3/2), AN631 >= 0 ), AQ631+camera!$B$3/2, 0)*-1+camera!$B$3","v":1000},{"$f":"IF( AND( (camera!$B$4) > (AP631+camera!$B$4/2), 0 < (AP631+camera!$B$4/2), AN631 >= 0 ), AP631+camera!$B$4/2, 0)","v":0},null,null,null,1750.1405,4774.6183000000001,211.15110000000001,null,{"$f":"MMULT(               MMULT(AX631:AZ631-$B$2:$D$2, TRANSPOSE($A$16:$C$18)),     TRANSPOSE($A$12:$C$14))","v":-353.84172992606932},-6383.4104618494921,9060.3598615827468,null,-352.27135342140701,-19.526913683992294," ",519.52691368399223,147.72864657859299]
[null,null,null,null,null,null,null,null,null,null,null,null,null,null,null,null,null,null,null,null,826.71320000000003,492.0711,null,null,null,"''",null,13.824090999999999,-34.450775999999998,null,-34.450775999999998,-152.63863500000002,null,{"$f":"camera!$B$5*COS(RADIANS(AE632))*COS(RADIANS(AF632))","v":-366.1796924433076},{"$f":"camera!$B$5*COS(RADIANS(AE632))*SIN(RADIANS(AF632))","v":-189.49637177819031},{"$f":"camera!$B$5*SIN(RADIANS(AE632))","v":-282.84900198697272},null,{"$f":"TRANSPOSE(MMULT(camera!$A$12:$C$14,MMULT(camera!$A$16:$C$18,TRANSPOSE(AH632:AJ632))))","v":316.87429668436033},348.27057113057452,-168.22095406094746,null,{"$f":"camera!$B$5*AM632/AN632","v":-1035.1581141443116},{"$f":"camera!$B$5*AL632/AN632","v":-941.83955397600118},null,{"$f":"IF( AND( (camera!$B$3) > (AQ632+camera!$B$3/2), 0 < (AQ632+camera!$B$3/2), AN632 >= 0 ), AQ632+camera!$B$3/2, 0)*-1+camera!$B$3","v":1000},{"$f":"IF( AND( (camera!$B$4) > (AP632+camera!$B$4/2), 0 < (AP632+camera!$B$4/2), AN632 >= 0 ), AP632+camera!$B$4/2, 0)","v":0},null,null,null,1782.6591000000001,4718.2943999999998,298.43340000000001,null,{"$f":"MMULT(               MMULT(AX632:AZ632-$B$2:$D$2, TRANSPOSE($A$16:$C$18)),     TRANSPOSE($A$12:$C$14))","v":-430.54684165741037},-6420.7142700978038,8992.7374342755593,null,-356.99442561424274,-23.938586264978309," ",523.93858626497831,143.00557438575726]
[null,null,null,null,null,null,null,null,null,null,null,null,null,null,null,null,null,null,null,null,826.71320000000003,82.071100000000001,null,null,null,"''",null,18.761035,20.546308,null,20.546308,-78.584474999999998,null,{"$f":"camera!$B$5*COS(RADIANS(AE633))*COS(RADIANS(AF633))","v":92.666420277503804},{"$f":"camera!$B$5*COS(RADIANS(AE633))*SIN(RADIANS(AF633))","v":-458.93239994790412},{"$f":"camera!$B$5*SIN(RADIANS(AE633))","v":175.48215530648702},null,{"$f":"TRANSPOSE(MMULT(camera!$A$12:$C$14,MMULT(camera!$A$16:$C$18,TRANSPOSE(AH633:AJ633))))","v":-94.829121204242398},-132.3123907600156,-472.75878524148027,null,{"$f":"camera!$B$5*AM633/AN633","v":139.93646960196818},{"$f":"camera!$B$5*AL633/AN633","v":100.29334637938528},null,{"$f":"IF( AND( (camera!$B$3) > (AQ633+camera!$B$3/2), 0 < (AQ633+camera!$B$3/2), AN633 >= 0 ), AQ633+camera!$B$3/2, 0)*-1+camera!$B$3","v":1000},{"$f":"IF( AND( (camera!$B$4) > (AP633+camera!$B$4/2), 0 < (AP633+camera!$B$4/2), AN633 >= 0 ), AP633+camera!$B$4/2, 0)","v":0},null,null,null,1852.2697000000001,4746.9421000000002,298.43340000000001,null,{"$f":"MMULT(               MMULT(AX633:AZ633-$B$2:$D$2, TRANSPOSE($A$16:$C$18)),     TRANSPOSE($A$12:$C$14))","v":-436.55604978611177},-6487.5631691772769,9026.817347086162,null,-359.3494207164527,-24.181061441717947," ",524.18106144171793,140.6505792835473]
[null,null,null,null,null,null,null,null,null,null,null,null,null,null,null,null,null,null,null,null,829.39089999999999,510.60660000000001,null,null,null,"''",null,5.5130699999999999,5.9481390000000003,null,5.9481390000000003,82.69605,null,{"$f":"camera!$B$5*COS(RADIANS(AE634))*COS(RADIANS(AF634))","v":63.22425943787222},{"$f":"camera!$B$5*COS(RADIANS(AE634))*SIN(RADIANS(AF634))","v":493.27273420079172},{"$f":"camera!$B$5*SIN(RADIANS(AE634))","v":51.814116923939949},null,{"$f":"TRANSPOSE(MMULT(camera!$A$12:$C$14,MMULT(camera!$A$16:$C$18,TRANSPOSE(AH634:AJ634))))","v":-137.31377234774749},-19.992120516347157,480.35949354716712,null,{"$f":"camera!$B$5*AM634/AN634","v":-20.809540338962933},{"$f":"camera!$B$5*AL634/AN634","v":-142.92813423314229},null,{"$f":"IF( AND( (camera!$B$3) > (AQ634+camera!$B$3/2), 0 < (AQ634+camera!$B$3/2), AN634 >= 0 ), AQ634+camera!$B$3/2, 0)*-1+camera!$B$3","v":642.92813423314226},{"$f":"IF( AND( (camera!$B$4) > (AP634+camera!$B$4/2), 0 < (AP634+camera!$B$4/2), AN634 >= 0 ), AP634+camera!$B$4/2, 0)","v":479.19045966103704},null,null,null,1835.4468999999999,4809.7254999999996,211.15110000000001,null,{"$f":"MMULT(               MMULT(AX634:AZ634-$B$2:$D$2, TRANSPOSE($A$16:$C$18)),     TRANSPOSE($A$12:$C$14))","v":-361.20589720485009},-6465.3324511509954,9102.1241295875207,null,-355.15514615619639,-19.841846368075117," ",519.84184636807504,144.84485384380361]
[null,null,null,null,null,null,null,null,null,null,null,null,null,null,null,null,null,null,null,null,829.39089999999999,100.6066,null,null,null,"''",null,7.9476500000000003,-22.880119000000001,null,-22.880119000000001,119.21475000000001,null,{"$f":"camera!$B$5*COS(RADIANS(AE635))*COS(RADIANS(AF635))","v":-224.84103412944941},{"$f":"camera!$B$5*COS(RADIANS(AE635))*SIN(RADIANS(AF635))","v":402.06257752476643},{"$f":"camera!$B$5*SIN(RADIANS(AE635))","v":-194.40214280131005},null,{"$f":"TRANSPOSE(MMULT(camera!$A$12:$C$14,MMULT(camera!$A$16:$C$18,TRANSPOSE(AH635:AJ635))))","v":125.2998221711258},259.02750868843162,408.90671834362024,null,{"$f":"camera!$B$5*AM635/AN635","v":316.7317838866623},{"$f":"camera!$B$5*AL635/AN635","v":153.21321043425786},null,{"$f":"IF( AND( (camera!$B$3) > (AQ635+camera!$B$3/2), 0 < (AQ635+camera!$B$3/2), AN635 >= 0 ), AQ635+camera!$B$3/2, 0)*-1+camera!$B$3","v":346.78678956574208},{"$f":"IF( AND( (camera!$B$4) > (AP635+camera!$B$4/2), 0 < (AP635+camera!$B$4/2), AN635 >= 0 ), AP635+camera!$B$4/2, 0)","v":816.73178388666224},null,null,null,1926.8779999999999,4821.9750000000004,211.15110000000001,null,{"$f":"MMULT(               MMULT(AX635:AZ635-$B$2:$D$2, TRANSPOSE($A$16:$C$18)),     TRANSPOSE($A$12:$C$14))","v":-364.70866440907457},-6555.3480139409048,9121.9893095511907,null,-359.31570359752118,-19.990632088726848," ",519.9906320887269,140.68429640247882]
[null,null,null,null,null,null,null,null,null,null,null,null,null,null,null,null,null,null,null,null,830.24869999999999,488.53550000000001,null,null,null,"''",null,10.464727,36.707211999999998,null,36.707211999999998,156.97090499999999,null,{"$f":"camera!$B$5*COS(RADIANS(AE636))*COS(RADIANS(AF636))","v":-368.90497843577867},{"$f":"camera!$B$5*COS(RADIANS(AE636))*SIN(RADIANS(AF636))","v":156.81200499442977},{"$f":"camera!$B$5*SIN(RADIANS(AE636))","v":298.86303213165161},null,{"$f":"TRANSPOSE(MMULT(camera!$A$12:$C$14,MMULT(camera!$A$16:$C$18,TRANSPOSE(AH636:AJ636))))","v":-315.86596246232062},381.16825038441141,70.281282406046557,null,{"$f":"camera!$B$5*AM636/AN636","v":2711.7337457093563},{"$f":"camera!$B$5*AL636/AN636","v":-2247.1556554519098},null,{"$f":"IF( AND( (camera!$B$3) > (AQ636+camera!$B$3/2), 0 < (AQ636+camera!$B$3/2), AN636 >= 0 ), AQ636+camera!$B$3/2, 0)*-1+camera!$B$3","v":1000},{"$f":"IF( AND( (camera!$B$4) > (AP636+camera!$B$4/2), 0 < (AP636+camera!$B$4/2), AN636 >= 0 ), AP636+camera!$B$4/2, 0)","v":0},null,null,null,1926.8779999999999,4756.9377000000004,298.43340000000001,null,{"$f":"MMULT(               MMULT(AX636:AZ636-$B$2:$D$2, TRANSPOSE($A$16:$C$18)),     TRANSPOSE($A$12:$C$14))","v":-439.41431711488758},-6561.0163881287071,9043.0273866234566,null,-362.76658842335439,-24.295752867279489," ",524.29575286727948,137.23341157664561]
[null,null,null,null,null,null,null,null,null,null,null,null,null,null,null,null,null,null,null,null,830.24869999999999,78.535499999999999,null,null,null,"''",null,16.568384000000002,42.437041000000001,null,42.437041000000001,-111.47423999999998,null,{"$f":"camera!$B$5*COS(RADIANS(AE637))*COS(RADIANS(AF637))","v":-135.08810665744375},{"$f":"camera!$B$5*COS(RADIANS(AE637))*SIN(RADIANS(AF637))","v":-343.3938116193392},{"$f":"camera!$B$5*SIN(RADIANS(AE637))","v":337.38982435937351},null,{"$f":"TRANSPOSE(MMULT(camera!$A$12:$C$14,MMULT(camera!$A$16:$C$18,TRANSPOSE(AH637:AJ637))))","v":-270.81683196326532},104.64531292076478,-407.07198627404432,null,{"$f":"camera!$B$5*AM637/AN637","v":-128.5341615847727},{"$f":"camera!$B$5*AL637/AN637","v":332.63997658260513},null,{"$f":"IF( AND( (camera!$B$3) > (AQ637+camera!$B$3/2), 0 < (AQ637+camera!$B$3/2), AN637 >= 0 ), AQ637+camera!$B$3/2, 0)*-1+camera!$B$3","v":1000},{"$f":"IF( AND( (camera!$B$4) > (AP637+camera!$B$4/2), 0 < (AP637+camera!$B$4/2), AN637 >= 0 ), AP637+camera!$B$4/2, 0)","v":0},null,null,null,2001.4864,4746.9421000000002,298.43340000000001,null,{"$f":"MMULT(               MMULT(AX637:AZ637-$B$2:$D$2, TRANSPOSE($A$16:$C$18)),     TRANSPOSE($A$12:$C$14))","v":-438.81436036767127},-6636.2120545840235,9039.6248628304111,null,-367.06235907372314,-24.271712987339246," ",524.27171298733924,132.93764092627686]
[null,null,null,null,null,null,null,null,null,null,null,null,null,null,null,null,null,null,null,null,832.92639999999994,514.14210000000003,null,null,null,"''",null,22.778216,12.172888,null,12.172888,-18.326759999999979,null,{"$f":"camera!$B$5*COS(RADIANS(AE638))*COS(RADIANS(AF638))","v":463.96746725178997},{"$f":"camera!$B$5*COS(RADIANS(AE638))*SIN(RADIANS(AF638))","v":-153.68300344252179},{"$f":"camera!$B$5*SIN(RADIANS(AE638))","v":105.43113290126891},null,{"$f":"TRANSPOSE(MMULT(camera!$A$12:$C$14,MMULT(camera!$A$16:$C$18,TRANSPOSE(AH638:AJ638))))","v":-84.266060727356361},-475.59628727601267,-129.25711794236301,null,{"$f":"camera!$B$5*AM638/AN638","v":1839.7295825831643},{"$f":"camera!$B$5*AL638/AN638","v":325.96294141778486},null,{"$f":"IF( AND( (camera!$B$3) > (AQ638+camera!$B$3/2), 0 < (AQ638+camera!$B$3/2), AN638 >= 0 ), AQ638+camera!$B$3/2, 0)*-1+camera!$B$3","v":1000},{"$f":"IF( AND( (camera!$B$4) > (AP638+camera!$B$4/2), 0 < (AP638+camera!$B$4/2), AN638 >= 0 ), AP638+camera!$B$4/2, 0)","v":0},null,null,null,2018.3090999999999,4809.7254999999996,211.15110000000001,null,{"$f":"MMULT(               MMULT(AX638:AZ638-$B$2:$D$2, TRANSPOSE($A$16:$C$18)),     TRANSPOSE($A$12:$C$14))","v":-363.97341344952815},-6647.4988052723884,9117.8194941514594,null,-364.53336291294011,-19.959454872022611," ",519.95945487202266,135.46663708705989]
[null,null,null,null,null,null,null,null,null,null,null,null,null,null,null,null,null,null,null,null,832.92639999999994,104.1421,null,null,null,"''",null,22.932472000000001,-32.539628,null,-32.539628,-16.012920000000008,null,{"$f":"camera!$B$5*COS(RADIANS(AE639))*COS(RADIANS(AF639))","v":405.15502868454632},{"$f":"camera!$B$5*COS(RADIANS(AE639))*SIN(RADIANS(AF639))","v":-116.27521441689962},{"$f":"camera!$B$5*SIN(RADIANS(AE639))","v":-268.94140113401738},null,{"$f":"TRANSPOSE(MMULT(camera!$A$12:$C$14,MMULT(camera!$A$16:$C$18,TRANSPOSE(AH639:AJ639))))","v":278.83793045107575},-413.74734415640222,-32.596683041142164,null,{"$f":"camera!$B$5*AM639/AN639","v":6346.4638968662503},{"$f":"camera!$B$5*AL639/AN639","v":-4277.0905570229061},null,{"$f":"IF( AND( (camera!$B$3) > (AQ639+camera!$B$3/2), 0 < (AQ639+camera!$B$3/2), AN639 >= 0 ), AQ639+camera!$B$3/2, 0)*-1+camera!$B$3","v":1000},{"$f":"IF( AND( (camera!$B$4) > (AP639+camera!$B$4/2), 0 < (AP639+camera!$B$4/2), AN639 >= 0 ), AP639+camera!$B$4/2, 0)","v":0},null,null,null,2103.6154999999999,4774.6183000000001,211.15110000000001,null,{"$f":"MMULT(               MMULT(AX639:AZ639-$B$2:$D$2, TRANSPOSE($A$16:$C$18)),     TRANSPOSE($A$12:$C$14))","v":-359.19137465629478},-6735.5403827574719,9090.6992044826893,null,-370.46327412506008,-19.755981722460628," ",519.75598172246055,129.53672587493992]
[null,null,null,null,null,null,null,null,null,null,null,null,null,null,null,null,null,null,null,null,838.78430000000003,515,null,null,null,"''",null,3.4844819999999999,59.940330000000003,null,59.940330000000003,52.267229999999998,null,{"$f":"camera!$B$5*COS(RADIANS(AE640))*COS(RADIANS(AF640))","v":153.27076171799473},{"$f":"camera!$B$5*COS(RADIANS(AE640))*SIN(RADIANS(AF640))","v":198.07495285092912},{"$f":"camera!$B$5*SIN(RADIANS(AE640))","v":432.75210762685822},null,{"$f":"TRANSPOSE(MMULT(camera!$A$12:$C$14,MMULT(camera!$A$16:$C$18,TRANSPOSE(AH640:AJ640))))","v":-462.76176713759099},-135.42415056051954,132.33233286183588,null,{"$f":"camera!$B$5*AM640/AN640","v":-511.68201917029506},{"$f":"camera!$B$5*AL640/AN640","v":-1748.4833718632706},null,{"$f":"IF( AND( (camera!$B$3) > (AQ640+camera!$B$3/2), 0 < (AQ640+camera!$B$3/2), AN640 >= 0 ), AQ640+camera!$B$3/2, 0)*-1+camera!$B$3","v":1000},{"$f":"IF( AND( (camera!$B$4) > (AP640+camera!$B$4/2), 0 < (AP640+camera!$B$4/2), AN640 >= 0 ), AP640+camera!$B$4/2, 0)","v":0},null,null,null,2071.0969,4718.2943999999998,298.43340000000001,null,{"$f":"MMULT(               MMULT(AX640:AZ640-$B$2:$D$2, TRANSPOSE($A$16:$C$18)),     TRANSPOSE($A$12:$C$14))","v":-434.91218505303345},-6708.0544771870518,9017.4945269115451,null,-371.94668969122915,-24.114912615421854," ",524.11491261542187,128.05331030877085]
[null,null,null,null,null,null,null,null,null,null,null,null,null,null,null,null,null,null,null,null,838.78430000000003,500,null,null,null,"''",null,4.422822,22.293873999999999,null,22.293873999999999,66.342330000000004,null,{"$f":"camera!$B$5*COS(RADIANS(AE641))*COS(RADIANS(AF641))","v":185.63813547063597},{"$f":"camera!$B$5*COS(RADIANS(AE641))*SIN(RADIANS(AF641))","v":423.74580201525833},{"$f":"camera!$B$5*SIN(RADIANS(AE641))","v":189.67861749135392},null,{"$f":"TRANSPOSE(MMULT(camera!$A$12:$C$14,MMULT(camera!$A$16:$C$18,TRANSPOSE(AH641:AJ641))))","v":-262.90918352556315},-147.99984620864285,398.71644904636162,null,{"$f":"camera!$B$5*AM641/AN641","v":-185.59536051575571},{"$f":"camera!$B$5*AL641/AN641","v":-329.69442840191527},null,{"$f":"IF( AND( (camera!$B$3) > (AQ641+camera!$B$3/2), 0 < (AQ641+camera!$B$3/2), AN641 >= 0 ), AQ641+camera!$B$3/2, 0)*-1+camera!$B$3","v":829.69442840191527},{"$f":"IF( AND( (camera!$B$4) > (AP641+camera!$B$4/2), 0 < (AP641+camera!$B$4/2), AN641 >= 0 ), AP641+camera!$B$4/2, 0)","v":314.40463948424429},null,null,null,2130.7118,4672.3338000000003,298.43340000000001,null,{"$f":"MMULT(               MMULT(AX641:AZ641-$B$2:$D$2, TRANSPOSE($A$16:$C$18)),     TRANSPOSE($A$12:$C$14))","v":-427.86381851861506},-6771.4482547244488,8977.521253926896,null,-377.13351287041064,-23.829730190360802," ",523.82973019036081,122.86648712958936]
[null,null,null,null,null,null,null,null,null,null,null,null,null,null,null,null,null,null,null,null,838.78430000000003,485,null,null,null,"''",null,16.766158999999998,82.037261999999998,null,82.037261999999998,-108.50761500000002,null,{"$f":"camera!$B$5*COS(RADIANS(AE642))*COS(RADIANS(AF642))","v":-21.986687089281524},{"$f":"camera!$B$5*COS(RADIANS(AE642))*SIN(RADIANS(AF642))","v":-65.68226881443718},{"$f":"camera!$B$5*SIN(RADIANS(AE642))","v":495.17918489595871},null,{"$f":"TRANSPOSE(MMULT(camera!$A$12:$C$14,MMULT(camera!$A$16:$C$18,TRANSPOSE(AH642:AJ642))))","v":-475.96133980007363},16.17843418307087,-152.31238059692623,null,{"$f":"camera!$B$5*AM642/AN642","v":-53.109386511018002},{"$f":"camera!$B$5*AL642/AN642","v":1562.4512529274948},null,{"$f":"IF( AND( (camera!$B$3) > (AQ642+camera!$B$3/2), 0 < (AQ642+camera!$B$3/2), AN642 >= 0 ), AQ642+camera!$B$3/2, 0)*-1+camera!$B$3","v":1000},{"$f":"IF( AND( (camera!$B$4) > (AP642+camera!$B$4/2), 0 < (AP642+camera!$B$4/2), AN642 >= 0 ), AP642+camera!$B$4/2, 0)","v":0},null,null,null,2176.6723999999999,4718.2943999999998,211.15110000000001,null,{"$f":"MMULT(               MMULT(AX642:AZ642-$B$2:$D$2, TRANSPOSE($A$16:$C$18)),     TRANSPOSE($A$12:$C$14))","v":-350.55372494979792},-6813.2282305354356,9041.7126587380062,null,-376.76646492139184,-19.3853608370876," ",519.38536083708755,123.23353507860816]
[null,null,null,null,null,null,null,null,null,null,null,null,null,null,null,null,null,null,null,null,838.78430000000003,105,null,null,null,"''",null,20.493015,62.994104999999998,null,{"$f":"AC643","v":62.994104999999998},{"$f":"IF(AB643*15/1>180, (AB643*15/1)-360, AB643*15/1)","v":-52.604775000000018},null,{"$f":"camera!$B$5*COS(RADIANS(AE643))*COS(RADIANS(AF643))","v":137.88423781281352},{"$f":"camera!$B$5*COS(RADIANS(AE643))*SIN(RADIANS(AF643))","v":-180.37624939755355},{"$f":"camera!$B$5*SIN(RADIANS(AE643))","v":445.47990483977054},null,{"$f":"TRANSPOSE(MMULT(camera!$A$12:$C$14,MMULT(camera!$A$16:$C$18,TRANSPOSE(AH643:AJ643))))","v":-409.59604694706485},-153.08037264982684,-242.48191238673439,null,{"$f":"camera!$B$5*AM643/AN643","v":315.65317829908679},{"$f":"camera!$B$5*AL643/AN643","v":844.59092827880738},null,{"$f":"IF( AND( (camera!$B$3) > (AQ643+camera!$B$3/2), 0 < (AQ643+camera!$B$3/2), AN643 >= 0 ), AQ643+camera!$B$3/2, 0)*-1+camera!$B$3","v":1000},{"$f":"IF( AND( (camera!$B$4) > (AP643+camera!$B$4/2), 0 < (AP643+camera!$B$4/2), AN643 >= 0 ), AP643+camera!$B$4/2, 0)","v":0},null,null,null,2232.9962999999998,4645.2375000000002,211.15110000000001,null,{"$f":"MMULT(               MMULT(AX643:AZ643-$B$2:$D$2, TRANSPOSE($A$16:$C$18)),     TRANSPOSE($A$12:$C$14))","v":-338.76823266481551},-6875.7051294736266,8974.8738106069413,null,-383.05302528864445,-18.873147400938539," ",518.87314740093848,116.94697471135555]
[null,null,null,null,null,null,null,null,null,null,null,null,null,null,null,null,null,null,null,null,838.78430000000003,90,null,null,null,"''",null,21.440705000000001,-65.366197999999997,null,-65.366197999999997,-38.38942499999996,null,{"$f":"camera!$B$5*COS(RADIANS(AE644))*COS(RADIANS(AF644))","v":163.35231863511794},{"$f":"camera!$B$5*COS(RADIANS(AE644))*SIN(RADIANS(AF644))","v":-129.42236981206582},{"$f":"camera!$B$5*SIN(RADIANS(AE644))","v":-454.49518170026812},null,{"$f":"TRANSPOSE(MMULT(camera!$A$12:$C$14,MMULT(camera!$A$16:$C$18,TRANSPOSE(AH644:AJ644))))","v":467.50657191879645},-174.01061651443064,-34.028084768363115,null,{"$f":"camera!$B$5*AM644/AN644","v":2556.8676241839694},{"$f":"camera!$B$5*AL644/AN644","v":-6869.422347763908},null,{"$f":"IF( AND( (camera!$B$3) > (AQ644+camera!$B$3/2), 0 < (AQ644+camera!$B$3/2), AN644 >= 0 ), AQ644+camera!$B$3/2, 0)*-1+camera!$B$3","v":1000},{"$f":"IF( AND( (camera!$B$4) > (AP644+camera!$B$4/2), 0 < (AP644+camera!$B$4/2), AN644 >= 0 ), AP644+camera!$B$4/2, 0)","v":0},null,null,null,2176.6723999999999,4612.7188999999998,298.43340000000001,null,{"$f":"MMULT(               MMULT(AX644:AZ644-$B$2:$D$2, TRANSPOSE($A$16:$C$18)),     TRANSPOSE($A$12:$C$14))","v":-418.24678008319711},-6822.4297416538911,8922.9803186895442,null,{"$f":"$B$5*BC644/BD644","v":-382.29546059650244},{"$f":"$B$5*BB644/BD644","v":-23.43649571921403}," ",{"$f":"IF( AND( ($B$3) > (BG644+$B$3/2), 0 < (BG644+$B$3/2), BD644 >= 0 ), BG644+$B$3/2, 0)*-1+$B$3","v":523.43649571921401},{"$f":"IF( AND( ($B$4) > (BF644+$B$4/2), 0 < (BF644+$B$4/2), BD644 >= 0 ), BF644+$B$4/2, 0)","v":117.70453940349756}]
[null,null,null,null,null,null,null,null,null,null,null,null,null,null,null,null,null,null,null,null,838.78430000000003,75,null,null,null,"''",null,2.8430629999999999,38.318643999999999,null,38.318643999999999,42.645944999999998,null,{"$f":"camera!$B$5*COS(RADIANS(AE645))*COS(RADIANS(AF645))","v":288.54853953015686},{"$f":"camera!$B$5*COS(RADIANS(AE645))*SIN(RADIANS(AF645))","v":265.76133470289574},{"$f":"camera!$B$5*SIN(RADIANS(AE645))","v":310.01718228502898},null,{"$f":"TRANSPOSE(MMULT(camera!$A$12:$C$14,MMULT(camera!$A$16:$C$18,TRANSPOSE(AH645:AJ645))))","v":-355.64770475354686},-264.28789870241889,231.66056354717318,null,{"$f":"camera!$B$5*AM645/AN645","v":-570.42056415571528},{"$f":"camera!$B$5*AL645/AN645","v":-767.60519638709695},null,{"$f":"IF( AND( (camera!$B$3) > (AQ645+camera!$B$3/2), 0 < (AQ645+camera!$B$3/2), AN645 >= 0 ), AQ645+camera!$B$3/2, 0)*-1+camera!$B$3","v":1000},{"$f":"IF( AND( (camera!$B$4) > (AP645+camera!$B$4/2), 0 < (AP645+camera!$B$4/2), AN645 >= 0 ), AP645+camera!$B$4/2, 0)","v":0},null,null,null,2205.3202000000001,4543.1082999999999,298.43340000000001,null,{"$f":"MMULT(               MMULT(AX645:AZ645-$B$2:$D$2, TRANSPOSE($A$16:$C$18)),     TRANSPOSE($A$12:$C$14))","v":-406.6385920924497},-6857.0354916719953,8857.1470131789138,null,-387.09053160510547,-22.955393620959175," ",522.95539362095917,112.90946839489453]
[null,null,null,null,null,null,null,null,null,null,null,null,null,null,null,null,null,null,null,null,841.98209999999995,561.57339999999999,null,null,null,"''",null,3.7808039999999998,-23.249722999999999,null,-23.249722999999999,56.712059999999994,null,{"$f":"camera!$B$5*COS(RADIANS(AE646))*COS(RADIANS(AF646))","v":252.13836801045142},{"$f":"camera!$B$5*COS(RADIANS(AE646))*SIN(RADIANS(AF646))","v":384.0201063115976},{"$f":"camera!$B$5*SIN(RADIANS(AE646))","v":-197.3697072132789},null,{"$f":"TRANSPOSE(MMULT(camera!$A$12:$C$14,MMULT(camera!$A$16:$C$18,TRANSPOSE(AH646:AJ646))))","v":124.12460849878522},-217.70934780189515,432.66120862020523,null,{"$f":"camera!$B$5*AM646/AN646","v":-251.59332921963292},{"$f":"camera!$B$5*AL646/AN646","v":143.44319068334039},null,{"$f":"IF( AND( (camera!$B$3) > (AQ646+camera!$B$3/2), 0 < (AQ646+camera!$B$3/2), AN646 >= 0 ), AQ646+camera!$B$3/2, 0)*-1+camera!$B$3","v":356.55680931665961},{"$f":"IF( AND( (camera!$B$4) > (AP646+camera!$B$4/2), 0 < (AP646+camera!$B$4/2), AN646 >= 0 ), AP646+camera!$B$4/2, 0)","v":248.40667078036708},null,null,null,2268.1035999999999,4559.9310999999998,211.15110000000001,null,{"$f":"MMULT(               MMULT(AX646:AZ646-$B$2:$D$2, TRANSPOSE($A$16:$C$18)),     TRANSPOSE($A$12:$C$14))","v":-324.54263002520338},-6918.1137782510732,8894.1964089838038,null,-388.91168241254832,-18.244629143639724," ",518.24462914363971,111.08831758745168]
[null,null,null,null,null,null,null,null,null,null,null,null,null,null,null,null,null,null,null,null,841.98209999999995,151.57339999999999,null,null,null,"''",null,7.8883780000000003,-48.102933999999998,null,-48.102933999999998,118.32567,null,{"$f":"camera!$B$5*COS(RADIANS(AE647))*COS(RADIANS(AF647))","v":-158.42843381952528},{"$f":"camera!$B$5*COS(RADIANS(AE647))*SIN(RADIANS(AF647))","v":293.91799001473169},{"$f":"camera!$B$5*SIN(RADIANS(AE647))","v":-372.17287179910414},null,{"$f":"TRANSPOSE(MMULT(camera!$A$12:$C$14,MMULT(camera!$A$16:$C$18,TRANSPOSE(AH647:AJ647))))","v":318.07234746481851},183.44220652462278,339.38022724312833,null,{"$f":"camera!$B$5*AM647/AN647","v":270.26059828937349},{"$f":"camera!$B$5*AL647/AN647","v":468.60765880293155},null,{"$f":"IF( AND( (camera!$B$3) > (AQ647+camera!$B$3/2), 0 < (AQ647+camera!$B$3/2), AN647 >= 0 ), AQ647+camera!$B$3/2, 0)*-1+camera!$B$3","v":31.39234119706839},{"$f":"IF( AND( (camera!$B$4) > (AP647+camera!$B$4/2), 0 < (AP647+camera!$B$4/2), AN647 >= 0 ), AP647+camera!$B$4/2, 0)","v":770.26059828937355},null,null,null,2335.0358000000001,4468.5,0,null,{"$f":"MMULT(               MMULT(AX647:AZ647-$B$2:$D$2, TRANSPOSE($A$16:$C$18)),     TRANSPOSE($A$12:$C$14))","v":-101.79594306607851},-6992.760026453424,8846.9078950157491,null,-395.2092702577512,-5.7531933345564283," ",505.75319333455644,104.7907297422488]
[null,null,null,null,null,null,null,null,null,null,null,null,null,null,null,null,null,null,null,null,842.10059999999999,445.14760000000001,null,null,null,"''",null,16.109874000000001,-36.802287999999997,null,-36.802287999999997,-118.35188999999997,null,{"$f":"camera!$B$5*COS(RADIANS(AE648))*COS(RADIANS(AF648))","v":-190.12214671428217},{"$f":"camera!$B$5*COS(RADIANS(AE648))*SIN(RADIANS(AF648))","v":-352.33034813703097},{"$f":"camera!$B$5*SIN(RADIANS(AE648))","v":-299.52778687526069},null,{"$f":"TRANSPOSE(MMULT(camera!$A$12:$C$14,MMULT(camera!$A$16:$C$18,TRANSPOSE(AH648:AJ648))))","v":358.80338692516165},158.69106136216496,-309.9633471473399,null,{"$f":"camera!$B$5*AM648/AN648","v":-255.98359099976386},{"$f":"camera!$B$5*AL648/AN648","v":-578.78357268255627},null,{"$f":"IF( AND( (camera!$B$3) > (AQ648+camera!$B$3/2), 0 < (AQ648+camera!$B$3/2), AN648 >= 0 ), AQ648+camera!$B$3/2, 0)*-1+camera!$B$3","v":1000},{"$f":"IF( AND( (camera!$B$4) > (AP648+camera!$B$4/2), 0 < (AP648+camera!$B$4/2), AN648 >= 0 ), AP648+camera!$B$4/2, 0)","v":0},null,null,null,2320.8912999999998,4468.5,109.2342,null,{"$f":"MMULT(               MMULT(AX648:AZ648-$B$2:$D$2, TRANSPOSE($A$16:$C$18)),     TRANSPOSE($A$12:$C$14))","v":-209.15656109155816},-6978.6693505462654,8826.7255294567658,null,-395.31473632304971,-11.847913498247777," ",511.84791349824775,104.68526367695029]
[null,null,null,null,null,null,null,null,null,null,null,null,null,null,null,null,null,null,null,null,842.10059999999999,35.147599999999997,null,null,null,"''",null,16.450399000000001,-18.456251000000002,null,-18.456251000000002,-113.24401499999999,null,{"$f":"camera!$B$5*COS(RADIANS(AE649))*COS(RADIANS(AF649))","v":-187.17471322243264},{"$f":"camera!$B$5*COS(RADIANS(AE649))*SIN(RADIANS(AF649))","v":-435.78645013359079},{"$f":"camera!$B$5*SIN(RADIANS(AE649))","v":-158.29022904166726},null,{"$f":"TRANSPOSE(MMULT(camera!$A$12:$C$14,MMULT(camera!$A$16:$C$18,TRANSPOSE(AH649:AJ649))))","v":234.10379080240426},148.48116518827194,-416.1114739060643,null,{"$f":"camera!$B$5*AM649/AN649","v":-178.4151297180897},{"$f":"camera!$B$5*AL649/AN649","v":-281.29936985978469},null,{"$f":"IF( AND( (camera!$B$3) > (AQ649+camera!$B$3/2), 0 < (AQ649+camera!$B$3/2), AN649 >= 0 ), AQ649+camera!$B$3/2, 0)*-1+camera!$B$3","v":1000},{"$f":"IF( AND( (camera!$B$4) > (AP649+camera!$B$4/2), 0 < (AP649+camera!$B$4/2), AN649 >= 0 ), AP649+camera!$B$4/2, 0)","v":0},null,null,null,2307.2370999999998,4366.5830999999998,109.2342,null,{"$f":"MMULT(               MMULT(AX649:AZ649-$B$2:$D$2, TRANSPOSE($A$16:$C$18)),     TRANSPOSE($A$12:$C$14))","v":-191.3195735489503},-6973.949752017621,8725.5669462896258,null,-399.62731332794112,-10.963160028833723," ",510.96316002883373,100.37268667205888]
[null,null,null,null,null,null,null,null,null,null,null,null,null,null,null,null,null,null,null,null,843.78430000000003,515,null,null,null,"''",null,18.345955,71.337813999999995,null,71.337813999999995,-84.810675000000003,null,{"$f":"camera!$B$5*COS(RADIANS(AE650))*COS(RADIANS(AF650))","v":14.470972507126113},{"$f":"camera!$B$5*COS(RADIANS(AE650))*SIN(RADIANS(AF650))","v":-159.33811887957913},{"$f":"camera!$B$5*SIN(RADIANS(AE650))","v":473.71083460969635},null,{"$f":"TRANSPOSE(MMULT(camera!$A$12:$C$14,MMULT(camera!$A$16:$C$18,TRANSPOSE(AH650:AJ650))))","v":-439.16962667744741},-28.303138186794818,-237.33725239155066,null,{"$f":"camera!$B$5*AM650/AN650","v":59.626413261288825},{"$f":"camera!$B$5*AL650/AN650","v":925.20163238622308},null,{"$f":"IF( AND( (camera!$B$3) > (AQ650+camera!$B$3/2), 0 < (AQ650+camera!$B$3/2), AN650 >= 0 ), AQ650+camera!$B$3/2, 0)*-1+camera!$B$3","v":1000},{"$f":"IF( AND( (camera!$B$4) > (AP650+camera!$B$4/2), 0 < (AP650+camera!$B$4/2), AN650 >= 0 ), AP650+camera!$B$4/2, 0)","v":0},null,null,null,2320.8912999999998,4362.9243999999999,0,null,{"$f":"MMULT(               MMULT(AX650:AZ650-$B$2:$D$2, TRANSPOSE($A$16:$C$18)),     TRANSPOSE($A$12:$C$14))","v":-83.318626131394467},-6987.8708703802949,8742.117823408762,null,-399.66693491987024,-4.7653570801969893," ",504.76535708019696,100.33306508012976]
[null,null,null,null,null,null,null,null,null,null,null,null,null,null,null,null,null,null,null,null,843.78430000000003,500,null,null,null,"''",null,18.786242000000001,-4.7478670000000003,null,-4.7478670000000003,-78.206369999999993,null,{"$f":"camera!$B$5*COS(RADIANS(AE651))*COS(RADIANS(AF651))","v":101.84294255404274},{"$f":"camera!$B$5*COS(RADIANS(AE651))*SIN(RADIANS(AF651))","v":-487.76556971068055},{"$f":"camera!$B$5*SIN(RADIANS(AE651))","v":-41.38555372046099},null,{"$f":"TRANSPOSE(MMULT(camera!$A$12:$C$14,MMULT(camera!$A$16:$C$18,TRANSPOSE(AH651:AJ651))))","v":123.59277343116251},-143.96696992526859,-462.59954380233683,null,{"$f":"camera!$B$5*AM651/AN651","v":155.60647632932375},{"$f":"camera!$B$5*AL651/AN651","v":-133.5850576238054},null,{"$f":"IF( AND( (camera!$B$3) > (AQ651+camera!$B$3/2), 0 < (AQ651+camera!$B$3/2), AN651 >= 0 ), AQ651+camera!$B$3/2, 0)*-1+camera!$B$3","v":1000},{"$f":"IF( AND( (camera!$B$4) > (AP651+camera!$B$4/2), 0 < (AP651+camera!$B$4/2), AN651 >= 0 ), AP651+camera!$B$4/2, 0)","v":0},null,null,null,2280.3530000000001,4264.4210999999996,0,null,{"$f":"MMULT(               MMULT(AX651:AZ651-$B$2:$D$2, TRANSPOSE($A$16:$C$18)),     TRANSPOSE($A$12:$C$14))","v":-65.665272668474017},-6956.0719591252382,8642.0006808592152,null,-402.45726747811619,-3.7991939073733891," ",503.79919390737336,97.542732521883806]
[null,null,null,null,null,null,null,null,null,null,null,null,null,null,null,null,null,null,null,null,843.78430000000003,485,null,null,null,"''",null,18.870287999999999,-62.187593,null,-62.187593,-76.945680000000038,null,{"$f":"camera!$B$5*COS(RADIANS(AE652))*COS(RADIANS(AF652))","v":52.694107134780388},{"$f":"camera!$B$5*COS(RADIANS(AE652))*SIN(RADIANS(AF652))","v":-227.26005017342703},{"$f":"camera!$B$5*SIN(RADIANS(AE652))","v":-442.23998085704517},null,{"$f":"TRANSPOSE(MMULT(camera!$A$12:$C$14,MMULT(camera!$A$16:$C$18,TRANSPOSE(AH652:AJ652))))","v":474.03699007596515},-72.300608618081725,-141.63881541856466,null,{"$f":"camera!$B$5*AM652/AN652","v":255.2287958792306},{"$f":"camera!$B$5*AL652/AN652","v":-1673.400715316322},null,{"$f":"IF( AND( (camera!$B$3) > (AQ652+camera!$B$3/2), 0 < (AQ652+camera!$B$3/2), AN652 >= 0 ), AQ652+camera!$B$3/2, 0)*-1+camera!$B$3","v":1000},{"$f":"IF( AND( (camera!$B$4) > (AP652+camera!$B$4/2), 0 < (AP652+camera!$B$4/2), AN652 >= 0 ), AP652+camera!$B$4/2, 0)","v":0},null,null,null,2268.1035999999999,4271.4933000000001,109.2342,null,{"$f":"MMULT(               MMULT(AX652:AZ652-$B$2:$D$2, TRANSPOSE($A$16:$C$18)),     TRANSPOSE($A$12:$C$14))","v":-174.27797341074756},-6943.2527889465737,8628.9192292486423,null,-402.32459039665576,-10.09848213783331," ",510.09848213783329,97.675409603344235]
[null,null,null,null,null,null,null,null,null,null,null,null,null,null,null,null,null,null,null,null,843.78430000000003,105,null,null,null,"''",null,18.908411999999998,36.898612999999997,null,36.898612999999997,-76.373820000000023,null,{"$f":"camera!$B$5*COS(RADIANS(AE653))*COS(RADIANS(AF653))","v":94.199048599746718},{"$f":"camera!$B$5*COS(RADIANS(AE653))*SIN(RADIANS(AF653))","v":-388.59521238212619},{"$f":"camera!$B$5*SIN(RADIANS(AE653))","v":300.20043330513829},null,{"$f":"TRANSPOSE(MMULT(camera!$A$12:$C$14,MMULT(camera!$A$16:$C$18,TRANSPOSE(AH653:AJ653))))","v":-229.84329055777377},-127.7088971437025,-425.27931924314629,null,{"$f":"camera!$B$5*AM653/AN653","v":150.14708141813861},{"$f":"camera!$B$5*AL653/AN653","v":270.22627266100938},null,{"$f":"IF( AND( (camera!$B$3) > (AQ653+camera!$B$3/2), 0 < (AQ653+camera!$B$3/2), AN653 >= 0 ), AQ653+camera!$B$3/2, 0)*-1+camera!$B$3","v":1000},{"$f":"IF( AND( (camera!$B$4) > (AP653+camera!$B$4/2), 0 < (AP653+camera!$B$4/2), AN653 >= 0 ), AP653+camera!$B$4/2, 0)","v":0},null,null,null,2205.3202000000001,4190.0577999999996,109.2342,null,{"$f":"MMULT(               MMULT(AX653:AZ653-$B$2:$D$2, TRANSPOSE($A$16:$C$18)),     TRANSPOSE($A$12:$C$14))","v":-159.24046714979249},-6887.8058702269273,8543.6372933785005,null,-403.09563911175877,-9.3192431795534691," ",509.3192431795535,96.904360888241229]
[null,null,null,null,null,null,null,null,null,null,null,null,null,null,null,null,null,null,null,null,843.78430000000003,90,null,null,null,"''",null,20.761043000000001,30.719715000000001,null,30.719715000000001,-48.58435499999996,null,{"$f":"camera!$B$5*COS(RADIANS(AE654))*COS(RADIANS(AF654))","v":284.34518060413308},{"$f":"camera!$B$5*COS(RADIANS(AE654))*SIN(RADIANS(AF654))","v":-322.34881679829471},{"$f":"camera!$B$5*SIN(RADIANS(AE654))","v":255.41937783954921},null,{"$f":"TRANSPOSE(MMULT(camera!$A$12:$C$14,MMULT(camera!$A$16:$C$18,TRANSPOSE(AH654:AJ654))))","v":-200.08010572287736},-311.35771189766137,-336.19090787196365,null,{"$f":"camera!$B$5*AM654/AN654","v":463.06682394908813},{"$f":"camera!$B$5*AL654/AN654","v":297.56918024546445},null,{"$f":"IF( AND( (camera!$B$3) > (AQ654+camera!$B$3/2), 0 < (AQ654+camera!$B$3/2), AN654 >= 0 ), AQ654+camera!$B$3/2, 0)*-1+camera!$B$3","v":1000},{"$f":"IF( AND( (camera!$B$4) > (AP654+camera!$B$4/2), 0 < (AP654+camera!$B$4/2), AN654 >= 0 ), AP654+camera!$B$4/2, 0)","v":0},null,null,null,2215.3157999999999,4180.0622000000003,0,null,{"$f":"MMULT(               MMULT(AX654:AZ654-$B$2:$D$2, TRANSPOSE($A$16:$C$18)),     TRANSPOSE($A$12:$C$14))","v":-50.087945068484487},-6898.6346078933821,8553.6572660431648,null,-403.25643133259541,-2.9278671982408446," ",502.92786719824085,96.743568667404588]
[null,null,null,null,null,null,null,null,null,null,null,null,null,null,null,null,null,null,null,null,843.78430000000003,75,null,null,null,"''",null,21.290265000000002,39.394680999999999,null,39.394680999999999,-40.646024999999952,null,{"$f":"camera!$B$5*COS(RADIANS(AE655))*COS(RADIANS(AF655))","v":293.17749716328649},{"$f":"camera!$B$5*COS(RADIANS(AE655))*SIN(RADIANS(AF655))","v":-251.69230253248261},{"$f":"camera!$B$5*SIN(RADIANS(AE655))","v":317.32938723504378},null,{"$f":"TRANSPOSE(MMULT(camera!$A$12:$C$14,MMULT(camera!$A$16:$C$18,TRANSPOSE(AH655:AJ655))))","v":-273.40592136011765},-313.99829784496058,-276.86507745776203,null,{"$f":"camera!$B$5*AM655/AN655","v":567.06013760956102},{"$f":"camera!$B$5*AL655/AN655","v":493.75299310153673},null,{"$f":"IF( AND( (camera!$B$3) > (AQ655+camera!$B$3/2), 0 < (AQ655+camera!$B$3/2), AN655 >= 0 ), AQ655+camera!$B$3/2, 0)*-1+camera!$B$3","v":1000},{"$f":"IF( AND( (camera!$B$4) > (AP655+camera!$B$4/2), 0 < (AP655+camera!$B$4/2), AN655 >= 0 ), AP655+camera!$B$4/2, 0)","v":0},null,null,null,2130.9569000000001,4115.0249999999996,0,null,{"$f":"MMULT(               MMULT(AX655:AZ655-$B$2:$D$2, TRANSPOSE($A$16:$C$18)),     TRANSPOSE($A$12:$C$14))","v":-37.560604967541849},-6820.2650844487571,8482.6111898805211,null,-402.0144818487679,-2.2139765767143982," ",502.2139765767144,97.9855181512321]
[null,null,null,null,null,null,null,null,null,null,null,null,null,null,null,null,null,null,null,null,844.39949999999999,557.19659999999999,null,null,null,"''",null,23.238710999999999,-6.0490029999999999,null,-6.0490029999999999,-11.419335000000046,null,{"$f":"camera!$B$5*COS(RADIANS(AE656))*COS(RADIANS(AF656))","v":487.37338445404191},{"$f":"camera!$B$5*COS(RADIANS(AE656))*SIN(RADIANS(AF656))","v":-98.442879560917632},{"$f":"camera!$B$5*SIN(RADIANS(AE656))","v":-52.68950170164203},null,{"$f":"TRANSPOSE(MMULT(camera!$A$12:$C$14,MMULT(camera!$A$16:$C$18,TRANSPOSE(AH656:AJ656))))","v":61.542285716813431},-494.09864387049652,-45.596898952520313,null,{"$f":"camera!$B$5*AM656/AN656","v":5418.1167493977773},{"$f":"camera!$B$5*AL656/AN656","v":-674.85165801403423},null,{"$f":"IF( AND( (camera!$B$3) > (AQ656+camera!$B$3/2), 0 < (AQ656+camera!$B$3/2), AN656 >= 0 ), AQ656+camera!$B$3/2, 0)*-1+camera!$B$3","v":1000},{"$f":"IF( AND( (camera!$B$4) > (AP656+camera!$B$4/2), 0 < (AP656+camera!$B$4/2), AN656 >= 0 ), AP656+camera!$B$4/2, 0)","v":0},null,null,null,2123.8847000000001,4127.2744000000002,109.2342,null,{"$f":"MMULT(               MMULT(AX656:AZ656-$B$2:$D$2, TRANSPOSE($A$16:$C$18)),     TRANSPOSE($A$12:$C$14))","v":-147.14725004719276},-6812.1521907496999,8475.0532510838366,null,-401.89435918166794,-8.6811991434021234," ",508.68119914340213,98.105640818332063]
[null,null,null,null,null,null,null,null,null,null,null,null,null,null,null,null,null,null,null,null,844.39949999999999,147.19659999999999,null,null,null,"''",null,0.33414199999999999,-64.874791000000002,null,-64.874791000000002,5.01213,null,{"$f":"camera!$B$5*COS(RADIANS(AE657))*COS(RADIANS(AF657))","v":211.48712350906777},{"$f":"camera!$B$5*COS(RADIANS(AE657))*SIN(RADIANS(AF657))","v":18.547842942841239},{"$f":"camera!$B$5*SIN(RADIANS(AE657))","v":-452.69103604117015},null,{"$f":"TRANSPOSE(MMULT(camera!$A$12:$C$14,MMULT(camera!$A$16:$C$18,TRANSPOSE(AH657:AJ657))))","v":439.40436068415283},-209.06580012635723,114.9578141288228,null,{"$f":"camera!$B$5*AM657/AN657","v":-909.31530714421967},{"$f":"camera!$B$5*AL657/AN657","v":1911.1548180263421},null,{"$f":"IF( AND( (camera!$B$3) > (AQ657+camera!$B$3/2), 0 < (AQ657+camera!$B$3/2), AN657 >= 0 ), AQ657+camera!$B$3/2, 0)*-1+camera!$B$3","v":1000},{"$f":"IF( AND( (camera!$B$4) > (AP657+camera!$B$4/2), 0 < (AP657+camera!$B$4/2), AN657 >= 0 ), AP657+camera!$B$4/2, 0)","v":0},null,null,null,2028.7949000000001,4088.1408999999999,109.2342,null,{"$f":"MMULT(               MMULT(AX657:AZ657-$B$2:$D$2, TRANSPOSE($A$16:$C$18)),     TRANSPOSE($A$12:$C$14))","v":-138.93851738405419},-6720.8349454059107,8428.4992147692774,null,-398.69701438833721,-8.2421860549379851," ",508.24218605493797,101.30298561166279]
[null,null,null,null,null,null,null,null,null,null,null,null,null,null,null,null,null,null,null,null,844.43330000000003,449.57010000000002,null,null,null,"''",null,7.7218669999999996,28.883510000000001,null,28.883510000000001,115.82800499999999,null,{"$f":"camera!$B$5*COS(RADIANS(AE658))*COS(RADIANS(AF658))","v":-190.73758985871697},{"$f":"camera!$B$5*COS(RADIANS(AE658))*SIN(RADIANS(AF658))","v":394.06798892832052},{"$f":"camera!$B$5*SIN(RADIANS(AE658))","v":241.51520017770503},null,{"$f":"TRANSPOSE(MMULT(camera!$A$12:$C$14,MMULT(camera!$A$16:$C$18,TRANSPOSE(AH658:AJ658))))","v":-303.12813021161793},224.35706401217544,328.29444786996481,null,{"$f":"camera!$B$5*AM658/AN658","v":341.70097220322435},{"$f":"camera!$B$5*AL658/AN658","v":-461.67111898841023},null,{"$f":"IF( AND( (camera!$B$3) > (AQ658+camera!$B$3/2), 0 < (AQ658+camera!$B$3/2), AN658 >= 0 ), AQ658+camera!$B$3/2, 0)*-1+camera!$B$3","v":961.67111898841017},{"$f":"IF( AND( (camera!$B$4) > (AP658+camera!$B$4/2), 0 < (AP658+camera!$B$4/2), AN658 >= 0 ), AP658+camera!$B$4/2, 0)","v":841.70097220322441},null,null,null,2032.4536000000001,4074.4866999999999,0,null,{"$f":"MMULT(               MMULT(AX658:AZ658-$B$2:$D$2, TRANSPOSE($A$16:$C$18)),     TRANSPOSE($A$12:$C$14))","v":-29.05719821646835},-6725.6697648904446,8434.3859737683433,null,-398.70535838695599,-1.7225437813042173," ",501.72254378130424,101.29464161304401]
[null,null,null,null,null,null,null,null,null,null,null,null,null,null,null,null,null,null,null,null,844.43330000000003,39.570099999999996,null,null,null,"''",null,13.197903999999999,27.878183,null,27.878183,-162.03144,null,{"$f":"camera!$B$5*COS(RADIANS(AE659))*COS(RADIANS(AF659))","v":-420.41510942185568},{"$f":"camera!$B$5*COS(RADIANS(AE659))*SIN(RADIANS(AF659))","v":-136.34614494315832},{"$f":"camera!$B$5*SIN(RADIANS(AE659))","v":233.79663070486788},null,{"$f":"TRANSPOSE(MMULT(camera!$A$12:$C$14,MMULT(camera!$A$16:$C$18,TRANSPOSE(AH659:AJ659))))","v":-200.29582473533713},406.93195347041285,-210.44706659477302,null,{"$f":"camera!$B$5*AM659/AN659","v":-966.82733585919232},{"$f":"camera!$B$5*AL659/AN659","v":475.88172165169061},null,{"$f":"IF( AND( (camera!$B$3) > (AQ659+camera!$B$3/2), 0 < (AQ659+camera!$B$3/2), AN659 >= 0 ), AQ659+camera!$B$3/2, 0)*-1+camera!$B$3","v":1000},{"$f":"IF( AND( (camera!$B$4) > (AP659+camera!$B$4/2), 0 < (AP659+camera!$B$4/2), AN659 >= 0 ), AP659+camera!$B$4/2, 0)","v":0},null,null,null,1926.8779999999999,4060.3422,0,null,{"$f":"MMULT(               MMULT(AX659:AZ659-$B$2:$D$2, TRANSPOSE($A$16:$C$18)),     TRANSPOSE($A$12:$C$14))","v":-25.012550872149632},-6621.7286863258832,8411.4476388177445,null,-393.61409418798854,-1.4868160598610838," ",501.4868160598611,106.38590581201146]
[null,null,null,null,null,null,null,null,null,null,null,null,null,null,null,null,null,null,null,null,845.7056,444.30619999999999,null,null,null,"''",null,13.761471,-33.043720999999998,null,-33.043720999999998,-153.577935,null,{"$f":"camera!$B$5*COS(RADIANS(AE660))*COS(RADIANS(AF660))","v":-375.34551092185905},{"$f":"camera!$B$5*COS(RADIANS(AE660))*SIN(RADIANS(AF660))","v":-186.5033314903138},{"$f":"camera!$B$5*SIN(RADIANS(AE660))","v":-272.63942263330642},null,{"$f":"TRANSPOSE(MMULT(camera!$A$12:$C$14,MMULT(camera!$A$16:$C$18,TRANSPOSE(AH660:AJ660))))","v":306.44078503481074},357.66237155194233,-167.84419335529367,null,{"$f":"camera!$B$5*AM660/AN660","v":-1065.459472866125},{"$f":"camera!$B$5*AL660/AN660","v":-912.87276285493806},null,{"$f":"IF( AND( (camera!$B$3) > (AQ660+camera!$B$3/2), 0 < (AQ660+camera!$B$3/2), AN660 >= 0 ), AQ660+camera!$B$3/2, 0)*-1+camera!$B$3","v":1000},{"$f":"IF( AND( (camera!$B$4) > (AP660+camera!$B$4/2), 0 < (AP660+camera!$B$4/2), AN660 >= 0 ), AP660+camera!$B$4/2, 0)","v":0},null,null,null,1926.8779999999999,4074.4866999999999,109.2342,null,{"$f":"MMULT(               MMULT(AX660:AZ660-$B$2:$D$2, TRANSPOSE($A$16:$C$18)),     TRANSPOSE($A$12:$C$14))","v":-135.03405811960874},-6620.4959119225896,8406.3559259273898,null,-393.77918150617779,-8.0316643328846293," ",508.03166433288465,106.22081849382221]
[null,null,null,null,null,null,null,null,null,null,null,null,null,null,null,null,null,null,null,null,845.7056,34.306199999999997,null,null,null,"''",null,14.027443,1.544532,null,1.544532,-149.58835500000001,null,{"$f":"camera!$B$5*COS(RADIANS(AE661))*COS(RADIANS(AF661))","v":-431.04873502444843},{"$f":"camera!$B$5*COS(RADIANS(AE661))*SIN(RADIANS(AF661))","v":-253.01256845955544},{"$f":"camera!$B$5*SIN(RADIANS(AE661))","v":13.476952004129259},null,{"$f":"TRANSPOSE(MMULT(camera!$A$12:$C$14,MMULT(camera!$A$16:$C$18,TRANSPOSE(AH661:AJ661))))","v":37.019457478052466},407.35696612192402,-287.55844957151294,null,{"$f":"camera!$B$5*AM661/AN661","v":-708.30289760033349},{"$f":"camera!$B$5*AL661/AN661","v":-64.368578863209677},null,{"$f":"IF( AND( (camera!$B$3) > (AQ661+camera!$B$3/2), 0 < (AQ661+camera!$B$3/2), AN661 >= 0 ), AQ661+camera!$B$3/2, 0)*-1+camera!$B$3","v":1000},{"$f":"IF( AND( (camera!$B$4) > (AP661+camera!$B$4/2), 0 < (AP661+camera!$B$4/2), AN661 >= 0 ), AP661+camera!$B$4/2, 0)","v":0},null,null,null,1824.9611,4088.1408999999999,109.2342,null,{"$f":"MMULT(               MMULT(AX661:AZ661-$B$2:$D$2, TRANSPOSE($A$16:$C$18)),     TRANSPOSE($A$12:$C$14))","v":-135.85360780342785},-6517.7767945540181,8411.0038231495055,null,-387.45534609170068,-8.075944956148966," ",508.07594495614899,112.54465390829932]
[null,null,null,null,null,null,null,null,null,null,null,null,null,null,null,null,null,null,null,null,846.65679999999998,562.16219999999998,null,null,null,"''",null,16.146162,44.934905999999998,null,44.934905999999998,-117.80757,null,{"$f":"camera!$B$5*COS(RADIANS(AE662))*COS(RADIANS(AF662))","v":-165.12117278679983},{"$f":"camera!$B$5*COS(RADIANS(AE662))*SIN(RADIANS(AF662))","v":-313.07990067861863},{"$f":"camera!$B$5*SIN(RADIANS(AE662))","v":353.1514888664326},null,{"$f":"TRANSPOSE(MMULT(camera!$A$12:$C$14,MMULT(camera!$A$16:$C$18,TRANSPOSE(AH662:AJ662))))","v":-291.12843230925154},137.20612558989296,-382.64698483297633,null,{"$f":"camera!$B$5*AM662/AN662","v":-179.28551775964317},{"$f":"camera!$B$5*AL662/AN662","v":380.41385905121888},null,{"$f":"IF( AND( (camera!$B$3) > (AQ662+camera!$B$3/2), 0 < (AQ662+camera!$B$3/2), AN662 >= 0 ), AQ662+camera!$B$3/2, 0)*-1+camera!$B$3","v":1000},{"$f":"IF( AND( (camera!$B$4) > (AP662+camera!$B$4/2), 0 < (AP662+camera!$B$4/2), AN662 >= 0 ), AP662+camera!$B$4/2, 0)","v":0},null,null,null,1821.3025,4074.4866999999999,0,null,{"$f":"MMULT(               MMULT(AX662:AZ662-$B$2:$D$2, TRANSPOSE($A$16:$C$18)),     TRANSPOSE($A$12:$C$14))","v":-25.861545428020918},-6515.3221585742031,8416.2625262074125,null,-387.06742679937395,-1.5364032043612359," ",501.53640320436125,112.93257320062605]
[null,null,null,null,null,null,null,null,null,null,null,null,null,null,null,null,null,null,null,null,846.65679999999998,152.16220000000001,null,null,null,"''",null,16.718126000000002,-77.517435000000006,null,-77.517435000000006,-109.22810999999999,null,{"$f":"camera!$B$5*COS(RADIANS(AE663))*COS(RADIANS(AF663))","v":-35.591100254698524},{"$f":"camera!$B$5*COS(RADIANS(AE663))*SIN(RADIANS(AF663))","v":-102.04249456061565},{"$f":"camera!$B$5*SIN(RADIANS(AE663))","v":-488.18091204645305},null,{"$f":"TRANSPOSE(MMULT(camera!$A$12:$C$14,MMULT(camera!$A$16:$C$18,TRANSPOSE(AH663:AJ663))))","v":498.95506348503665},26.56207596772812,-18.392953621636465,null,{"$f":"camera!$B$5*AM663/AN663","v":-722.0720639582853},{"$f":"camera!$B$5*AL663/AN663","v":-13563.755820546767},null,{"$f":"IF( AND( (camera!$B$3) > (AQ663+camera!$B$3/2), 0 < (AQ663+camera!$B$3/2), AN663 >= 0 ), AQ663+camera!$B$3/2, 0)*-1+camera!$B$3","v":1000},{"$f":"IF( AND( (camera!$B$4) > (AP663+camera!$B$4/2), 0 < (AP663+camera!$B$4/2), AN663 >= 0 ), AP663+camera!$B$4/2, 0)","v":0},null,null,null,1722.7991,4115.0249999999996,0,null,{"$f":"MMULT(               MMULT(AX663:AZ663-$B$2:$D$2, TRANSPOSE($A$16:$C$18)),     TRANSPOSE($A$12:$C$14))","v":-31.38336690581059},-6413.6604481039658,8447.5783319655748,null,-379.61532856314108,-1.8575363064143575," ",501.85753630641437,120.38467143685892]
[null,null,null,null,null,null,null,null,null,null,null,null,null,null,null,null,null,null,null,null,846.76589999999999,453.99259999999998,null,null,null,"''",null,19.106971000000001,-37.063437,null,-37.063437,-73.395434999999964,null,{"$f":"camera!$B$5*COS(RADIANS(AE664))*COS(RADIANS(AF664))","v":114.01565118305844},{"$f":"camera!$B$5*COS(RADIANS(AE664))*SIN(RADIANS(AF664))","v":-382.34662675391934},{"$f":"camera!$B$5*SIN(RADIANS(AE664))","v":-301.34944548680062},null,{"$f":"TRANSPOSE(MMULT(camera!$A$12:$C$14,MMULT(camera!$A$16:$C$18,TRANSPOSE(AH664:AJ664))))","v":361.18685425496102},-146.90549144984013,-312.99014823998294,null,{"$f":"camera!$B$5*AM664/AN664","v":234.68069566394371},{"$f":"camera!$B$5*AL664/AN664","v":-576.99396656092767},null,{"$f":"IF( AND( (camera!$B$3) > (AQ664+camera!$B$3/2), 0 < (AQ664+camera!$B$3/2), AN664 >= 0 ), AQ664+camera!$B$3/2, 0)*-1+camera!$B$3","v":1000},{"$f":"IF( AND( (camera!$B$4) > (AP664+camera!$B$4/2), 0 < (AP664+camera!$B$4/2), AN664 >= 0 ), AP664+camera!$B$4/2, 0)","v":0},null,null,null,1729.8713,4127.2744000000002,109.2342,null,{"$f":"MMULT(               MMULT(AX664:AZ664-$B$2:$D$2, TRANSPOSE($A$16:$C$18)),     TRANSPOSE($A$12:$C$14))","v":-141.18407950062419},-6419.6381306925969,8441.2344303758018,null,-380.25469992821866,-8.3627626187334005," ",508.36276261873343,119.74530007178134]
[null,null,null,null,null,null,null,null,null,null,null,null,null,null,null,null,null,null,null,null,846.76589999999999,43.992600000000003,null,null,null,"''",null,21.725127000000001,58.780045999999999,null,58.780045999999999,-34.123094999999978,null,{"$f":"camera!$B$5*COS(RADIANS(AE665))*COS(RADIANS(AF665))","v":214.54354838964315},{"$f":"camera!$B$5*COS(RADIANS(AE665))*SIN(RADIANS(AF665))","v":-145.3830577308203},{"$f":"camera!$B$5*SIN(RADIANS(AE665))","v":427.59189932600202},null,{"$f":"TRANSPOSE(MMULT(camera!$A$12:$C$14,MMULT(camera!$A$16:$C$18,TRANSPOSE(AH665:AJ665))))","v":-399.19337688489566},-226.39811379500767,-198.46546783079521,null,{"$f":"camera!$B$5*AM665/AN665","v":570.37155196194351},{"$f":"camera!$B$5*AL665/AN665","v":1005.6998359665122},null,{"$f":"IF( AND( (camera!$B$3) > (AQ665+camera!$B$3/2), 0 < (AQ665+camera!$B$3/2), AN665 >= 0 ), AQ665+camera!$B$3/2, 0)*-1+camera!$B$3","v":1000},{"$f":"IF( AND( (camera!$B$4) > (AP665+camera!$B$4/2), 0 < (AP665+camera!$B$4/2), AN665 >= 0 ), AP665+camera!$B$4/2, 0)","v":0},null,null,null,1648.4358999999999,4190.0577999999996,109.2342,null,{"$f":"MMULT(               MMULT(AX665:AZ665-$B$2:$D$2, TRANSPOSE($A$16:$C$18)),     TRANSPOSE($A$12:$C$14))","v":-150.81233740698053},-6333.0406831163937,8495.8389943947113,null,-372.71425972730509,-8.8756588670337209," ",508.87565886703374,127.28574027269491]
[null,null,null,null,null,null,null,null,null,null,null,null,null,null,null,null,null,null,null,null,846.81700000000001,552.81989999999996,null,null,null,"''",null,21.779890999999999,49.309570000000001,null,49.309570000000001,-33.301635000000033,null,{"$f":"camera!$B$5*COS(RADIANS(AE666))*COS(RADIANS(AF666))","v":272.45629299514593},{"$f":"camera!$B$5*COS(RADIANS(AE666))*SIN(RADIANS(AF666))","v":-178.98146277775268},{"$f":"camera!$B$5*SIN(RADIANS(AE666))","v":379.12162216006504},null,{"$f":"TRANSPOSE(MMULT(camera!$A$12:$C$14,MMULT(camera!$A$16:$C$18,TRANSPOSE(AH666:AJ666))))","v":-346.52384833322452},-287.01877686995294,-218.04000610073501,null,{"$f":"camera!$B$5*AM666/AN666","v":658.17916171161175},{"$f":"camera!$B$5*AL666/AN666","v":794.63364207834798},null,{"$f":"IF( AND( (camera!$B$3) > (AQ666+camera!$B$3/2), 0 < (AQ666+camera!$B$3/2), AN666 >= 0 ), AQ666+camera!$B$3/2, 0)*-1+camera!$B$3","v":1000},{"$f":"IF( AND( (camera!$B$4) > (AP666+camera!$B$4/2), 0 < (AP666+camera!$B$4/2), AN666 >= 0 ), AP666+camera!$B$4/2, 0)","v":0},null,null,null,1638.4402,4180.0622000000003,0,null,{"$f":"MMULT(               MMULT(AX666:AZ666-$B$2:$D$2, TRANSPOSE($A$16:$C$18)),     TRANSPOSE($A$12:$C$14))","v":-41.357258277238088},-6323.954193714887,8504.1430807711931,null,-371.81607445046672,-2.4315946876970718," ",502.4315946876971,128.18392554953328]
[null,null,null,null,null,null,null,null,null,null,null,null,null,null,null,null,null,null,null,null,846.81700000000001,142.81989999999999,null,null,null,"''",null,1.145613,86.257090000000005,null,86.257090000000005,17.184194999999999,null,{"$f":"camera!$B$5*COS(RADIANS(AE667))*COS(RADIANS(AF667))","v":31.182779757255766},{"$f":"camera!$B$5*COS(RADIANS(AE667))*SIN(RADIANS(AF667))","v":9.643257598912351},{"$f":"camera!$B$5*SIN(RADIANS(AE667))","v":498.93350441666223},null,{"$f":"TRANSPOSE(MMULT(camera!$A$12:$C$14,MMULT(camera!$A$16:$C$18,TRANSPOSE(AH667:AJ667))))","v":-493.49367916952559},-30.223654587400599,-74.501807515702694,null,{"$f":"camera!$B$5*AM667/AN667","v":202.83839812228973},{"$f":"camera!$B$5*AL667/AN667","v":3311.9577606591106},null,{"$f":"IF( AND( (camera!$B$3) > (AQ667+camera!$B$3/2), 0 < (AQ667+camera!$B$3/2), AN667 >= 0 ), AQ667+camera!$B$3/2, 0)*-1+camera!$B$3","v":1000},{"$f":"IF( AND( (camera!$B$4) > (AP667+camera!$B$4/2), 0 < (AP667+camera!$B$4/2), AN667 >= 0 ), AP667+camera!$B$4/2, 0)","v":0},null,null,null,1573.403,4264.4210999999996,0,null,{"$f":"MMULT(               MMULT(AX667:AZ667-$B$2:$D$2, TRANSPOSE($A$16:$C$18)),     TRANSPOSE($A$12:$C$14))","v":-54.965983208022635},-6251.8121173092786,8581.3219950593302,null,-364.26858943812738,-3.2026524141425488," ",503.20265241414256,135.73141056187262]
[null,null,null,null,null,null,null,null,null,null,null,null,null,null,null,null,null,null,null,null,848.78430000000003,515,null,null,null,"''",null,2.4497550000000001,-47.70384,null,-47.70384,36.746324999999999,null,{"$f":"camera!$B$5*COS(RADIANS(AE668))*COS(RADIANS(AF668))","v":269.61997392802334},{"$f":"camera!$B$5*COS(RADIANS(AE668))*SIN(RADIANS(AF668))","v":201.30784832972483},{"$f":"camera!$B$5*SIN(RADIANS(AE668))","v":-369.83809952451975},null,{"$f":"TRANSPOSE(MMULT(camera!$A$12:$C$14,MMULT(camera!$A$16:$C$18,TRANSPOSE(AH668:AJ668))))","v":325.31516149868713},-251.04885348462142,284.85877003023836,null,{"$f":"camera!$B$5*AM668/AN668","v":-440.65494886812166},{"$f":"camera!$B$5*AL668/AN668","v":571.01131459662315},null,{"$f":"IF( AND( (camera!$B$3) > (AQ668+camera!$B$3/2), 0 < (AQ668+camera!$B$3/2), AN668 >= 0 ), AQ668+camera!$B$3/2, 0)*-1+camera!$B$3","v":1000},{"$f":"IF( AND( (camera!$B$4) > (AP668+camera!$B$4/2), 0 < (AP668+camera!$B$4/2), AN668 >= 0 ), AP668+camera!$B$4/2, 0)","v":59.345051131878336},null,null,null,1585.6524999999999,4271.4933000000001,109.2342,null,{"$f":"MMULT(               MMULT(AX668:AZ668-$B$2:$D$2, TRANSPOSE($A$16:$C$18)),     TRANSPOSE($A$12:$C$14))","v":-163.94946098199944},-6263.398621419693,8570.3433244877888,null,-365.41118507606745,-9.5649295935176539," ",509.56492959351766,134.58881492393255]
[null,null,null,null,null,null,null,null,null,null,null,null,null,null,null,null,null,null,null,null,848.78430000000003,500,null,null,null,"''",null,2.7353749999999999,-13.858696,null,-13.858696,41.030625000000001,null,{"$f":"camera!$B$5*COS(RADIANS(AE669))*COS(RADIANS(AF669))","v":366.19948624715795},{"$f":"camera!$B$5*COS(RADIANS(AE669))*SIN(RADIANS(AF669))","v":318.67616270824919},{"$f":"camera!$B$5*SIN(RADIANS(AE669))","v":-119.76409977060368},null,{"$f":"TRANSPOSE(MMULT(camera!$A$12:$C$14,MMULT(camera!$A$16:$C$18,TRANSPOSE(AH669:AJ669))))","v":57.27543244195958},-337.03152898652883,364.86884398039405,null,{"$f":"camera!$B$5*AM669/AN669","v":-461.85298436256585},{"$f":"camera!$B$5*AL669/AN669","v":78.487699603418633},null,{"$f":"IF( AND( (camera!$B$3) > (AQ669+camera!$B$3/2), 0 < (AQ669+camera!$B$3/2), AN669 >= 0 ), AQ669+camera!$B$3/2, 0)*-1+camera!$B$3","v":421.5123003965814},{"$f":"IF( AND( (camera!$B$4) > (AP669+camera!$B$4/2), 0 < (AP669+camera!$B$4/2), AN669 >= 0 ), AP669+camera!$B$4/2, 0)","v":38.147015637434151},null,null,null,1546.519,4366.5830999999998,109.2342,null,{"$f":"MMULT(               MMULT(AX669:AZ669-$B$2:$D$2, TRANSPOSE($A$16:$C$18)),     TRANSPOSE($A$12:$C$14))","v":-179.80653422551222},-6216.1264140551939,8660.2732556860683,null,-358.8874294453629,-10.381112057143048," ",510.38111205714307,141.1125705546371]
[null,null,null,null,null,null,null,null,null,null,null,null,null,null,null,null,null,null,null,null,848.78430000000003,485,null,null,null,"''",null,12.305812,-79.312240000000003,null,-79.312240000000003,-175.41282000000001,null,{"$f":"camera!$B$5*COS(RADIANS(AE670))*COS(RADIANS(AF670))","v":-92.431321002911076},{"$f":"camera!$B$5*COS(RADIANS(AE670))*SIN(RADIANS(AF670))","v":-7.4160323803557713},{"$f":"camera!$B$5*SIN(RADIANS(AE670))","v":-491.32621888251634},null,{"$f":"TRANSPOSE(MMULT(camera!$A$12:$C$14,MMULT(camera!$A$16:$C$18,TRANSPOSE(AH670:AJ670))))","v":486.54364563141161},91.43324211036564,70.108794975256856,null,{"$f":"camera!$B$5*AM670/AN670","v":652.08111295191077},{"$f":"camera!$B$5*AL670/AN670","v":3469.9187584319839},null,{"$f":"IF( AND( (camera!$B$3) > (AQ670+camera!$B$3/2), 0 < (AQ670+camera!$B$3/2), AN670 >= 0 ), AQ670+camera!$B$3/2, 0)*-1+camera!$B$3","v":1000},{"$f":"IF( AND( (camera!$B$4) > (AP670+camera!$B$4/2), 0 < (AP670+camera!$B$4/2), AN670 >= 0 ), AP670+camera!$B$4/2, 0)","v":0},null,null,null,1532.8647000000001,4362.9243999999999,0,null,{"$f":"MMULT(               MMULT(AX670:AZ670-$B$2:$D$2, TRANSPOSE($A$16:$C$18)),     TRANSPOSE($A$12:$C$14))","v":-71.392288065144612},-6202.8429495050304,8674.4801991590248,null,-357.53398515489056,-4.1150758561917042," ",504.11507585619171,142.46601484510944]
[null,null,null,null,null,null,null,null,null,null,null,null,null,null,null,null,null,null,null,null,848.78430000000003,105,null,null,null,"''",null,12.562411000000001,41.357480000000002,null,41.357480000000002,-171.56383499999998,null,{"$f":"camera!$B$5*COS(RADIANS(AE671))*COS(RADIANS(AF671))","v":-371.24003426305285},{"$f":"camera!$B$5*COS(RADIANS(AE671))*SIN(RADIANS(AF671))","v":-55.059416850244695},{"$f":"camera!$B$5*SIN(RADIANS(AE671))","v":330.37750767338622},null,{"$f":"TRANSPOSE(MMULT(camera!$A$12:$C$14,MMULT(camera!$A$16:$C$18,TRANSPOSE(AH671:AJ671))))","v":-310.21523744307706},365.02860948141517,-143.25020320474175,null,{"$f":"camera!$B$5*AM671/AN671","v":-1274.0945608282821},{"$f":"camera!$B$5*AL671/AN671","v":1082.7741619315502},null,{"$f":"IF( AND( (camera!$B$3) > (AQ671+camera!$B$3/2), 0 < (AQ671+camera!$B$3/2), AN671 >= 0 ), AQ671+camera!$B$3/2, 0)*-1+camera!$B$3","v":1000},{"$f":"IF( AND( (camera!$B$4) > (AP671+camera!$B$4/2), 0 < (AP671+camera!$B$4/2), AN671 >= 0 ), AP671+camera!$B$4/2, 0)","v":0},null,null,null,1518.7202,4468.5,0,null,{"$f":"MMULT(               MMULT(AX671:AZ671-$B$2:$D$2, TRANSPOSE($A$16:$C$18)),     TRANSPOSE($A$12:$C$14))","v":-89.441466942615989},-6179.5507537638423,8776.8421791858545,null,-352.03724913833764,-5.0953101990784928," ",505.09531019907848,147.96275086166236]
[null,null,null,null,null,null,null,null,null,null,null,null,null,null,null,null,null,null,null,null,848.78430000000003,90,null,null,null,"''",null,16.523036999999999,-34.704366,null,-34.704366,-112.15444500000001,null,{"$f":"camera!$B$5*COS(RADIANS(AE672))*COS(RADIANS(AF672))","v":-155.00893796778129},{"$f":"camera!$B$5*COS(RADIANS(AE672))*SIN(RADIANS(AF672))","v":-380.70277448982552},{"$f":"camera!$B$5*SIN(RADIANS(AE672))","v":-284.67108501892073},null,{"$f":"TRANSPOSE(MMULT(camera!$A$12:$C$14,MMULT(camera!$A$16:$C$18,TRANSPOSE(AH672:AJ672))))","v":348.54904523988444},121.23864908358104,-337.36442170263484,null,{"$f":"camera!$B$5*AM672/AN672","v":-179.68499534080263},{"$f":"camera!$B$5*AL672/AN672","v":-516.57647163978083},null,{"$f":"IF( AND( (camera!$B$3) > (AQ672+camera!$B$3/2), 0 < (AQ672+camera!$B$3/2), AN672 >= 0 ), AQ672+camera!$B$3/2, 0)*-1+camera!$B$3","v":1000},{"$f":"IF( AND( (camera!$B$4) > (AP672+camera!$B$4/2), 0 < (AP672+camera!$B$4/2), AN672 >= 0 ), AP672+camera!$B$4/2, 0)","v":0},null,null,null,1532.8647000000001,4468.5,109.2342,null,{"$f":"MMULT(               MMULT(AX672:AZ672-$B$2:$D$2, TRANSPOSE($A$16:$C$18)),     TRANSPOSE($A$12:$C$14))","v":-197.23022302530831},-6193.6414296710009,8759.0879052070286,null,-353.55515875055079,-11.258605071657094," ",511.25860507165709,146.44484124944921]
[null,null,null,null,null,null,null,null,null,null,null,null,null,null,null,null,null,null,null,null,848.78430000000003,75,null,null,null,"''",null,17.690242999999999,-12.875306999999999,null,-12.875306999999999,-94.646355000000028,null,{"$f":"camera!$B$5*COS(RADIANS(AE673))*COS(RADIANS(AF673))","v":-39.484323948675531},{"$f":"camera!$B$5*COS(RADIANS(AE673))*SIN(RADIANS(AF673))","v":-485.82680670614235},{"$f":"camera!$B$5*SIN(RADIANS(AE673))","v":-111.41499920580095},null,{"$f":"TRANSPOSE(MMULT(camera!$A$12:$C$14,MMULT(camera!$A$16:$C$18,TRANSPOSE(AH673:AJ673))))","v":194.36184118067442},-3.0085220097892744,-460.66736750954573,null,{"$f":"camera!$B$5*AM673/AN673","v":3.2653951874797524},{"$f":"camera!$B$5*AL673/AN673","v":-210.95681492638715},null,{"$f":"IF( AND( (camera!$B$3) > (AQ673+camera!$B$3/2), 0 < (AQ673+camera!$B$3/2), AN673 >= 0 ), AQ673+camera!$B$3/2, 0)*-1+camera!$B$3","v":1000},{"$f":"IF( AND( (camera!$B$4) > (AP673+camera!$B$4/2), 0 < (AP673+camera!$B$4/2), AN673 >= 0 ), AP673+camera!$B$4/2, 0)","v":0},null,null,null,1546.519,4570.4169000000002,109.2342,null,{"$f":"MMULT(               MMULT(AX673:AZ673-$B$2:$D$2, TRANSPOSE($A$16:$C$18)),     TRANSPOSE($A$12:$C$14))","v":-215.06721208136014},-6198.3611278191165,8860.2464969573357,null,-349.7849145589613,-12.136638193712532," ",512.13663819371254,150.2150854410387]
[null,null,null,null,null,null,null,null,null,null,null,null,null,null,null,null,null,null,null,null,849.09860000000003,458.41520000000003,null,null,null,"''",null,23.264859000000001,-9.0877370000000006,null,-9.0877370000000006,-11.027114999999981,null,{"$f":"camera!$B$5*COS(RADIANS(AE674))*COS(RADIANS(AF674))","v":484.60808287498946},{"$f":"camera!$B$5*COS(RADIANS(AE674))*SIN(RADIANS(AF674))","v":-94.43629499465591},{"$f":"camera!$B$5*SIN(RADIANS(AE674))","v":-78.973363863455035},null,{"$f":"TRANSPOSE(MMULT(camera!$A$12:$C$14,MMULT(camera!$A$16:$C$18,TRANSPOSE(AH674:AJ674))))","v":86.775599609709033},-490.99466824506595,-37.339403681541562,null,{"$f":"camera!$B$5*AM674/AN674","v":6574.7524040908193},{"$f":"camera!$B$5*AL674/AN674","v":-1161.9842720279685},null,{"$f":"IF( AND( (camera!$B$3) > (AQ674+camera!$B$3/2), 0 < (AQ674+camera!$B$3/2), AN674 >= 0 ), AQ674+camera!$B$3/2, 0)*-1+camera!$B$3","v":1000},{"$f":"IF( AND( (camera!$B$4) > (AP674+camera!$B$4/2), 0 < (AP674+camera!$B$4/2), AN674 >= 0 ), AP674+camera!$B$4/2, 0)","v":0},null,null,null,1532.8647000000001,4574.0754999999999,0,null,{"$f":"MMULT(               MMULT(AX674:AZ674-$B$2:$D$2, TRANSPOSE($A$16:$C$18)),     TRANSPOSE($A$12:$C$14))","v":-107.91876657856051},-6184.4399185525454,8881.632152686816,null,-348.15897642651561,-6.0753904644606109," ",506.07539046446061,151.84102357348439]
[null,null,null,null,null,null,null,null,null,null,null,null,null,null,null,null,null,null,null,null,849.09860000000003,48.415199999999999,null,null,null,"''",null,1.262704,-68.875927000000004,null,-68.875927000000004,18.940560000000001,null,{"$f":"camera!$B$5*COS(RADIANS(AE675))*COS(RADIANS(AF675))","v":170.43790268874579},{"$f":"camera!$B$5*COS(RADIANS(AE675))*SIN(RADIANS(AF675))","v":58.488766870420243},{"$f":"camera!$B$5*SIN(RADIANS(AE675))","v":-466.40109935230561},null,{"$f":"TRANSPOSE(MMULT(camera!$A$12:$C$14,MMULT(camera!$A$16:$C$18,TRANSPOSE(AH675:AJ675))))","v":446.61811778736018},-164.69170309341931,152.99967253646224,null,{"$f":"camera!$B$5*AM675/AN675","v":-538.20933196497754},{"$f":"camera!$B$5*AL675/AN675","v":1459.539456468196},null,{"$f":"IF( AND( (camera!$B$3) > (AQ675+camera!$B$3/2), 0 < (AQ675+camera!$B$3/2), AN675 >= 0 ), AQ675+camera!$B$3/2, 0)*-1+camera!$B$3","v":1000},{"$f":"IF( AND( (camera!$B$4) > (AP675+camera!$B$4/2), 0 < (AP675+camera!$B$4/2), AN675 >= 0 ), AP675+camera!$B$4/2, 0)","v":0},null,null,null,1573.403,4672.5789000000004,0,null,{"$f":"MMULT(               MMULT(AX675:AZ675-$B$2:$D$2, TRANSPOSE($A$16:$C$18)),     TRANSPOSE($A$12:$C$14))","v":-125.57213734022048},-6216.238821092028,8981.7493933423902,null,-346.04833361860096,-6.9904053119818315," ",506.99040531198182,153.95166638139904]
[null,null,null,null,null,null,null,null,null,null,null,null,null,null,null,null,null,null,null,null,849.23450000000003,548.44320000000005,null,null,null,"''",null,4.1097349999999997,50.351261999999998,null,50.351261999999998,61.646024999999995,null,{"$f":"camera!$B$5*COS(RADIANS(AE676))*COS(RADIANS(AF676))","v":151.51746859498013},{"$f":"camera!$B$5*COS(RADIANS(AE676))*SIN(RADIANS(AF676))","v":280.76452596255513},{"$f":"camera!$B$5*SIN(RADIANS(AE676))","v":384.98537332162499},null,{"$f":"TRANSPOSE(MMULT(camera!$A$12:$C$14,MMULT(camera!$A$16:$C$18,TRANSPOSE(AH676:AJ676))))","v":-429.99843551269487},-126.47065808514114,221.59990546059834,null,{"$f":"camera!$B$5*AM676/AN676","v":-285.3581047840932},{"$f":"camera!$B$5*AL676/AN676","v":-970.21349043208625},null,{"$f":"IF( AND( (camera!$B$3) > (AQ676+camera!$B$3/2), 0 < (AQ676+camera!$B$3/2), AN676 >= 0 ), AQ676+camera!$B$3/2, 0)*-1+camera!$B$3","v":1000},{"$f":"IF( AND( (camera!$B$4) > (AP676+camera!$B$4/2), 0 < (AP676+camera!$B$4/2), AN676 >= 0 ), AP676+camera!$B$4/2, 0)","v":214.6418952159068},null,null,null,1585.6524999999999,4665.5065999999997,109.2342,null,{"$f":"MMULT(               MMULT(AX676:AZ676-$B$2:$D$2, TRANSPOSE($A$16:$C$18)),     TRANSPOSE($A$12:$C$14))","v":-232.10879492082404},-6229.058099605737,8956.8941158922953,null,-347.724223319413,-12.956991113079665," ",512.95699111307965,152.275776680587]
[null,null,null,null,null,null,null,null,null,null,null,null,null,null,null,null,null,null,null,null,849.23450000000003,138.44319999999999,null,null,null,"''",null,4.594239,10.16079,null,10.16079,68.913584999999998,null,{"$f":"camera!$B$5*COS(RADIANS(AE677))*COS(RADIANS(AF677))","v":177.06653729016122},{"$f":"camera!$B$5*COS(RADIANS(AE677))*SIN(RADIANS(AF677))","v":459.20280493910553},{"$f":"camera!$B$5*SIN(RADIANS(AE677))","v":88.205585470137407},null,{"$f":"TRANSPOSE(MMULT(camera!$A$12:$C$14,MMULT(camera!$A$16:$C$18,TRANSPOSE(AH677:AJ677))))","v":-168.98164309836926},-136.37058412164725,450.38679829907989,null,{"$f":"camera!$B$5*AM677/AN677","v":-151.39274134661716},{"$f":"camera!$B$5*AL677/AN677","v":-187.59613263148626},null,{"$f":"IF( AND( (camera!$B$3) > (AQ677+camera!$B$3/2), 0 < (AQ677+camera!$B$3/2), AN677 >= 0 ), AQ677+camera!$B$3/2, 0)*-1+camera!$B$3","v":687.59613263148628},{"$f":"IF( AND( (camera!$B$4) > (AP677+camera!$B$4/2), 0 < (AP677+camera!$B$4/2), AN677 >= 0 ), AP677+camera!$B$4/2, 0)","v":348.60725865338281},null,null,null,1648.4358999999999,4746.9421000000002,109.2342,null,{"$f":"MMULT(               MMULT(AX677:AZ677-$B$2:$D$2, TRANSPOSE($A$16:$C$18)),     TRANSPOSE($A$12:$C$14))","v":-247.14630118177843},-6284.5050183253843,9042.1760517624334,null,-347.51065353900378,-13.666306637195287," ",513.66630663719525,152.48934646099622]
[null,null,null,null,null,null,null,null,null,null,null,null,null,null,null,null,null,null,null,null,850.7056,444.30619999999999,null,null,null,"''",null,4.6115079999999997,41.264808000000002,null,41.264808000000002,69.172619999999995,null,{"$f":"camera!$B$5*COS(RADIANS(AE678))*COS(RADIANS(AF678))","v":133.62939430416432},{"$f":"camera!$B$5*COS(RADIANS(AE678))*SIN(RADIANS(AF678))","v":351.27609868177439},{"$f":"camera!$B$5*SIN(RADIANS(AE678))","v":329.77005241958295},null,{"$f":"TRANSPOSE(MMULT(camera!$A$12:$C$14,MMULT(camera!$A$16:$C$18,TRANSPOSE(AH678:AJ678))))","v":-387.54884669581128},-102.50516482491011,298.82868438114264,null,{"$f":"camera!$B$5*AM678/AN678","v":-171.51158871711485},{"$f":"camera!$B$5*AL678/AN678","v":-648.44652965360922},null,{"$f":"IF( AND( (camera!$B$3) > (AQ678+camera!$B$3/2), 0 < (AQ678+camera!$B$3/2), AN678 >= 0 ), AQ678+camera!$B$3/2, 0)*-1+camera!$B$3","v":1000},{"$f":"IF( AND( (camera!$B$4) > (AP678+camera!$B$4/2), 0 < (AP678+camera!$B$4/2), AN678 >= 0 ), AP678+camera!$B$4/2, 0)","v":328.48841128288518},null,null,null,1638.4402,4756.9377000000004,0,null,{"$f":"MMULT(               MMULT(AX678:AZ678-$B$2:$D$2, TRANSPOSE($A$16:$C$18)),     TRANSPOSE($A$12:$C$14))","v":-141.14944764147117},-6273.6761810394601,9070.0927100524168,null,-345.84410444263273,-7.7810366527474804," ",507.7810366527475,154.15589555736727]
[null,null,null,null,null,null,null,null,null,null,null,null,null,null,null,null,null,null,null,null,850.7056,34.306199999999997,null,null,null,"''",null,5.1524400000000004,-8.7540809999999993,null,-8.7540809999999993,77.286600000000007,null,{"$f":"camera!$B$5*COS(RADIANS(AE679))*COS(RADIANS(AF679))","v":108.75531623856467},{"$f":"camera!$B$5*COS(RADIANS(AE679))*SIN(RADIANS(AF679))","v":482.05968949840337},{"$f":"camera!$B$5*SIN(RADIANS(AE679))","v":-76.096891858686732},null,{"$f":"TRANSPOSE(MMULT(camera!$A$12:$C$14,MMULT(camera!$A$16:$C$18,TRANSPOSE(AH679:AJ679))))","v":-10.095390682642702},-66.32719913921045,495.47834033518785,null,{"$f":"camera!$B$5*AM679/AN679","v":-66.932491029113947},{"$f":"camera!$B$5*AL679/AN679","v":-10.187519676251878},null,{"$f":"IF( AND( (camera!$B$3) > (AQ679+camera!$B$3/2), 0 < (AQ679+camera!$B$3/2), AN679 >= 0 ), AQ679+camera!$B$3/2, 0)*-1+camera!$B$3","v":510.1875196762519},{"$f":"IF( AND( (camera!$B$4) > (AP679+camera!$B$4/2), 0 < (AP679+camera!$B$4/2), AN679 >= 0 ), AP679+camera!$B$4/2, 0)","v":433.06750897088602},null,null,null,1722.7991,4821.9750000000004,0,null,{"$f":"MMULT(               MMULT(AX679:AZ679-$B$2:$D$2, TRANSPOSE($A$16:$C$18)),     TRANSPOSE($A$12:$C$14))","v":-153.67680504115265},-6352.0456957685092,9141.1388843210825,null,-347.44279548490192,-8.4057800119818609," ",508.40578001198185,152.55720451509808]
[null,null,null,null,null,null,null,null,null,null,null,null,null,null,null,null,null,null,null,null,851.43129999999996,462.83769999999998,null,null,null,"''",null,8.3805879999999995,43.188130999999998,null,43.188130999999998,125.70881999999999,null,{"$f":"camera!$B$5*COS(RADIANS(AE680))*COS(RADIANS(AF680))","v":-212.77855894870183},{"$f":"camera!$B$5*COS(RADIANS(AE680))*SIN(RADIANS(AF680))","v":296.0165286055169},{"$f":"camera!$B$5*SIN(RADIANS(AE680))","v":342.19804155496422},null,{"$f":"TRANSPOSE(MMULT(camera!$A$12:$C$14,MMULT(camera!$A$16:$C$18,TRANSPOSE(AH680:AJ680))))","v":-384.98612876955423},237.76841270849593,212.72485179948896,null,{"$f":"camera!$B$5*AM680/AN680","v":558.86374040728583},{"$f":"camera!$B$5*AL680/AN680","v":-904.89222465750265},null,{"$f":"IF( AND( (camera!$B$3) > (AQ680+camera!$B$3/2), 0 < (AQ680+camera!$B$3/2), AN680 >= 0 ), AQ680+camera!$B$3/2, 0)*-1+camera!$B$3","v":1000},{"$f":"IF( AND( (camera!$B$4) > (AP680+camera!$B$4/2), 0 < (AP680+camera!$B$4/2), AN680 >= 0 ), AP680+camera!$B$4/2, 0)","v":0},null,null,null,1729.8713,4809.7254999999996,109.2342,null,{"$f":"MMULT(               MMULT(AX680:AZ680-$B$2:$D$2, TRANSPOSE($A$16:$C$18)),     TRANSPOSE($A$12:$C$14))","v":-259.2395167709351},-6360.1585981831404,9110.7600854739358,null,-349.04654159007464,-14.227106977839469," ",514.22710697783941,150.95345840992536]
[null,null,null,null,null,null,null,null,null,null,null,null,null,null,null,null,null,null,null,null,851.43129999999996,52.837699999999998,null,null,null,"''",null,12.890606999999999,-40.178871999999998,null,-40.178871999999998,-166.640895,null,{"$f":"camera!$B$5*COS(RADIANS(AE681))*COS(RADIANS(AF681))","v":-371.68001342151342},{"$f":"camera!$B$5*COS(RADIANS(AE681))*SIN(RADIANS(AF681))","v":-88.266372841974572},{"$f":"camera!$B$5*SIN(RADIANS(AE681))","v":-322.58799582176829},null,{"$f":"TRANSPOSE(MMULT(camera!$A$12:$C$14,MMULT(camera!$A$16:$C$18,TRANSPOSE(AH681:AJ681))))","v":338.58129646203724},362.5727374724965,-62.479722532884701,null,{"$f":"camera!$B$5*AM681/AN681","v":-2901.5232684625407},{"$f":"camera!$B$5*AL681/AN681","v":-2709.5294500054247},null,{"$f":"IF( AND( (camera!$B$3) > (AQ681+camera!$B$3/2), 0 < (AQ681+camera!$B$3/2), AN681 >= 0 ), AQ681+camera!$B$3/2, 0)*-1+camera!$B$3","v":1000},{"$f":"IF( AND( (camera!$B$4) > (AP681+camera!$B$4/2), 0 < (AP681+camera!$B$4/2), AN681 >= 0 ), AP681+camera!$B$4/2, 0)","v":0},null,null,null,1824.9611,4848.8590000000004,109.2342,null,{"$f":"MMULT(               MMULT(AX681:AZ681-$B$2:$D$2, TRANSPOSE($A$16:$C$18)),     TRANSPOSE($A$12:$C$14))","v":-267.44824943407366},-6451.4758435269305,9157.314121788495,null,-352.25808341425045,-14.602985432034025," ",514.60298543203407,147.74191658574955]
[null,null,null,null,null,null,null,null,null,null,null,null,null,null,null,null,null,null,null,null,851.65200000000004,544.06640000000004,null,null,null,"''",null,14.458758,75.695993000000001,null,75.695993000000001,-143.11863,null,{"$f":"camera!$B$5*COS(RADIANS(AE682))*COS(RADIANS(AF682))","v":-98.81186916493651},{"$f":"camera!$B$5*COS(RADIANS(AE682))*SIN(RADIANS(AF682))","v":-74.139820791421783},{"$f":"camera!$B$5*SIN(RADIANS(AE682))","v":484.49922753823591},null,{"$f":"TRANSPOSE(MMULT(camera!$A$12:$C$14,MMULT(camera!$A$16:$C$18,TRANSPOSE(AH682:AJ682))))","v":-462.81787932313119},91.97414902239035,-165.34922585378692,null,{"$f":"camera!$B$5*AM682/AN682","v":-278.12089396693085},{"$f":"camera!$B$5*AL682/AN682","v":1399.5163174588624},null,{"$f":"IF( AND( (camera!$B$3) > (AQ682+camera!$B$3/2), 0 < (AQ682+camera!$B$3/2), AN682 >= 0 ), AQ682+camera!$B$3/2, 0)*-1+camera!$B$3","v":1000},{"$f":"IF( AND( (camera!$B$4) > (AP682+camera!$B$4/2), 0 < (AP682+camera!$B$4/2), AN682 >= 0 ), AP682+camera!$B$4/2, 0)","v":0},null,null,null,1821.3025,4862.5132999999996,0,null,{"$f":"MMULT(               MMULT(AX682:AZ682-$B$2:$D$2, TRANSPOSE($A$16:$C$18)),     TRANSPOSE($A$12:$C$14))","v":-162.18021330566989},-6446.641114946292,9189.3641090164274,null,-350.76644251265282,-8.8243436314892438," ",508.82434363148923,149.23355748734718]
[null,null,null,null,null,null,null,null,null,null,null,null,null,null,null,null,null,null,null,null,851.65200000000004,134.06639999999999,null,null,null,"''",null,21.757480000000001,61.120806000000002,null,61.120806000000002,-33.63779999999997,null,{"$f":"camera!$B$5*COS(RADIANS(AE683))*COS(RADIANS(AF683))","v":201.04746390907854},{"$f":"camera!$B$5*COS(RADIANS(AE683))*SIN(RADIANS(AF683))","v":-133.76688720205516},{"$f":"camera!$B$5*SIN(RADIANS(AE683))","v":437.81998257731505},null,{"$f":"TRANSPOSE(MMULT(camera!$A$12:$C$14,MMULT(camera!$A$16:$C$18,TRANSPOSE(AH683:AJ683))))","v":-411.0712680109134},-211.94097002015292,-190.00378375920951,null,{"$f":"camera!$B$5*AM683/AN683","v":557.72828789753009},{"$f":"camera!$B$5*AL683/AN683","v":1081.7449523317418},null,{"$f":"IF( AND( (camera!$B$3) > (AQ683+camera!$B$3/2), 0 < (AQ683+camera!$B$3/2), AN683 >= 0 ), AQ683+camera!$B$3/2, 0)*-1+camera!$B$3","v":1000},{"$f":"IF( AND( (camera!$B$4) > (AP683+camera!$B$4/2), 0 < (AP683+camera!$B$4/2), AN683 >= 0 ), AP683+camera!$B$4/2, 0)","v":0},null,null,null,1926.8779999999999,4876.6576999999997,0,null,{"$f":"MMULT(               MMULT(AX683:AZ683-$B$2:$D$2, TRANSPOSE($A$16:$C$18)),     TRANSPOSE($A$12:$C$14))","v":-166.22484183780603},-6550.5821026069571,9212.3023372778371,null,-355.53447242497919,-9.0218946226489205," ",509.02189462264892,144.46552757502081]
[null,null,null,null,null,null,null,null,null,null,null,null,null,null,null,null,null,null,null,null,851.65679999999998,562.16219999999998,null,null,null,"''",null,1.1583680000000001,47.241791999999997,null,47.241791999999997,17.375520000000002,null,{"$f":"camera!$B$5*COS(RADIANS(AE684))*COS(RADIANS(AF684))","v":323.96305265807109},{"$f":"camera!$B$5*COS(RADIANS(AE684))*SIN(RADIANS(AF684))","v":101.37187825870525},{"$f":"camera!$B$5*SIN(RADIANS(AE684))","v":367.11262959855532},null,{"$f":"TRANSPOSE(MMULT(camera!$A$12:$C$14,MMULT(camera!$A$16:$C$18,TRANSPOSE(AH684:AJ684))))","v":-383.97441894947673},-313.89513409222474,63.509766065038811,null,{"$f":"camera!$B$5*AM684/AN684","v":-2471.2351622486876},{"$f":"camera!$B$5*AL684/AN684","v":-3022.9557022478862},null,{"$f":"IF( AND( (camera!$B$3) > (AQ684+camera!$B$3/2), 0 < (AQ684+camera!$B$3/2), AN684 >= 0 ), AQ684+camera!$B$3/2, 0)*-1+camera!$B$3","v":1000},{"$f":"IF( AND( (camera!$B$4) > (AP684+camera!$B$4/2), 0 < (AP684+camera!$B$4/2), AN684 >= 0 ), AP684+camera!$B$4/2, 0)","v":0},null,null,null,1926.8779999999999,4862.5132999999996,109.2342,null,{"$f":"MMULT(               MMULT(AX684:AZ684-$B$2:$D$2, TRANSPOSE($A$16:$C$18)),     TRANSPOSE($A$12:$C$14))","v":-271.35272599725795},-6551.8148682946776,9179.4575087364065,null,-356.87375109362887,-14.780433687884182," ",514.78043368788417,143.12624890637113]
[null,null,null,null,null,null,null,null,null,null,null,null,null,null,null,null,null,null,null,null,851.65679999999998,152.16220000000001,null,null,null,"''",null,1.756564,9.1577359999999999,null,9.1577359999999999,26.348459999999999,null,{"$f":"camera!$B$5*COS(RADIANS(AE685))*COS(RADIANS(AF685))","v":442.34473495062315},{"$f":"camera!$B$5*COS(RADIANS(AE685))*SIN(RADIANS(AF685))","v":219.08609524292322},{"$f":"camera!$B$5*SIN(RADIANS(AE685))","v":79.576493593721978},null,{"$f":"TRANSPOSE(MMULT(camera!$A$12:$C$14,MMULT(camera!$A$16:$C$18,TRANSPOSE(AH685:AJ685))))","v":-122.96131854732575},-421.56686833002811,239.08552793407591,null,{"$f":"camera!$B$5*AM685/AN685","v":-881.6235595118676},{"$f":"camera!$B$5*AL685/AN685","v":-257.14922941975476},null,{"$f":"IF( AND( (camera!$B$3) > (AQ685+camera!$B$3/2), 0 < (AQ685+camera!$B$3/2), AN685 >= 0 ), AQ685+camera!$B$3/2, 0)*-1+camera!$B$3","v":757.14922941975476},{"$f":"IF( AND( (camera!$B$4) > (AP685+camera!$B$4/2), 0 < (AP685+camera!$B$4/2), AN685 >= 0 ), AP685+camera!$B$4/2, 0)","v":0},null,null,null,2028.7949000000001,4848.8590000000004,109.2342,null,{"$f":"MMULT(               MMULT(AX685:AZ685-$B$2:$D$2, TRANSPOSE($A$16:$C$18)),     TRANSPOSE($A$12:$C$14))","v":-270.53315901469978},-6654.533994378824,9174.809513408265,null,-362.65243352757045,-14.743257536809715," ",514.74325753680978,137.34756647242955]
[null,null,null,null,null,null,null,null,null,null,null,null,null,null,null,null,null,null,null,null,853.76390000000004,467.2602,null,null,null,"'82 G. Eri'",null,3.331944,-43.069783999999999,null,-43.069783999999999,49.97916,null,{"$f":"camera!$B$5*COS(RADIANS(AE686))*COS(RADIANS(AF686))","v":234.88716722522585},{"$f":"camera!$B$5*COS(RADIANS(AE686))*SIN(RADIANS(AF686))","v":279.72093933603168},{"$f":"camera!$B$5*SIN(RADIANS(AE686))","v":-341.44430698120721},null,{"$f":"TRANSPOSE(MMULT(camera!$A$12:$C$14,MMULT(camera!$A$16:$C$18,TRANSPOSE(AH686:AJ686))))","v":284.31391963853787},-209.61406440965476,353.87503317051926,null,{"$f":"camera!$B$5*AM686/AN686","v":-296.16961463999286},{"$f":"camera!$B$5*AL686/AN686","v":401.7151437489764},null,{"$f":"IF( AND( (camera!$B$3) > (AQ686+camera!$B$3/2), 0 < (AQ686+camera!$B$3/2), AN686 >= 0 ), AQ686+camera!$B$3/2, 0)*-1+camera!$B$3","v":98.284856251023598},{"$f":"IF( AND( (camera!$B$4) > (AP686+camera!$B$4/2), 0 < (AP686+camera!$B$4/2), AN686 >= 0 ), AP686+camera!$B$4/2, 0)","v":203.83038536000714},null,null,null,2032.4536000000001,4862.5132999999996,0,null,{"$f":"MMULT(               MMULT(AX686:AZ686-$B$2:$D$2, TRANSPOSE($A$16:$C$18)),     TRANSPOSE($A$12:$C$14))","v":-165.37586609411687},-6656.9887212625326,9207.4875565773564,null,-361.49865423967481,-8.98050988817144," ",508.98050988817147,138.50134576032519]
[null,null,null,null,null,null,null,null,null,null,null,null,null,null,null,null,null,null,null,null,853.76390000000004,57.260199999999998,null,null,null,"''",null,3.563132,-21.632883,null,-21.632883,53.446979999999996,null,{"$f":"camera!$B$5*COS(RADIANS(AE687))*COS(RADIANS(AF687))","v":276.80885810266409},{"$f":"camera!$B$5*COS(RADIANS(AE687))*SIN(RADIANS(AF687))","v":373.3626337198375},{"$f":"camera!$B$5*SIN(RADIANS(AE687))","v":-184.32905310255796},null,{"$f":"TRANSPOSE(MMULT(camera!$A$12:$C$14,MMULT(camera!$A$16:$C$18,TRANSPOSE(AH687:AJ687))))","v":112.75230568471818},-243.21481917063005,422.05860884310556,null,{"$f":"camera!$B$5*AM687/AN687","v":-288.12920063080833},{"$f":"camera!$B$5*AL687/AN687","v":133.57422798907095},null,{"$f":"IF( AND( (camera!$B$3) > (AQ687+camera!$B$3/2), 0 < (AQ687+camera!$B$3/2), AN687 >= 0 ), AQ687+camera!$B$3/2, 0)*-1+camera!$B$3","v":366.42577201092899},{"$f":"IF( AND( (camera!$B$4) > (AP687+camera!$B$4/2), 0 < (AP687+camera!$B$4/2), AN687 >= 0 ), AP687+camera!$B$4/2, 0)","v":211.87079936919167},null,null,null,2130.9569000000001,4821.9750000000004,0,null,{"$f":"MMULT(               MMULT(AX687:AZ687-$B$2:$D$2, TRANSPOSE($A$16:$C$18)),     TRANSPOSE($A$12:$C$14))","v":-159.85404310288391},-6758.6503321133005,9176.1717422360307,null,-368.27178707895274,-8.710279602064805," ",508.71027960206482,131.72821292104726]
[null,null,null,null,null,null,null,null,null,null,null,null,null,null,null,null,null,null,null,null,853.78430000000003,515,null,null,null,"''",null,4.2670969999999997,-51.486648000000002,null,-51.486648000000002,64.006454999999988,null,{"$f":"camera!$B$5*COS(RADIANS(AE688))*COS(RADIANS(AF688))","v":136.45467037950226},{"$f":"camera!$B$5*COS(RADIANS(AE688))*SIN(RADIANS(AF688))","v":279.85355117337019},{"$f":"camera!$B$5*SIN(RADIANS(AE688))","v":-391.23153352877279},null,{"$f":"TRANSPOSE(MMULT(camera!$A$12:$C$14,MMULT(camera!$A$16:$C$18,TRANSPOSE(AH688:AJ688))))","v":334.81154648153125},-111.54457504883207,354.20197080171778,null,{"$f":"camera!$B$5*AM688/AN688","v":-157.45899831719839},{"$f":"camera!$B$5*AL688/AN688","v":472.62801181442143},null,{"$f":"IF( AND( (camera!$B$3) > (AQ688+camera!$B$3/2), 0 < (AQ688+camera!$B$3/2), AN688 >= 0 ), AQ688+camera!$B$3/2, 0)*-1+camera!$B$3","v":27.37198818557863},{"$f":"IF( AND( (camera!$B$4) > (AP688+camera!$B$4/2), 0 < (AP688+camera!$B$4/2), AN688 >= 0 ), AP688+camera!$B$4/2, 0)","v":342.54100168280161},null,null,null,2123.8847000000001,4809.7254999999996,109.2342,null,{"$f":"MMULT(               MMULT(AX688:AZ688-$B$2:$D$2, TRANSPOSE($A$16:$C$18)),     TRANSPOSE($A$12:$C$14))","v":-265.20268731750366},-6752.6726582402434,9144.5789061819705,null,-369.2172557926786,-14.500541251725645," ",514.50054125172562,130.7827442073214]
[null,null,null,null,null,null,null,null,null,null,null,null,null,null,null,null,null,null,null,null,853.78430000000003,500,null,null,null,"''",null,4.900836,66.342678000000006,null,66.342678000000006,73.512540000000001,null,{"$f":"camera!$B$5*COS(RADIANS(AE689))*COS(RADIANS(AF689))","v":56.940691418447443},{"$f":"camera!$B$5*COS(RADIANS(AE689))*SIN(RADIANS(AF689))","v":192.38316176953555},{"$f":"camera!$B$5*SIN(RADIANS(AE689))","v":457.98086939122891},null,{"$f":"TRANSPOSE(MMULT(camera!$A$12:$C$14,MMULT(camera!$A$16:$C$18,TRANSPOSE(AH689:AJ689))))","v":-485.16473794178489},-39.956717540568761,114.09924531416661,null,{"$f":"camera!$B$5*AM689/AN689","v":-175.09632702017407},{"$f":"camera!$B$5*AL689/AN689","v":-2126.0646229776012},null,{"$f":"IF( AND( (camera!$B$3) > (AQ689+camera!$B$3/2), 0 < (AQ689+camera!$B$3/2), AN689 >= 0 ), AQ689+camera!$B$3/2, 0)*-1+camera!$B$3","v":1000},{"$f":"IF( AND( (camera!$B$4) > (AP689+camera!$B$4/2), 0 < (AP689+camera!$B$4/2), AN689 >= 0 ), AP689+camera!$B$4/2, 0)","v":324.90367297982596},null,null,null,2205.3202000000001,4746.9421000000002,109.2342,null,{"$f":"MMULT(               MMULT(AX689:AZ689-$B$2:$D$2, TRANSPOSE($A$16:$C$18)),     TRANSPOSE($A$12:$C$14))","v":-255.57443092459039},-6839.2702054359179,9089.9743507462226,null,-376.19854256653991,-14.058039168372876," ",514.05803916837294,123.80145743346009]
[null,null,null,null,null,null,null,null,null,null,null,null,null,null,null,null,null,null,null,null,853.78430000000003,485,null,null,null,"''",null,8.9747839999999997,11.857701,null,11.857701,134.62175999999999,null,{"$f":"camera!$B$5*COS(RADIANS(AE690))*COS(RADIANS(AF690))","v":-343.71718490584686},{"$f":"camera!$B$5*COS(RADIANS(AE690))*SIN(RADIANS(AF690))","v":348.28553028065267},{"$f":"camera!$B$5*SIN(RADIANS(AE690))","v":102.74086916862466},null,{"$f":"TRANSPOSE(MMULT(camera!$A$12:$C$14,MMULT(camera!$A$16:$C$18,TRANSPOSE(AH690:AJ690))))","v":-156.22704503039631},372.76432132609705,294.34651543268654,null,{"$f":"camera!$B$5*AM690/AN690","v":633.20661496219361},{"$f":"camera!$B$5*AL690/AN690","v":-265.37947086063525},null,{"$f":"IF( AND( (camera!$B$3) > (AQ690+camera!$B$3/2), 0 < (AQ690+camera!$B$3/2), AN690 >= 0 ), AQ690+camera!$B$3/2, 0)*-1+camera!$B$3","v":765.37947086063525},{"$f":"IF( AND( (camera!$B$4) > (AP690+camera!$B$4/2), 0 < (AP690+camera!$B$4/2), AN690 >= 0 ), AP690+camera!$B$4/2, 0)","v":0},null,null,null,2215.3157999999999,4756.9377000000004,0,null,{"$f":"MMULT(               MMULT(AX690:AZ690-$B$2:$D$2, TRANSPOSE($A$16:$C$18)),     TRANSPOSE($A$12:$C$14))","v":-149.88013443271757},-6848.3565952179551,9119.6068953243885,null,-375.47433095658431,-8.2174668356352587," ",508.21746683563526,124.52566904341569]
[null,null,null,null,null,null,null,null,null,null,null,null,null,null,null,null,null,null,null,null,853.78430000000003,105,null,null,null,"''",null,17.609120999999998,-38.635308000000002,null,-38.635308000000002,-95.863185000000044,null,{"$f":"camera!$B$5*COS(RADIANS(AE691))*COS(RADIANS(AF691))","v":-39.897832932005436},{"$f":"camera!$B$5*COS(RADIANS(AE691))*SIN(RADIANS(AF691))","v":-388.52473848788833},{"$f":"camera!$B$5*SIN(RADIANS(AE691))","v":-312.18054153045438},null,{"$f":"TRANSPOSE(MMULT(camera!$A$12:$C$14,MMULT(camera!$A$16:$C$18,TRANSPOSE(AH691:AJ691))))","v":375.25153082029954},5.8838474734625166,-330.38109654750343,null,{"$f":"camera!$B$5*AM691/AN691","v":-8.9046370009497728},{"$f":"camera!$B$5*AL691/AN691","v":-567.90708479040427},null,{"$f":"IF( AND( (camera!$B$3) > (AQ691+camera!$B$3/2), 0 < (AQ691+camera!$B$3/2), AN691 >= 0 ), AQ691+camera!$B$3/2, 0)*-1+camera!$B$3","v":1000},{"$f":"IF( AND( (camera!$B$4) > (AP691+camera!$B$4/2), 0 < (AP691+camera!$B$4/2), AN691 >= 0 ), AP691+camera!$B$4/2, 0)","v":0},null,null,null,2280.3530000000001,4672.5789000000004,0,null,{"$f":"MMULT(               MMULT(AX691:AZ691-$B$2:$D$2, TRANSPOSE($A$16:$C$18)),     TRANSPOSE($A$12:$C$14))","v":-136.27142680067186},-6920.4986629079876,9042.4280791422752,null,-382.66816182210852,-7.5351125609172636," ",507.53511256091724,117.33183817789148]
[null,null,null,null,null,null,null,null,null,null,null,null,null,null,null,null,null,null,null,null,853.78430000000003,90,null,null,null,"''",null,18.025113000000001,21.595782,null,21.595782,-89.623304999999959,null,{"$f":"camera!$B$5*COS(RADIANS(AE692))*COS(RADIANS(AF692))","v":3.0565064370164916},{"$f":"camera!$B$5*COS(RADIANS(AE692))*SIN(RADIANS(AF692))","v":-464.89174433784251},{"$f":"camera!$B$5*SIN(RADIANS(AE692))","v":184.02805170657692},null,{"$f":"TRANSPOSE(MMULT(camera!$A$12:$C$14,MMULT(camera!$A$16:$C$18,TRANSPOSE(AH692:AJ692))))","v":-100.85809928282917},-43.562860782258177,-487.78060741435854,null,{"$f":"camera!$B$5*AM692/AN692","v":44.654154060344304},{"$f":"camera!$B$5*AL692/AN692","v":103.38469564981344},null,{"$f":"IF( AND( (camera!$B$3) > (AQ692+camera!$B$3/2), 0 < (AQ692+camera!$B$3/2), AN692 >= 0 ), AQ692+camera!$B$3/2, 0)*-1+camera!$B$3","v":1000},{"$f":"IF( AND( (camera!$B$4) > (AP692+camera!$B$4/2), 0 < (AP692+camera!$B$4/2), AN692 >= 0 ), AP692+camera!$B$4/2, 0)","v":0},null,null,null,2268.1035999999999,4665.5065999999997,109.2342,null,{"$f":"MMULT(               MMULT(AX692:AZ692-$B$2:$D$2, TRANSPOSE($A$16:$C$18)),     TRANSPOSE($A$12:$C$14))","v":-242.43730734957194},-6908.9122671326177,9015.4700206531506,null,-383.16983203900014,-13.445627726240716," ",513.44562772624067,116.83016796099986]
[null,null,null,null,null,null,null,null,null,null,null,null,null,null,null,null,null,null,null,null,853.78430000000003,75,null,null,null,"''",null,22.063134999999999,64.627971000000002,null,64.627971000000002,-29.052975000000004,null,{"$f":"camera!$B$5*COS(RADIANS(AE693))*COS(RADIANS(AF693))","v":187.28857012199359},{"$f":"camera!$B$5*COS(RADIANS(AE693))*SIN(RADIANS(AF693))","v":-104.04223694969504},{"$f":"camera!$B$5*SIN(RADIANS(AE693))","v":451.77229267869296},null,{"$f":"TRANSPOSE(MMULT(camera!$A$12:$C$14,MMULT(camera!$A$16:$C$18,TRANSPOSE(AH693:AJ693))))","v":-429.74536785757749},-195.64375900719264,-164.44585238457955,null,{"$f":"camera!$B$5*AM693/AN693","v":594.85768771368112},{"$f":"camera!$B$5*AL693/AN693","v":1306.6470258324243},null,{"$f":"IF( AND( (camera!$B$3) > (AQ693+camera!$B$3/2), 0 < (AQ693+camera!$B$3/2), AN693 >= 0 ), AQ693+camera!$B$3/2, 0)*-1+camera!$B$3","v":1000},{"$f":"IF( AND( (camera!$B$4) > (AP693+camera!$B$4/2), 0 < (AP693+camera!$B$4/2), AN693 >= 0 ), AP693+camera!$B$4/2, 0)","v":0},null,null,null,2307.2370999999998,4570.4169000000002,109.2342,null,{"$f":"MMULT(               MMULT(AX693:AZ693-$B$2:$D$2, TRANSPOSE($A$16:$C$18)),     TRANSPOSE($A$12:$C$14))","v":-226.58025140479822},-6956.1844657815436,8925.5401875608932,null,-389.67862558481625,-12.692803272600379," ",512.69280327260037,110.32137441518375]
[null,null,null,null,null,null,null,null,null,null,null,null,null,null,null,null,null,null,null,null,854.06949999999995,539.68970000000002,null,null,null,"''",null,1.049058,7.8901349999999999,null,7.8901349999999999,15.73587,null,{"$f":"camera!$B$5*COS(RADIANS(AE694))*COS(RADIANS(AF694))","v":476.70503018044565},{"$f":"camera!$B$5*COS(RADIANS(AE694))*SIN(RADIANS(AF694))","v":134.31781840502833},{"$f":"camera!$B$5*SIN(RADIANS(AE694))","v":68.637000659806247},null,{"$f":"TRANSPOSE(MMULT(camera!$A$12:$C$14,MMULT(camera!$A$16:$C$18,TRANSPOSE(AH694:AJ694))))","v":-98.044201479982135},-463.18445439209017,160.77156392115614,null,{"$f":"camera!$B$5*AM694/AN694","v":-1440.5049098708776},{"$f":"camera!$B$5*AL694/AN694","v":-304.91773261614821},null,{"$f":"IF( AND( (camera!$B$3) > (AQ694+camera!$B$3/2), 0 < (AQ694+camera!$B$3/2), AN694 >= 0 ), AQ694+camera!$B$3/2, 0)*-1+camera!$B$3","v":804.91773261614821},{"$f":"IF( AND( (camera!$B$4) > (AP694+camera!$B$4/2), 0 < (AP694+camera!$B$4/2), AN694 >= 0 ), AP694+camera!$B$4/2, 0)","v":0},null,null,null,2320.8912999999998,4574.0754999999999,0,null,{"$f":"MMULT(               MMULT(AX694:AZ694-$B$2:$D$2, TRANSPOSE($A$16:$C$18)),     TRANSPOSE($A$12:$C$14))","v":-119.84510464481036},-6969.4678394278098,8949.2697769365532,null,-389.38751502323947,-6.6958035477747568," ",506.69580354777474,110.61248497676053]
[null,null,null,null,null,null,null,null,null,null,null,null,null,null,null,null,null,null,null,null,854.06949999999995,129.68969999999999,null,null,null,"''",null,2.7490389999999998,10.114146,null,10.114146,41.235585,null,{"$f":"camera!$B$5*COS(RADIANS(AE695))*COS(RADIANS(AF695))","v":370.1596946485181},{"$f":"camera!$B$5*COS(RADIANS(AE695))*SIN(RADIANS(AF695))","v":324.45662416482946},{"$f":"camera!$B$5*SIN(RADIANS(AE695))","v":87.804894472224348},null,{"$f":"TRANSPOSE(MMULT(camera!$A$12:$C$14,MMULT(camera!$A$16:$C$18,TRANSPOSE(AH695:AJ695))))","v":-148.20000485658841},-340.47286718762973,334.83575864823905,null,{"$f":"camera!$B$5*AM695/AN695","v":-508.41772181404428},{"$f":"camera!$B$5*AL695/AN695","v":-221.30253568926548},null,{"$f":"IF( AND( (camera!$B$3) > (AQ695+camera!$B$3/2), 0 < (AQ695+camera!$B$3/2), AN695 >= 0 ), AQ695+camera!$B$3/2, 0)*-1+camera!$B$3","v":721.30253568926548},{"$f":"IF( AND( (camera!$B$4) > (AP695+camera!$B$4/2), 0 < (AP695+camera!$B$4/2), AN695 >= 0 ), AP695+camera!$B$4/2, 0)","v":0},null,null,null,2280.3530000000001,4468.5,-211.15110000000001,null,{"$f":"MMULT(               MMULT(AX695:AZ695-$B$2:$D$2, TRANSPOSE($A$16:$C$18)),     TRANSPOSE($A$12:$C$14))","v":106.9748906024829},-6938.2853110166134,8878.8803837281139,null,-390.71848088707594,6.0241204960104264," ",493.97587950398957,109.28151911292406]
[null,null,null,null,null,null,null,null,null,null,null,null,null,null,null,null,null,null,null,null,855.7056,444.30619999999999,null,null,null,"''",null,4.2589050000000004,8.8923570000000005,null,8.8923570000000005,63.883575000000008,null,{"$f":"camera!$B$5*COS(RADIANS(AE696))*COS(RADIANS(AF696))","v":217.45282218634316},{"$f":"camera!$B$5*COS(RADIANS(AE696))*SIN(RADIANS(AF696))","v":443.5545452093192},{"$f":"camera!$B$5*SIN(RADIANS(AE696))","v":77.289297754272866},null,{"$f":"TRANSPOSE(MMULT(camera!$A$12:$C$14,MMULT(camera!$A$16:$C$18,TRANSPOSE(AH696:AJ696))))","v":-156.13547029160975},-177.96702271030421,440.39692749206131,null,{"$f":"camera!$B$5*AM696/AN696","v":-202.052979483505},{"$f":"camera!$B$5*AL696/AN696","v":-177.26675703751849},null,{"$f":"IF( AND( (camera!$B$3) > (AQ696+camera!$B$3/2), 0 < (AQ696+camera!$B$3/2), AN696 >= 0 ), AQ696+camera!$B$3/2, 0)*-1+camera!$B$3","v":677.26675703751846},{"$f":"IF( AND( (camera!$B$4) > (AP696+camera!$B$4/2), 0 < (AP696+camera!$B$4/2), AN696 >= 0 ), AP696+camera!$B$4/2, 0)","v":297.947020516495},null,null,null,2320.8912999999998,4468.5,-109.2342,null,{"$f":"MMULT(               MMULT(AX696:AZ696-$B$2:$D$2, TRANSPOSE($A$16:$C$18)),     TRANSPOSE($A$12:$C$14))","v":5.9928130166142637},-6978.6693505462654,8864.662168994575,null,-393.62297273748118,0.3380169995408841," ",499.66198300045909,106.37702726251882]
[null,null,null,null,null,null,null,null,null,null,null,null,null,null,null,null,null,null,null,null,855.7056,34.306199999999997,null,null,null,"''",null,4.635961,12.510838,null,12.510838,69.539415000000005,null,{"$f":"camera!$B$5*COS(RADIANS(AE697))*COS(RADIANS(AF697))","v":170.63129314378818},{"$f":"camera!$B$5*COS(RADIANS(AE697))*SIN(RADIANS(AF697))","v":457.33296577419378},{"$f":"camera!$B$5*SIN(RADIANS(AE697))","v":108.31214251531894},null,{"$f":"TRANSPOSE(MMULT(camera!$A$12:$C$14,MMULT(camera!$A$16:$C$18,TRANSPOSE(AH697:AJ697))))","v":-188.36188396860638},-130.12279524334105,444.50855877683256,null,{"$f":"camera!$B$5*AM697/AN697","v":-146.36703014381075},{"$f":"camera!$B$5*AL697/AN697","v":-211.87655473600711},null,{"$f":"IF( AND( (camera!$B$3) > (AQ697+camera!$B$3/2), 0 < (AQ697+camera!$B$3/2), AN697 >= 0 ), AQ697+camera!$B$3/2, 0)*-1+camera!$B$3","v":711.87655473600717},{"$f":"IF( AND( (camera!$B$4) > (AP697+camera!$B$4/2), 0 < (AP697+camera!$B$4/2), AN697 >= 0 ), AP697+camera!$B$4/2, 0)","v":353.63296985618922},null,null,null,2307.2370999999998,4366.5830999999998,-109.2342,null,{"$f":"MMULT(               MMULT(AX697:AZ697-$B$2:$D$2, TRANSPOSE($A$16:$C$18)),     TRANSPOSE($A$12:$C$14))","v":23.829800559222122},-6973.949752017621,8763.503585827435,null,-397.89735256661919,1.3596046561651607," ",498.64039534383483,102.10264743338081]
[null,null,null,null,null,null,null,null,null,null,null,null,null,null,null,null,null,null,null,null,856.09659999999997,471.68270000000001,null,null,null,"''",null,4.7040839999999999,22.956925999999999,null,22.956925999999999,70.561260000000004,null,{"$f":"camera!$B$5*COS(RADIANS(AE698))*COS(RADIANS(AF698))","v":153.22029424707964},{"$f":"camera!$B$5*COS(RADIANS(AE698))*SIN(RADIANS(AF698))","v":434.15542886865779},{"$f":"camera!$B$5*SIN(RADIANS(AE698))","v":195.01949906281214},null,{"$f":"TRANSPOSE(MMULT(camera!$A$12:$C$14,MMULT(camera!$A$16:$C$18,TRANSPOSE(AH698:AJ698))))","v":-269.47903358609972},-114.79810589802197,405.21900910461767,null,{"$f":"camera!$B$5*AM698/AN698","v":-141.64945784710693},{"$f":"camera!$B$5*AL698/AN698","v":-332.51035555013516},null,{"$f":"IF( AND( (camera!$B$3) > (AQ698+camera!$B$3/2), 0 < (AQ698+camera!$B$3/2), AN698 >= 0 ), AQ698+camera!$B$3/2, 0)*-1+camera!$B$3","v":832.51035555013516},{"$f":"IF( AND( (camera!$B$4) > (AP698+camera!$B$4/2), 0 < (AP698+camera!$B$4/2), AN698 >= 0 ), AP698+camera!$B$4/2, 0)","v":358.35054215289307},null,null,null,2268.1035999999999,4377.0689000000002,-211.15110000000001,null,{"$f":"MMULT(               MMULT(AX698:AZ698-$B$2:$D$2, TRANSPOSE($A$16:$C$18)),     TRANSPOSE($A$12:$C$14))","v":122.97670607431701},-6934.0512691125441,8788.1295785618258,null,-394.5123479988161,6.9967508429957688," ",493.00324915700423,105.4876520011839]
[null,null,null,null,null,null,null,null,null,null,null,null,null,null,null,null,null,null,null,null,856.09659999999997,61.682699999999997,null,null,null,"''",null,13.115180000000001,-49.906246000000003,null,-49.906246000000003,-163.2723,null,{"$f":"camera!$B$5*COS(RADIANS(AE699))*COS(RADIANS(AF699))","v":-308.39334133606764},{"$f":"camera!$B$5*COS(RADIANS(AE699))*SIN(RADIANS(AF699))","v":-92.684974492147063},{"$f":"camera!$B$5*SIN(RADIANS(AE699))","v":-382.49580719658314},null,{"$f":"TRANSPOSE(MMULT(camera!$A$12:$C$14,MMULT(camera!$A$16:$C$18,TRANSPOSE(AH699:AJ699))))","v":397.38552787211802},299.14178377237772,-50.979755190448628,null,{"$f":"camera!$B$5*AM699/AN699","v":-2933.9272291015609},{"$f":"camera!$B$5*AL699/AN699","v":-3897.4836813905554},null,{"$f":"IF( AND( (camera!$B$3) > (AQ699+camera!$B$3/2), 0 < (AQ699+camera!$B$3/2), AN699 >= 0 ), AQ699+camera!$B$3/2, 0)*-1+camera!$B$3","v":1000},{"$f":"IF( AND( (camera!$B$4) > (AP699+camera!$B$4/2), 0 < (AP699+camera!$B$4/2), AN699 >= 0 ), AP699+camera!$B$4/2, 0)","v":0},null,null,null,2232.9962999999998,4291.7624999999998,-211.15110000000001,null,{"$f":"MMULT(               MMULT(AX699:AZ699-$B$2:$D$2, TRANSPOSE($A$16:$C$18)),     TRANSPOSE($A$12:$C$14))","v":138.26496707696742},-6906.5125056413553,8701.4255418839239,null,-396.86097826138746,7.9449606510700548," ",492.05503934892994,103.13902173861254]
[null,null,null,null,null,null,null,null,null,null,null,null,null,null,null,null,null,null,null,null,856.48689999999999,535.31299999999999,null,null,null,"''",null,15.308897,-47.875272000000002,null,-47.875272000000002,-130.366545,null,{"$f":"camera!$B$5*COS(RADIANS(AE700))*COS(RADIANS(AF700))","v":-217.21300415225519},{"$f":"camera!$B$5*COS(RADIANS(AE700))*SIN(RADIANS(AF700))","v":-255.52655884232212},{"$f":"camera!$B$5*SIN(RADIANS(AE700))","v":-370.84321289913566},null,{"$f":"TRANSPOSE(MMULT(camera!$A$12:$C$14,MMULT(camera!$A$16:$C$18,TRANSPOSE(AH700:AJ700))))","v":412.69954099608452},194.11583606540117,-204.93445549797491,null,{"$f":"camera!$B$5*AM700/AN700","v":-473.60468397984778},{"$f":"camera!$B$5*AL700/AN700","v":-1006.9061837192201},null,{"$f":"IF( AND( (camera!$B$3) > (AQ700+camera!$B$3/2), 0 < (AQ700+camera!$B$3/2), AN700 >= 0 ), AQ700+camera!$B$3/2, 0)*-1+camera!$B$3","v":1000},{"$f":"IF( AND( (camera!$B$4) > (AP700+camera!$B$4/2), 0 < (AP700+camera!$B$4/2), AN700 >= 0 ), AP700+camera!$B$4/2, 0)","v":0},null,null,null,2268.1035999999999,4271.4933000000001,-109.2342,null,{"$f":"MMULT(               MMULT(AX700:AZ700-$B$2:$D$2, TRANSPOSE($A$16:$C$18)),     TRANSPOSE($A$12:$C$14))","v":40.87140069742486},-6943.2527889465737,8666.8558687864515,null,-400.56353157738505,2.3579139491994199," ",497.64208605080057,99.436468422614951]
[null,null,null,null,null,null,null,null,null,null,null,null,null,null,null,null,null,null,null,null,856.48689999999999,125.313,null,null,null,"''",null,19.386976000000001,-44.799778000000003,null,-44.799778000000003,-69.195359999999994,null,{"$f":"camera!$B$5*COS(RADIANS(AE701))*COS(RADIANS(AF701))","v":126.0140979918328},{"$f":"camera!$B$5*COS(RADIANS(AE701))*SIN(RADIANS(AF701))","v":-331.65354404657444},{"$f":"camera!$B$5*SIN(RADIANS(AE701))","v":-352.31573031678801},null,{"$f":"TRANSPOSE(MMULT(camera!$A$12:$C$14,MMULT(camera!$A$16:$C$18,TRANSPOSE(AH701:AJ701))))","v":402.42799270604542},-154.44008727054987,-253.37713024353243,null,{"$f":"camera!$B$5*AM701/AN701","v":304.76327346929531},{"$f":"camera!$B$5*AL701/AN701","v":-794.12848412809262},null,{"$f":"IF( AND( (camera!$B$3) > (AQ701+camera!$B$3/2), 0 < (AQ701+camera!$B$3/2), AN701 >= 0 ), AQ701+camera!$B$3/2, 0)*-1+camera!$B$3","v":1000},{"$f":"IF( AND( (camera!$B$4) > (AP701+camera!$B$4/2), 0 < (AP701+camera!$B$4/2), AN701 >= 0 ), AP701+camera!$B$4/2, 0)","v":0},null,null,null,2205.3202000000001,4190.0577999999996,-109.2342,null,{"$f":"MMULT(               MMULT(AX701:AZ701-$B$2:$D$2, TRANSPOSE($A$16:$C$18)),     TRANSPOSE($A$12:$C$14))","v":55.90890695837993},-6887.8058702269273,8581.5739329163098,null,-401.3136706663679,3.2574972490728276," ",496.74250275092714,98.686329333632102]
[null,null,null,null,null,null,null,null,null,null,null,null,null,null,null,null,null,null,null,null,856.65679999999998,562.16219999999998,null,null,null,"''",null,20.777640000000002,16.124296000000001,null,16.124296000000001,-48.335399999999993,null,{"$f":"camera!$B$5*COS(RADIANS(AE702))*COS(RADIANS(AF702))","v":319.30894516745593},{"$f":"camera!$B$5*COS(RADIANS(AE702))*SIN(RADIANS(AF702))","v":-358.83062071574182},{"$f":"camera!$B$5*SIN(RADIANS(AE702))","v":138.86102107071656},null,{"$f":"TRANSPOSE(MMULT(camera!$A$12:$C$14,MMULT(camera!$A$16:$C$18,TRANSPOSE(AH702:AJ702))))","v":-79.510796966855764},-349.36802749817122,-348.74061209978464,null,{"$f":"camera!$B$5*AM702/AN702","v":500.89954449900296},{"$f":"camera!$B$5*AL702/AN702","v":113.99704279939937},null,{"$f":"IF( AND( (camera!$B$3) > (AQ702+camera!$B$3/2), 0 < (AQ702+camera!$B$3/2), AN702 >= 0 ), AQ702+camera!$B$3/2, 0)*-1+camera!$B$3","v":1000},{"$f":"IF( AND( (camera!$B$4) > (AP702+camera!$B$4/2), 0 < (AP702+camera!$B$4/2), AN702 >= 0 ), AP702+camera!$B$4/2, 0)","v":0},null,null,null,2176.6723999999999,4218.7055,-211.15110000000001,null,{"$f":"MMULT(               MMULT(AX702:AZ702-$B$2:$D$2, TRANSPOSE($A$16:$C$18)),     TRANSPOSE($A$12:$C$14))","v":151.75533756921595},-6856.7702721834212,8624.9178489713267,null,-397.49771489134889,8.797494667576192," ",491.20250533242381,102.50228510865111]
[null,null,null,null,null,null,null,null,null,null,null,null,null,null,null,null,null,null,null,null,856.65679999999998,152.16220000000001,null,null,null,"''",null,23.466138000000001,6.3789920000000002,null,6.3789920000000002,-8.0079299999999876,null,{"$f":"camera!$B$5*COS(RADIANS(AE703))*COS(RADIANS(AF703))","v":492.05894643668302},{"$f":"camera!$B$5*COS(RADIANS(AE703))*SIN(RADIANS(AF703))","v":-69.223824789041146},{"$f":"camera!$B$5*SIN(RADIANS(AE703))","v":55.552275499727422},null,{"$f":"TRANSPOSE(MMULT(camera!$A$12:$C$14,MMULT(camera!$A$16:$C$18,TRANSPOSE(AH703:AJ703))))","v":-50.180497146344656},-496.21976745415645,-35.325063253850715,null,{"$f":"camera!$B$5*AM703/AN703","v":7023.6217821926275},{"$f":"camera!$B$5*AL703/AN703","v":710.26761913688267},null,{"$f":"IF( AND( (camera!$B$3) > (AQ703+camera!$B$3/2), 0 < (AQ703+camera!$B$3/2), AN703 >= 0 ), AQ703+camera!$B$3/2, 0)*-1+camera!$B$3","v":1000},{"$f":"IF( AND( (camera!$B$4) > (AP703+camera!$B$4/2), 0 < (AP703+camera!$B$4/2), AN703 >= 0 ), AP703+camera!$B$4/2, 0)","v":0},null,null,null,2103.6154999999999,4162.3816999999999,-211.15110000000001,null,{"$f":"MMULT(               MMULT(AX703:AZ703-$B$2:$D$2, TRANSPOSE($A$16:$C$18)),     TRANSPOSE($A$12:$C$14))","v":162.6043199173746},-6788.9003183677733,8563.3902126188623,null,-396.39092402701493,9.494155695355543," ",490.50584430464448,103.60907597298507]
[null,null,null,null,null,null,null,null,null,null,null,null,null,null,null,null,null,null,null,null,857.44200000000001,560.74069999999995,null,null,null,"''",null,4.4384610000000002,22.813583000000001,null,22.813583000000001,66.576915,null,{"$f":"camera!$B$5*COS(RADIANS(AE704))*COS(RADIANS(AF704))","v":183.21016306660277},{"$f":"camera!$B$5*COS(RADIANS(AE704))*SIN(RADIANS(AF704))","v":422.90613523470722},{"$f":"camera!$B$5*SIN(RADIANS(AE704))","v":193.86705994044587},null,{"$f":"TRANSPOSE(MMULT(camera!$A$12:$C$14,MMULT(camera!$A$16:$C$18,TRANSPOSE(AH704:AJ704))))","v":-266.85199636162224},-145.65429475455136,396.95697305548254,null,{"$f":"camera!$B$5*AM704/AN704","v":-183.46357998627889},{"$f":"camera!$B$5*AL704/AN704","v":-336.12206671618844},null,{"$f":"IF( AND( (camera!$B$3) > (AQ704+camera!$B$3/2), 0 < (AQ704+camera!$B$3/2), AN704 >= 0 ), AQ704+camera!$B$3/2, 0)*-1+camera!$B$3","v":836.12206671618844},{"$f":"IF( AND( (camera!$B$4) > (AP704+camera!$B$4/2), 0 < (AP704+camera!$B$4/2), AN704 >= 0 ), AP704+camera!$B$4/2, 0)","v":316.53642001372111},null,null,null,2123.8847000000001,4127.2744000000002,-109.2342,null,{"$f":"MMULT(               MMULT(AX704:AZ704-$B$2:$D$2, TRANSPOSE($A$16:$C$18)),     TRANSPOSE($A$12:$C$14))","v":68.002124060979668},-6812.1521907496999,8512.9898906216458,null,-400.10338778002796,3.9940211920076609," ",496.00597880799234,99.896612219972042]
[null,null,null,null,null,null,null,null,null,null,null,null,null,null,null,null,null,null,null,null,857.44200000000001,150.7407,null,null,null,"''",null,9.6181509999999992,81.326381999999995,null,81.326381999999995,144.27226499999998,null,{"$f":"camera!$B$5*COS(RADIANS(AE705))*COS(RADIANS(AF705))","v":-61.212085413508774},{"$f":"camera!$B$5*COS(RADIANS(AE705))*SIN(RADIANS(AF705))","v":44.030291602586495},{"$f":"camera!$B$5*SIN(RADIANS(AE705))","v":494.28171524012549},null,{"$f":"TRANSPOSE(MMULT(camera!$A$12:$C$14,MMULT(camera!$A$16:$C$18,TRANSPOSE(AH705:AJ705))))","v":-493.46274035566324},64.816647716095915,-47.888684044634203,null,{"$f":"camera!$B$5*AM705/AN705","v":-676.74283611222393},{"$f":"camera!$B$5*AL705/AN705","v":5152.1852207896945},null,{"$f":"IF( AND( (camera!$B$3) > (AQ705+camera!$B$3/2), 0 < (AQ705+camera!$B$3/2), AN705 >= 0 ), AQ705+camera!$B$3/2, 0)*-1+camera!$B$3","v":1000},{"$f":"IF( AND( (camera!$B$4) > (AP705+camera!$B$4/2), 0 < (AP705+camera!$B$4/2), AN705 >= 0 ), AP705+camera!$B$4/2, 0)","v":0},null,null,null,2028.7949000000001,4088.1408999999999,-109.2342,null,{"$f":"MMULT(               MMULT(AX705:AZ705-$B$2:$D$2, TRANSPOSE($A$16:$C$18)),     TRANSPOSE($A$12:$C$14))","v":76.21085672411823},-6720.8349454059107,8466.4358543070866,null,-396.91052179807485,4.5007638418088218," ",495.4992361581912,103.08947820192515]
[null,null,null,null,null,null,null,null,null,null,null,null,null,null,null,null,null,null,null,null,858.32420000000002,530.77859999999998,null,null,null,"''",null,10.452529999999999,-31.067779000000002,null,-31.067779000000002,156.78795,null,{"$f":"camera!$B$5*COS(RADIANS(AE706))*COS(RADIANS(AF706))","v":-393.61060924049349},{"$f":"camera!$B$5*COS(RADIANS(AE706))*SIN(RADIANS(AF706))","v":168.79971930175026},{"$f":"camera!$B$5*SIN(RADIANS(AE706))","v":-258.02585734181349},null,{"$f":"TRANSPOSE(MMULT(camera!$A$12:$C$14,MMULT(camera!$A$16:$C$18,TRANSPOSE(AH706:AJ706))))","v":230.86271578618059},406.82466694938165,176.6241682821292,null,{"$f":"camera!$B$5*AM706/AN706","v":1151.6676084202234},{"$f":"camera!$B$5*AL706/AN706","v":653.54225877348188},null,{"$f":"IF( AND( (camera!$B$3) > (AQ706+camera!$B$3/2), 0 < (AQ706+camera!$B$3/2), AN706 >= 0 ), AQ706+camera!$B$3/2, 0)*-1+camera!$B$3","v":1000},{"$f":"IF( AND( (camera!$B$4) > (AP706+camera!$B$4/2), 0 < (AP706+camera!$B$4/2), AN706 >= 0 ), AP706+camera!$B$4/2, 0)","v":0},null,null,null,2018.3090999999999,4127.2744000000002,-211.15110000000001,null,{"$f":"MMULT(               MMULT(AX706:AZ706-$B$2:$D$2, TRANSPOSE($A$16:$C$18)),     TRANSPOSE($A$12:$C$14))","v":169.96850449489489},-6706.9783377818449,8521.6258465080609,null,-393.52691954494742,9.9727744186599985," ",490.02722558134002,106.47308045505258]
[null,null,null,null,null,null,null,null,null,null,null,null,null,null,null,null,null,null,null,null,858.32420000000002,120.7786,null,null,null,"''",null,17.455908999999998,-29.867032999999999,null,{"$f":"AC707","v":-29.867032999999999},{"$f":"IF(AB707*15/1>180, (AB707*15/1)-360, AB707*15/1)","v":-98.161365000000046},null,{"$f":"camera!$B$5*COS(RADIANS(AE707))*COS(RADIANS(AF707))","v":-61.553324522158491},{"$f":"camera!$B$5*COS(RADIANS(AE707))*SIN(RADIANS(AF707))","v":-429.2003752323551},{"$f":"camera!$B$5*SIN(RADIANS(AE707))","v":-248.99442993905595},null,{"$f":"TRANSPOSE(MMULT(camera!$A$12:$C$14,MMULT(camera!$A$16:$C$18,TRANSPOSE(AH707:AJ707))))","v":320.3894742884479},23.911818047945431,-383.11722712873922,null,{"$f":"camera!$B$5*AM707/AN707","v":-31.206920956219911},{"$f":"camera!$B$5*AL707/AN707","v":-418.1350401411043},null,{"$f":"IF( AND( (camera!$B$3) > (AQ707+camera!$B$3/2), 0 < (AQ707+camera!$B$3/2), AN707 >= 0 ), AQ707+camera!$B$3/2, 0)*-1+camera!$B$3","v":1000},{"$f":"IF( AND( (camera!$B$4) > (AP707+camera!$B$4/2), 0 < (AP707+camera!$B$4/2), AN707 >= 0 ), AP707+camera!$B$4/2, 0)","v":0},null,null,null,1926.8779999999999,4115.0249999999996,-211.15110000000001,null,{"$f":"MMULT(               MMULT(AX707:AZ707-$B$2:$D$2, TRANSPOSE($A$16:$C$18)),     TRANSPOSE($A$12:$C$14))","v":173.47125440037962},-6616.9627662763614,8501.7607646504184,null,-389.15249143384023,10.202078087262699," ",489.79792191273731,110.84750856615977]
[null,null,null,null,null,null,null,null,null,null,null,null,null,null,null,null,null,null,null,null,858.42930000000001,476.10520000000002,null,null,null,"''",null,20.223288,56.567722000000003,null,56.567722000000003,-56.650680000000023,null,{"$f":"camera!$B$5*COS(RADIANS(AE708))*COS(RADIANS(AF708))","v":151.44046469937879},{"$f":"camera!$B$5*COS(RADIANS(AE708))*SIN(RADIANS(AF708))","v":-230.11416427521388},{"$f":"camera!$B$5*SIN(RADIANS(AE708))","v":417.2688067080453},null,{"$f":"TRANSPOSE(MMULT(camera!$A$12:$C$14,MMULT(camera!$A$16:$C$18,TRANSPOSE(AH708:AJ708))))","v":-373.41467235887797},-170.9199589142342,-285.21544507944913,null,{"$f":"camera!$B$5*AM708/AN708","v":299.63307012813249},{"$f":"camera!$B$5*AL708/AN708","v":654.61860288607477},null,{"$f":"IF( AND( (camera!$B$3) > (AQ708+camera!$B$3/2), 0 < (AQ708+camera!$B$3/2), AN708 >= 0 ), AQ708+camera!$B$3/2, 0)*-1+camera!$B$3","v":1000},{"$f":"IF( AND( (camera!$B$4) > (AP708+camera!$B$4/2), 0 < (AP708+camera!$B$4/2), AN708 >= 0 ), AP708+camera!$B$4/2, 0)","v":0},null,null,null,1926.8779999999999,4074.4866999999999,-109.2342,null,{"$f":"MMULT(               MMULT(AX708:AZ708-$B$2:$D$2, TRANSPOSE($A$16:$C$18)),     TRANSPOSE($A$12:$C$14))","v":80.11531598856368},-6620.4959119225896,8444.292565465199,null,{"$f":"$B$5*BC708/BD708","v":-392.01009798017725},{"$f":"$B$5*BB708/BD708","v":4.7437553452501744}," ",{"$f":"IF( AND( ($B$3) > (BG708+$B$3/2), 0 < (BG708+$B$3/2), BD708 >= 0 ), BG708+$B$3/2, 0)*-1+$B$3","v":495.25624465474982},{"$f":"IF( AND( ($B$4) > (BF708+$B$4/2), 0 < (BF708+$B$4/2), BD708 >= 0 ), BF708+$B$4/2, 0)","v":107.98990201982275}]
[null,null,null,null,null,null,null,null,null,null,null,null,null,null,null,null,null,null,null,null,858.42930000000001,66.105199999999996,null,null,null,"''",null,21.370775999999999,-16.834541999999999,null,-16.834541999999999,-39.438359999999989,null,{"$f":"camera!$B$5*COS(RADIANS(AE709))*COS(RADIANS(AF709))","v":369.60561110462561},{"$f":"camera!$B$5*COS(RADIANS(AE709))*SIN(RADIANS(AF709))","v":-304.01211431522751},{"$f":"camera!$B$5*SIN(RADIANS(AE709))","v":-144.80444257536203},null,{"$f":"TRANSPOSE(MMULT(camera!$A$12:$C$14,MMULT(camera!$A$16:$C$18,TRANSPOSE(AH709:AJ709))))","v":189.60102866583713},-394.69555179481722,-241.3853171223162,null,{"$f":"camera!$B$5*AM709/AN709","v":817.5632977601839},{"$f":"camera!$B$5*AL709/AN709","v":-392.73521464804213},null,{"$f":"IF( AND( (camera!$B$3) > (AQ709+camera!$B$3/2), 0 < (AQ709+camera!$B$3/2), AN709 >= 0 ), AQ709+camera!$B$3/2, 0)*-1+camera!$B$3","v":1000},{"$f":"IF( AND( (camera!$B$4) > (AP709+camera!$B$4/2), 0 < (AP709+camera!$B$4/2), AN709 >= 0 ), AP709+camera!$B$4/2, 0)","v":0},null,null,null,1824.9611,4088.1408999999999,-109.2342,null,{"$f":"MMULT(               MMULT(AX709:AZ709-$B$2:$D$2, TRANSPOSE($A$16:$C$18)),     TRANSPOSE($A$12:$C$14))","v":79.295766304744575},-6517.7767945540181,8448.9404626873165,null,-385.71563045912023,4.6926455840785586," ",495.30735441592145,114.28436954087977]
[null,null,null,null,null,null,null,null,null,null,null,null,null,null,null,null,null,null,null,null,858.45349999999996,525.78030000000001,null,null,null,"''",null,22.166457000000001,33.178224,null,33.178224,-27.503144999999961,null,{"$f":"camera!$B$5*COS(RADIANS(AE710))*COS(RADIANS(AF710))","v":371.19116848604995},{"$f":"camera!$B$5*COS(RADIANS(AE710))*SIN(RADIANS(AF710))","v":-193.25578881482039},{"$f":"camera!$B$5*SIN(RADIANS(AE710))","v":273.62258044160467},null,{"$f":"TRANSPOSE(MMULT(camera!$A$12:$C$14,MMULT(camera!$A$16:$C$18,TRANSPOSE(AH710:AJ710))))","v":-241.65259229668069},-386.622025838723,-205.24968641305156,null,{"$f":"camera!$B$5*AM710/AN710","v":941.83341420720001},{"$f":"camera!$B$5*AL710/AN710","v":588.67956516720483},null,{"$f":"IF( AND( (camera!$B$3) > (AQ710+camera!$B$3/2), 0 < (AQ710+camera!$B$3/2), AN710 >= 0 ), AQ710+camera!$B$3/2, 0)*-1+camera!$B$3","v":1000},{"$f":"IF( AND( (camera!$B$4) > (AP710+camera!$B$4/2), 0 < (AP710+camera!$B$4/2), AN710 >= 0 ), AP710+camera!$B$4/2, 0)","v":0},null,null,null,1835.4468999999999,4127.2744000000002,-211.15110000000001,null,{"$f":"MMULT(               MMULT(AX710:AZ710-$B$2:$D$2, TRANSPOSE($A$16:$C$18)),     TRANSPOSE($A$12:$C$14))","v":172.7360207395725},-6524.8119836604519,8505.930481944124,null,-383.54486893062017,10.153858011551241," ",489.84614198844878,116.45513106937983]
[null,null,null,null,null,null,null,null,null,null,null,null,null,null,null,null,null,null,null,null,858.45349999999996,115.7803,null,null,null,"''",null,23.114650000000001,-43.520358000000002,null,-43.520358000000002,-13.280249999999967,null,{"$f":"camera!$B$5*COS(RADIANS(AE711))*COS(RADIANS(AF711))","v":352.8692029839782},{"$f":"camera!$B$5*COS(RADIANS(AE711))*SIN(RADIANS(AF711))","v":-83.286323460655581},{"$f":"camera!$B$5*SIN(RADIANS(AE711))","v":-344.30613399975755},null,{"$f":"TRANSPOSE(MMULT(camera!$A$12:$C$14,MMULT(camera!$A$16:$C$18,TRANSPOSE(AH711:AJ711))))","v":348.14235788356478},-358.78531051443423,8.3665767391970078,null,{"$f":"camera!$B$5*AM711/AN711","v":-21441.583678635398},{"$f":"camera!$B$5*AL711/AN711","v":20805.543816536974},null,{"$f":"IF( AND( (camera!$B$3) > (AQ711+camera!$B$3/2), 0 < (AQ711+camera!$B$3/2), AN711 >= 0 ), AQ711+camera!$B$3/2, 0)*-1+camera!$B$3","v":1000},{"$f":"IF( AND( (camera!$B$4) > (AP711+camera!$B$4/2), 0 < (AP711+camera!$B$4/2), AN711 >= 0 ), AP711+camera!$B$4/2, 0)","v":0},null,null,null,1750.1405,4162.3816999999999,-211.15110000000001,null,{"$f":"MMULT(               MMULT(AX711:AZ711-$B$2:$D$2, TRANSPOSE($A$16:$C$18)),     TRANSPOSE($A$12:$C$14))","v":167.95396464760006},-6436.7703974597935,8533.0508697189198,null,-377.16700015828116,9.8413783775516439," ",490.15862162244838,122.83299984171884]
[null,null,null,null,null,null,null,null,null,null,null,null,null,null,null,null,null,null,null,null,858.5829,520.78200000000004,null,null,null,"''",null,3.6145510000000001,0.40166200000000002,null,0.40166200000000002,54.218265000000002,null,{"$f":"camera!$B$5*COS(RADIANS(AE712))*COS(RADIANS(AF712))","v":292.34236171458701},{"$f":"camera!$B$5*COS(RADIANS(AE712))*SIN(RADIANS(AF712))","v":405.61515946328228},{"$f":"camera!$B$5*SIN(RADIANS(AE712))","v":3.5051334801496603},null,{"$f":"TRANSPOSE(MMULT(camera!$A$12:$C$14,MMULT(camera!$A$16:$C$18,TRANSPOSE(AH712:AJ712))))","v":-78.042628733272181},-255.87822027495875,422.41648226521693,null,{"$f":"camera!$B$5*AM712/AN712","v":-302.874332581445},{"$f":"camera!$B$5*AL712/AN712","v":-92.376401028159478},null,{"$f":"IF( AND( (camera!$B$3) > (AQ712+camera!$B$3/2), 0 < (AQ712+camera!$B$3/2), AN712 >= 0 ), AQ712+camera!$B$3/2, 0)*-1+camera!$B$3","v":592.37640102815953},{"$f":"IF( AND( (camera!$B$4) > (AP712+camera!$B$4/2), 0 < (AP712+camera!$B$4/2), AN712 >= 0 ), AP712+camera!$B$4/2, 0)","v":197.125667418555},null,null,null,1729.8713,4127.2744000000002,-109.2342,null,{"$f":"MMULT(               MMULT(AX712:AZ712-$B$2:$D$2, TRANSPOSE($A$16:$C$18)),     TRANSPOSE($A$12:$C$14))","v":73.96529460754823},-6419.6381306925969,8479.1710699136111,null,-378.55340326079789,4.3615875890272502," ",495.63841241097276,121.44659673920211]
[null,null,null,null,null,null,null,null,null,null,null,null,null,null,null,null,null,null,null,null,858.5829,110.782,null,null,null,"''",null,5.326257,-13.176788,null,-13.176788,79.893855000000002,null,{"$f":"camera!$B$5*COS(RADIANS(AE713))*COS(RADIANS(AF713))","v":85.426180777987341},{"$f":"camera!$B$5*COS(RADIANS(AE713))*SIN(RADIANS(AF713))","v":479.28210295048297},{"$f":"camera!$B$5*SIN(RADIANS(AE713))","v":-113.97821471250236},null,{"$f":"TRANSPOSE(MMULT(camera!$A$12:$C$14,MMULT(camera!$A$16:$C$18,TRANSPOSE(AH713:AJ713))))","v":28.043990521741364},-43.328920700949077,497.32900501228295,null,{"$f":"camera!$B$5*AM713/AN713","v":-43.56162647288081},{"$f":"camera!$B$5*AL713/AN713","v":28.194605823411344},null,{"$f":"IF( AND( (camera!$B$3) > (AQ713+camera!$B$3/2), 0 < (AQ713+camera!$B$3/2), AN713 >= 0 ), AQ713+camera!$B$3/2, 0)*-1+camera!$B$3","v":471.80539417658861},{"$f":"IF( AND( (camera!$B$4) > (AP713+camera!$B$4/2), 0 < (AP713+camera!$B$4/2), AN713 >= 0 ), AP713+camera!$B$4/2, 0)","v":456.43837352711921},null,null,null,1648.4358999999999,4190.0577999999996,-109.2342,null,{"$f":"MMULT(               MMULT(AX713:AZ713-$B$2:$D$2, TRANSPOSE($A$16:$C$18)),     TRANSPOSE($A$12:$C$14))","v":64.337036701191892},-6333.0406831163937,8533.7756339325206,null,-371.05736984310732,3.7695528603641177," ",496.23044713963588,128.94263015689268]
[null,null,null,null,null,null,null,null,null,null,null,null,null,null,null,null,null,null,null,null,858.71220000000005,515.78359999999998,null,null,null,"''",null,10.655112000000001,-55.603268,null,-55.603268,159.82668000000001,null,{"$f":"camera!$B$5*COS(RADIANS(AE714))*COS(RADIANS(AF714))","v":-265.13209898978158},{"$f":"camera!$B$5*COS(RADIANS(AE714))*SIN(RADIANS(AF714))","v":97.409469750602454},{"$f":"camera!$B$5*SIN(RADIANS(AE714))","v":-412.57286058123009},null,{"$f":"TRANSPOSE(MMULT(camera!$A$12:$C$14,MMULT(camera!$A$16:$C$18,TRANSPOSE(AH714:AJ714))))","v":393.46696622458683},272.61298599432558,144.45035949168656,null,{"$f":"camera!$B$5*AM714/AN714","v":943.62169451719194},{"$f":"camera!$B$5*AL714/AN714","v":1361.9452648272286},null,{"$f":"IF( AND( (camera!$B$3) > (AQ714+camera!$B$3/2), 0 < (AQ714+camera!$B$3/2), AN714 >= 0 ), AQ714+camera!$B$3/2, 0)*-1+camera!$B$3","v":1000},{"$f":"IF( AND( (camera!$B$4) > (AP714+camera!$B$4/2), 0 < (AP714+camera!$B$4/2), AN714 >= 0 ), AP714+camera!$B$4/2, 0)","v":0},null,null,null,1677.0835999999999,4218.7055,-211.15110000000001,null,{"$f":"MMULT(               MMULT(AX714:AZ714-$B$2:$D$2, TRANSPOSE($A$16:$C$18)),     TRANSPOSE($A$12:$C$14))","v":159.31633223984272},-6359.0825583974047,8582.0373173575754,null,-370.48793446375839,9.2819645469041436," ",490.71803545309587,129.51206553624161]
[null,null,null,null,null,null,null,null,null,null,null,null,null,null,null,null,null,null,null,null,858.71220000000005,105.78360000000001,null,null,null,"''",null,11.881812999999999,-33.908124000000001,null,-33.908124000000001,178.22719499999999,null,{"$f":"camera!$B$5*COS(RADIANS(AE715))*COS(RADIANS(AF715))","v":-414.7679758826755},{"$f":"camera!$B$5*COS(RADIANS(AE715))*SIN(RADIANS(AF715))","v":12.837550831704824},{"$f":"camera!$B$5*SIN(RADIANS(AE715))","v":-278.93139563489746},null,{"$f":"TRANSPOSE(MMULT(camera!$A$12:$C$14,MMULT(camera!$A$16:$C$18,TRANSPOSE(AH715:AJ715))))","v":278.75034586192936},414.3085247903644,25.430119305397483,null,{"$f":"camera!$B$5*AM715/AN715","v":8146.0200759346881},{"$f":"camera!$B$5*AL715/AN715","v":5480.7125069752474},null,{"$f":"IF( AND( (camera!$B$3) > (AQ715+camera!$B$3/2), 0 < (AQ715+camera!$B$3/2), AN715 >= 0 ), AQ715+camera!$B$3/2, 0)*-1+camera!$B$3","v":1000},{"$f":"IF( AND( (camera!$B$4) > (AP715+camera!$B$4/2), 0 < (AP715+camera!$B$4/2), AN715 >= 0 ), AP715+camera!$B$4/2, 0)","v":0},null,null,null,1620.7597000000001,4291.7624999999998,-211.15110000000001,null,{"$f":"MMULT(               MMULT(AX715:AZ715-$B$2:$D$2, TRANSPOSE($A$16:$C$18)),     TRANSPOSE($A$12:$C$14))","v":147.53082265612079},-6296.6056507436397,8648.8762635946678,null,-364.01293409917679,8.5289012213711359," ",491.47109877862886,135.98706590082321]
[null,null,null,null,null,null,null,null,null,null,null,null,null,null,null,null,null,null,null,null,858.78430000000003,500,null,null,null,"''",null,15.734299,77.794493000000003,null,77.794493000000003,-123.98551499999999,null,{"$f":"camera!$B$5*COS(RADIANS(AE716))*COS(RADIANS(AF716))","v":-59.089772066347066},{"$f":"camera!$B$5*COS(RADIANS(AE716))*SIN(RADIANS(AF716))","v":-87.651980877523741},{"$f":"camera!$B$5*SIN(RADIANS(AE716))","v":488.69778911449293},null,{"$f":"TRANSPOSE(MMULT(camera!$A$12:$C$14,MMULT(camera!$A$16:$C$18,TRANSPOSE(AH716:AJ716))))","v":-465.21639348774022},51.225544147260564,-175.92512855495411,null,{"$f":"camera!$B$5*AM716/AN716","v":-145.58904850042254},{"$f":"camera!$B$5*AL716/AN716","v":1322.1999532102645},null,{"$f":"IF( AND( (camera!$B$3) > (AQ716+camera!$B$3/2), 0 < (AQ716+camera!$B$3/2), AN716 >= 0 ), AQ716+camera!$B$3/2, 0)*-1+camera!$B$3","v":1000},{"$f":"IF( AND( (camera!$B$4) > (AP716+camera!$B$4/2), 0 < (AP716+camera!$B$4/2), AN716 >= 0 ), AP716+camera!$B$4/2, 0)","v":0},null,null,null,1585.6524999999999,4271.4933000000001,-109.2342,null,{"$f":"MMULT(               MMULT(AX716:AZ716-$B$2:$D$2, TRANSPOSE($A$16:$C$18)),     TRANSPOSE($A$12:$C$14))","v":51.199913126172987},-6263.398621419693,8608.279964025598,null,-363.80082011706912,2.9738759276034124," ",497.02612407239661,136.19917988293088]
[null,null,null,null,null,null,null,null,null,null,null,null,null,null,null,null,null,null,null,null,858.78430000000003,485,null,null,null,"''",null,16.518991,-16.612732999999999,null,-16.612732999999999,-112.215135,null,{"$f":"camera!$B$5*COS(RADIANS(AE717))*COS(RADIANS(AF717))","v":-181.151855135814},{"$f":"camera!$B$5*COS(RADIANS(AE717))*SIN(RADIANS(AF717))","v":-443.56410202961996},{"$f":"camera!$B$5*SIN(RADIANS(AE717))","v":-142.95066551614894},null,{"$f":"TRANSPOSE(MMULT(camera!$A$12:$C$14,MMULT(camera!$A$16:$C$18,TRANSPOSE(AH717:AJ717))))","v":220.25155288734635},141.80335886719232,-425.88855451243887,null,{"$f":"camera!$B$5*AM717/AN717","v":-166.47941975046749},{"$f":"camera!$B$5*AL717/AN717","v":-258.57885889830072},null,{"$f":"IF( AND( (camera!$B$3) > (AQ717+camera!$B$3/2), 0 < (AQ717+camera!$B$3/2), AN717 >= 0 ), AQ717+camera!$B$3/2, 0)*-1+camera!$B$3","v":1000},{"$f":"IF( AND( (camera!$B$4) > (AP717+camera!$B$4/2), 0 < (AP717+camera!$B$4/2), AN717 >= 0 ), AP717+camera!$B$4/2, 0)","v":0},null,null,null,1546.519,4366.5830999999998,-109.2342,null,{"$f":"MMULT(               MMULT(AX717:AZ717-$B$2:$D$2, TRANSPOSE($A$16:$C$18)),     TRANSPOSE($A$12:$C$14))","v":35.342839882660201},-6216.1264140551939,8698.2098952238775,null,-357.32216679827553,2.0316157179689749," ",497.96838428203102,142.67783320172447]
[null,null,null,null,null,null,null,null,null,null,null,null,null,null,null,null,null,null,null,null,858.78430000000003,90,null,null,null,"''",null,22.107285999999998,-13.869679,null,-13.869679,-28.390710000000013,null,{"$f":"camera!$B$5*COS(RADIANS(AE718))*COS(RADIANS(AF718))","v":427.03796771975527},{"$f":"camera!$B$5*COS(RADIANS(AE718))*SIN(RADIANS(AF718))","v":-230.80909251066075},{"$f":"camera!$B$5*SIN(RADIANS(AE718))","v":-119.85715222791893},null,{"$f":"TRANSPOSE(MMULT(camera!$A$12:$C$14,MMULT(camera!$A$16:$C$18,TRANSPOSE(AH718:AJ718))))","v":151.50033742576056},-445.52929721697376,-168.97127886487158,null,{"$f":"camera!$B$5*AM718/AN718","v":1318.3580671519596},{"$f":"camera!$B$5*AL718/AN718","v":-448.30203820294594},null,{"$f":"IF( AND( (camera!$B$3) > (AQ718+camera!$B$3/2), 0 < (AQ718+camera!$B$3/2), AN718 >= 0 ), AQ718+camera!$B$3/2, 0)*-1+camera!$B$3","v":1000},{"$f":"IF( AND( (camera!$B$4) > (AP718+camera!$B$4/2), 0 < (AP718+camera!$B$4/2), AN718 >= 0 ), AP718+camera!$B$4/2, 0)","v":0},null,null,null,1585.6524999999999,4377.0689000000002,-211.15110000000001,null,{"$f":"MMULT(               MMULT(AX718:AZ718-$B$2:$D$2, TRANSPOSE($A$16:$C$18)),     TRANSPOSE($A$12:$C$14))","v":133.30521850306491},-6254.1971015856634,8729.5536738009705,null,-358.21975185029697,7.6352825977311358," ",492.36471740226887,141.78024814970303]
[null,null,null,null,null,null,null,null,null,null,null,null,null,null,null,null,null,null,null,null,858.78430000000003,75,null,null,null,"''",null,22.525089999999999,-32.346072999999997,null,-32.346072999999997,-22.123649999999998,null,{"$f":"camera!$B$5*COS(RADIANS(AE719))*COS(RADIANS(AF719))","v":391.31482749124928},{"$f":"camera!$B$5*COS(RADIANS(AE719))*SIN(RADIANS(AF719))","v":-159.08466127644803},{"$f":"camera!$B$5*SIN(RADIANS(AE719))","v":-267.51593659453567},null,{"$f":"TRANSPOSE(MMULT(camera!$A$12:$C$14,MMULT(camera!$A$16:$C$18,TRANSPOSE(AH719:AJ719))))","v":285.04908020637964},-403.69089824477697,-76.030786842055363,null,{"$f":"camera!$B$5*AM719/AN719","v":2654.7857454335922},{"$f":"camera!$B$5*AL719/AN719","v":-1874.5635291039021},null,{"$f":"IF( AND( (camera!$B$3) > (AQ719+camera!$B$3/2), 0 < (AQ719+camera!$B$3/2), AN719 >= 0 ), AQ719+camera!$B$3/2, 0)*-1+camera!$B$3","v":1000},{"$f":"IF( AND( (camera!$B$4) > (AP719+camera!$B$4/2), 0 < (AP719+camera!$B$4/2), AN719 >= 0 ), AP719+camera!$B$4/2, 0)","v":0},null,null,null,1573.403,4468.5,-211.15110000000001,null,{"$f":"MMULT(               MMULT(AX719:AZ719-$B$2:$D$2, TRANSPOSE($A$16:$C$18)),     TRANSPOSE($A$12:$C$14))","v":117.67418006293428},-6234.0254692006538,8818.2016979282289,null,-353.47487405880565,6.6722322812473758," ",493.32776771875263,146.52512594119435]
[null,null,null,null,null,null,null,null,null,null,null,null,null,null,null,null,null,null,null,null,858.84159999999997,510.78530000000001,null,null,null,"''",null,23.63561,43.268073000000001,null,43.268073000000001,-5.465849999999989,null,{"$f":"camera!$B$5*COS(RADIANS(AE720))*COS(RADIANS(AF720))","v":362.42199615629164},{"$f":"camera!$B$5*COS(RADIANS(AE720))*SIN(RADIANS(AF720))","v":-34.679264386405222},{"$f":"camera!$B$5*SIN(RADIANS(AE720))","v":342.70635436727275},null,{"$f":"TRANSPOSE(MMULT(camera!$A$12:$C$14,MMULT(camera!$A$16:$C$18,TRANSPOSE(AH720:AJ720))))","v":-336.98585168805857},-364.06536808826428,-62.425503769136149,null,{"$f":"camera!$B$5*AM720/AN720","v":2915.9986392313435},{"$f":"camera!$B$5*AL720/AN720","v":2699.1039826791762},null,{"$f":"IF( AND( (camera!$B$3) > (AQ720+camera!$B$3/2), 0 < (AQ720+camera!$B$3/2), AN720 >= 0 ), AQ720+camera!$B$3/2, 0)*-1+camera!$B$3","v":1000},{"$f":"IF( AND( (camera!$B$4) > (AP720+camera!$B$4/2), 0 < (AP720+camera!$B$4/2), AN720 >= 0 ), AP720+camera!$B$4/2, 0)","v":0},null,null,null,1532.8647000000001,4468.5,-109.2342,null,{"$f":"MMULT(               MMULT(AX720:AZ720-$B$2:$D$2, TRANSPOSE($A$16:$C$18)),     TRANSPOSE($A$12:$C$14))","v":17.919151082864119},-6193.6414296710009,8797.0245447448378,null,-352.03047338153419,1.018477951932546," ",498.98152204806746,147.96952661846581]
[null,null,null,null,null,null,null,null,null,null,null,null,null,null,null,null,null,null,null,null,858.84159999999997,100.78530000000001,null,null,null,"''",null,0.97676600000000002,-29.357448999999999,null,-29.357448999999999,14.651490000000001,null,{"$f":"camera!$B$5*COS(RADIANS(AE721))*COS(RADIANS(AF721))","v":421.61819253287877},{"$f":"camera!$B$5*COS(RADIANS(AE721))*SIN(RADIANS(AF721))","v":110.22801167452259},{"$f":"camera!$B$5*SIN(RADIANS(AE721))","v":-245.12830348123757},null,{"$f":"TRANSPOSE(MMULT(camera!$A$12:$C$14,MMULT(camera!$A$16:$C$18,TRANSPOSE(AH721:AJ721))))","v":215.95524376420508},-410.40680379118805,186.89459085977862,null,{"$f":"camera!$B$5*AM721/AN721","v":-1097.9633008723722},{"$f":"camera!$B$5*AL721/AN721","v":577.74610482501816},null,{"$f":"IF( AND( (camera!$B$3) > (AQ721+camera!$B$3/2), 0 < (AQ721+camera!$B$3/2), AN721 >= 0 ), AQ721+camera!$B$3/2, 0)*-1+camera!$B$3","v":1000},{"$f":"IF( AND( (camera!$B$4) > (AP721+camera!$B$4/2), 0 < (AP721+camera!$B$4/2), AN721 >= 0 ), AP721+camera!$B$4/2, 0)","v":0},null,null,null,1546.519,4570.4169000000002,-109.2342,null,{"$f":"MMULT(               MMULT(AX721:AZ721-$B$2:$D$2, TRANSPOSE($A$16:$C$18)),     TRANSPOSE($A$12:$C$14))","v":8.2162026812284239E-2},-6198.3611278191165,8898.1831364951449,null,-348.29363661875328,4.6167866828512238E-3," ",499.99538321331715,151.70636338124672]
[null,null,null,null,null,null,null,null,null,null,null,null,null,null,null,null,null,null,null,null,858.971,505.78699999999998,null,null,null,"''",null,2.4693170000000002,8.4600539999999995,null,8.4600539999999995,37.039755,null,{"$f":"camera!$B$5*COS(RADIANS(AE722))*COS(RADIANS(AF722))","v":394.76603883659118},{"$f":"camera!$B$5*COS(RADIANS(AE722))*SIN(RADIANS(AF722))","v":297.90722121514119},{"$f":"camera!$B$5*SIN(RADIANS(AE722))","v":73.559922030545366},null,{"$f":"TRANSPOSE(MMULT(camera!$A$12:$C$14,MMULT(camera!$A$16:$C$18,TRANSPOSE(AH722:AJ722))))","v":-129.95113666692473},-367.29950974079571,313.37481108593482,null,{"$f":"camera!$B$5*AM722/AN722","v":-586.03866160779819},{"$f":"camera!$B$5*AL722/AN722","v":-207.3413881233885},null,{"$f":"IF( AND( (camera!$B$3) > (AQ722+camera!$B$3/2), 0 < (AQ722+camera!$B$3/2), AN722 >= 0 ), AQ722+camera!$B$3/2, 0)*-1+camera!$B$3","v":707.34138812338847},{"$f":"IF( AND( (camera!$B$4) > (AP722+camera!$B$4/2), 0 < (AP722+camera!$B$4/2), AN722 >= 0 ), AP722+camera!$B$4/2, 0)","v":0},null,null,null,1585.6524999999999,4559.9310999999998,-211.15110000000001,null,{"$f":"MMULT(               MMULT(AX722:AZ722-$B$2:$D$2, TRANSPOSE($A$16:$C$18)),     TRANSPOSE($A$12:$C$14))","v":101.67236307765666},-6238.2596107241925,8908.952511677684,null,-350.11184550300391,5.706190651728499," ",494.29380934827151,149.88815449699609]
[null,null,null,null,null,null,null,null,null,null,null,null,null,null,null,null,null,null,null,null,858.971,95.787000000000006,null,null,null,"''",null,3.7534700000000001,24.467278,null,24.467278,56.302050000000001,null,{"$f":"camera!$B$5*COS(RADIANS(AE723))*COS(RADIANS(AF723))","v":252.49558507370489},{"$f":"camera!$B$5*COS(RADIANS(AE723))*SIN(RADIANS(AF723))","v":378.63050528964419},{"$f":"camera!$B$5*SIN(RADIANS(AE723))","v":207.0867450668828},null,{"$f":"TRANSPOSE(MMULT(camera!$A$12:$C$14,MMULT(camera!$A$16:$C$18,TRANSPOSE(AH723:AJ723))))","v":-273.26031470619313},-218.53494022655806,357.1712198747918,null,{"$f":"camera!$B$5*AM723/AN723","v":-305.92462111472281},{"$f":"camera!$B$5*AL723/AN723","v":-382.5340613977603},null,{"$f":"IF( AND( (camera!$B$3) > (AQ723+camera!$B$3/2), 0 < (AQ723+camera!$B$3/2), AN723 >= 0 ), AQ723+camera!$B$3/2, 0)*-1+camera!$B$3","v":882.5340613977603},{"$f":"IF( AND( (camera!$B$4) > (AP723+camera!$B$4/2), 0 < (AP723+camera!$B$4/2), AN723 >= 0 ), AP723+camera!$B$4/2, 0)","v":194.07537888527719},null,null,null,1620.7597000000001,4645.2375000000002,-211.15110000000001,null,{"$f":"MMULT(               MMULT(AX723:AZ723-$B$2:$D$2, TRANSPOSE($A$16:$C$18)),     TRANSPOSE($A$12:$C$14))","v":86.384103588449989},-6265.7982745759109,8995.6565397724207,null,-348.26798060113731,4.801434070238269," ",495.19856592976174,151.73201939886269]
[null,null,null,null,null,null,null,null,null,null,null,null,null,null,null,null,null,null,null,null,858.98950000000002,448.72879999999998,null,null,null,"''",null,3.8099630000000002,-37.620154999999997,null,-37.620154999999997,57.149445,null,{"$f":"camera!$B$5*COS(RADIANS(AE724))*COS(RADIANS(AF724))","v":214.83040281013004},{"$f":"camera!$B$5*COS(RADIANS(AE724))*SIN(RADIANS(AF724))","v":332.70645431175564},{"$f":"camera!$B$5*SIN(RADIANS(AE724))","v":-305.21191537640999},null,{"$f":"TRANSPOSE(MMULT(camera!$A$12:$C$14,MMULT(camera!$A$16:$C$18,TRANSPOSE(AH724:AJ724))))","v":239.76970113995839},-185.01563012588474,397.84382240318473,null,{"$f":"camera!$B$5*AM724/AN724","v":-232.52293953980936},{"$f":"camera!$B$5*AL724/AN724","v":301.33646375558129},null,{"$f":"IF( AND( (camera!$B$3) > (AQ724+camera!$B$3/2), 0 < (AQ724+camera!$B$3/2), AN724 >= 0 ), AQ724+camera!$B$3/2, 0)*-1+camera!$B$3","v":198.66353624441876},{"$f":"IF( AND( (camera!$B$4) > (AP724+camera!$B$4/2), 0 < (AP724+camera!$B$4/2), AN724 >= 0 ), AP724+camera!$B$4/2, 0)","v":267.47706046019061},null,null,null,1585.6524999999999,4665.5065999999997,-109.2342,null,{"$f":"MMULT(               MMULT(AX724:AZ724-$B$2:$D$2, TRANSPOSE($A$16:$C$18)),     TRANSPOSE($A$12:$C$14))","v":-16.959420812651615},-6229.058099605737,8994.8307554301045,null,-346.25766003686653,-0.94273151289774715," ",500.94273151289775,153.74233996313347]
[null,null,null,null,null,null,null,null,null,null,null,null,null,null,null,null,null,null,null,null,858.98950000000002,38.7288,null,null,null,"''",null,4.4248279999999998,17.927910000000001,null,17.927910000000001,66.372419999999991,null,{"$f":"camera!$B$5*COS(RADIANS(AE725))*COS(RADIANS(AF725))","v":190.66477675370575},{"$f":"camera!$B$5*COS(RADIANS(AE725))*SIN(RADIANS(AF725))","v":435.84244381091463},{"$f":"camera!$B$5*SIN(RADIANS(AE725))","v":153.91006165416636},null,{"$f":"TRANSPOSE(MMULT(camera!$A$12:$C$14,MMULT(camera!$A$16:$C$18,TRANSPOSE(AH725:AJ725))))","v":-229.85267434282432},-151.95306780359326,417.22657307813961,null,{"$f":"camera!$B$5*AM725/AN725","v":-182.0989812352328},{"$f":"camera!$B$5*AL725/AN725","v":-275.45306216602933},null,{"$f":"IF( AND( (camera!$B$3) > (AQ725+camera!$B$3/2), 0 < (AQ725+camera!$B$3/2), AN725 >= 0 ), AQ725+camera!$B$3/2, 0)*-1+camera!$B$3","v":775.45306216602933},{"$f":"IF( AND( (camera!$B$4) > (AP725+camera!$B$4/2), 0 < (AP725+camera!$B$4/2), AN725 >= 0 ), AP725+camera!$B$4/2, 0)","v":317.90101876476717},null,null,null,1648.4358999999999,4746.9421000000002,-109.2342,null,{"$f":"MMULT(               MMULT(AX725:AZ725-$B$2:$D$2, TRANSPOSE($A$16:$C$18)),     TRANSPOSE($A$12:$C$14))","v":-31.996927073606003},-6284.5050183253843,9080.1126913002427,null,-346.05875675676577,-1.7619234563169361," ",501.76192345631694,153.94124324323423]
[null,null,null,null,null,null,null,null,null,null,null,null,null,null,null,null,null,null,null,null,859.10029999999995,500.78870000000001,null,null,null,"''",null,5.9989169999999996,45.936736000000003,null,45.936736000000003,89.983754999999988,null,{"$f":"camera!$B$5*COS(RADIANS(AE726))*COS(RADIANS(AF726))","v":9.8590343002787503E-2},{"$f":"camera!$B$5*COS(RADIANS(AE726))*SIN(RADIANS(AF726))","v":347.72609439429141},{"$f":"camera!$B$5*SIN(RADIANS(AE726))","v":359.28617223215895},null,{"$f":"TRANSPOSE(MMULT(camera!$A$12:$C$14,MMULT(camera!$A$16:$C$18,TRANSPOSE(AH726:AJ726))))","v":-413.9815309425544},30.208110852694329,278.75932643979854,null,{"$f":"camera!$B$5*AM726/AN726","v":54.183139338331941},{"$f":"camera!$B$5*AL726/AN726","v":-742.54292444625833},null,{"$f":"IF( AND( (camera!$B$3) > (AQ726+camera!$B$3/2), 0 < (AQ726+camera!$B$3/2), AN726 >= 0 ), AQ726+camera!$B$3/2, 0)*-1+camera!$B$3","v":1000},{"$f":"IF( AND( (camera!$B$4) > (AP726+camera!$B$4/2), 0 < (AP726+camera!$B$4/2), AN726 >= 0 ), AP726+camera!$B$4/2, 0)","v":554.1831393383319},null,null,null,1677.0835999999999,4718.2943999999998,-211.15110000000001,null,{"$f":"MMULT(               MMULT(AX726:AZ726-$B$2:$D$2, TRANSPOSE($A$16:$C$18)),     TRANSPOSE($A$12:$C$14))","v":72.893750394940753},-6315.5405167494191,9072.1641345789903,null,-348.07243470592823,4.0174400128577217," ",495.98255998714228,151.92756529407177]
[null,null,null,null,null,null,null,null,null,null,null,null,null,null,null,null,null,null,null,null,859.10029999999995,90.788700000000006,null,null,null,"''",null,8.7204099999999993,3.3986619999999998,null,3.3986619999999998,130.80615,null,{"$f":"camera!$B$5*COS(RADIANS(AE727))*COS(RADIANS(AF727))","v":-326.17624177316344},{"$f":"camera!$B$5*COS(RADIANS(AE727))*SIN(RADIANS(AF727))","v":377.79682229738637},{"$f":"camera!$B$5*SIN(RADIANS(AE727))","v":29.641531079414452},null,{"$f":"TRANSPOSE(MMULT(camera!$A$12:$C$14,MMULT(camera!$A$16:$C$18,TRANSPOSE(AH727:AJ727))))","v":-89.608803916909181},357.86220535295047,337.4980062763388,null,{"$f":"camera!$B$5*AM727/AN727","v":530.16936203756086},{"$f":"camera!$B$5*AL727/AN727","v":-132.75456780556314},null,{"$f":"IF( AND( (camera!$B$3) > (AQ727+camera!$B$3/2), 0 < (AQ727+camera!$B$3/2), AN727 >= 0 ), AQ727+camera!$B$3/2, 0)*-1+camera!$B$3","v":632.75456780556317},{"$f":"IF( AND( (camera!$B$4) > (AP727+camera!$B$4/2), 0 < (AP727+camera!$B$4/2), AN727 >= 0 ), AP727+camera!$B$4/2, 0)","v":0},null,null,null,1750.1405,4774.6183000000001,-211.15110000000001,null,{"$f":"MMULT(               MMULT(AX727:AZ727-$B$2:$D$2, TRANSPOSE($A$16:$C$18)),     TRANSPOSE($A$12:$C$14))","v":62.044750748042816},-6383.4104618494921,9133.6918690374823,null,-349.44305946474753,3.3964771112089833," ",496.60352288879102,150.55694053525247]
[null,null,null,null,null,null,null,null,null,null,null,null,null,null,null,null,null,null,null,null,859.22969999999998,495.7903,null,null,null,"''",null,10.92689,24.749718000000001,null,24.749718000000001,163.90334999999999,null,{"$f":"camera!$B$5*COS(RADIANS(AE728))*COS(RADIANS(AF728))","v":-436.27086674207362},{"$f":"camera!$B$5*COS(RADIANS(AE728))*SIN(RADIANS(AF728))","v":125.89548250988251},{"$f":"camera!$B$5*SIN(RADIANS(AE728))","v":209.32763390370536},null,{"$f":"TRANSPOSE(MMULT(camera!$A$12:$C$14,MMULT(camera!$A$16:$C$18,TRANSPOSE(AH728:AJ728))))","v":-221.32309474606708},445.5832386670678,49.715844063943095,null,{"$f":"camera!$B$5*AM728/AN728","v":4481.300147433597},{"$f":"camera!$B$5*AL728/AN728","v":-2225.880892833758},null,{"$f":"IF( AND( (camera!$B$3) > (AQ728+camera!$B$3/2), 0 < (AQ728+camera!$B$3/2), AN728 >= 0 ), AQ728+camera!$B$3/2, 0)*-1+camera!$B$3","v":1000},{"$f":"IF( AND( (camera!$B$4) > (AP728+camera!$B$4/2), 0 < (AP728+camera!$B$4/2), AN728 >= 0 ), AP728+camera!$B$4/2, 0)","v":0},null,null,null,1729.8713,4809.7254999999996,-109.2342,null,{"$f":"MMULT(               MMULT(AX728:AZ728-$B$2:$D$2, TRANSPOSE($A$16:$C$18)),     TRANSPOSE($A$12:$C$14))","v":-44.090142662762673},-6360.1585981831404,9148.696725011745,null,-347.59916026044544,-2.4096406290430439," ",502.40964062904305,152.40083973955456]
[null,null,null,null,null,null,null,null,null,null,null,null,null,null,null,null,null,null,null,null,859.22969999999998,85.790300000000002,null,null,null,"''",null,11.615814,-0.82374899999999995,null,-0.82374899999999995,174.23721,null,{"$f":"camera!$B$5*COS(RADIANS(AE729))*COS(RADIANS(AF729))","v":-497.4216509235967},{"$f":"camera!$B$5*COS(RADIANS(AE729))*SIN(RADIANS(AF729))","v":50.199893125523438},{"$f":"camera!$B$5*SIN(RADIANS(AE729))","v":-7.1883184841469188},null,{"$f":"TRANSPOSE(MMULT(camera!$A$12:$C$14,MMULT(camera!$A$16:$C$18,TRANSPOSE(AH729:AJ729))))","v":5.9233591790477416},499.90402033733812,7.8028370867419214,null,{"$f":"camera!$B$5*AM729/AN729","v":32033.47800165807},{"$f":"camera!$B$5*AL729/AN729","v":379.56445285217683},null,{"$f":"IF( AND( (camera!$B$3) > (AQ729+camera!$B$3/2), 0 < (AQ729+camera!$B$3/2), AN729 >= 0 ), AQ729+camera!$B$3/2, 0)*-1+camera!$B$3","v":120.43554714782317},{"$f":"IF( AND( (camera!$B$4) > (AP729+camera!$B$4/2), 0 < (AP729+camera!$B$4/2), AN729 >= 0 ), AP729+camera!$B$4/2, 0)","v":0},null,null,null,1824.9611,4848.8590000000004,-109.2342,null,{"$f":"MMULT(               MMULT(AX729:AZ729-$B$2:$D$2, TRANSPOSE($A$16:$C$18)),     TRANSPOSE($A$12:$C$14))","v":-52.298875325901236},-6451.4758435269305,9195.2507613263042,null,-350.80478015133451,-2.843798210803647," ",502.84379821080364,149.19521984866549]
[null,null,null,null,null,null,null,null,null,null,null,null,null,null,null,null,null,null,null,null,859.35900000000004,490.79199999999997,null,null,null,"''",null,11.828077,-63.788477999999998,null,-63.788477999999998,177.421155,null,{"$f":"camera!$B$5*COS(RADIANS(AE730))*COS(RADIANS(AF730))","v":-220.61948113252504},{"$f":"camera!$B$5*COS(RADIANS(AE730))*SIN(RADIANS(AF730))","v":9.9366473139517097},{"$f":"camera!$B$5*SIN(RADIANS(AE730))","v":-448.5847830510678},null,{"$f":"TRANSPOSE(MMULT(camera!$A$12:$C$14,MMULT(camera!$A$16:$C$18,TRANSPOSE(AH730:AJ730))))","v":443.38980890458441},220.64599327704232,68.7082455775395,null,{"$f":"camera!$B$5*AM730/AN730","v":1605.6733178264326},{"$f":"camera!$B$5*AL730/AN730","v":3226.6127971802493},null,{"$f":"IF( AND( (camera!$B$3) > (AQ730+camera!$B$3/2), 0 < (AQ730+camera!$B$3/2), AN730 >= 0 ), AQ730+camera!$B$3/2, 0)*-1+camera!$B$3","v":1000},{"$f":"IF( AND( (camera!$B$4) > (AP730+camera!$B$4/2), 0 < (AP730+camera!$B$4/2), AN730 >= 0 ), AP730+camera!$B$4/2, 0)","v":0},null,null,null,1835.4468999999999,4809.7254999999996,-211.15110000000001,null,{"$f":"MMULT(               MMULT(AX730:AZ730-$B$2:$D$2, TRANSPOSE($A$16:$C$18)),     TRANSPOSE($A$12:$C$14))","v":54.680583469262046},-6465.3324511509954,9175.4561370422562,null,-352.31667802594501,2.9797201715406243," ",497.02027982845937,147.68332197405499]
[null,null,null,null,null,null,null,null,null,null,null,null,null,null,null,null,null,null,null,null,859.35900000000004,80.792000000000002,null,null,null,"''",null,12.534509999999999,-16.196007000000002,null,-16.196007000000002,-171.98235000000003,null,{"$f":"camera!$B$5*COS(RADIANS(AE731))*COS(RADIANS(AF731))","v":-475.46310458492491},{"$f":"camera!$B$5*COS(RADIANS(AE731))*SIN(RADIANS(AF731))","v":-66.971347730881902},{"$f":"camera!$B$5*SIN(RADIANS(AE731))","v":-139.46209076868902},null,{"$f":"TRANSPOSE(MMULT(camera!$A$12:$C$14,MMULT(camera!$A$16:$C$18,TRANSPOSE(AH731:AJ731))))","v":156.12441303170544},467.81688637144663,-82.295373388972834,null,{"$f":"camera!$B$5*AM731/AN731","v":-2842.3036867473024},{"$f":"camera!$B$5*AL731/AN731","v":-948.56130182298523},null,{"$f":"IF( AND( (camera!$B$3) > (AQ731+camera!$B$3/2), 0 < (AQ731+camera!$B$3/2), AN731 >= 0 ), AQ731+camera!$B$3/2, 0)*-1+camera!$B$3","v":1000},{"$f":"IF( AND( (camera!$B$4) > (AP731+camera!$B$4/2), 0 < (AP731+camera!$B$4/2), AN731 >= 0 ), AP731+camera!$B$4/2, 0)","v":0},null,null,null,1926.8779999999999,4821.9750000000004,-211.15110000000001,null,{"$f":"MMULT(               MMULT(AX731:AZ731-$B$2:$D$2, TRANSPOSE($A$16:$C$18)),     TRANSPOSE($A$12:$C$14))","v":51.177816265037563},-6555.3480139409048,9195.3213170059262,null,-356.45018743485201,2.7828182670674462," ",497.21718173293254,143.54981256514799]
[null,null,null,null,null,null,null,null,null,null,null,null,null,null,null,null,null,null,null,null,859.48839999999996,485.7937,null,null,null,"''",null,14.338763,-56.386496999999999,null,-56.386496999999999,-144.918555,null,{"$f":"camera!$B$5*COS(RADIANS(AE732))*COS(RADIANS(AF732))","v":-226.51039407920544},{"$f":"camera!$B$5*COS(RADIANS(AE732))*SIN(RADIANS(AF732))","v":-159.08460873212039},{"$f":"camera!$B$5*SIN(RADIANS(AE732))","v":-416.3953993965726},null,{"$f":"TRANSPOSE(MMULT(camera!$A$12:$C$14,MMULT(camera!$A$16:$C$18,TRANSPOSE(AH732:AJ732))))","v":441.01715656270028},211.78331641060782,-103.20704679175272,null,{"$f":"camera!$B$5*AM732/AN732","v":-1026.0119003207999},{"$f":"camera!$B$5*AL732/AN732","v":-2136.5651390673356},null,{"$f":"IF( AND( (camera!$B$3) > (AQ732+camera!$B$3/2), 0 < (AQ732+camera!$B$3/2), AN732 >= 0 ), AQ732+camera!$B$3/2, 0)*-1+camera!$B$3","v":1000},{"$f":"IF( AND( (camera!$B$4) > (AP732+camera!$B$4/2), 0 < (AP732+camera!$B$4/2), AN732 >= 0 ), AP732+camera!$B$4/2, 0)","v":0},null,null,null,1926.8779999999999,4862.5132999999996,-109.2342,null,{"$f":"MMULT(               MMULT(AX732:AZ732-$B$2:$D$2, TRANSPOSE($A$16:$C$18)),     TRANSPOSE($A$12:$C$14))","v":-56.203351889085525},-6551.8148682946776,9217.3941482742157,null,-355.40494216152092,-3.0487657891687614," ",503.04876578916878,144.59505783847908]
[null,null,null,null,null,null,null,null,null,null,null,null,null,null,null,null,null,null,null,null,859.48839999999996,75.793700000000001,null,null,null,"''",null,20.294129999999999,-12.508212,null,-12.508212,-55.58805000000001,null,{"$f":"camera!$B$5*COS(RADIANS(AE733))*COS(RADIANS(AF733))","v":275.86274626434465},{"$f":"camera!$B$5*COS(RADIANS(AE733))*SIN(RADIANS(AF733))","v":-402.70717755745579},{"$f":"camera!$B$5*SIN(RADIANS(AE733))","v":-108.28977037191282},null,{"$f":"TRANSPOSE(MMULT(camera!$A$12:$C$14,MMULT(camera!$A$16:$C$18,TRANSPOSE(AH733:AJ733))))","v":172.132843543859},-309.9112483994017,-352.59793290521384,null,{"$f":"camera!$B$5*AM733/AN733","v":439.46832848097375},{"$f":"camera!$B$5*AL733/AN733","v":-244.09224711781297},null,{"$f":"IF( AND( (camera!$B$3) > (AQ733+camera!$B$3/2), 0 < (AQ733+camera!$B$3/2), AN733 >= 0 ), AQ733+camera!$B$3/2, 0)*-1+camera!$B$3","v":1000},{"$f":"IF( AND( (camera!$B$4) > (AP733+camera!$B$4/2), 0 < (AP733+camera!$B$4/2), AN733 >= 0 ), AP733+camera!$B$4/2, 0)","v":0},null,null,null,2028.7949000000001,4848.8590000000004,-109.2342,null,{"$f":"MMULT(               MMULT(AX733:AZ733-$B$2:$D$2, TRANSPOSE($A$16:$C$18)),     TRANSPOSE($A$12:$C$14))","v":-55.383784906527353},-6654.533994378824,9212.7461529460743,null,-361.15908784976239,-3.0058238872030896," ",503.00582388720306,138.84091215023761]
[null,null,null,null,null,null,null,null,null,null,null,null,null,null,null,null,null,null,null,null,859.61770000000001,480.79539999999997,null,null,null,"''",null,8.6769529999999992,-59.761003000000002,null,-59.761003000000002,130.15429499999999,null,{"$f":"camera!$B$5*COS(RADIANS(AE734))*COS(RADIANS(AF734))","v":-162.37538136881585},{"$f":"camera!$B$5*COS(RADIANS(AE734))*SIN(RADIANS(AF734))","v":192.45651349320948},{"$f":"camera!$B$5*SIN(RADIANS(AE734))","v":-431.96611665658418},null,{"$f":"TRANSPOSE(MMULT(camera!$A$12:$C$14,MMULT(camera!$A$16:$C$18,TRANSPOSE(AH734:AJ734))))","v":394.56848981016265},178.53118440036494,249.88461946572556,null,{"$f":"camera!$B$5*AM734/AN734","v":357.22723707861593},{"$f":"camera!$B$5*AL734/AN734","v":789.50135197152872},null,{"$f":"IF( AND( (camera!$B$3) > (AQ734+camera!$B$3/2), 0 < (AQ734+camera!$B$3/2), AN734 >= 0 ), AQ734+camera!$B$3/2, 0)*-1+camera!$B$3","v":1000},{"$f":"IF( AND( (camera!$B$4) > (AP734+camera!$B$4/2), 0 < (AP734+camera!$B$4/2), AN734 >= 0 ), AP734+camera!$B$4/2, 0)","v":857.22723707861587},null,null,null,2018.3090999999999,4809.7254999999996,-211.15110000000001,null,{"$f":"MMULT(               MMULT(AX734:AZ734-$B$2:$D$2, TRANSPOSE($A$16:$C$18)),     TRANSPOSE($A$12:$C$14))","v":51.913067224583983},-6647.4988052723884,9191.1515016061949,null,-361.62491740619811,2.8240785289803969," ",497.17592147101959,138.37508259380189]
[null,null,null,null,null,null,null,null,null,null,null,null,null,null,null,null,null,null,null,null,859.61770000000001,70.795400000000001,null,null,null,"''",null,14.448801,-83.667884000000001,null,-83.667884000000001,-143.26798500000001,null,{"$f":"camera!$B$5*COS(RADIANS(AE735))*COS(RADIANS(AF735))","v":-44.19607276545846},{"$f":"camera!$B$5*COS(RADIANS(AE735))*SIN(RADIANS(AF735))","v":-32.981169093163487},{"$f":"camera!$B$5*SIN(RADIANS(AE735))","v":-496.94964497155894},null,{"$f":"TRANSPOSE(MMULT(camera!$A$12:$C$14,MMULT(camera!$A$16:$C$18,TRANSPOSE(AH735:AJ735))))","v":495.77407234504426},41.153395076425937,50.144463942636897,null,{"$f":"camera!$B$5*AM735/AN735","v":410.34833998328952},{"$f":"camera!$B$5*AL735/AN735","v":4943.4576956709361},null,{"$f":"IF( AND( (camera!$B$3) > (AQ735+camera!$B$3/2), 0 < (AQ735+camera!$B$3/2), AN735 >= 0 ), AQ735+camera!$B$3/2, 0)*-1+camera!$B$3","v":1000},{"$f":"IF( AND( (camera!$B$4) > (AP735+camera!$B$4/2), 0 < (AP735+camera!$B$4/2), AN735 >= 0 ), AP735+camera!$B$4/2, 0)","v":910.34833998328952},null,null,null,2103.6154999999999,4774.6183000000001,-211.15110000000001,null,{"$f":"MMULT(               MMULT(AX735:AZ735-$B$2:$D$2, TRANSPOSE($A$16:$C$18)),     TRANSPOSE($A$12:$C$14))","v":56.695106017817352},-6735.5403827574719,9164.0312119374248,null,-367.49876920887687,3.0933496791217872," ",496.90665032087821,132.50123079112313]
[null,null,null,null,null,null,null,null,null,null,null,null,null,null,null,null,null,null,null,null,859.85940000000005,556.36400000000003,null,null,null,"''",null,15.408181000000001,37.377167,null,37.377167,-128.877285,null,{"$f":"camera!$B$5*COS(RADIANS(AE736))*COS(RADIANS(AF736))","v":-249.38488566365311},{"$f":"camera!$B$5*COS(RADIANS(AE736))*SIN(RADIANS(AF736))","v":-309.31692184822447},{"$f":"camera!$B$5*SIN(RADIANS(AE736))","v":303.52960425774955},null,{"$f":"TRANSPOSE(MMULT(camera!$A$12:$C$14,MMULT(camera!$A$16:$C$18,TRANSPOSE(AH736:AJ736))))","v":-241.63607976746496},221.47715481424606,-377.57101961087767,null,{"$f":"camera!$B$5*AM736/AN736","v":-293.29204747029979},{"$f":"camera!$B$5*AL736/AN736","v":319.98758805230017},null,{"$f":"IF( AND( (camera!$B$3) > (AQ736+camera!$B$3/2), 0 < (AQ736+camera!$B$3/2), AN736 >= 0 ), AQ736+camera!$B$3/2, 0)*-1+camera!$B$3","v":1000},{"$f":"IF( AND( (camera!$B$4) > (AP736+camera!$B$4/2), 0 < (AP736+camera!$B$4/2), AN736 >= 0 ), AP736+camera!$B$4/2, 0)","v":0},null,null,null,2123.8847000000001,4809.7254999999996,-109.2342,null,{"$f":"MMULT(               MMULT(AX736:AZ736-$B$2:$D$2, TRANSPOSE($A$16:$C$18)),     TRANSPOSE($A$12:$C$14))","v":-50.053313209331236},-6752.6726582402434,9182.5155457197798,null,-367.69187183069067,-2.7254684710369181," ",502.72546847103689,132.30812816930933]
[null,null,null,null,null,null,null,null,null,null,null,null,null,null,null,null,null,null,null,null,859.85940000000005,146.364,null,null,null,"''",null,16.123424,-20.868763999999999,null,-20.868763999999999,-118.14864,null,{"$f":"camera!$B$5*COS(RADIANS(AE737))*COS(RADIANS(AF737))","v":-220.40626140489675},{"$f":"camera!$B$5*COS(RADIANS(AE737))*SIN(RADIANS(AF737))","v":-411.94219016232631},{"$f":"camera!$B$5*SIN(RADIANS(AE737))","v":-178.11432255094516},null,{"$f":"TRANSPOSE(MMULT(camera!$A$12:$C$14,MMULT(camera!$A$16:$C$18,TRANSPOSE(AH737:AJ737))))","v":250.0048961301485},183.6644214850869,-392.12871890681765,null,{"$f":"camera!$B$5*AM737/AN737","v":-234.18894438171901},{"$f":"camera!$B$5*AL737/AN737","v":-318.77912031936336},null,{"$f":"IF( AND( (camera!$B$3) > (AQ737+camera!$B$3/2), 0 < (AQ737+camera!$B$3/2), AN737 >= 0 ), AQ737+camera!$B$3/2, 0)*-1+camera!$B$3","v":1000},{"$f":"IF( AND( (camera!$B$4) > (AP737+camera!$B$4/2), 0 < (AP737+camera!$B$4/2), AN737 >= 0 ), AP737+camera!$B$4/2, 0)","v":0},null,null,null,2205.3202000000001,4746.9421000000002,-109.2342,null,{"$f":"MMULT(               MMULT(AX737:AZ737-$B$2:$D$2, TRANSPOSE($A$16:$C$18)),     TRANSPOSE($A$12:$C$14))","v":-40.425056816417964},-6839.2702054359179,9127.9109902840319,null,-374.63501850071725,-2.2143651959055783," ",502.2143651959056,125.36498149928275]
[null,null,null,null,null,null,null,null,null,null,null,null,null,null,null,null,null,null,null,null,860.7056,444.30619999999999,null,null,null,"''",null,20.638967000000001,-1.105121,null,-1.105121,-50.415494999999964,null,{"$f":"camera!$B$5*COS(RADIANS(AE738))*COS(RADIANS(AF738))","v":318.54853138957037},{"$f":"camera!$B$5*COS(RADIANS(AE738))*SIN(RADIANS(AF738))","v":-385.27112264721677},{"$f":"camera!$B$5*SIN(RADIANS(AE738))","v":-9.6434020812733987},null,{"$f":"TRANSPOSE(MMULT(camera!$A$12:$C$14,MMULT(camera!$A$16:$C$18,TRANSPOSE(AH738:AJ738))))","v":71.32289226660663},-350.91494890874424,-348.95808297143566,null,{"$f":"camera!$B$5*AM738/AN738","v":502.8038696233163},{"$f":"camera!$B$5*AL738/AN738","v":-102.19406820911044},null,{"$f":"IF( AND( (camera!$B$3) > (AQ738+camera!$B$3/2), 0 < (AQ738+camera!$B$3/2), AN738 >= 0 ), AQ738+camera!$B$3/2, 0)*-1+camera!$B$3","v":1000},{"$f":"IF( AND( (camera!$B$4) > (AP738+camera!$B$4/2), 0 < (AP738+camera!$B$4/2), AN738 >= 0 ), AP738+camera!$B$4/2, 0)","v":0},null,null,null,2176.6723999999999,4718.2943999999998,-211.15110000000001,null,{"$f":"MMULT(               MMULT(AX738:AZ738-$B$2:$D$2, TRANSPOSE($A$16:$C$18)),     TRANSPOSE($A$12:$C$14))","v":65.332755724314211},-6813.2282305354356,9115.0446661927417,null,-373.73531782051316,3.5837869213428117," ",496.41621307865717,126.26468217948684]
[null,null,null,null,null,null,null,null,null,null,null,null,null,null,null,null,null,null,null,null,860.7056,34.306199999999997,null,null,null,"''",null,3.6081590000000001,48.192633999999998,null,48.192633999999998,54.122385000000001,null,{"$f":"camera!$B$5*COS(RADIANS(AE739))*COS(RADIANS(AF739))","v":195.3407037028922},{"$f":"camera!$B$5*COS(RADIANS(AE739))*SIN(RADIANS(AF739))","v":270.07468105862233},{"$f":"camera!$B$5*SIN(RADIANS(AE739))","v":372.6951517365664},null,{"$f":"TRANSPOSE(MMULT(camera!$A$12:$C$14,MMULT(camera!$A$16:$C$18,TRANSPOSE(AH739:AJ739))))","v":-416.70896154082646},-171.05881392533072,217.00811862698831,null,{"$f":"camera!$B$5*AM739/AN739","v":-394.12998695076686},{"$f":"camera!$B$5*AL739/AN739","v":-960.12297645209458},null,{"$f":"IF( AND( (camera!$B$3) > (AQ739+camera!$B$3/2), 0 < (AQ739+camera!$B$3/2), AN739 >= 0 ), AQ739+camera!$B$3/2, 0)*-1+camera!$B$3","v":1000},{"$f":"IF( AND( (camera!$B$4) > (AP739+camera!$B$4/2), 0 < (AP739+camera!$B$4/2), AN739 >= 0 ), AP739+camera!$B$4/2, 0)","v":105.87001304923314},null,null,null,2232.9962999999998,4645.2375000000002,-211.15110000000001,null,{"$f":"MMULT(               MMULT(AX739:AZ739-$B$2:$D$2, TRANSPOSE($A$16:$C$18)),     TRANSPOSE($A$12:$C$14))","v":77.118248009296622},-6875.7051294736266,9048.2058180616768,null,-379.94853718671004,4.2615215413953216," ",495.73847845860467,120.05146281328996]
[null,null,null,null,null,null,null,null,null,null,null,null,null,null,null,null,null,null,null,null,861.32209999999998,453.15129999999999,null,null,null,"''",null,4.6740310000000003,-19.671493000000002,null,-19.671493000000002,70.110465000000005,null,{"$f":"camera!$B$5*COS(RADIANS(AE740))*COS(RADIANS(AF740))","v":160.17632219319106},{"$f":"camera!$B$5*COS(RADIANS(AE740))*SIN(RADIANS(AF740))","v":442.73484816079133},{"$f":"camera!$B$5*SIN(RADIANS(AE740))","v":-168.31339825665728},null,{"$f":"TRANSPOSE(MMULT(camera!$A$12:$C$14,MMULT(camera!$A$16:$C$18,TRANSPOSE(AH740:AJ740))))","v":86.744613674687059},-120.9799183969667,477.32507931502249,null,{"$f":"camera!$B$5*AM740/AN740","v":-126.72696621197542},{"$f":"camera!$B$5*AL740/AN740","v":90.86534254513559},null,{"$f":"IF( AND( (camera!$B$3) > (AQ740+camera!$B$3/2), 0 < (AQ740+camera!$B$3/2), AN740 >= 0 ), AQ740+camera!$B$3/2, 0)*-1+camera!$B$3","v":409.1346574548644},{"$f":"IF( AND( (camera!$B$4) > (AP740+camera!$B$4/2), 0 < (AP740+camera!$B$4/2), AN740 >= 0 ), AP740+camera!$B$4/2, 0)","v":373.27303378802458},null,null,null,2268.1035999999999,4665.5065999999997,-109.2342,null,{"$f":"MMULT(               MMULT(AX740:AZ740-$B$2:$D$2, TRANSPOSE($A$16:$C$18)),     TRANSPOSE($A$12:$C$14))","v":-27.287933241399514},-6908.9122671326177,9053.4066601909599,null,-381.56422915983819,-1.5070533262019592," ",501.50705332620197,118.43577084016181]
[null,null,null,null,null,null,null,null,null,null,null,null,null,null,null,null,null,null,null,null,861.32209999999998,43.151299999999999,null,null,null,"''",null,5.5368750000000002,18.594234,null,18.594234,83.053125000000009,null,{"$f":"camera!$B$5*COS(RADIANS(AE741))*COS(RADIANS(AF741))","v":57.317759791073804},{"$f":"camera!$B$5*COS(RADIANS(AE741))*SIN(RADIANS(AF741))","v":470.42121892002382},{"$f":"camera!$B$5*SIN(RADIANS(AE741))","v":159.43196418012215},null,{"$f":"TRANSPOSE(MMULT(camera!$A$12:$C$14,MMULT(camera!$A$16:$C$18,TRANSPOSE(AH741:AJ741))))","v":-239.25424707215416},-16.099737671130598,438.74617229653109,null,{"$f":"camera!$B$5*AM741/AN741","v":-18.347439462388547},{"$f":"camera!$B$5*AL741/AN741","v":-272.65679130580736},null,{"$f":"IF( AND( (camera!$B$3) > (AQ741+camera!$B$3/2), 0 < (AQ741+camera!$B$3/2), AN741 >= 0 ), AQ741+camera!$B$3/2, 0)*-1+camera!$B$3","v":772.65679130580736},{"$f":"IF( AND( (camera!$B$4) > (AP741+camera!$B$4/2), 0 < (AP741+camera!$B$4/2), AN741 >= 0 ), AP741+camera!$B$4/2, 0)","v":481.65256053761146},null,null,null,2307.2370999999998,4570.4169000000002,-109.2342,null,{"$f":"MMULT(               MMULT(AX741:AZ741-$B$2:$D$2, TRANSPOSE($A$16:$C$18)),     TRANSPOSE($A$12:$C$14))","v":-11.430877296625795},-6956.1844657815436,8963.4768270987024,null,-388.02936628069136,-0.63763635010845121," ",500.63763635010844,111.97063371930864]
[null,null,null,null,null,null,null,null,null,null,null,null,null,null,null,null,null,null,null,null,861.65679999999998,562.16219999999998,null,null,null,"''",null,6.2563040000000001,29.498076000000001,null,29.498076000000001,93.844560000000001,null,{"$f":"camera!$B$5*COS(RADIANS(AE742))*COS(RADIANS(AF742))","v":-29.179180809136902},{"$f":"camera!$B$5*COS(RADIANS(AE742))*SIN(RADIANS(AF742))","v":434.20678319695128},{"$f":"camera!$B$5*SIN(RADIANS(AE742))","v":246.19716658211854},null,{"$f":"TRANSPOSE(MMULT(camera!$A$12:$C$14,MMULT(camera!$A$16:$C$18,TRANSPOSE(AH742:AJ742))))","v":-317.12756782793588},66.911759912324243,380.72683397545455,null,{"$f":"camera!$B$5*AM742/AN742","v":87.87371146610333},{"$f":"camera!$B$5*AL742/AN742","v":-416.47651219716897},null,{"$f":"IF( AND( (camera!$B$3) > (AQ742+camera!$B$3/2), 0 < (AQ742+camera!$B$3/2), AN742 >= 0 ), AQ742+camera!$B$3/2, 0)*-1+camera!$B$3","v":916.47651219716897},{"$f":"IF( AND( (camera!$B$4) > (AP742+camera!$B$4/2), 0 < (AP742+camera!$B$4/2), AN742 >= 0 ), AP742+camera!$B$4/2, 0)","v":587.87371146610337},null,null,null,2268.1035999999999,4559.9310999999998,-211.15110000000001,null,{"$f":"MMULT(               MMULT(AX742:AZ742-$B$2:$D$2, TRANSPOSE($A$16:$C$18)),     TRANSPOSE($A$12:$C$14))","v":91.343850648908756},-6918.1137782510732,8967.5284164385394,null,-385.73135522879153,5.0930337996735355," ",494.90696620032645,114.26864477120847]
[null,null,null,null,null,null,null,null,null,null,null,null,null,null,null,null,null,null,null,null,861.65679999999998,152.16220000000001,null,null,null,"''",null,8.7729269999999993,-13.54772,null,-13.54772,131.59390499999998,null,{"$f":"camera!$B$5*COS(RADIANS(AE743))*COS(RADIANS(AF743))","v":-322.68761410149187},{"$f":"camera!$B$5*COS(RADIANS(AE743))*SIN(RADIANS(AF743))","v":363.52969048182581},{"$f":"camera!$B$5*SIN(RADIANS(AE743))","v":-117.1275708092447},null,{"$f":"TRANSPOSE(MMULT(camera!$A$12:$C$14,MMULT(camera!$A$16:$C$18,TRANSPOSE(AH743:AJ743))))","v":57.34578106536005},353.14339049255119,349.2867119508403,null,{"$f":"camera!$B$5*AM743/AN743","v":505.52079195937705},{"$f":"camera!$B$5*AL743/AN743","v":82.089840671395308},null,{"$f":"IF( AND( (camera!$B$3) > (AQ743+camera!$B$3/2), 0 < (AQ743+camera!$B$3/2), AN743 >= 0 ), AQ743+camera!$B$3/2, 0)*-1+camera!$B$3","v":417.91015932860466},{"$f":"IF( AND( (camera!$B$4) > (AP743+camera!$B$4/2), 0 < (AP743+camera!$B$4/2), AN743 >= 0 ), AP743+camera!$B$4/2, 0)","v":0},null,null,null,2135.2033999999999,4468.5,-364.50490000000002,null,{"$f":"MMULT(               MMULT(AX743:AZ743-$B$2:$D$2, TRANSPOSE($A$16:$C$18)),     TRANSPOSE($A$12:$C$14))","v":260.19565911367158},-6793.6880490664762,8893.0515618006684,null,-381.96607777740627,14.629154981588067," ",485.37084501841196,118.03392222259373]
[null,null,null,null,null,null,null,null,null,null,null,null,null,null,null,null,null,null,null,null,862.27689999999996,551.9873,null,null,null,"''",null,9.5286749999999998,22.967970999999999,null,22.967970999999999,142.930125,null,{"$f":"camera!$B$5*COS(RADIANS(AE744))*COS(RADIANS(AF744))","v":-367.32294200917585},{"$f":"camera!$B$5*COS(RADIANS(AE744))*SIN(RADIANS(AF744))","v":277.50068125563428},{"$f":"camera!$B$5*SIN(RADIANS(AE744))","v":195.10824733050748},null,{"$f":"TRANSPOSE(MMULT(camera!$A$12:$C$14,MMULT(camera!$A$16:$C$18,TRANSPOSE(AH744:AJ744))))","v":-234.58900878962729},390.11094530481864,206.83676488593835,null,{"$f":"camera!$B$5*AM744/AN744","v":943.04062800428198},{"$f":"camera!$B$5*AL744/AN744","v":-567.08730896799977},null,{"$f":"IF( AND( (camera!$B$3) > (AQ744+camera!$B$3/2), 0 < (AQ744+camera!$B$3/2), AN744 >= 0 ), AQ744+camera!$B$3/2, 0)*-1+camera!$B$3","v":1000},{"$f":"IF( AND( (camera!$B$4) > (AP744+camera!$B$4/2), 0 < (AP744+camera!$B$4/2), AN744 >= 0 ), AP744+camera!$B$4/2, 0)","v":0},null,null,null,2215.3157999999999,4468.5,-298.43340000000001,null,{"$f":"MMULT(               MMULT(AX744:AZ744-$B$2:$D$2, TRANSPOSE($A$16:$C$18)),     TRANSPOSE($A$12:$C$14))","v":193.91547767782299},-6873.4955971978816,8888.4545458017346,null,-386.65302059987613,10.908278637112156," ",489.09172136288782,113.34697940012387]
[null,null,null,null,null,null,null,null,null,null,null,null,null,null,null,null,null,null,null,null,862.27689999999996,141.9873,null,null,null,"''",null,12.050447,-63.312930000000001,null,-63.312930000000001,-179.24329499999999,null,{"$f":"camera!$B$5*COS(RADIANS(AE745))*COS(RADIANS(AF745))","v":-224.53910554410419},{"$f":"camera!$B$5*COS(RADIANS(AE745))*SIN(RADIANS(AF745))","v":-2.9656589860334179},{"$f":"camera!$B$5*SIN(RADIANS(AE745))","v":-446.73638193931799},null,{"$f":"TRANSPOSE(MMULT(camera!$A$12:$C$14,MMULT(camera!$A$16:$C$18,TRANSPOSE(AH745:AJ745))))","v":443.8607468059289},223.42619224563546,55.39290625612108,null,{"$f":"camera!$B$5*AM745/AN745","v":2016.7401148134036},{"$f":"camera!$B$5*AL745/AN745","v":4006.4764317802965},null,{"$f":"IF( AND( (camera!$B$3) > (AQ745+camera!$B$3/2), 0 < (AQ745+camera!$B$3/2), AN745 >= 0 ), AQ745+camera!$B$3/2, 0)*-1+camera!$B$3","v":1000},{"$f":"IF( AND( (camera!$B$4) > (AP745+camera!$B$4/2), 0 < (AP745+camera!$B$4/2), AN745 >= 0 ), AP745+camera!$B$4/2, 0)","v":0},null,null,null,2205.3202000000001,4393.8915999999999,-298.43340000000001,null,{"$f":"MMULT(               MMULT(AX745:AZ745-$B$2:$D$2, TRANSPOSE($A$16:$C$18)),     TRANSPOSE($A$12:$C$14))","v":206.97306812623901},-6870.0405839908499,8814.4012704836186,null,-389.70545889465228,11.740619797927751," ",488.25938020207224,110.29454110534772]
[null,null,null,null,null,null,null,null,null,null,null,null,null,null,null,null,null,null,null,null,863.65480000000002,457.57380000000001,null,null,null,"''",null,13.166468999999999,17.529430999999999,null,17.529430999999999,-162.50296500000002,null,{"$f":"camera!$B$5*COS(RADIANS(AE746))*COS(RADIANS(AF746))","v":-454.72171282435932},{"$f":"camera!$B$5*COS(RADIANS(AE746))*SIN(RADIANS(AF746))","v":-143.34733501836678},{"$f":"camera!$B$5*SIN(RADIANS(AE746))","v":150.59782677453555},null,{"$f":"TRANSPOSE(MMULT(camera!$A$12:$C$14,MMULT(camera!$A$16:$C$18,TRANSPOSE(AH746:AJ746))))","v":-116.63066886773093},440.49781596840086,-205.81292769535764,null,{"$f":"camera!$B$5*AM746/AN746","v":-1070.1412707670665},{"$f":"camera!$B$5*AL746/AN746","v":283.34145520821352},null,{"$f":"IF( AND( (camera!$B$3) > (AQ746+camera!$B$3/2), 0 < (AQ746+camera!$B$3/2), AN746 >= 0 ), AQ746+camera!$B$3/2, 0)*-1+camera!$B$3","v":1000},{"$f":"IF( AND( (camera!$B$4) > (AP746+camera!$B$4/2), 0 < (AP746+camera!$B$4/2), AN746 >= 0 ), AP746+camera!$B$4/2, 0)","v":0},null,null,null,2132.3777,4413.4364999999998,-363.28530000000001,null,{"$f":"MMULT(               MMULT(AX746:AZ746-$B$2:$D$2, TRANSPOSE($A$16:$C$18)),     TRANSPOSE($A$12:$C$14))","v":268.56264431901855},-6795.6722019488634,8838.5766342393326,null,-384.43249875910107,15.192641045767864," ",484.80735895423209,115.56750124089893]
[null,null,null,null,null,null,null,null,null,null,null,null,null,null,null,null,null,null,null,null,863.65480000000002,47.573799999999999,null,null,null,"''",null,13.863778999999999,-32.994089000000002,null,-32.994089000000002,-152.04331500000001,null,{"$f":"camera!$B$5*COS(RADIANS(AE747))*COS(RADIANS(AF747))","v":-370.42461608651746},{"$f":"camera!$B$5*COS(RADIANS(AE747))*SIN(RADIANS(AF747))","v":-196.59919862754674},{"$f":"camera!$B$5*SIN(RADIANS(AE747))","v":-272.27625474169173},null,{"$f":"TRANSPOSE(MMULT(camera!$A$12:$C$14,MMULT(camera!$A$16:$C$18,TRANSPOSE(AH747:AJ747))))","v":307.75511725752466},351.88028940808078,-177.3895423295651,null,{"$f":"camera!$B$5*AM747/AN747","v":-991.82929497144812},{"$f":"camera!$B$5*AL747/AN747","v":-867.45563807182725},null,{"$f":"IF( AND( (camera!$B$3) > (AQ747+camera!$B$3/2), 0 < (AQ747+camera!$B$3/2), AN747 >= 0 ), AQ747+camera!$B$3/2, 0)*-1+camera!$B$3","v":1000},{"$f":"IF( AND( (camera!$B$4) > (AP747+camera!$B$4/2), 0 < (AP747+camera!$B$4/2), AN747 >= 0 ), AP747+camera!$B$4/2, 0)","v":0},null,null,null,2107.2930999999999,4364.3373000000001,-364.50490000000002,null,{"$f":"MMULT(               MMULT(AX747:AZ747-$B$2:$D$2, TRANSPOSE($A$16:$C$18)),     TRANSPOSE($A$12:$C$14))","v":278.63689977720946},-6774.9623336694267,8788.4660888943508,null,-385.44623516444403,15.852419350477568," ",484.14758064952241,114.55376483555597]
[null,null,null,null,null,null,null,null,null,null,null,null,null,null,null,null,null,null,null,null,864.69439999999997,547.6105,null,null,null,"''",null,14.860640999999999,-43.575358999999999,null,-43.575358999999999,-137.090385,null,{"$f":"camera!$B$5*COS(RADIANS(AE748))*COS(RADIANS(AF748))","v":-265.31069917357718},{"$f":"camera!$B$5*COS(RADIANS(AE748))*SIN(RADIANS(AF748))","v":-246.62489765146594},{"$f":"camera!$B$5*SIN(RADIANS(AE748))","v":-344.65401892685304},null,{"$f":"TRANSPOSE(MMULT(camera!$A$12:$C$14,MMULT(camera!$A$16:$C$18,TRANSPOSE(AH748:AJ748))))","v":386.09627603833201},242.80633572885296,-204.87739982550457,null,{"$f":"camera!$B$5*AM748/AN748","v":-592.56495820342479},{"$f":"camera!$B$5*AL748/AN748","v":-942.26175353448639},null,{"$f":"IF( AND( (camera!$B$3) > (AQ748+camera!$B$3/2), 0 < (AQ748+camera!$B$3/2), AN748 >= 0 ), AQ748+camera!$B$3/2, 0)*-1+camera!$B$3","v":1000},{"$f":"IF( AND( (camera!$B$4) > (AP748+camera!$B$4/2), 0 < (AP748+camera!$B$4/2), AN748 >= 0 ), AP748+camera!$B$4/2, 0)","v":0},null,null,null,2176.6723999999999,4324.2811000000002,-298.43340000000001,null,{"$f":"MMULT(               MMULT(AX748:AZ748-$B$2:$D$2, TRANSPOSE($A$16:$C$18)),     TRANSPOSE($A$12:$C$14))","v":219.44837540387562},-6847.5687523493916,8743.6502871258144,null,-391.57380084332624,12.549013752699617," ",487.45098624730042,108.42619915667376]
[null,null,null,null,null,null,null,null,null,null,null,null,null,null,null,null,null,null,null,null,864.69439999999997,137.6105,null,null,null,"''",null,17.347128000000001,-12.846875000000001,null,-12.846875000000001,-99.793079999999975,null,{"$f":"camera!$B$5*COS(RADIANS(AE749))*COS(RADIANS(AF749))","v":-82.916370055129761},{"$f":"camera!$B$5*COS(RADIANS(AE749))*SIN(RADIANS(AF749))","v":-480.38049052858747},{"$f":"camera!$B$5*SIN(RADIANS(AE749))","v":-111.17310779318181},null,{"$f":"TRANSPOSE(MMULT(camera!$A$12:$C$14,MMULT(camera!$A$16:$C$18,TRANSPOSE(AH749:AJ749))))","v":193.83880011795486},40.732929780430048,-459.09405136674775,null,{"$f":"camera!$B$5*AM749/AN749","v":-44.362293150135493},{"$f":"camera!$B$5*AL749/AN749","v":-211.11011952876137},null,{"$f":"IF( AND( (camera!$B$3) > (AQ749+camera!$B$3/2), 0 < (AQ749+camera!$B$3/2), AN749 >= 0 ), AQ749+camera!$B$3/2, 0)*-1+camera!$B$3","v":1000},{"$f":"IF( AND( (camera!$B$4) > (AP749+camera!$B$4/2), 0 < (AP749+camera!$B$4/2), AN749 >= 0 ), AP749+camera!$B$4/2, 0)","v":0},null,null,null,2130.7118,4264.6661999999997,-298.43340000000001,null,{"$f":"MMULT(               MMULT(AX749:AZ749-$B$2:$D$2, TRANSPOSE($A$16:$C$18)),     TRANSPOSE($A$12:$C$14))","v":230.45658934866788},-6806.9788271966045,8681.2196035142515,null,-392.05198912610541,13.273284162479692," ",486.72671583752026,107.94801087389459]
[null,null,null,null,null,null,null,null,null,null,null,null,null,null,null,null,null,null,null,null,864.94200000000001,547.16219999999998,null,null,null,"''",null,7.4693870000000002,8.9255300000000002,null,8.9255300000000002,112.04080500000001,null,{"$f":"camera!$B$5*COS(RADIANS(AE750))*COS(RADIANS(AF750))","v":-185.36132622268019},{"$f":"camera!$B$5*COS(RADIANS(AE750))*SIN(RADIANS(AF750))","v":457.84631969079442},{"$f":"camera!$B$5*SIN(RADIANS(AE750))","v":77.575294305365318},null,{"$f":"TRANSPOSE(MMULT(camera!$A$12:$C$14,MMULT(camera!$A$16:$C$18,TRANSPOSE(AH750:AJ750))))","v":-152.79305382532715},224.55990647122138,419.79415325653002,null,{"$f":"camera!$B$5*AM750/AN750","v":267.46430926825718},{"$f":"camera!$B$5*AL750/AN750","v":-181.98568588919525},null,{"$f":"IF( AND( (camera!$B$3) > (AQ750+camera!$B$3/2), 0 < (AQ750+camera!$B$3/2), AN750 >= 0 ), AQ750+camera!$B$3/2, 0)*-1+camera!$B$3","v":681.98568588919522},{"$f":"IF( AND( (camera!$B$4) > (AP750+camera!$B$4/2), 0 < (AP750+camera!$B$4/2), AN750 >= 0 ), AP750+camera!$B$4/2, 0)","v":767.46430926825724},null,null,null,2077.3143,4318.0636999999997,-363.28530000000001,null,{"$f":"MMULT(               MMULT(AX750:AZ750-$B$2:$D$2, TRANSPOSE($A$16:$C$18)),     TRANSPOSE($A$12:$C$14))","v":285.89428994016703},-6749.130622031882,8740.283987524057,null,-386.09332555244424,16.354977157965038," ",483.6450228420349,113.90667444755576]
[null,null,null,null,null,null,null,null,null,null,null,null,null,null,null,null,null,null,null,null,864.94200000000001,137.16220000000001,null,null,null,"''",null,12.885258,-48.943314999999998,null,-48.943314999999998,-166.72112999999999,null,{"$f":"camera!$B$5*COS(RADIANS(AE751))*COS(RADIANS(AF751))","v":-319.62239563863693},{"$f":"camera!$B$5*COS(RADIANS(AE751))*SIN(RADIANS(AF751))","v":-75.431083821505354},{"$f":"camera!$B$5*SIN(RADIANS(AE751))","v":-377.03007280551464},null,{"$f":"TRANSPOSE(MMULT(camera!$A$12:$C$14,MMULT(camera!$A$16:$C$18,TRANSPOSE(AH751:AJ751))))","v":389.18807008828048},311.83188378986819,-35.96557177387534,null,{"$f":"camera!$B$5*AM751/AN751","v":-4335.1442561574477},{"$f":"camera!$B$5*AL751/AN751","v":-5410.5641992181363},null,{"$f":"IF( AND( (camera!$B$3) > (AQ751+camera!$B$3/2), 0 < (AQ751+camera!$B$3/2), AN751 >= 0 ), AQ751+camera!$B$3/2, 0)*-1+camera!$B$3","v":1000},{"$f":"IF( AND( (camera!$B$4) > (AP751+camera!$B$4/2), 0 < (AP751+camera!$B$4/2), AN751 >= 0 ), AP751+camera!$B$4/2, 0)","v":0},null,null,null,2031.0407,4288.0848999999998,-364.50490000000002,null,{"$f":"MMULT(               MMULT(AX751:AZ751-$B$2:$D$2, TRANSPOSE($A$16:$C$18)),     TRANSPOSE($A$12:$C$14))","v":292.98164079386606},-6705.6459316309474,8707.1130199594627,null,-385.06712364129658,16.824270003286927," ",483.17572999671302,114.93287635870342]
[null,null,null,null,null,null,null,null,null,null,null,null,null,null,null,null,null,null,null,null,865.7056,444.30619999999999,null,null,null,"''",null,14.436336000000001,-45.379275999999997,null,-45.379275999999997,-143.45496,null,{"$f":"camera!$B$5*COS(RADIANS(AE752))*COS(RADIANS(AF752))","v":-282.1544625416908},{"$f":"camera!$B$5*COS(RADIANS(AE752))*SIN(RADIANS(AF752))","v":-209.12676506947287},{"$f":"camera!$B$5*SIN(RADIANS(AE752))","v":-355.8860146161789},null,{"$f":"TRANSPOSE(MMULT(camera!$A$12:$C$14,MMULT(camera!$A$16:$C$18,TRANSPOSE(AH752:AJ752))))","v":390.92584909959538},262.85418108891349,-167.58478448187668,null,{"$f":"camera!$B$5*AM752/AN752","v":-784.2423818534063},{"$f":"camera!$B$5*AL752/AN752","v":-1166.3524535005495},null,{"$f":"IF( AND( (camera!$B$3) > (AQ752+camera!$B$3/2), 0 < (AQ752+camera!$B$3/2), AN752 >= 0 ), AQ752+camera!$B$3/2, 0)*-1+camera!$B$3","v":1000},{"$f":"IF( AND( (camera!$B$4) > (AP752+camera!$B$4/2), 0 < (AP752+camera!$B$4/2), AN752 >= 0 ), AP752+camera!$B$4/2, 0)","v":0},null,null,null,2071.0969,4218.7055,-298.43340000000001,null,{"$f":"MMULT(               MMULT(AX752:AZ752-$B$2:$D$2, TRANSPOSE($A$16:$C$18)),     TRANSPOSE($A$12:$C$14))","v":239.30944894745494},-6751.5965188350374,8631.0125418200205,null,-391.12424446850179,13.863347306467464," ",486.13665269353248,108.87575553149821]
[null,null,null,null,null,null,null,null,null,null,null,null,null,null,null,null,null,null,null,null,865.7056,34.306199999999997,null,null,null,"''",null,17.255835999999999,-26.602829,null,-26.602829,-101.16246000000001,null,{"$f":"camera!$B$5*COS(RADIANS(AE753))*COS(RADIANS(AF753))","v":-86.548230602576069},{"$f":"camera!$B$5*COS(RADIANS(AE753))*SIN(RADIANS(AF753))","v":-438.60856025401409},{"$f":"camera!$B$5*SIN(RADIANS(AE753))","v":-223.9016182421739},null,{"$f":"TRANSPOSE(MMULT(camera!$A$12:$C$14,MMULT(camera!$A$16:$C$18,TRANSPOSE(AH753:AJ753))))","v":297.68365999687887},47.991633611088467,-398.84989867643395,null,{"$f":"camera!$B$5*AM753/AN753","v":-60.162524511535061},{"$f":"camera!$B$5*AL753/AN753","v":-373.17755499591345},null,{"$f":"IF( AND( (camera!$B$3) > (AQ753+camera!$B$3/2), 0 < (AQ753+camera!$B$3/2), AN753 >= 0 ), AQ753+camera!$B$3/2, 0)*-1+camera!$B$3","v":1000},{"$f":"IF( AND( (camera!$B$4) > (AP753+camera!$B$4/2), 0 < (AP753+camera!$B$4/2), AN753 >= 0 ), AP753+camera!$B$4/2, 0)","v":0},null,null,null,2001.4864,4190.0577999999996,-298.43340000000001,null,{"$f":"MMULT(               MMULT(AX753:AZ753-$B$2:$D$2, TRANSPOSE($A$16:$C$18)),     TRANSPOSE($A$12:$C$14))","v":245.31865556271305},-6684.7477193750328,8596.9326375925812,null,-388.78679182293666,14.267801430127886," ",485.73219856987214,111.21320817706334]
[null,null,null,null,null,null,null,null,null,null,null,null,null,null,null,null,null,null,null,null,865.98749999999995,461.99630000000002,null,null,null,"''",null,18.143000000000001,-63.668553000000003,null,-63.668553000000003,-87.855000000000018,null,{"$f":"camera!$B$5*COS(RADIANS(AE754))*COS(RADIANS(AF754))","v":8.3009670241095055},{"$f":"camera!$B$5*COS(RADIANS(AE754))*SIN(RADIANS(AF754))","v":-221.62618087588874},{"$f":"camera!$B$5*SIN(RADIANS(AE754))","v":-448.12155705436948},null,{"$f":"TRANSPOSE(MMULT(camera!$A$12:$C$14,MMULT(camera!$A$16:$C$18,TRANSPOSE(AH754:AJ754))))","v":479.52648868099055},-27.585373745017215,-138.9006616565506,null,{"$f":"camera!$B$5*AM754/AN754","v":99.298928514917847},{"$f":"camera!$B$5*AL754/AN754","v":-1726.1490440797188},null,{"$f":"IF( AND( (camera!$B$3) > (AQ754+camera!$B$3/2), 0 < (AQ754+camera!$B$3/2), AN754 >= 0 ), AQ754+camera!$B$3/2, 0)*-1+camera!$B$3","v":1000},{"$f":"IF( AND( (camera!$B$4) > (AP754+camera!$B$4/2), 0 < (AP754+camera!$B$4/2), AN754 >= 0 ), AP754+camera!$B$4/2, 0)","v":0},null,null,null,1981.9414999999999,4263.0002000000004,-363.28530000000001,null,{"$f":"MMULT(               MMULT(AX754:AZ754-$B$2:$D$2, TRANSPOSE($A$16:$C$18)),     TRANSPOSE($A$12:$C$14))","v":296.86299483389212},-6658.9198445705033,8678.0773708755205,null,-383.66331388784874,17.104191524622347," ",482.89580847537763,116.33668611215126]
[null,null,null,null,null,null,null,null,null,null,null,null,null,null,null,null,null,null,null,null,865.98749999999995,51.996299999999998,null,null,null,"''",null,18.331030999999999,36.064546999999997,null,36.064546999999997,-85.034535000000005,null,{"$f":"camera!$B$5*COS(RADIANS(AE755))*COS(RADIANS(AF755))","v":34.98366311581686},{"$f":"camera!$B$5*COS(RADIANS(AE755))*SIN(RADIANS(AF755))","v":-402.66029701086995},{"$f":"camera!$B$5*SIN(RADIANS(AE755))","v":294.34814170658018},null,{"$f":"TRANSPOSE(MMULT(camera!$A$12:$C$14,MMULT(camera!$A$16:$C$18,TRANSPOSE(AH755:AJ755))))","v":-220.75063462738373},-69.944696976779511,-443.14432939668063,null,{"$f":"camera!$B$5*AM755/AN755","v":78.918641554102479},{"$f":"camera!$B$5*AL755/AN755","v":249.07306715164893},null,{"$f":"IF( AND( (camera!$B$3) > (AQ755+camera!$B$3/2), 0 < (AQ755+camera!$B$3/2), AN755 >= 0 ), AQ755+camera!$B$3/2, 0)*-1+camera!$B$3","v":1000},{"$f":"IF( AND( (camera!$B$4) > (AP755+camera!$B$4/2), 0 < (AP755+camera!$B$4/2), AN755 >= 0 ), AP755+camera!$B$4/2, 0)","v":0},null,null,null,1926.8779999999999,4260.1746000000003,-364.50490000000002,null,{"$f":"MMULT(               MMULT(AX755:AZ755-$B$2:$D$2, TRANSPOSE($A$16:$C$18)),     TRANSPOSE($A$12:$C$14))","v":299.38621456099418},-6604.3121450788367,8670.7908771915481,null,-380.83677940217837,17.264066150443522," ",482.73593384955643,119.16322059782163]
[null,null,null,null,null,null,null,null,null,null,null,null,null,null,null,null,null,null,null,null,866.65679999999998,562.16219999999998,null,null,null,"''",null,11.303118,31.528783000000001,null,31.528783000000001,169.54676999999998,null,{"$f":"camera!$B$5*COS(RADIANS(AE756))*COS(RADIANS(AF756))","v":-419.11547604450681},{"$f":"camera!$B$5*COS(RADIANS(AE756))*SIN(RADIANS(AF756))","v":77.324643505755859},{"$f":"camera!$B$5*SIN(RADIANS(AE756))","v":261.46341473845661},null,{"$f":"TRANSPOSE(MMULT(camera!$A$12:$C$14,MMULT(camera!$A$16:$C$18,TRANSPOSE(AH756:AJ756))))","v":-264.5243102222712},424.25990186117775,-5.5158838072843679,null,{"$f":"camera!$B$5*AM756/AN756","v":-38458.016583026372},{"$f":"camera!$B$5*AL756/AN756","v":23978.415741185119},null,{"$f":"IF( AND( (camera!$B$3) > (AQ756+camera!$B$3/2), 0 < (AQ756+camera!$B$3/2), AN756 >= 0 ), AQ756+camera!$B$3/2, 0)*-1+camera!$B$3","v":1000},{"$f":"IF( AND( (camera!$B$4) > (AP756+camera!$B$4/2), 0 < (AP756+camera!$B$4/2), AN756 >= 0 ), AP756+camera!$B$4/2, 0)","v":0},null,null,null,1926.8779999999999,4180.0622000000003,-298.43340000000001,null,{"$f":"MMULT(               MMULT(AX756:AZ756-$B$2:$D$2, TRANSPOSE($A$16:$C$18)),     TRANSPOSE($A$12:$C$14))","v":248.17692440493215},-6611.2944008041341,8580.722589472125,null,-385.24112228704809,14.461306831514738," ",485.53869316848522,114.75887771295191]
[null,null,null,null,null,null,null,null,null,null,null,null,null,null,null,null,null,null,null,null,866.65679999999998,152.16220000000001,null,null,null,"''",null,0.61468,33.719344,null,33.719344,9.2202000000000002,null,{"$f":"camera!$B$5*COS(RADIANS(AE757))*COS(RADIANS(AF757))","v":410.5100938727918},{"$f":"camera!$B$5*COS(RADIANS(AE757))*SIN(RADIANS(AF757))","v":66.636660087434009},{"$f":"camera!$B$5*SIN(RADIANS(AE757))","v":277.56263862584865},null,{"$f":"TRANSPOSE(MMULT(camera!$A$12:$C$14,MMULT(camera!$A$16:$C$18,TRANSPOSE(AH757:AJ757))))","v":-291.085979336229},-403.14021142507642,52.411092013171718,null,{"$f":"camera!$B$5*AM757/AN757","v":-3845.9436346390289},{"$f":"camera!$B$5*AL757/AN757","v":-2776.9501469562451},null,{"$f":"IF( AND( (camera!$B$3) > (AQ757+camera!$B$3/2), 0 < (AQ757+camera!$B$3/2), AN757 >= 0 ), AQ757+camera!$B$3/2, 0)*-1+camera!$B$3","v":1000},{"$f":"IF( AND( (camera!$B$4) > (AP757+camera!$B$4/2), 0 < (AP757+camera!$B$4/2), AN757 >= 0 ), AP757+camera!$B$4/2, 0)","v":0},null,null,null,1852.2697000000001,4190.0577999999996,-298.43340000000001,null,{"$f":"MMULT(               MMULT(AX757:AZ757-$B$2:$D$2, TRANSPOSE($A$16:$C$18)),     TRANSPOSE($A$12:$C$14))","v":247.57696614427255},-6536.0988339682863,8584.1251218483321,null,-380.70850210073212,14.420628930147998," ",485.57937106985196,119.29149789926788]
[null,null,null,null,null,null,null,null,null,null,null,null,null,null,null,null,null,null,null,null,867.11189999999999,543.23379999999997,null,null,null,"''",null,0.64260200000000001,29.311751000000001,null,29.311751000000001,9.63903,null,{"$f":"camera!$B$5*COS(RADIANS(AE758))*COS(RADIANS(AF758))","v":429.82930349609148},{"$f":"camera!$B$5*COS(RADIANS(AE758))*SIN(RADIANS(AF758))","v":73.001396551262729},{"$f":"camera!$B$5*SIN(RADIANS(AE758))","v":244.78064865840639},null,{"$f":"TRANSPOSE(MMULT(camera!$A$12:$C$14,MMULT(camera!$A$16:$C$18,TRANSPOSE(AH758:AJ758))))","v":-260.1954259707295},-421.83118228923252,66.006014516701043,null,{"$f":"camera!$B$5*AM758/AN758","v":-3195.3995812192197},{"$f":"camera!$B$5*AL758/AN758","v":-1970.9978543310933},null,{"$f":"IF( AND( (camera!$B$3) > (AQ758+camera!$B$3/2), 0 < (AQ758+camera!$B$3/2), AN758 >= 0 ), AQ758+camera!$B$3/2, 0)*-1+camera!$B$3","v":1000},{"$f":"IF( AND( (camera!$B$4) > (AP758+camera!$B$4/2), 0 < (AP758+camera!$B$4/2), AN758 >= 0 ), AP758+camera!$B$4/2, 0)","v":0},null,null,null,1871.8145,4263.0002000000004,-363.28530000000001,null,{"$f":"MMULT(               MMULT(AX758:AZ758-$B$2:$D$2, TRANSPOSE($A$16:$C$18)),     TRANSPOSE($A$12:$C$14))","v":298.52970485639867},-6549.2119110537542,8668.6249886263049,null,-377.75379138252418,17.218976783981628," ",482.78102321601841,122.24620861747582]
[null,null,null,null,null,null,null,null,null,null,null,null,null,null,null,null,null,null,null,null,867.11189999999999,133.2338,null,null,null,"''",null,1.185017,55.149901,null,55.149901,17.775255000000001,null,{"$f":"camera!$B$5*COS(RADIANS(AE759))*COS(RADIANS(AF759))","v":272.07599107003438},{"$f":"camera!$B$5*COS(RADIANS(AE759))*SIN(RADIANS(AF759))","v":87.224444829395225},{"$f":"camera!$B$5*SIN(RADIANS(AE759))","v":410.32493381156155},null,{"$f":"TRANSPOSE(MMULT(camera!$A$12:$C$14,MMULT(camera!$A$16:$C$18,TRANSPOSE(AH759:AJ759))))","v":-423.29762211658937},-263.43854850716724,37.672991265334801,null,{"$f":"camera!$B$5*AM759/AN759","v":-3496.3848059176153},{"$f":"camera!$B$5*AL759/AN759","v":-5618.0516584847237},null,{"$f":"IF( AND( (camera!$B$3) > (AQ759+camera!$B$3/2), 0 < (AQ759+camera!$B$3/2), AN759 >= 0 ), AQ759+camera!$B$3/2, 0)*-1+camera!$B$3","v":1000},{"$f":"IF( AND( (camera!$B$4) > (AP759+camera!$B$4/2), 0 < (AP759+camera!$B$4/2), AN759 >= 0 ), AP759+camera!$B$4/2, 0)","v":0},null,null,null,1822.7153000000001,4288.0848999999998,-364.50490000000002,null,{"$f":"MMULT(               MMULT(AX759:AZ759-$B$2:$D$2, TRANSPOSE($A$16:$C$18)),     TRANSPOSE($A$12:$C$14))","v":296.13452820678685},-6498.1132726731057,8689.2321068952624,null,-373.91757940938106,17.040316368795807," ",482.95968363120414,126.08242059061894]
[null,null,null,null,null,null,null,null,null,null,null,null,null,null,null,null,null,null,null,null,868.32010000000002,466.41879999999998,null,null,null,"''",null,5.7462229999999996,-65.735525999999993,null,-65.735525999999993,86.193344999999994,null,{"$f":"camera!$B$5*COS(RADIANS(AE760))*COS(RADIANS(AF760))","v":13.641415762636932},{"$f":"camera!$B$5*COS(RADIANS(AE760))*SIN(RADIANS(AF760))","v":205.0212584625404},{"$f":"camera!$B$5*SIN(RADIANS(AE760))","v":-455.82912955890293},null,{"$f":"TRANSPOSE(MMULT(camera!$A$12:$C$14,MMULT(camera!$A$16:$C$18,TRANSPOSE(AH760:AJ760))))","v":413.23151250527366},4.2792740031582248,281.46297249657857,null,{"$f":"camera!$B$5*AM760/AN760","v":7.6018418429980938},{"$f":"camera!$B$5*AL760/AN760","v":734.07793010907835},null,{"$f":"IF( AND( (camera!$B$3) > (AQ760+camera!$B$3/2), 0 < (AQ760+camera!$B$3/2), AN760 >= 0 ), AQ760+camera!$B$3/2, 0)*-1+camera!$B$3","v":1000},{"$f":"IF( AND( (camera!$B$4) > (AP760+camera!$B$4/2), 0 < (AP760+camera!$B$4/2), AN760 >= 0 ), AP760+camera!$B$4/2, 0)","v":507.60184184299811},null,null,null,1782.6591000000001,4218.7055,-298.43340000000001,null,{"$f":"MMULT(               MMULT(AX760:AZ760-$B$2:$D$2, TRANSPOSE($A$16:$C$18)),     TRANSPOSE($A$12:$C$14))","v":243.67479234307825},-6464.2563117457894,8606.2554491840347,null,-375.55568446197299,14.15684171715942," ",485.84315828284059,124.44431553802701]
[null,null,null,null,null,null,null,null,null,null,null,null,null,null,null,null,null,null,null,null,868.32010000000002,56.418799999999997,null,null,null,"''",null,6.5309350000000004,-23.418422,null,-23.418422,97.964025000000007,null,{"$f":"camera!$B$5*COS(RADIANS(AE761))*COS(RADIANS(AF761))","v":-63.569199807448193},{"$f":"camera!$B$5*COS(RADIANS(AE761))*SIN(RADIANS(AF761))","v":454.38830537419443},{"$f":"camera!$B$5*SIN(RADIANS(AE761))","v":-198.7214753744762},null,{"$f":"TRANSPOSE(MMULT(camera!$A$12:$C$14,MMULT(camera!$A$16:$C$18,TRANSPOSE(AH761:AJ761))))","v":118.06108484187433},102.92985006085232,474.83368268522213,null,{"$f":"camera!$B$5*AM761/AN761","v":108.38516075647357},{"$f":"camera!$B$5*AL761/AN761","v":124.31835519147413},null,{"$f":"IF( AND( (camera!$B$3) > (AQ761+camera!$B$3/2), 0 < (AQ761+camera!$B$3/2), AN761 >= 0 ), AQ761+camera!$B$3/2, 0)*-1+camera!$B$3","v":375.6816448085259},{"$f":"IF( AND( (camera!$B$4) > (AP761+camera!$B$4/2), 0 < (AP761+camera!$B$4/2), AN761 >= 0 ), AP761+camera!$B$4/2, 0)","v":608.38516075647362},null,null,null,1723.0442,4264.6661999999997,-298.43340000000001,null,{"$f":"MMULT(               MMULT(AX761:AZ761-$B$2:$D$2, TRANSPOSE($A$16:$C$18)),     TRANSPOSE($A$12:$C$14))","v":236.62640850992034},-6400.8625254928183,8646.2288202747113,null,-370.15343096653368,13.683792866726501," ",486.31620713327345,129.84656903346632]
[null,null,null,null,null,null,null,null,null,null,null,null,null,null,null,null,null,null,null,null,869.52940000000001,538.85709999999995,null,null,null,"''",null,8.3441150000000004,-77.484476999999998,null,-77.484476999999998,125.161725,null,{"$f":"camera!$B$5*COS(RADIANS(AE762))*COS(RADIANS(AF762))","v":-62.39846602857768},{"$f":"camera!$B$5*COS(RADIANS(AE762))*SIN(RADIANS(AF762))","v":88.581033017552826},{"$f":"camera!$B$5*SIN(RADIANS(AE762))","v":-488.11866592748089},null,{"$f":"TRANSPOSE(MMULT(camera!$A$12:$C$14,MMULT(camera!$A$16:$C$18,TRANSPOSE(AH762:AJ762))))","v":466.32401012691167},69.881366752726635,166.30848493064599,null,{"$f":"camera!$B$5*AM762/AN762","v":210.09561473026642},{"$f":"camera!$B$5*AL762/AN762","v":1401.9850229571216},null,{"$f":"IF( AND( (camera!$B$3) > (AQ762+camera!$B$3/2), 0 < (AQ762+camera!$B$3/2), AN762 >= 0 ), AQ762+camera!$B$3/2, 0)*-1+camera!$B$3","v":1000},{"$f":"IF( AND( (camera!$B$4) > (AP762+camera!$B$4/2), 0 < (AP762+camera!$B$4/2), AN762 >= 0 ), AP762+camera!$B$4/2, 0)","v":710.09561473026645},null,null,null,1776.4418000000001,4318.0636999999997,-363.28530000000001,null,{"$f":"MMULT(               MMULT(AX762:AZ762-$B$2:$D$2, TRANSPOSE($A$16:$C$18)),     TRANSPOSE($A$12:$C$14))","v":290.44782550589252},-6449.4030327302735,8714.4596040551751,null,-370.04033099936095,16.664706631420721," ",483.3352933685793,129.95966900063905]
[null,null,null,null,null,null,null,null,null,null,null,null,null,null,null,null,null,null,null,null,869.52940000000001,128.8571,null,null,null,"''",null,9.2700239999999994,-57.541473000000003,null,-57.541473000000003,139.05035999999998,null,{"$f":"camera!$B$5*COS(RADIANS(AE763))*COS(RADIANS(AF763))","v":-202.67682034596473},{"$f":"camera!$B$5*COS(RADIANS(AE763))*SIN(RADIANS(AF763))","v":175.87175339828033},{"$f":"camera!$B$5*SIN(RADIANS(AE763))","v":-421.89007199869496},null,{"$f":"TRANSPOSE(MMULT(camera!$A$12:$C$14,MMULT(camera!$A$16:$C$18,TRANSPOSE(AH763:AJ763))))","v":388.12441688400207},217.2338071505034,228.40514453346114,null,{"$f":"camera!$B$5*AM763/AN763","v":475.54490857511934},{"$f":"camera!$B$5*AL763/AN763","v":849.64026899828048},null,{"$f":"IF( AND( (camera!$B$3) > (AQ763+camera!$B$3/2), 0 < (AQ763+camera!$B$3/2), AN763 >= 0 ), AQ763+camera!$B$3/2, 0)*-1+camera!$B$3","v":1000},{"$f":"IF( AND( (camera!$B$4) > (AP763+camera!$B$4/2), 0 < (AP763+camera!$B$4/2), AN763 >= 0 ), AP763+camera!$B$4/2, 0)","v":975.54490857511928},null,null,null,1746.4629,4364.3373000000001,-364.50490000000002,null,{"$f":"MMULT(               MMULT(AX763:AZ763-$B$2:$D$2, TRANSPOSE($A$16:$C$18)),     TRANSPOSE($A$12:$C$14))","v":284.09786131037663},-6415.5052015180436,8757.4954370336691,null,-366.28652835993358,16.220268874419531," ",483.7797311255805,133.71347164006642]
[null,null,null,null,null,null,null,null,null,null,null,null,null,null,null,null,null,null,null,null,869.56859999999995,459.30619999999999,null,null,null,"''",null,9.6137720000000009,-49.355026000000002,null,-49.355026000000002,144.20658,null,{"$f":"camera!$B$5*COS(RADIANS(AE764))*COS(RADIANS(AF764))","v":-264.17319804431827},{"$f":"camera!$B$5*COS(RADIANS(AE764))*SIN(RADIANS(AF764))","v":190.48160400141842},{"$f":"camera!$B$5*SIN(RADIANS(AE764))","v":-379.38012595823233},null,{"$f":"TRANSPOSE(MMULT(camera!$A$12:$C$14,MMULT(camera!$A$16:$C$18,TRANSPOSE(AH764:AJ764))))","v":344.66368544819233},279.76950494619945,230.07817809481196,null,{"$f":"camera!$B$5*AM764/AN764","v":607.98791798262232},{"$f":"camera!$B$5*AL764/AN764","v":749.01428788731391},null,{"$f":"IF( AND( (camera!$B$3) > (AQ764+camera!$B$3/2), 0 < (AQ764+camera!$B$3/2), AN764 >= 0 ), AQ764+camera!$B$3/2, 0)*-1+camera!$B$3","v":1000},{"$f":"IF( AND( (camera!$B$4) > (AP764+camera!$B$4/2), 0 < (AP764+camera!$B$4/2), AN764 >= 0 ), AP764+camera!$B$4/2, 0)","v":0},null,null,null,1677.0835999999999,4324.2811000000002,-298.43340000000001,null,{"$f":"MMULT(               MMULT(AX764:AZ764-$B$2:$D$2, TRANSPOSE($A$16:$C$18)),     TRANSPOSE($A$12:$C$14))","v":227.00937007450239},-6349.8810385633751,8700.7697555120612,null,-364.90340607741263,13.045361298676404," ",486.95463870132357,135.09659392258737]
[null,null,null,null,null,null,null,null,null,null,null,null,null,null,null,null,null,null,null,null,869.56859999999995,49.306199999999997,null,null,null,"''",null,14.028748,-45.603420999999997,null,-45.603420999999997,-149.56878,null,{"$f":"camera!$B$5*COS(RADIANS(AE765))*COS(RADIANS(AF765))","v":-301.61970050014179},{"$f":"camera!$B$5*COS(RADIANS(AE765))*SIN(RADIANS(AF765))","v":-177.18021940606127},{"$f":"camera!$B$5*SIN(RADIANS(AE765))","v":-357.2572268288281},null,{"$f":"TRANSPOSE(MMULT(camera!$A$12:$C$14,MMULT(camera!$A$16:$C$18,TRANSPOSE(AH765:AJ765))))","v":387.04447523460135},285.02967285573317,-137.67592302986657,null,{"$f":"camera!$B$5*AM765/AN765","v":-1035.1471287899069},{"$f":"camera!$B$5*AL765/AN765","v":-1405.6360281333953},null,{"$f":"IF( AND( (camera!$B$3) > (AQ765+camera!$B$3/2), 0 < (AQ765+camera!$B$3/2), AN765 >= 0 ), AQ765+camera!$B$3/2, 0)*-1+camera!$B$3","v":1000},{"$f":"IF( AND( (camera!$B$4) > (AP765+camera!$B$4/2), 0 < (AP765+camera!$B$4/2), AN765 >= 0 ), AP765+camera!$B$4/2, 0)","v":0},null,null,null,1648.4358999999999,4393.8915999999999,-298.43340000000001,null,{"$f":"MMULT(               MMULT(AX765:AZ765-$B$2:$D$2, TRANSPOSE($A$16:$C$18)),     TRANSPOSE($A$12:$C$14))","v":215.40119786905052},-6315.2753968803163,8766.6029714998313,null,-360.18942670332143,12.285328682576273," ",487.71467131742372,139.81057329667857]
[null,null,null,null,null,null,null,null,null,null,null,null,null,null,null,null,null,null,null,null,869.94200000000001,547.16219999999998,null,null,null,"''",null,15.634232000000001,-42.567348000000003,null,-42.567348000000003,-125.48651999999998,null,{"$f":"camera!$B$5*COS(RADIANS(AE766))*COS(RADIANS(AF766))","v":-213.76830510240964},{"$f":"camera!$B$5*COS(RADIANS(AE766))*SIN(RADIANS(AF766))","v":-299.84130283476821},{"$f":"camera!$B$5*SIN(RADIANS(AE766))","v":-338.22818458548352},null,{"$f":"TRANSPOSE(MMULT(camera!$A$12:$C$14,MMULT(camera!$A$16:$C$18,TRANSPOSE(AH766:AJ766))))","v":388.19376674682866},186.82196070808942,-253.77776588206831,null,{"$f":"camera!$B$5*AM766/AN766","v":-368.08181374507501},{"$f":"camera!$B$5*AL766/AN766","v":-764.8301367095022},null,{"$f":"IF( AND( (camera!$B$3) > (AQ766+camera!$B$3/2), 0 < (AQ766+camera!$B$3/2), AN766 >= 0 ), AQ766+camera!$B$3/2, 0)*-1+camera!$B$3","v":1000},{"$f":"IF( AND( (camera!$B$4) > (AP766+camera!$B$4/2), 0 < (AP766+camera!$B$4/2), AN766 >= 0 ), AP766+camera!$B$4/2, 0)","v":0},null,null,null,1721.3783000000001,4413.4364999999998,-363.28530000000001,null,{"$f":"MMULT(               MMULT(AX766:AZ766-$B$2:$D$2, TRANSPOSE($A$16:$C$18)),     TRANSPOSE($A$12:$C$14))","v":274.7828883938073},-6386.2367787499752,8803.2998771043985,null,-362.71834811394331,15.60681177682371," ",484.39318822317625,137.28165188605669]
[null,null,null,null,null,null,null,null,null,null,null,null,null,null,null,null,null,null,null,null,869.94200000000001,137.16220000000001,null,null,null,"''",null,17.441911000000001,4.1403600000000003,null,4.1403600000000003,-98.371334999999988,null,{"$f":"camera!$B$5*COS(RADIANS(AE767))*COS(RADIANS(AF767))","v":-72.604059403114491},{"$f":"camera!$B$5*COS(RADIANS(AE767))*SIN(RADIANS(AF767))","v":-493.38163642574432},{"$f":"camera!$B$5*SIN(RADIANS(AE767))","v":36.100019335778747},null,{"$f":"TRANSPOSE(MMULT(camera!$A$12:$C$14,MMULT(camera!$A$16:$C$18,TRANSPOSE(AH767:AJ767))))","v":50.89604605323337},29.326736056580025,-496.53754646392531,null,{"$f":"camera!$B$5*AM767/AN767","v":-29.531237129426916},{"$f":"camera!$B$5*AL767/AN767","v":-51.250954148067727},null,{"$f":"IF( AND( (camera!$B$3) > (AQ767+camera!$B$3/2), 0 < (AQ767+camera!$B$3/2), AN767 >= 0 ), AQ767+camera!$B$3/2, 0)*-1+camera!$B$3","v":1000},{"$f":"IF( AND( (camera!$B$4) > (AP767+camera!$B$4/2), 0 < (AP767+camera!$B$4/2), AN767 >= 0 ), AP767+camera!$B$4/2, 0)","v":0},null,null,null,1718.5526,4468.5,-364.50490000000002,null,{"$f":"MMULT(               MMULT(AX767:AZ767-$B$2:$D$2, TRANSPOSE($A$16:$C$18)),     TRANSPOSE($A$12:$C$14))","v":266.50143393951316},-6378.6227311507919,8857.2897356722715,null,-360.07757008677396,15.044186308267221," ",484.95581369173283,139.92242991322604]
[null,null,null,null,null,null,null,null,null,null,null,null,null,null,null,null,null,null,null,null,870.65279999999996,470.84140000000002,null,null,null,"''",null,18.746209,37.605114999999998,null,37.605114999999998,-78.806865000000016,null,{"$f":"camera!$B$5*COS(RADIANS(AE768))*COS(RADIANS(AF768))","v":76.893083946493633},{"$f":"camera!$B$5*COS(RADIANS(AE768))*SIN(RADIANS(AF768))","v":-388.5828031775543},{"$f":"camera!$B$5*SIN(RADIANS(AE768))","v":305.10794600578913},null,{"$f":"TRANSPOSE(MMULT(camera!$A$12:$C$14,MMULT(camera!$A$16:$C$18,TRANSPOSE(AH768:AJ768))))","v":-234.41647773658468},-110.46770537732726,-427.60472522440773,null,{"$f":"camera!$B$5*AM768/AN768","v":129.1703515663369},{"$f":"camera!$B$5*AL768/AN768","v":274.1041713390357},null,{"$f":"IF( AND( (camera!$B$3) > (AQ768+camera!$B$3/2), 0 < (AQ768+camera!$B$3/2), AN768 >= 0 ), AQ768+camera!$B$3/2, 0)*-1+camera!$B$3","v":1000},{"$f":"IF( AND( (camera!$B$4) > (AP768+camera!$B$4/2), 0 < (AP768+camera!$B$4/2), AN768 >= 0 ), AP768+camera!$B$4/2, 0)","v":0},null,null,null,1638.4402,4468.5,-298.43340000000001,null,{"$f":"MMULT(               MMULT(AX768:AZ768-$B$2:$D$2, TRANSPOSE($A$16:$C$18)),     TRANSPOSE($A$12:$C$14))","v":202.64616446906916},-6298.8151830193865,8838.940360529763,null,-356.31053758133208,11.463261217033686," ",488.53673878296632,143.68946241866792]
[null,null,null,null,null,null,null,null,null,null,null,null,null,null,null,null,null,null,null,null,870.65279999999996,60.8414,null,null,null,"''",null,18.783685999999999,18.181519000000002,null,18.181519000000002,-78.244709999999998,null,{"$f":"camera!$B$5*COS(RADIANS(AE769))*COS(RADIANS(AF769))","v":96.780178622081948},{"$f":"camera!$B$5*COS(RADIANS(AE769))*SIN(RADIANS(AF769))","v":-465.07327724753111},{"$f":"camera!$B$5*SIN(RADIANS(AE769))","v":156.01424235023862},null,{"$f":"TRANSPOSE(MMULT(camera!$A$12:$C$14,MMULT(camera!$A$16:$C$18,TRANSPOSE(AH769:AJ769))))","v":-74.656934641465554},-136.94570773428626,-475.04969765604039,null,{"$f":"camera!$B$5*AM769/AN769","v":144.13829585619666},{"$f":"camera!$B$5*AL769/AN769","v":78.578025635878731},null,{"$f":"IF( AND( (camera!$B$3) > (AQ769+camera!$B$3/2), 0 < (AQ769+camera!$B$3/2), AN769 >= 0 ), AQ769+camera!$B$3/2, 0)*-1+camera!$B$3","v":1000},{"$f":"IF( AND( (camera!$B$4) > (AP769+camera!$B$4/2), 0 < (AP769+camera!$B$4/2), AN769 >= 0 ), AP769+camera!$B$4/2, 0)","v":0},null,null,null,1648.4358999999999,4543.1082999999999,-298.43340000000001,null,{"$f":"MMULT(               MMULT(AX769:AZ769-$B$2:$D$2, TRANSPOSE($A$16:$C$18)),     TRANSPOSE($A$12:$C$14))","v":189.58858980594869},-6302.2703045614617,8912.9935463250185,null,-353.54397329054484,10.635517058357983," ",489.364482941642,146.45602670945516]
[null,null,null,null,null,null,null,null,null,null,null,null,null,null,null,null,null,null,null,null,870.7056,444.30619999999999,null,null,null,"''",null,21.741859999999999,17.350017000000001,null,17.350017000000001,-33.872099999999989,null,{"$f":"camera!$B$5*COS(RADIANS(AE770))*COS(RADIANS(AF770))","v":396.253281778928},{"$f":"camera!$B$5*COS(RADIANS(AE770))*SIN(RADIANS(AF770))","v":-265.99116447937666},{"$f":"camera!$B$5*SIN(RADIANS(AE770))","v":149.10411496110569},null,{"$f":"TRANSPOSE(MMULT(camera!$A$12:$C$14,MMULT(camera!$A$16:$C$18,TRANSPOSE(AH770:AJ770))))","v":-106.82283996311151},-417.92807591413714,-252.83394595054406,null,{"$f":"camera!$B$5*AM770/AN770","v":826.48727081110883},{"$f":"camera!$B$5*AL770/AN770","v":211.25098443862979},null,{"$f":"IF( AND( (camera!$B$3) > (AQ770+camera!$B$3/2), 0 < (AQ770+camera!$B$3/2), AN770 >= 0 ), AQ770+camera!$B$3/2, 0)*-1+camera!$B$3","v":1000},{"$f":"IF( AND( (camera!$B$4) > (AP770+camera!$B$4/2), 0 < (AP770+camera!$B$4/2), AN770 >= 0 ), AP770+camera!$B$4/2, 0)","v":0},null,null,null,1721.3783000000001,4523.5635000000002,-363.28530000000001,null,{"$f":"MMULT(               MMULT(AX770:AZ770-$B$2:$D$2, TRANSPOSE($A$16:$C$18)),     TRANSPOSE($A$12:$C$14))","v":255.73230566301868},-6376.6385782684038,8911.3411005986436,null,-357.78220731782091,14.348699189947919," ",485.65130081005213,142.21779268217909]
[null,null,null,null,null,null,null,null,null,null,null,null,null,null,null,null,null,null,null,null,870.7056,34.306199999999997,null,null,null,"''",null,22.492173000000001,47.706887000000002,null,{"$f":"AC771","v":47.706887000000002},{"$f":"IF(AB771*15/1>180, (AB771*15/1)-360, AB771*15/1)","v":-22.617404999999962},null,{"$f":"camera!$B$5*COS(RADIANS(AE771))*COS(RADIANS(AF771))","v":310.58568085668634},{"$f":"camera!$B$5*COS(RADIANS(AE771))*SIN(RADIANS(AF771))","v":-129.39505083143933},{"$f":"camera!$B$5*SIN(RADIANS(AE771))","v":369.85599314749226},null,{"$f":"TRANSPOSE(MMULT(camera!$A$12:$C$14,MMULT(camera!$A$16:$C$18,TRANSPOSE(AH771:AJ771))))","v":-346.55387599834444},-320.68133033573093,-164.51107988409152,null,{"$f":"camera!$B$5*AM771/AN771","v":974.64964232704335},{"$f":"camera!$B$5*AL771/AN771","v":1053.284302317247},null,{"$f":"IF( AND( (camera!$B$3) > (AQ771+camera!$B$3/2), 0 < (AQ771+camera!$B$3/2), AN771 >= 0 ), AQ771+camera!$B$3/2, 0)*-1+camera!$B$3","v":1000},{"$f":"IF( AND( (camera!$B$4) > (AP771+camera!$B$4/2), 0 < (AP771+camera!$B$4/2), AN771 >= 0 ), AP771+camera!$B$4/2, 0)","v":0},null,null,null,1746.4629,4572.6626999999999,-364.50490000000002,null,{"$f":"MMULT(               MMULT(AX771:AZ771-$B$2:$D$2, TRANSPOSE($A$16:$C$18)),     TRANSPOSE($A$12:$C$14))","v":248.06019327597483},-6397.3484465478405,8961.8752085785891,null,-356.92019235126691,13.839748239214702," ",486.16025176078529,143.07980764873309]
[null,null,null,null,null,null,null,null,null,null,null,null,null,null,null,null,null,null,null,null,871.65679999999998,562.16219999999998,null,null,null,"''",null,3.1938219999999999,19.726676999999999,null,19.726676999999999,47.907330000000002,null,{"$f":"camera!$B$5*COS(RADIANS(AE772))*COS(RADIANS(AF772))","v":315.49613178430354},{"$f":"camera!$B$5*COS(RADIANS(AE772))*SIN(RADIANS(AF772))","v":349.25629955731529},{"$f":"camera!$B$5*SIN(RADIANS(AE772))","v":168.76678597600963},null,{"$f":"TRANSPOSE(MMULT(camera!$A$12:$C$14,MMULT(camera!$A$16:$C$18,TRANSPOSE(AH772:AJ772))))","v":-231.39463233607643},-283.85588155476142,340.4149859110513,null,{"$f":"camera!$B$5*AM772/AN772","v":-416.92624194419506},{"$f":"camera!$B$5*AL772/AN772","v":-339.87139508091263},null,{"$f":"IF( AND( (camera!$B$3) > (AQ772+camera!$B$3/2), 0 < (AQ772+camera!$B$3/2), AN772 >= 0 ), AQ772+camera!$B$3/2, 0)*-1+camera!$B$3","v":839.87139508091263},{"$f":"IF( AND( (camera!$B$4) > (AP772+camera!$B$4/2), 0 < (AP772+camera!$B$4/2), AN772 >= 0 ), AP772+camera!$B$4/2, 0)","v":83.073758055804944},null,null,null,1677.0835999999999,4612.7188999999998,-298.43340000000001,null,{"$f":"MMULT(               MMULT(AX772:AZ772-$B$2:$D$2, TRANSPOSE($A$16:$C$18)),     TRANSPOSE($A$12:$C$14))","v":177.11326674301631},-6324.7420278678746,8983.744619205685,null,{"$f":"$B$5*BC772/BD772","v":-352.01034178702474},{"$f":"$B$5*BB772/BD772","v":9.8574299610197578}," ",{"$f":"IF( AND( ($B$3) > (BG772+$B$3/2), 0 < (BG772+$B$3/2), BD772 >= 0 ), BG772+$B$3/2, 0)*-1+$B$3","v":490.14257003898024},{"$f":"IF( AND( ($B$4) > (BF772+$B$4/2), 0 < (BF772+$B$4/2), BD772 >= 0 ), BF772+$B$4/2, 0)","v":147.98965821297526}]
[null,null,null,null,null,null,null,null,null,null,null,null,null,null,null,null,null,null,null,null,871.65679999999998,152.16220000000001,null,null,null,"''",null,4.843534,8.9001760000000001,null,8.9001760000000001,72.653009999999995,null,{"$f":"camera!$B$5*COS(RADIANS(AE773))*COS(RADIANS(AF773))","v":147.2839002521961},{"$f":"camera!$B$5*COS(RADIANS(AE773))*SIN(RADIANS(AF773))","v":471.51181539796107},{"$f":"camera!$B$5*SIN(RADIANS(AE773))","v":77.356710546792186},null,{"$f":"TRANSPOSE(MMULT(camera!$A$12:$C$14,MMULT(camera!$A$16:$C$18,TRANSPOSE(AH773:AJ773))))","v":-159.97614719224936},-105.6284780602053,461.79027377393783,null,{"$f":"camera!$B$5*AM773/AN773","v":-114.36845258451032},{"$f":"camera!$B$5*AL773/AN773","v":-173.21298896667881},null,{"$f":"IF( AND( (camera!$B$3) > (AQ773+camera!$B$3/2), 0 < (AQ773+camera!$B$3/2), AN773 >= 0 ), AQ773+camera!$B$3/2, 0)*-1+camera!$B$3","v":673.21298896667884},{"$f":"IF( AND( (camera!$B$4) > (AP773+camera!$B$4/2), 0 < (AP773+camera!$B$4/2), AN773 >= 0 ), AP773+camera!$B$4/2, 0)","v":385.63154741548965},null,null,null,1723.0442,4672.3338000000003,-298.43340000000001,null,{"$f":"MMULT(               MMULT(AX773:AZ773-$B$2:$D$2, TRANSPOSE($A$16:$C$18)),     TRANSPOSE($A$12:$C$14))","v":166.10505279822405},-6365.3319530206627,9046.1753028172479,null,-351.82448603656337,9.1809547813258714," ",490.81904521867415,148.17551396343663]
[null,null,null,null,null,null,null,null,null,null,null,null,null,null,null,null,null,null,null,null,871.94690000000003,534.48030000000006,null,null,null,"''",null,6.5829399999999998,-52.975606999999997,null,-52.975606999999997,98.744100000000003,null,{"$f":"camera!$B$5*COS(RADIANS(AE774))*COS(RADIANS(AF774))","v":-45.770284455789849},{"$f":"camera!$B$5*COS(RADIANS(AE774))*SIN(RADIANS(AF774))","v":297.57811664983791},{"$f":"camera!$B$5*SIN(RADIANS(AE774))","v":-399.18961102710523},null,{"$f":"TRANSPOSE(MMULT(camera!$A$12:$C$14,MMULT(camera!$A$16:$C$18,TRANSPOSE(AH774:AJ774))))","v":342.34046840931131},71.531756487074759,357.33207455134385,null,{"$f":"camera!$B$5*AM774/AN774","v":100.09142976723827},{"$f":"camera!$B$5*AL774/AN774","v":479.02286527055321},null,{"$f":"IF( AND( (camera!$B$3) > (AQ774+camera!$B$3/2), 0 < (AQ774+camera!$B$3/2), AN774 >= 0 ), AQ774+camera!$B$3/2, 0)*-1+camera!$B$3","v":20.977134729446789},{"$f":"IF( AND( (camera!$B$4) > (AP774+camera!$B$4/2), 0 < (AP774+camera!$B$4/2), AN774 >= 0 ), AP774+camera!$B$4/2, 0)","v":600.09142976723831},null,null,null,1776.4418000000001,4618.9362000000001,-363.28530000000001,null,{"$f":"MMULT(               MMULT(AX774:AZ774-$B$2:$D$2, TRANSPOSE($A$16:$C$18)),     TRANSPOSE($A$12:$C$14))","v":238.40067582716597},-6423.1802665204286,9009.6336577910588,null,-356.46178915199283,13.230320170732446," ",486.7696798292676,143.53821084800717]
[null,null,null,null,null,null,null,null,null,null,null,null,null,null,null,null,null,null,null,null,871.94690000000003,124.4803,null,null,null,"''",null,6.954612,58.422758999999999,null,58.422758999999999,104.31918,null,{"$f":"camera!$B$5*COS(RADIANS(AE775))*COS(RADIANS(AF775))","v":-64.755140260968929},{"$f":"camera!$B$5*COS(RADIANS(AE775))*SIN(RADIANS(AF775))","v":253.68969016990846},{"$f":"camera!$B$5*SIN(RADIANS(AE775))","v":425.96750217742914},null,{"$f":"TRANSPOSE(MMULT(camera!$A$12:$C$14,MMULT(camera!$A$16:$C$18,TRANSPOSE(AH775:AJ775))))","v":-462.40118452417084},86.619240776346217,169.35835284382361,null,{"$f":"camera!$B$5*AM775/AN775","v":255.72769019613537},{"$f":"camera!$B$5*AL775/AN775","v":-1365.1561223867745},null,{"$f":"IF( AND( (camera!$B$3) > (AQ775+camera!$B$3/2), 0 < (AQ775+camera!$B$3/2), AN775 >= 0 ), AQ775+camera!$B$3/2, 0)*-1+camera!$B$3","v":1000},{"$f":"IF( AND( (camera!$B$4) > (AP775+camera!$B$4/2), 0 < (AP775+camera!$B$4/2), AN775 >= 0 ), AP775+camera!$B$4/2, 0)","v":755.72769019613543},null,null,null,1822.7153000000001,4648.9151000000002,-364.50490000000002,null,{"$f":"MMULT(               MMULT(AX775:AZ775-$B$2:$D$2, TRANSPOSE($A$16:$C$18)),     TRANSPOSE($A$12:$C$14))","v":233.71545225931823},-6466.6648485863197,9043.228277513479,null,-357.54183407412506,12.922124991606454," ",487.07787500839356,142.45816592587494]
[null,null,null,null,null,null,null,null,null,null,null,null,null,null,null,null,null,null,null,null,872.9855,475.26389999999998,null,null,null,"''",null,8.1321729999999999,-68.617062000000004,null,-68.617062000000004,121.982595,null,{"$f":"camera!$B$5*COS(RADIANS(AE776))*COS(RADIANS(AF776))","v":-96.557184575549883},{"$f":"camera!$B$5*COS(RADIANS(AE776))*SIN(RADIANS(AF776))","v":154.62829926470906},{"$f":"camera!$B$5*SIN(RADIANS(AE776))","v":-465.58221526745064},null,{"$f":"TRANSPOSE(MMULT(camera!$A$12:$C$14,MMULT(camera!$A$16:$C$18,TRANSPOSE(AH776:AJ776))))","v":433.22156726388573},109.66649960905174,224.25952046885399,null,{"$f":"camera!$B$5*AM776/AN776","v":244.50801326020544},{"$f":"camera!$B$5*AL776/AN776","v":965.89336844687762},null,{"$f":"IF( AND( (camera!$B$3) > (AQ776+camera!$B$3/2), 0 < (AQ776+camera!$B$3/2), AN776 >= 0 ), AQ776+camera!$B$3/2, 0)*-1+camera!$B$3","v":1000},{"$f":"IF( AND( (camera!$B$4) > (AP776+camera!$B$4/2), 0 < (AP776+camera!$B$4/2), AN776 >= 0 ), AP776+camera!$B$4/2, 0)","v":744.50801326020542},null,null,null,1782.6591000000001,4718.2943999999998,-298.43340000000001,null,{"$f":"MMULT(               MMULT(AX776:AZ776-$B$2:$D$2, TRANSPOSE($A$16:$C$18)),     TRANSPOSE($A$12:$C$14))","v":157.25221049817628},-6420.7142700978038,9096.3822664054514,null,-352.92680551754285,8.6436676632938187," ",491.3563323367062,147.07319448245715]
[null,null,null,null,null,null,null,null,null,null,null,null,null,null,null,null,null,null,null,null,872.9855,65.263900000000007,null,null,null,"''",null,8.8072140000000001,5.8378119999999996,null,5.8378119999999996,132.10821000000001,null,{"$f":"camera!$B$5*COS(RADIANS(AE777))*COS(RADIANS(AF777))","v":-333.52770675629029},{"$f":"camera!$B$5*COS(RADIANS(AE777))*SIN(RADIANS(AF777))","v":369.01611528649778},{"$f":"camera!$B$5*SIN(RADIANS(AE777))","v":50.856420290384364},null,{"$f":"TRANSPOSE(MMULT(camera!$A$12:$C$14,MMULT(camera!$A$16:$C$18,TRANSPOSE(AH777:AJ777))))","v":-108.87117939296596},364.42040675096496,324.56868832505364,null,{"$f":"camera!$B$5*AM777/AN777","v":561.39180989941951},{"$f":"camera!$B$5*AL777/AN777","v":-167.71670113158314},null,{"$f":"IF( AND( (camera!$B$3) > (AQ777+camera!$B$3/2), 0 < (AQ777+camera!$B$3/2), AN777 >= 0 ), AQ777+camera!$B$3/2, 0)*-1+camera!$B$3","v":667.71670113158314},{"$f":"IF( AND( (camera!$B$4) > (AP777+camera!$B$4/2), 0 < (AP777+camera!$B$4/2), AN777 >= 0 ), AP777+camera!$B$4/2, 0)","v":0},null,null,null,1852.2697000000001,4746.9421000000002,-298.43340000000001,null,{"$f":"MMULT(               MMULT(AX777:AZ777-$B$2:$D$2, TRANSPOSE($A$16:$C$18)),     TRANSPOSE($A$12:$C$14))","v":151.24300236947488},-6487.5631691772769,9130.4621792160542,null,-355.27025039023283,8.2823300398611739," ",491.71766996013883,144.72974960976717]
[null,null,null,null,null,null,null,null,null,null,null,null,null,null,null,null,null,null,null,null,873.34879999999998,529.82770000000005,null,null,null,"''",null,12.448966,28.268422999999999,null,28.268422999999999,-173.26551000000001,null,{"$f":"camera!$B$5*COS(RADIANS(AE778))*COS(RADIANS(AF778))","v":-437.33080724239056},{"$f":"camera!$B$5*COS(RADIANS(AE778))*SIN(RADIANS(AF778))","v":-51.641471791770186},{"$f":"camera!$B$5*SIN(RADIANS(AE778))","v":236.80144304437593},null,{"$f":"TRANSPOSE(MMULT(camera!$A$12:$C$14,MMULT(camera!$A$16:$C$18,TRANSPOSE(AH778:AJ778))))","v":-217.65181834097524},431.16578065645871,-129.32036020586111,null,{"$f":"camera!$B$5*AM778/AN778","v":-1667.0452354528672},{"$f":"camera!$B$5*AL778/AN778","v":841.52185315020006},null,{"$f":"IF( AND( (camera!$B$3) > (AQ778+camera!$B$3/2), 0 < (AQ778+camera!$B$3/2), AN778 >= 0 ), AQ778+camera!$B$3/2, 0)*-1+camera!$B$3","v":1000},{"$f":"IF( AND( (camera!$B$4) > (AP778+camera!$B$4/2), 0 < (AP778+camera!$B$4/2), AN778 >= 0 ), AP778+camera!$B$4/2, 0)","v":0},null,null,null,1871.8145,4673.9997000000003,-363.28530000000001,null,{"$f":"MMULT(               MMULT(AX778:AZ778-$B$2:$D$2, TRANSPOSE($A$16:$C$18)),     TRANSPOSE($A$12:$C$14))","v":227.43197244688417},-6513.3909443623379,9071.8402658564301,null,-358.98950783319589,12.535051642325923," ",487.46494835767407,141.01049216680411]
[null,null,null,null,null,null,null,null,null,null,null,null,null,null,null,null,null,null,null,null,873.34879999999998,119.82769999999999,null,null,null,"''",null,15.297178000000001,-30.148672999999999,null,-30.148672999999999,-130.54232999999999,null,{"$f":"camera!$B$5*COS(RADIANS(AE779))*COS(RADIANS(AF779))","v":-281.03982420613477},{"$f":"camera!$B$5*COS(RADIANS(AE779))*SIN(RADIANS(AF779))","v":-328.56351012704232},{"$f":"camera!$B$5*SIN(RADIANS(AE779))","v":-251.12275289822256},null,{"$f":"TRANSPOSE(MMULT(camera!$A$12:$C$14,MMULT(camera!$A$16:$C$18,TRANSPOSE(AH779:AJ779))))","v":308.39835857286653},251.33418606188761,-302.85570713818493,null,{"$f":"camera!$B$5*AM779/AN779","v":-414.94048178397139},{"$f":"camera!$B$5*AL779/AN779","v":-509.1506471630608},null,{"$f":"IF( AND( (camera!$B$3) > (AQ779+camera!$B$3/2), 0 < (AQ779+camera!$B$3/2), AN779 >= 0 ), AQ779+camera!$B$3/2, 0)*-1+camera!$B$3","v":1000},{"$f":"IF( AND( (camera!$B$4) > (AP779+camera!$B$4/2), 0 < (AP779+camera!$B$4/2), AN779 >= 0 ), AP779+camera!$B$4/2, 0)","v":0},null,null,null,1926.8779999999999,4676.8253999999997,-364.50490000000002,null,{"$f":"MMULT(               MMULT(AX779:AZ779-$B$2:$D$2, TRANSPOSE($A$16:$C$18)),     TRANSPOSE($A$12:$C$14))","v":227.31087849219034},-6567.9986351384305,9079.5504202813918,null,-361.69184216804405,12.517738652810166," ",487.48226134718982,138.30815783195595]
[null,null,null,null,null,null,null,null,null,null,null,null,null,null,null,null,null,null,null,null,873.47810000000004,524.82939999999996,null,null,null,"''",null,17.536918,86.586460000000002,null,86.586460000000002,-96.946230000000014,null,{"$f":"camera!$B$5*COS(RADIANS(AE780))*COS(RADIANS(AF780))","v":-3.6004564245328567},{"$f":"camera!$B$5*COS(RADIANS(AE780))*SIN(RADIANS(AF780))","v":-29.552619140769352},{"$f":"camera!$B$5*SIN(RADIANS(AE780))","v":499.11289245566041},null,{"$f":"TRANSPOSE(MMULT(camera!$A$12:$C$14,MMULT(camera!$A$16:$C$18,TRANSPOSE(AH780:AJ780))))","v":-486.36352467288771},1.0110751294775833,-115.97197762756245,null,{"$f":"camera!$B$5*AM780/AN780","v":-4.3591355004938981},{"$f":"camera!$B$5*AL780/AN780","v":2096.9010558516861},null,{"$f":"IF( AND( (camera!$B$3) > (AQ780+camera!$B$3/2), 0 < (AQ780+camera!$B$3/2), AN780 >= 0 ), AQ780+camera!$B$3/2, 0)*-1+camera!$B$3","v":1000},{"$f":"IF( AND( (camera!$B$4) > (AP780+camera!$B$4/2), 0 < (AP780+camera!$B$4/2), AN780 >= 0 ), AP780+camera!$B$4/2, 0)","v":0},null,null,null,1926.8779999999999,4756.9377000000004,-298.43340000000001,null,{"$f":"MMULT(               MMULT(AX780:AZ780-$B$2:$D$2, TRANSPOSE($A$16:$C$18)),     TRANSPOSE($A$12:$C$14))","v":148.38473504069907},-6561.0163881287071,9146.6722187533487,null,-358.65592595942752,8.1114055195105301," ",491.88859448048947,141.34407404057248]
[null,null,null,null,null,null,null,null,null,null,null,null,null,null,null,null,null,null,null,null,873.47810000000004,114.82940000000001,null,null,null,"''",null,18.387117,-61.493901000000001,null,-61.493901000000001,-84.19324499999999,null,{"$f":"camera!$B$5*COS(RADIANS(AE781))*COS(RADIANS(AF781))","v":24.142664525889455},{"$f":"camera!$B$5*COS(RADIANS(AE781))*SIN(RADIANS(AF781))","v":-237.40171132320503},{"$f":"camera!$B$5*SIN(RADIANS(AE781))","v":-439.38315763170073},null,{"$f":"TRANSPOSE(MMULT(camera!$A$12:$C$14,MMULT(camera!$A$16:$C$18,TRANSPOSE(AH781:AJ781))))","v":473.41005792508702},-44.741716878437799,-154.53509577482851,null,{"$f":"camera!$B$5*AM781/AN781","v":144.76231646314989},{"$f":"camera!$B$5*AL781/AN781","v":-1531.7234429869829},null,{"$f":"IF( AND( (camera!$B$3) > (AQ781+camera!$B$3/2), 0 < (AQ781+camera!$B$3/2), AN781 >= 0 ), AQ781+camera!$B$3/2, 0)*-1+camera!$B$3","v":1000},{"$f":"IF( AND( (camera!$B$4) > (AP781+camera!$B$4/2), 0 < (AP781+camera!$B$4/2), AN781 >= 0 ), AP781+camera!$B$4/2, 0)","v":0},null,null,null,2001.4864,4746.9421000000002,-298.43340000000001,null,{"$f":"MMULT(               MMULT(AX781:AZ781-$B$2:$D$2, TRANSPOSE($A$16:$C$18)),     TRANSPOSE($A$12:$C$14))","v":148.98469178791538},-6636.2120545840235,9143.2696949603032,null,-362.90147157322997,8.1472327054967302," ",491.85276729450328,137.09852842677003]
[null,null,null,null,null,null,null,null,null,null,null,null,null,null,null,null,null,null,null,null,873.60749999999996,519.83109999999999,null,null,null,"''",null,19.272804000000001,38.133730999999997,null,38.133730999999997,-70.907939999999996,null,{"$f":"camera!$B$5*COS(RADIANS(AE782))*COS(RADIANS(AF782))","v":128.63865534847042},{"$f":"camera!$B$5*COS(RADIANS(AE782))*SIN(RADIANS(AF782))","v":-371.65283140977726},{"$f":"camera!$B$5*SIN(RADIANS(AE782))","v":308.74952510932405},null,{"$f":"TRANSPOSE(MMULT(camera!$A$12:$C$14,MMULT(camera!$A$16:$C$18,TRANSPOSE(AH782:AJ782))))","v":-241.71454479984757},-160.54082499358691,-407.18634842364372,null,{"$f":"camera!$B$5*AM782/AN782","v":197.13434108866224},{"$f":"camera!$B$5*AL782/AN782","v":296.81071791282596},null,{"$f":"IF( AND( (camera!$B$3) > (AQ782+camera!$B$3/2), 0 < (AQ782+camera!$B$3/2), AN782 >= 0 ), AQ782+camera!$B$3/2, 0)*-1+camera!$B$3","v":1000},{"$f":"IF( AND( (camera!$B$4) > (AP782+camera!$B$4/2), 0 < (AP782+camera!$B$4/2), AN782 >= 0 ), AP782+camera!$B$4/2, 0)","v":0},null,null,null,1981.9414999999999,4673.9997000000003,-363.28530000000001,null,{"$f":"MMULT(               MMULT(AX782:AZ782-$B$2:$D$2, TRANSPOSE($A$16:$C$18)),     TRANSPOSE($A$12:$C$14))","v":225.76526242437762},-6623.098877879087,9081.2926481056456,null,-364.65617476057571,12.430238247606313," ",487.56976175239367,135.34382523942429]
[null,null,null,null,null,null,null,null,null,null,null,null,null,null,null,null,null,null,null,null,873.60749999999996,109.83110000000001,null,null,null,"''",null,21.749113000000001,-33.025781000000002,null,-33.025781000000002,-33.763305000000003,null,{"$f":"camera!$B$5*COS(RADIANS(AE783))*COS(RADIANS(AF783))","v":348.50853456161099},{"$f":"camera!$B$5*COS(RADIANS(AE783))*SIN(RADIANS(AF783))","v":-232.98303727590118},{"$f":"camera!$B$5*SIN(RADIANS(AE783))","v":-272.50817543592041},null,{"$f":"TRANSPOSE(MMULT(camera!$A$12:$C$14,MMULT(camera!$A$16:$C$18,TRANSPOSE(AH783:AJ783))))","v":303.39681229822327},-367.48816403138721,-151.33678860117527,null,{"$f":"camera!$B$5*AM783/AN783","v":1214.1402213834651},{"$f":"camera!$B$5*AL783/AN783","v":-1002.3894887110981},null,{"$f":"IF( AND( (camera!$B$3) > (AQ783+camera!$B$3/2), 0 < (AQ783+camera!$B$3/2), AN783 >= 0 ), AQ783+camera!$B$3/2, 0)*-1+camera!$B$3","v":1000},{"$f":"IF( AND( (camera!$B$4) > (AP783+camera!$B$4/2), 0 < (AP783+camera!$B$4/2), AN783 >= 0 ), AP783+camera!$B$4/2, 0)","v":0},null,null,null,2031.0407,4648.9151000000002,-364.50490000000002,null,{"$f":"MMULT(               MMULT(AX783:AZ783-$B$2:$D$2, TRANSPOSE($A$16:$C$18)),     TRANSPOSE($A$12:$C$14))","v":230.56256484639744},-6674.1975075441615,9061.1091905776775,null,-368.28810729289194,12.722645759867412," ",487.27735424013258,131.71189270710806]
[null,null,null,null,null,null,null,null,null,null,null,null,null,null,null,null,null,null,null,null,873.73689999999999,514.83270000000005,null,null,null,"''",null,0.525725,-62.958218000000002,null,-62.958218000000002,7.8858750000000004,null,{"$f":"camera!$B$5*COS(RADIANS(AE784))*COS(RADIANS(AF784))","v":225.17037158385671},{"$f":"camera!$B$5*COS(RADIANS(AE784))*SIN(RADIANS(AF784))","v":31.188393392150452},{"$f":"camera!$B$5*SIN(RADIANS(AE784))","v":-445.33761112037729},null,{"$f":"TRANSPOSE(MMULT(camera!$A$12:$C$14,MMULT(camera!$A$16:$C$18,TRANSPOSE(AH784:AJ784))))","v":429.7689066900482},-221.59528274798726,127.25650280547644,null,{"$f":"camera!$B$5*AM784/AN784","v":-870.66388696346826},{"$f":"camera!$B$5*AL784/AN784","v":1688.5931061102253},null,{"$f":"IF( AND( (camera!$B$3) > (AQ784+camera!$B$3/2), 0 < (AQ784+camera!$B$3/2), AN784 >= 0 ), AQ784+camera!$B$3/2, 0)*-1+camera!$B$3","v":1000},{"$f":"IF( AND( (camera!$B$4) > (AP784+camera!$B$4/2), 0 < (AP784+camera!$B$4/2), AN784 >= 0 ), AP784+camera!$B$4/2, 0)","v":0},null,null,null,2071.0969,4718.2943999999998,-298.43340000000001,null,{"$f":"MMULT(               MMULT(AX784:AZ784-$B$2:$D$2, TRANSPOSE($A$16:$C$18)),     TRANSPOSE($A$12:$C$14))","v":152.8868671025532},-6708.0544771870518,9121.1393590414373,null,-367.72020540052449,8.3809084087177261," ",491.61909159128226,132.27979459947551]
[null,null,null,null,null,null,null,null,null,null,null,null,null,null,null,null,null,null,null,null,873.73689999999999,104.8327,null,null,null,"''",null,0.72256699999999996,-57.463059999999999,null,-57.463059999999999,10.838505,null,{"$f":"camera!$B$5*COS(RADIANS(AE785))*COS(RADIANS(AF785))","v":264.12436031054096},{"$f":"camera!$B$5*COS(RADIANS(AE785))*SIN(RADIANS(AF785))","v":50.568401072987967},{"$f":"camera!$B$5*SIN(RADIANS(AE785))","v":-421.52243013091129},null,{"$f":"TRANSPOSE(MMULT(camera!$A$12:$C$14,MMULT(camera!$A$16:$C$18,TRANSPOSE(AH785:AJ785))))","v":402.37348814379135},-258.71196082315703,145.47748061482045,null,{"$f":"camera!$B$5*AM785/AN785","v":-889.1821597740842},{"$f":"camera!$B$5*AL785/AN785","v":1382.9408044574004},null,{"$f":"IF( AND( (camera!$B$3) > (AQ785+camera!$B$3/2), 0 < (AQ785+camera!$B$3/2), AN785 >= 0 ), AQ785+camera!$B$3/2, 0)*-1+camera!$B$3","v":1000},{"$f":"IF( AND( (camera!$B$4) > (AP785+camera!$B$4/2), 0 < (AP785+camera!$B$4/2), AN785 >= 0 ), AP785+camera!$B$4/2, 0)","v":0},null,null,null,2130.7118,4672.3338000000003,-298.43340000000001,null,{"$f":"MMULT(               MMULT(AX785:AZ785-$B$2:$D$2, TRANSPOSE($A$16:$C$18)),     TRANSPOSE($A$12:$C$14))","v":159.93523363697159},-6771.4482547244488,9081.1660860567881,null,-372.82922647573434,8.8058753755498405," ",491.19412462445018,127.17077352426566]
[null,null,null,null,null,null,null,null,null,null,null,null,null,null,null,null,null,null,null,null,873.86620000000005,509.83440000000002,null,null,null,"''",null,2.2166649999999999,8.8467169999999999,null,8.8467169999999999,33.249974999999999,null,{"$f":"camera!$B$5*COS(RADIANS(AE786))*COS(RADIANS(AF786))","v":413.16867904939278},{"$f":"camera!$B$5*COS(RADIANS(AE786))*SIN(RADIANS(AF786))","v":270.88499817639678},{"$f":"camera!$B$5*SIN(RADIANS(AE786))","v":76.895776318035871},null,{"$f":"TRANSPOSE(MMULT(camera!$A$12:$C$14,MMULT(camera!$A$16:$C$18,TRANSPOSE(AH786:AJ786))))","v":-128.84032146934553},-387.98726427131322,287.86464584408043,null,{"$f":"camera!$B$5*AM786/AN786","v":-673.90572248573972},{"$f":"camera!$B$5*AL786/AN786","v":-223.78628867667697},null,{"$f":"IF( AND( (camera!$B$3) > (AQ786+camera!$B$3/2), 0 < (AQ786+camera!$B$3/2), AN786 >= 0 ), AQ786+camera!$B$3/2, 0)*-1+camera!$B$3","v":723.78628867667703},{"$f":"IF( AND( (camera!$B$4) > (AP786+camera!$B$4/2), 0 < (AP786+camera!$B$4/2), AN786 >= 0 ), AP786+camera!$B$4/2, 0)","v":0},null,null,null,2077.3143,4618.9362000000001,-363.28530000000001,null,{"$f":"MMULT(               MMULT(AX786:AZ786-$B$2:$D$2, TRANSPOSE($A$16:$C$18)),     TRANSPOSE($A$12:$C$14))","v":233.84714026144047},-6722.9078558220372,9035.4580412599389,null,-372.02916692890585,12.940524940384314," ",487.05947505961569,127.97083307109415]
[null,null,null,null,null,null,null,null,null,null,null,null,null,null,null,null,null,null,null,null,873.86620000000005,99.834400000000002,null,null,null,"''",null,3.509579,47.995215999999999,null,47.995215999999999,52.643684999999998,null,{"$f":"camera!$B$5*COS(RADIANS(AE787))*COS(RADIANS(AF787))","v":203.02300134885061},{"$f":"camera!$B$5*COS(RADIANS(AE787))*SIN(RADIANS(AF787))","v":265.96308575454344},{"$f":"camera!$B$5*SIN(RADIANS(AE787))","v":371.54447639444993},null,{"$f":"TRANSPOSE(MMULT(camera!$A$12:$C$14,MMULT(camera!$A$16:$C$18,TRANSPOSE(AH787:AJ787))))","v":-414.98078062748073},-179.07022725200196,213.83359282798176,null,{"$f":"camera!$B$5*AM787/AN787","v":-418.71397492735122},{"$f":"camera!$B$5*AL787/AN787","v":-970.33579976676447},null,{"$f":"IF( AND( (camera!$B$3) > (AQ787+camera!$B$3/2), 0 < (AQ787+camera!$B$3/2), AN787 >= 0 ), AQ787+camera!$B$3/2, 0)*-1+camera!$B$3","v":1000},{"$f":"IF( AND( (camera!$B$4) > (AP787+camera!$B$4/2), 0 < (AP787+camera!$B$4/2), AN787 >= 0 ), AP787+camera!$B$4/2, 0)","v":81.286025072648783},null,null,null,2107.2930999999999,4572.6626999999999,-364.50490000000002,null,{"$f":"MMULT(               MMULT(AX787:AZ787-$B$2:$D$2, TRANSPOSE($A$16:$C$18)),     TRANSPOSE($A$12:$C$14))","v":242.59923174280766},-6756.8055786992236,8992.8458604392727,null,-375.67671477742726,13.488457130686184," ",486.51154286931387,124.32328522257274]
[null,null,null,null,null,null,null,null,null,null,null,null,null,null,null,null,null,null,null,null,873.99559999999997,504.83609999999999,null,null,null,"''",null,4.0782530000000001,22.081925999999999,null,22.081925999999999,61.173794999999998,null,{"$f":"camera!$B$5*COS(RADIANS(AE788))*COS(RADIANS(AF788))","v":223.39353471852272},{"$f":"camera!$B$5*COS(RADIANS(AE788))*SIN(RADIANS(AF788))","v":405.9114645926519},{"$f":"camera!$B$5*SIN(RADIANS(AE788))","v":187.96598510957384},null,{"$f":"TRANSPOSE(MMULT(camera!$A$12:$C$14,MMULT(camera!$A$16:$C$18,TRANSPOSE(AH788:AJ788))))","v":-258.70886099465559},-187.16593968820428,384.75789304896591,null,{"$f":"camera!$B$5*AM788/AN788","v":-243.22560117614628},{"$f":"camera!$B$5*AL788/AN788","v":-336.19695095082977},null,{"$f":"IF( AND( (camera!$B$3) > (AQ788+camera!$B$3/2), 0 < (AQ788+camera!$B$3/2), AN788 >= 0 ), AQ788+camera!$B$3/2, 0)*-1+camera!$B$3","v":836.19695095082977},{"$f":"IF( AND( (camera!$B$4) > (AP788+camera!$B$4/2), 0 < (AP788+camera!$B$4/2), AN788 >= 0 ), AP788+camera!$B$4/2, 0)","v":256.77439882385374},null,null,null,2176.6723999999999,4612.7188999999998,-298.43340000000001,null,{"$f":"MMULT(               MMULT(AX788:AZ788-$B$2:$D$2, TRANSPOSE($A$16:$C$18)),     TRANSPOSE($A$12:$C$14))","v":169.55227207238954},-6822.4297416538911,9026.6251508194364,null,-377.90589659273439,9.3917864783051055," ",490.60821352169489,122.09410340726561]
[null,null,null,null,null,null,null,null,null,null,null,null,null,null,null,null,null,null,null,null,873.99559999999997,94.836100000000002,null,null,null,"''",null,4.8815749999999998,-5.4526950000000003,null,-5.4526950000000003,73.223624999999998,null,{"$f":"camera!$B$5*COS(RADIANS(AE789))*COS(RADIANS(AF789))","v":143.66547604077238},{"$f":"camera!$B$5*COS(RADIANS(AE789))*SIN(RADIANS(AF789))","v":476.55308826522463},{"$f":"camera!$B$5*SIN(RADIANS(AE789))","v":-47.511946485650093},null,{"$f":"TRANSPOSE(MMULT(camera!$A$12:$C$14,MMULT(camera!$A$16:$C$18,TRANSPOSE(AH789:AJ789))))","v":-37.821839484559355},-101.58444716419821,488.10870567154245,null,{"$f":"camera!$B$5*AM789/AN789","v":-104.05924539333692},{"$f":"camera!$B$5*AL789/AN789","v":-38.743254366385329},null,{"$f":"IF( AND( (camera!$B$3) > (AQ789+camera!$B$3/2), 0 < (AQ789+camera!$B$3/2), AN789 >= 0 ), AQ789+camera!$B$3/2, 0)*-1+camera!$B$3","v":538.74325436638537},{"$f":"IF( AND( (camera!$B$4) > (AP789+camera!$B$4/2), 0 < (AP789+camera!$B$4/2), AN789 >= 0 ), AP789+camera!$B$4/2, 0)","v":395.94075460666306},null,null,null,2205.3202000000001,4543.1082999999999,-298.43340000000001,null,{"$f":"MMULT(               MMULT(AX789:AZ789-$B$2:$D$2, TRANSPOSE($A$16:$C$18)),     TRANSPOSE($A$12:$C$14))","v":181.16046006313695},-6857.0354916719953,8960.7918453088059,null,-382.61325617455458,10.108507327841728," ",489.89149267215828,117.38674382544542]
[null,null,null,null,null,null,null,null,null,null,null,null,null,null,null,null,null,null,null,null,874.12490000000003,499.83780000000002,null,null,null,"''",null,5.2205219999999999,-12.941291,null,-12.941291,78.307829999999996,null,{"$f":"camera!$B$5*COS(RADIANS(AE790))*COS(RADIANS(AF790))","v":98.753043023029974},{"$f":"camera!$B$5*COS(RADIANS(AE790))*SIN(RADIANS(AF790))","v":477.1888014340006},{"$f":"camera!$B$5*SIN(RADIANS(AE790))","v":-111.97626659106615},null,{"$f":"TRANSPOSE(MMULT(camera!$A$12:$C$14,MMULT(camera!$A$16:$C$18,TRANSPOSE(AH790:AJ790))))","v":26.23287672224491},-56.787513460123435,496.07158202611419,null,{"$f":"camera!$B$5*AM790/AN790","v":-57.237216883282414},{"$f":"camera!$B$5*AL790/AN790","v":26.440616306926405},null,{"$f":"IF( AND( (camera!$B$3) > (AQ790+camera!$B$3/2), 0 < (AQ790+camera!$B$3/2), AN790 >= 0 ), AQ790+camera!$B$3/2, 0)*-1+camera!$B$3","v":473.55938369307364},{"$f":"IF( AND( (camera!$B$4) > (AP790+camera!$B$4/2), 0 < (AP790+camera!$B$4/2), AN790 >= 0 ), AP790+camera!$B$4/2, 0)","v":442.76278311671757},null,null,null,2132.3777,4523.5635000000002,-363.28530000000001,null,{"$f":"MMULT(               MMULT(AX790:AZ790-$B$2:$D$2, TRANSPOSE($A$16:$C$18)),     TRANSPOSE($A$12:$C$14))","v":249.51206158822993},-6786.074001467292,8946.6178577335777,null,-379.25359668745199,13.944490843126172," ",486.05550915687388,120.74640331254801]
[null,null,null,null,null,null,null,null,null,null,null,null,null,null,null,null,null,null,null,null,874.12490000000003,89.837800000000001,null,null,null,"''",null,5.9589470000000002,-35.283279999999998,null,-35.283279999999998,89.384205000000009,null,{"$f":"camera!$B$5*COS(RADIANS(AE791))*COS(RADIANS(AF791))","v":4.3866022427454219},{"$f":"camera!$B$5*COS(RADIANS(AE791))*SIN(RADIANS(AF791))","v":408.12951953511219},{"$f":"camera!$B$5*SIN(RADIANS(AE791))","v":-288.80971764260704},null,{"$f":"TRANSPOSE(MMULT(camera!$A$12:$C$14,MMULT(camera!$A$16:$C$18,TRANSPOSE(AH791:AJ791))))","v":213.75439836096064},31.200921515467208,450.92744391745487,null,{"$f":"camera!$B$5*AM791/AN791","v":34.596387884941791},{"$f":"camera!$B$5*AL791/AN791","v":237.01639947211743},null,{"$f":"IF( AND( (camera!$B$3) > (AQ791+camera!$B$3/2), 0 < (AQ791+camera!$B$3/2), AN791 >= 0 ), AQ791+camera!$B$3/2, 0)*-1+camera!$B$3","v":262.98360052788257},{"$f":"IF( AND( (camera!$B$4) > (AP791+camera!$B$4/2), 0 < (AP791+camera!$B$4/2), AN791 >= 0 ), AP791+camera!$B$4/2, 0)","v":534.59638788494181},null,null,null,2033.0196000000001,4407.2191000000003,-402.7894,null,{"$f":"MMULT(               MMULT(AX791:AZ791-$B$2:$D$2, TRANSPOSE($A$16:$C$18)),     TRANSPOSE($A$12:$C$14))","v":310.0458488935069},-6697.2340716313529,8830.8087353597093,null,-379.19709690997809,17.554782250692561," ",482.4452177493074,120.80290309002191]
[null,null,null,null,null,null,null,null,null,null,null,null,null,null,null,null,null,null,null,null,874.25429999999994,494.83940000000001,null,null,null,"''",null,6.9356179999999998,-17.054241999999999,null,-17.054241999999999,104.03426999999999,null,{"$f":"camera!$B$5*COS(RADIANS(AE792))*COS(RADIANS(AF792))","v":-115.91939537516883},{"$f":"camera!$B$5*COS(RADIANS(AE792))*SIN(RADIANS(AF792))","v":463.74546626388707},{"$f":"camera!$B$5*SIN(RADIANS(AE792))","v":-146.6384543547336},null,{"$f":"TRANSPOSE(MMULT(camera!$A$12:$C$14,MMULT(camera!$A$16:$C$18,TRANSPOSE(AH792:AJ792))))","v":65.942941743730543},155.89636763683211,470.47619598851617,null,{"$f":"camera!$B$5*AM792/AN792","v":165.67933613440178},{"$f":"camera!$B$5*AL792/AN792","v":70.081060748650643},null,{"$f":"IF( AND( (camera!$B$3) > (AQ792+camera!$B$3/2), 0 < (AQ792+camera!$B$3/2), AN792 >= 0 ), AQ792+camera!$B$3/2, 0)*-1+camera!$B$3","v":429.91893925134934},{"$f":"IF( AND( (camera!$B$4) > (AP792+camera!$B$4/2), 0 < (AP792+camera!$B$4/2), AN792 >= 0 ), AP792+camera!$B$4/2, 0)","v":665.67933613440175},null,null,null,2062.7671999999998,4432.0886,-397.91120000000001,null,{"$f":"MMULT(               MMULT(AX792:AZ792-$B$2:$D$2, TRANSPOSE($A$16:$C$18)),     TRANSPOSE($A$12:$C$14))","v":300.48943657412383},-6724.7009532880447,8856.9134086365248,null,-379.63004960230705,16.963552803909742," ",483.03644719609031,120.36995039769295]
[null,null,null,null,null,null,null,null,null,null,null,null,null,null,null,null,null,null,null,null,874.25429999999994,84.839399999999998,null,null,null,"''",null,8.1432359999999999,-2.9837859999999998,null,-2.9837859999999998,122.14854,null,{"$f":"camera!$B$5*COS(RADIANS(AE793))*COS(RADIANS(AF793))","v":-265.69733445095807},{"$f":"camera!$B$5*COS(RADIANS(AE793))*SIN(RADIANS(AF793))","v":422.76179882106152},{"$f":"camera!$B$5*SIN(RADIANS(AE793))","v":-26.0266771454998},null,{"$f":"TRANSPOSE(MMULT(camera!$A$12:$C$14,MMULT(camera!$A$16:$C$18,TRANSPOSE(AH793:AJ793))))","v":-43.480009113699978},301.53239445873936,396.46904532315233,null,{"$f":"camera!$B$5*AM793/AN793","v":380.27230374690112},{"$f":"camera!$B$5*AL793/AN793","v":-54.8340527799093},null,{"$f":"IF( AND( (camera!$B$3) > (AQ793+camera!$B$3/2), 0 < (AQ793+camera!$B$3/2), AN793 >= 0 ), AQ793+camera!$B$3/2, 0)*-1+camera!$B$3","v":554.83405277990937},{"$f":"IF( AND( (camera!$B$4) > (AP793+camera!$B$4/2), 0 < (AP793+camera!$B$4/2), AN793 >= 0 ), AP793+camera!$B$4/2, 0)","v":880.27230374690112},null,null,null,2049.4396999999999,4468.5,-402.7894,null,{"$f":"MMULT(               MMULT(AX793:AZ793-$B$2:$D$2, TRANSPOSE($A$16:$C$18)),     TRANSPOSE($A$12:$C$14))","v":299.19651675417913},-6708.2507058377441,8892.3383554764732,null,-377.19272691116015,16.823275543148597," ",483.17672445685139,122.80727308883985]
[null,null,null,null,null,null,null,null,null,null,null,null,null,null,null,null,null,null,null,null,874.3836,489.84109999999998,null,null,null,"''",null,14.100770000000001,-41.179633000000003,null,-41.179633000000003,-148.48845,null,{"$f":"camera!$B$5*COS(RADIANS(AE794))*COS(RADIANS(AF794))","v":-320.829742215333},{"$f":"camera!$B$5*COS(RADIANS(AE794))*SIN(RADIANS(AF794))","v":-196.69369144267975},{"$f":"camera!$B$5*SIN(RADIANS(AE794))","v":-329.21097833561822},null,{"$f":"TRANSPOSE(MMULT(camera!$A$12:$C$14,MMULT(camera!$A$16:$C$18,TRANSPOSE(AH794:AJ794))))","v":363.09063009462665},302.46590341359081,-163.33882456319867,null,{"$f":"camera!$B$5*AM794/AN794","v":-925.88490281611337},{"$f":"camera!$B$5*AL794/AN794","v":-1111.4645616729672},null,{"$f":"IF( AND( (camera!$B$3) > (AQ794+camera!$B$3/2), 0 < (AQ794+camera!$B$3/2), AN794 >= 0 ), AQ794+camera!$B$3/2, 0)*-1+camera!$B$3","v":1000},{"$f":"IF( AND( (camera!$B$4) > (AP794+camera!$B$4/2), 0 < (AP794+camera!$B$4/2), AN794 >= 0 ), AP794+camera!$B$4/2, 0)","v":0},null,null,null,1926.8779999999999,4468.5,-428.80650000000003,null,{"$f":"MMULT(               MMULT(AX794:AZ794-$B$2:$D$2, TRANSPOSE($A$16:$C$18)),     TRANSPOSE($A$12:$C$14))","v":326.67326073768231},-6586.1553901086336,8886.3365043975373,null,-370.57764956624004,18.380648795823966," ",481.61935120417604,129.42235043375996]
[null,null,null,null,null,null,null,null,null,null,null,null,null,null,null,null,null,null,null,null,874.3836,79.841099999999997,null,null,null,"''",null,19.612022,-1.2866010000000001,null,-1.2866010000000001,-65.819670000000031,null,{"$f":"camera!$B$5*COS(RADIANS(AE795))*COS(RADIANS(AF795))","v":204.75330270056787},{"$f":"camera!$B$5*COS(RADIANS(AE795))*SIN(RADIANS(AF795))","v":-456.01539963918799},{"$f":"camera!$B$5*SIN(RADIANS(AE795))","v":-11.226768240295156},null,{"$f":"TRANSPOSE(MMULT(camera!$A$12:$C$14,MMULT(camera!$A$16:$C$18,TRANSPOSE(AH795:AJ795))))","v":86.842298242296053},-243.71851542700358,-427.85476563204656,null,{"$f":"camera!$B$5*AM795/AN795","v":284.8145387220024},{"$f":"camera!$B$5*AL795/AN795","v":-101.48572041029934},null,{"$f":"IF( AND( (camera!$B$3) > (AQ795+camera!$B$3/2), 0 < (AQ795+camera!$B$3/2), AN795 >= 0 ), AQ795+camera!$B$3/2, 0)*-1+camera!$B$3","v":1000},{"$f":"IF( AND( (camera!$B$4) > (AP795+camera!$B$4/2), 0 < (AP795+camera!$B$4/2), AN795 >= 0 ), AP795+camera!$B$4/2, 0)","v":0},null,null,null,1988.1588999999999,4362.3584000000001,-402.7894,null,{"$f":"MMULT(               MMULT(AX795:AZ795-$B$2:$D$2, TRANSPOSE($A$16:$C$18)),     TRANSPOSE($A$12:$C$14))","v":318.48512586480092},-6656.4539477673488,8782.9472173016911,null,-378.94193048631081,18.13088010123818," ",481.86911989876182,121.05806951368919]
[null,null,null,null,null,null,null,null,null,null,null,null,null,null,null,null,null,null,null,null,874.51300000000003,484.84280000000001,null,null,null,"''",null,3.2672E-2,-6.0140719999999996,null,-6.0140719999999996,0.49008000000000002,null,{"$f":"camera!$B$5*COS(RADIANS(AE796))*COS(RADIANS(AF796))","v":497.22990659600646},{"$f":"camera!$B$5*COS(RADIANS(AE796))*SIN(RADIANS(AF796))","v":4.2531645031607397},{"$f":"camera!$B$5*SIN(RADIANS(AE796))","v":-52.386358703728874},null,{"$f":"TRANSPOSE(MMULT(camera!$A$12:$C$14,MMULT(camera!$A$16:$C$18,TRANSPOSE(AH796:AJ796))))","v":43.329454210568436},-494.96710897229457,55.94747030405361,null,{"$f":"camera!$B$5*AM796/AN796","v":-4423.4985628691802},{"$f":"camera!$B$5*AL796/AN796","v":387.2333635023088},null,{"$f":"IF( AND( (camera!$B$3) > (AQ796+camera!$B$3/2), 0 < (AQ796+camera!$B$3/2), AN796 >= 0 ), AQ796+camera!$B$3/2, 0)*-1+camera!$B$3","v":112.76663649769125},{"$f":"IF( AND( (camera!$B$4) > (AP796+camera!$B$4/2), 0 < (AP796+camera!$B$4/2), AN796 >= 0 ), AP796+camera!$B$4/2, 0)","v":0},null,null,null,2026.3558,4369.0222000000003,-397.91120000000001,null,{"$f":"MMULT(               MMULT(AX796:AZ796-$B$2:$D$2, TRANSPOSE($A$16:$C$18)),     TRANSPOSE($A$12:$C$14))","v":311.95019475373897},-6693.9247085923671,8791.9162191334381,null,-380.68633399990154,17.740739730597994," ",482.25926026940203,119.31366600009846]
[null,null,null,null,null,null,null,null,null,null,null,null,null,null,null,null,null,null,null,null,874.51300000000003,74.842799999999997,null,null,null,"''",null,6.2758710000000004,-35.140518999999998,null,-35.140518999999998,94.138065000000012,null,{"$f":"camera!$B$5*COS(RADIANS(AE797))*COS(RADIANS(AF797))","v":-29.504198844787094},{"$f":"camera!$B$5*COS(RADIANS(AE797))*SIN(RADIANS(AF797))","v":407.80553530599002},{"$f":"camera!$B$5*SIN(RADIANS(AE797))","v":-287.79184773777416},null,{"$f":"TRANSPOSE(MMULT(camera!$A$12:$C$14,MMULT(camera!$A$16:$C$18,TRANSPOSE(AH797:AJ797))))","v":213.32095553129642},64.934520786821395,447.5239411935417,null,{"$f":"camera!$B$5*AM797/AN797","v":72.548655848044348},{"$f":"camera!$B$5*AL797/AN797","v":238.33468547221366},null,{"$f":"IF( AND( (camera!$B$3) > (AQ797+camera!$B$3/2), 0 < (AQ797+camera!$B$3/2), AN797 >= 0 ), AQ797+camera!$B$3/2, 0)*-1+camera!$B$3","v":261.66531452778634},{"$f":"IF( AND( (camera!$B$4) > (AP797+camera!$B$4/2), 0 < (AP797+camera!$B$4/2), AN797 >= 0 ), AP797+camera!$B$4/2, 0)","v":572.54865584804429},null,null,null,1926.8779999999999,4345.9382999999998,-402.7894,null,{"$f":"MMULT(               MMULT(AX797:AZ797-$B$2:$D$2, TRANSPOSE($A$16:$C$18)),     TRANSPOSE($A$12:$C$14))","v":322.25304802481674},-6596.8373461045485,8761.5782688578583,null,-376.46398535023866,18.39012550799395," ",481.60987449200604,123.53601464976134]
[null,null,null,null,null,null,null,null,null,null,null,null,null,null,null,null,null,null,null,null,874.56859999999995,459.30619999999999,null,null,null,"''",null,7.3118020000000001,-24.954374999999999,null,-24.954374999999999,109.67703,null,{"$f":"camera!$B$5*COS(RADIANS(AE798))*COS(RADIANS(AF798))","v":-152.64158932823082},{"$f":"camera!$B$5*COS(RADIANS(AE798))*SIN(RADIANS(AF798))","v":426.85055463475709},{"$f":"camera!$B$5*SIN(RADIANS(AE798))","v":-210.94821453463882},null,{"$f":"TRANSPOSE(MMULT(camera!$A$12:$C$14,MMULT(camera!$A$16:$C$18,TRANSPOSE(AH798:AJ798))))","v":136.21381646561576},189.26321912852322,442.29541043173867,null,{"$f":"camera!$B$5*AM798/AN798","v":213.9556670323318},{"$f":"camera!$B$5*AL798/AN798","v":153.9851118200086},null,{"$f":"IF( AND( (camera!$B$3) > (AQ798+camera!$B$3/2), 0 < (AQ798+camera!$B$3/2), AN798 >= 0 ), AQ798+camera!$B$3/2, 0)*-1+camera!$B$3","v":346.01488817999143},{"$f":"IF( AND( (camera!$B$4) > (AP798+camera!$B$4/2), 0 < (AP798+camera!$B$4/2), AN798 >= 0 ), AP798+camera!$B$4/2, 0)","v":713.9556670323318},null,null,null,1963.2893999999999,4332.6108000000004,-397.91120000000001,null,{"$f":"MMULT(               MMULT(AX798:AZ798-$B$2:$D$2, TRANSPOSE($A$16:$C$18)),     TRANSPOSE($A$12:$C$14))","v":319.20338233723123},-6634.2717578961165,8750.7813482569018,null,-379.06739374865191,18.238564628335414," ",481.76143537166456,120.93260625134809]
[null,null,null,null,null,null,null,null,null,null,null,null,null,null,null,null,null,null,null,null,874.56859999999995,49.306199999999997,null,null,null,"''",null,11.002572000000001,-42.225859,null,-42.225859,165.03858000000002,null,{"$f":"camera!$B$5*COS(RADIANS(AE799))*COS(RADIANS(AF799))","v":-357.69913691386307},{"$f":"camera!$B$5*COS(RADIANS(AE799))*SIN(RADIANS(AF799))","v":95.587092707108326},{"$f":"camera!$B$5*SIN(RADIANS(AE799))","v":-336.0274321523172},null,{"$f":"TRANSPOSE(MMULT(camera!$A$12:$C$14,MMULT(camera!$A$16:$C$18,TRANSPOSE(AH799:AJ799))))","v":319.8006330076941},364.66894776756106,121.42534192654347,null,{"$f":"camera!$B$5*AM799/AN799","v":1501.6179570989734},{"$f":"camera!$B$5*AL799/AN799","v":1316.8611590204878},null,{"$f":"IF( AND( (camera!$B$3) > (AQ799+camera!$B$3/2), 0 < (AQ799+camera!$B$3/2), AN799 >= 0 ), AQ799+camera!$B$3/2, 0)*-1+camera!$B$3","v":1000},{"$f":"IF( AND( (camera!$B$4) > (AP799+camera!$B$4/2), 0 < (AP799+camera!$B$4/2), AN799 >= 0 ), AP799+camera!$B$4/2, 0)","v":0},null,null,null,1865.5971999999999,4362.3584000000001,-402.7894,null,{"$f":"MMULT(               MMULT(AX799:AZ799-$B$2:$D$2, TRANSPOSE($A$16:$C$18)),     TRANSPOSE($A$12:$C$14))","v":320.34002805741034},-6534.3586320382374,8772.4275442195758,null,-372.43730991793308,18.258345619992742," ",481.74165438000728,127.56269008206692]
[null,null,null,null,null,null,null,null,null,null,null,null,null,null,null,null,null,null,null,null,874.64229999999998,479.84449999999998,null,null,null,"''",null,18.145969999999998,20.814557000000001,null,20.814557000000001,-87.810450000000003,null,{"$f":"camera!$B$5*COS(RADIANS(AE800))*COS(RADIANS(AF800))","v":17.856043303172942},{"$f":"camera!$B$5*COS(RADIANS(AE800))*SIN(RADIANS(AF800))","v":-467.02648793470621},{"$f":"camera!$B$5*SIN(RADIANS(AE800))","v":177.67222992051657},null,{"$f":"TRANSPOSE(MMULT(camera!$A$12:$C$14,MMULT(camera!$A$16:$C$18,TRANSPOSE(AH800:AJ800))))","v":-94.453535621703679},-58.492136106297025,-487.50097397059824,null,{"$f":"camera!$B$5*AM800/AN800","v":59.991814611046046},{"$f":"camera!$B$5*AL800/AN800","v":96.87522760457118},null,{"$f":"IF( AND( (camera!$B$3) > (AQ800+camera!$B$3/2), 0 < (AQ800+camera!$B$3/2), AN800 >= 0 ), AQ800+camera!$B$3/2, 0)*-1+camera!$B$3","v":1000},{"$f":"IF( AND( (camera!$B$4) > (AP800+camera!$B$4/2), 0 < (AP800+camera!$B$4/2), AN800 >= 0 ), AP800+camera!$B$4/2, 0)","v":0},null,null,null,1890.4666,4332.6108000000004,-397.91120000000001,null,{"$f":"MMULT(               MMULT(AX800:AZ800-$B$2:$D$2, TRANSPOSE($A$16:$C$18)),     TRANSPOSE($A$12:$C$14))","v":320.30551433598725},-6561.7260706359211,8744.5308470895379,null,-375.19028667043216,18.314619728432618," ",481.6853802715674,124.80971332956784]
[null,null,null,null,null,null,null,null,null,null,null,null,null,null,null,null,null,null,null,null,874.64229999999998,69.844499999999996,null,null,null,"''",null,19.995605000000001,-35.276305000000001,null,-35.276305000000001,-60.065924999999993,null,{"$f":"camera!$B$5*COS(RADIANS(AE801))*COS(RADIANS(AF801))","v":203.68724750870564},{"$f":"camera!$B$5*COS(RADIANS(AE801))*SIN(RADIANS(AF801))","v":-353.7359909122805},{"$f":"camera!$B$5*SIN(RADIANS(AE801))","v":-288.76002828583171},null,{"$f":"TRANSPOSE(MMULT(camera!$A$12:$C$14,MMULT(camera!$A$16:$C$18,TRANSPOSE(AH801:AJ801))))","v":342.4822902299955},-233.74227906161232,-279.41085851824107,null,{"$f":"camera!$B$5*AM801/AN801","v":418.27701382327035},{"$f":"camera!$B$5*AL801/AN801","v":-612.86503331730194},null,{"$f":"IF( AND( (camera!$B$3) > (AQ801+camera!$B$3/2), 0 < (AQ801+camera!$B$3/2), AN801 >= 0 ), AQ801+camera!$B$3/2, 0)*-1+camera!$B$3","v":1000},{"$f":"IF( AND( (camera!$B$4) > (AP801+camera!$B$4/2), 0 < (AP801+camera!$B$4/2), AN801 >= 0 ), AP801+camera!$B$4/2, 0)","v":0},null,null,null,1820.7365,4407.2191000000003,-402.7894,null,{"$f":"MMULT(               MMULT(AX801:AZ801-$B$2:$D$2, TRANSPOSE($A$16:$C$18)),     TRANSPOSE($A$12:$C$14))","v":313.25863386339392},-6485.7587729168736,8812.5881263696483,null,-367.98263347345875,17.773361773599706," ",482.22663822640027,132.01736652654125]
[null,null,null,null,null,null,null,null,null,null,null,null,null,null,null,null,null,null,null,null,874.94200000000001,547.16219999999998,null,null,null,"''",null,13.165831000000001,-5.5390100000000002,null,-5.5390100000000002,-162.51253499999999,null,{"$f":"camera!$B$5*COS(RADIANS(AE802))*COS(RADIANS(AF802))","v":-474.66461405355403},{"$f":"camera!$B$5*COS(RADIANS(AE802))*SIN(RADIANS(AF802))","v":-149.54701644975358},{"$f":"camera!$B$5*SIN(RADIANS(AE802))","v":-48.261724341010712},null,{"$f":"TRANSPOSE(MMULT(camera!$A$12:$C$14,MMULT(camera!$A$16:$C$18,TRANSPOSE(AH802:AJ802))))","v":80.582050125707838},459.82449059754066,-179.07532226482277,null,{"$f":"camera!$B$5*AM802/AN802","v":-1283.8856989952428},{"$f":"camera!$B$5*AL802/AN802","v":-224.99484883388993},null,{"$f":"IF( AND( (camera!$B$3) > (AQ802+camera!$B$3/2), 0 < (AQ802+camera!$B$3/2), AN802 >= 0 ), AQ802+camera!$B$3/2, 0)*-1+camera!$B$3","v":1000},{"$f":"IF( AND( (camera!$B$4) > (AP802+camera!$B$4/2), 0 < (AP802+camera!$B$4/2), AN802 >= 0 ), AP802+camera!$B$4/2, 0)","v":0},null,null,null,1827.4002,4369.0222000000003,-397.91120000000001,null,{"$f":"MMULT(               MMULT(AX802:AZ802-$B$2:$D$2, TRANSPOSE($A$16:$C$18)),     TRANSPOSE($A$12:$C$14))","v":314.96127552915141},-6495.7261947167044,8774.8395314744412,null,-370.13361733950842,17.946839620224274," ",482.0531603797757,129.86638266049158]
[null,null,null,null,null,null,null,null,null,null,null,null,null,null,null,null,null,null,null,null,874.94200000000001,137.16220000000001,null,null,null,"''",null,20.148145,77.711419000000006,null,77.711419000000006,-57.777825000000007,null,{"$f":"camera!$B$5*COS(RADIANS(AE803))*COS(RADIANS(AF803))","v":56.742383871163092},{"$f":"camera!$B$5*COS(RADIANS(AE803))*SIN(RADIANS(AF803))","v":-90.028085447262484},{"$f":"camera!$B$5*SIN(RADIANS(AE803))","v":488.54400590255733},null,{"$f":"TRANSPOSE(MMULT(camera!$A$12:$C$14,MMULT(camera!$A$16:$C$18,TRANSPOSE(AH803:AJ803))))","v":-466.4069647904804},-64.372926624845036,-168.28746094906722,null,{"$f":"camera!$B$5*AM803/AN803","v":191.25883254108791},{"$f":"camera!$B$5*AL803/AN803","v":1385.7448503891803},null,{"$f":"IF( AND( (camera!$B$3) > (AQ803+camera!$B$3/2), 0 < (AQ803+camera!$B$3/2), AN803 >= 0 ), AQ803+camera!$B$3/2, 0)*-1+camera!$B$3","v":1000},{"$f":"IF( AND( (camera!$B$4) > (AP803+camera!$B$4/2), 0 < (AP803+camera!$B$4/2), AN803 >= 0 ), AP803+camera!$B$4/2, 0)","v":0},null,null,null,1804.3163,4468.5,-402.7894,null,{"$f":"MMULT(               MMULT(AX803:AZ803-$B$2:$D$2, TRANSPOSE($A$16:$C$18)),     TRANSPOSE($A$12:$C$14))","v":302.90632113939728},-6464.060074379523,8871.299009312248,null,-364.32432654981903,17.072264209640267," ",482.92773579035975,135.67567345018097]
[null,null,null,null,null,null,null,null,null,null,null,null,null,null,null,null,null,null,null,null,875.7056,444.30619999999999,null,null,null,"''",null,23.434107999999998,-20.642014,null,-20.642014,-8.4883800000000065,null,{"$f":"camera!$B$5*COS(RADIANS(AE804))*COS(RADIANS(AF804))","v":462.77517443377053},{"$f":"camera!$B$5*COS(RADIANS(AE804))*SIN(RADIANS(AF804))","v":-69.066265671526494},{"$f":"camera!$B$5*SIN(RADIANS(AE804))","v":-176.26397497498857},null,{"$f":"TRANSPOSE(MMULT(camera!$A$12:$C$14,MMULT(camera!$A$16:$C$18,TRANSPOSE(AH804:AJ804))))","v":178.52988122457512},-467.03369686281388,2.5705066800903857,null,{"$f":"camera!$B$5*AM804/AN804","v":-90844.676748008249},{"$f":"camera!$B$5*AL804/AN804","v":34726.593517021625},null,{"$f":"IF( AND( (camera!$B$3) > (AQ804+camera!$B$3/2), 0 < (AQ804+camera!$B$3/2), AN804 >= 0 ), AQ804+camera!$B$3/2, 0)*-1+camera!$B$3","v":1000},{"$f":"IF( AND( (camera!$B$4) > (AP804+camera!$B$4/2), 0 < (AP804+camera!$B$4/2), AN804 >= 0 ), AP804+camera!$B$4/2, 0)","v":0},null,null,null,1790.9888000000001,4432.0886,-397.91120000000001,null,{"$f":"MMULT(               MMULT(AX804:AZ804-$B$2:$D$2, TRANSPOSE($A$16:$C$18)),     TRANSPOSE($A$12:$C$14))","v":304.60264934829229},-6453.9567521521867,8833.586219810164,null,-365.30784845222712,17.241165805638012," ",482.75883419436195,134.69215154777288]
[null,null,null,null,null,null,null,null,null,null,null,null,null,null,null,null,null,null,null,null,875.7056,34.306199999999997,null,null,null,"''",null,23.549512,-37.818268000000003,null,-37.818268000000003,-6.7573199999999929,null,{"$f":"camera!$B$5*COS(RADIANS(AE805))*COS(RADIANS(AF805))","v":392.23602377553914},{"$f":"camera!$B$5*COS(RADIANS(AE805))*SIN(RADIANS(AF805))","v":-46.475006800204959},{"$f":"camera!$B$5*SIN(RADIANS(AE805))","v":-306.57947647498457},null,{"$f":"TRANSPOSE(MMULT(camera!$A$12:$C$14,MMULT(camera!$A$16:$C$18,TRANSPOSE(AH805:AJ805))))","v":304.0251646959801},-394.79401102265427,41.308450615177293,null,{"$f":"camera!$B$5*AM805/AN805","v":-4778.6107339208884},{"$f":"camera!$B$5*AL805/AN805","v":3679.9390944025999},null,{"$f":"IF( AND( (camera!$B$3) > (AQ805+camera!$B$3/2), 0 < (AQ805+camera!$B$3/2), AN805 >= 0 ), AQ805+camera!$B$3/2, 0)*-1+camera!$B$3","v":1000},{"$f":"IF( AND( (camera!$B$4) > (AP805+camera!$B$4/2), 0 < (AP805+camera!$B$4/2), AN805 >= 0 ), AP805+camera!$B$4/2, 0)","v":0},null,null,null,1820.7365,4529.7808000000005,-402.7894,null,{"$f":"MMULT(               MMULT(AX805:AZ805-$B$2:$D$2, TRANSPOSE($A$16:$C$18)),     TRANSPOSE($A$12:$C$14))","v":292.05700478536528},-6475.0768169209578,8932.8285399061497,null,-362.43149568999712,16.3473978863829," ",483.65260211361715,137.56850431000288]
[null,null,null,null,null,null,null,null,null,null,null,null,null,null,null,null,null,null,null,null,876.65679999999998,562.16219999999998,null,null,null,"''",null,1.894102,-46.302669000000002,null,-46.302669000000002,28.411529999999999,null,{"$f":"camera!$B$5*COS(RADIANS(AE806))*COS(RADIANS(AF806))","v":303.81898305866514},{"$f":"camera!$B$5*COS(RADIANS(AE806))*SIN(RADIANS(AF806))","v":164.35333376807048},{"$f":"camera!$B$5*SIN(RADIANS(AE806))","v":-361.49966419420053},null,{"$f":"TRANSPOSE(MMULT(camera!$A$12:$C$14,MMULT(camera!$A$16:$C$18,TRANSPOSE(AH806:AJ806))))","v":322.9784881936082},-288.33852322505811,250.09156760787414,null,{"$f":"camera!$B$5*AM806/AN806","v":-576.46590403470236},{"$f":"camera!$B$5*AL806/AN806","v":645.72046807274921},null,{"$f":"IF( AND( (camera!$B$3) > (AQ806+camera!$B$3/2), 0 < (AQ806+camera!$B$3/2), AN806 >= 0 ), AQ806+camera!$B$3/2, 0)*-1+camera!$B$3","v":1000},{"$f":"IF( AND( (camera!$B$4) > (AP806+camera!$B$4/2), 0 < (AP806+camera!$B$4/2), AN806 >= 0 ), AP806+camera!$B$4/2, 0)","v":0},null,null,null,1790.9888000000001,4504.9114,-397.91120000000001,null,{"$f":"MMULT(               MMULT(AX806:AZ806-$B$2:$D$2, TRANSPOSE($A$16:$C$18)),     TRANSPOSE($A$12:$C$14))","v":292.00522295796418},-6447.6098269292224,8905.0297750716036,null,-362.02067762751409,16.39552198777551," ",483.60447801222449,137.97932237248591]
[null,null,null,null,null,null,null,null,null,null,null,null,null,null,null,null,null,null,null,null,876.65679999999998,152.16220000000001,null,null,null,"''",null,3.8253569999999999,65.525971999999996,null,65.525971999999996,57.380355000000002,null,{"$f":"camera!$B$5*COS(RADIANS(AE807))*COS(RADIANS(AF807))","v":111.66099993351214},{"$f":"camera!$B$5*COS(RADIANS(AE807))*SIN(RADIANS(AF807))","v":174.46761677283911},{"$f":"camera!$B$5*SIN(RADIANS(AE807))","v":455.07457827421428},null,{"$f":"TRANSPOSE(MMULT(camera!$A$12:$C$14,MMULT(camera!$A$16:$C$18,TRANSPOSE(AH807:AJ807))))","v":-480.0315974792349},-96.030241392136972,101.7244226314492,null,{"$f":"camera!$B$5*AM807/AN807","v":-472.01172986775049},{"$f":"camera!$B$5*AL807/AN807","v":-2359.4707399736471},null,{"$f":"IF( AND( (camera!$B$3) > (AQ807+camera!$B$3/2), 0 < (AQ807+camera!$B$3/2), AN807 >= 0 ), AQ807+camera!$B$3/2, 0)*-1+camera!$B$3","v":1000},{"$f":"IF( AND( (camera!$B$4) > (AP807+camera!$B$4/2), 0 < (AP807+camera!$B$4/2), AN807 >= 0 ), AP807+camera!$B$4/2, 0)","v":27.988270132249511},null,null,null,1865.5971999999999,4574.6414999999997,-402.7894,null,{"$f":"MMULT(               MMULT(AX807:AZ807-$B$2:$D$2, TRANSPOSE($A$16:$C$18)),     TRANSPOSE($A$12:$C$14))","v":283.61772781407103},-6515.8569407849618,8980.6900579641697,null,-362.77039396358145,15.790419554817834," ",484.20958044518216,137.22960603641855]
[null,null,null,null,null,null,null,null,null,null,null,null,null,null,null,null,null,null,null,null,879.56859999999995,459.30619999999999,null,null,null,"''",null,5.5803440000000002,9.4895790000000009,null,9.4895790000000009,83.705160000000006,null,{"$f":"camera!$B$5*COS(RADIANS(AE808))*COS(RADIANS(AF808))","v":54.072186374230178},{"$f":"camera!$B$5*COS(RADIANS(AE808))*SIN(RADIANS(AF808))","v":490.18447184367909},{"$f":"camera!$B$5*SIN(RADIANS(AE808))","v":82.434108377806197},null,{"$f":"TRANSPOSE(MMULT(camera!$A$12:$C$14,MMULT(camera!$A$16:$C$18,TRANSPOSE(AH808:AJ808))))","v":-166.79583540862259},-11.144033653332457,471.22707881049564,null,{"$f":"camera!$B$5*AM808/AN808","v":-11.824483518076896},{"$f":"camera!$B$5*AL808/AN808","v":-176.98031682481016},null,{"$f":"IF( AND( (camera!$B$3) > (AQ808+camera!$B$3/2), 0 < (AQ808+camera!$B$3/2), AN808 >= 0 ), AQ808+camera!$B$3/2, 0)*-1+camera!$B$3","v":676.98031682481019},{"$f":"IF( AND( (camera!$B$4) > (AP808+camera!$B$4/2), 0 < (AP808+camera!$B$4/2), AN808 >= 0 ), AP808+camera!$B$4/2, 0)","v":488.17551648192313},null,null,null,1827.4002,4567.9777999999997,-397.91120000000001,null,{"$f":"MMULT(               MMULT(AX808:AZ808-$B$2:$D$2, TRANSPOSE($A$16:$C$18)),     TRANSPOSE($A$12:$C$14))","v":280.54446477834881},-6478.3860716248992,8970.0269645746921,null,-361.11296527925589,15.637883023445886," ",484.36211697655415,138.88703472074411]
[null,null,null,null,null,null,null,null,null,null,null,null,null,null,null,null,null,null,null,null,879.56859999999995,49.306199999999997,null,null,null,"''",null,5.9063860000000004,20.276174000000001,null,20.276174000000001,88.595790000000008,null,{"$f":"camera!$B$5*COS(RADIANS(AE809))*COS(RADIANS(AF809))","v":11.493548449211612},{"$f":"camera!$B$5*COS(RADIANS(AE809))*SIN(RADIANS(AF809))","v":468.87571249313328},{"$f":"camera!$B$5*SIN(RADIANS(AE809))","v":173.2728039194329},null,{"$f":"TRANSPOSE(MMULT(camera!$A$12:$C$14,MMULT(camera!$A$16:$C$18,TRANSPOSE(AH809:AJ809))))","v":-251.92393663726176},29.415398951311232,430.89333303466196,null,{"$f":"camera!$B$5*AM809/AN809","v":34.133040240083034},{"$f":"camera!$B$5*AL809/AN809","v":-292.32749421188709},null,{"$f":"IF( AND( (camera!$B$3) > (AQ809+camera!$B$3/2), 0 < (AQ809+camera!$B$3/2), AN809 >= 0 ), AQ809+camera!$B$3/2, 0)*-1+camera!$B$3","v":792.32749421188714},{"$f":"IF( AND( (camera!$B$4) > (AP809+camera!$B$4/2), 0 < (AP809+camera!$B$4/2), AN809 >= 0 ), AP809+camera!$B$4/2, 0)","v":534.13304024008301},null,null,null,1926.8779999999999,4591.0617000000002,-402.7894,null,{"$f":"MMULT(               MMULT(AX809:AZ809-$B$2:$D$2, TRANSPOSE($A$16:$C$18)),     TRANSPOSE($A$12:$C$14))","v":279.84978986875967},-6575.4734341127178,9002.0590959308611,null,-365.22052144075479,15.54365433988643," ",484.45634566011358,134.77947855924521]
[null,null,null,null,null,null,null,null,null,null,null,null,null,null,null,null,null,null,null,null,879.94200000000001,547.16219999999998,null,null,null,"''",null,6.3961350000000001,4.5928649999999998,null,4.5928649999999998,95.942025000000001,null,{"$f":"camera!$B$5*COS(RADIANS(AE810))*COS(RADIANS(AF810))","v":-51.594837082879444},{"$f":"camera!$B$5*COS(RADIANS(AE810))*SIN(RADIANS(AF810))","v":495.71663232560076},{"$f":"camera!$B$5*SIN(RADIANS(AE810))","v":40.037397794515449},null,{"$f":"TRANSPOSE(MMULT(camera!$A$12:$C$14,MMULT(camera!$A$16:$C$18,TRANSPOSE(AH810:AJ810))))","v":-124.40100935512928},94.60305443357737,474.94699805690175,null,{"$f":"camera!$B$5*AM810/AN810","v":99.593275481913153},{"$f":"camera!$B$5*AL810/AN810","v":-130.96304415448188},null,{"$f":"IF( AND( (camera!$B$3) > (AQ810+camera!$B$3/2), 0 < (AQ810+camera!$B$3/2), AN810 >= 0 ), AQ810+camera!$B$3/2, 0)*-1+camera!$B$3","v":630.96304415448185},{"$f":"IF( AND( (camera!$B$4) > (AP810+camera!$B$4/2), 0 < (AP810+camera!$B$4/2), AN810 >= 0 ), AP810+camera!$B$4/2, 0)","v":599.59327548191311},null,null,null,1890.4666,4604.3891999999996,-397.91120000000001,null,{"$f":"MMULT(               MMULT(AX810:AZ810-$B$2:$D$2, TRANSPOSE($A$16:$C$18)),     TRANSPOSE($A$12:$C$14))","v":273.29127719485678},-6538.0390223211507,9011.1618354512266,null,-362.77447579509396,15.16404222814471," ",484.83595777185531,137.22552420490604]
[null,null,null,null,null,null,null,null,null,null,null,null,null,null,null,null,null,null,null,null,879.94200000000001,137.16220000000001,null,null,null,"''",null,8.0377600000000005,2.334571,null,2.334571,120.5664,null,{"$f":"camera!$B$5*COS(RADIANS(AE811))*COS(RADIANS(AF811))","v":-254.05723835078811},{"$f":"camera!$B$5*COS(RADIANS(AE811))*SIN(RADIANS(AF811))","v":430.16286586175033},{"$f":"camera!$B$5*SIN(RADIANS(AE811))","v":20.367338441157862},null,{"$f":"TRANSPOSE(MMULT(camera!$A$12:$C$14,MMULT(camera!$A$16:$C$18,TRANSPOSE(AH811:AJ811))))","v":-90.625652944756737},290.5816379335281,396.67279050144651,null,{"$f":"camera!$B$5*AM811/AN811","v":366.27372092524263},{"$f":"camera!$B$5*AL811/AN811","v":-114.23225277210723},null,{"$f":"IF( AND( (camera!$B$3) > (AQ811+camera!$B$3/2), 0 < (AQ811+camera!$B$3/2), AN811 >= 0 ), AQ811+camera!$B$3/2, 0)*-1+camera!$B$3","v":614.23225277210724},{"$f":"IF( AND( (camera!$B$4) > (AP811+camera!$B$4/2), 0 < (AP811+camera!$B$4/2), AN811 >= 0 ), AP811+camera!$B$4/2, 0)","v":866.27372092524263},null,null,null,1988.1588999999999,4574.6414999999997,-402.7894,null,{"$f":"MMULT(               MMULT(AX811:AZ811-$B$2:$D$2, TRANSPOSE($A$16:$C$18)),     TRANSPOSE($A$12:$C$14))","v":281.76282562146207},-6637.9522565140733,8991.2097310462814,null,-369.13565888656194,15.668793969322421," ",484.33120603067755,130.86434111343806]
[null,null,null,null,null,null,null,null,null,null,null,null,null,null,null,null,null,null,null,null,880.7056,444.30619999999999,null,null,null,"''",null,10.131741999999999,9.9975079999999998,null,9.9975079999999998,151.97612999999998,null,{"$f":"camera!$B$5*COS(RADIANS(AE812))*COS(RADIANS(AF812))","v":-434.67380527110572},{"$f":"camera!$B$5*COS(RADIANS(AE812))*SIN(RADIANS(AF812))","v":231.35249963468857},{"$f":"camera!$B$5*SIN(RADIANS(AE812))","v":86.802672331664255},null,{"$f":"TRANSPOSE(MMULT(camera!$A$12:$C$14,MMULT(camera!$A$16:$C$18,TRANSPOSE(AH812:AJ812))))","v":-118.92646784039472},453.18343915262795,174.58884765300419,null,{"$f":"camera!$B$5*AM812/AN812","v":1297.8590707389606},{"$f":"camera!$B$5*AL812/AN812","v":-340.59010480658361},null,{"$f":"IF( AND( (camera!$B$3) > (AQ812+camera!$B$3/2), 0 < (AQ812+camera!$B$3/2), AN812 >= 0 ), AQ812+camera!$B$3/2, 0)*-1+camera!$B$3","v":840.59010480658367},{"$f":"IF( AND( (camera!$B$4) > (AP812+camera!$B$4/2), 0 < (AP812+camera!$B$4/2), AN812 >= 0 ), AP812+camera!$B$4/2, 0)","v":0},null,null,null,1963.2893999999999,4604.3891999999996,-397.91120000000001,null,{"$f":"MMULT(               MMULT(AX812:AZ812-$B$2:$D$2, TRANSPOSE($A$16:$C$18)),     TRANSPOSE($A$12:$C$14))","v":272.18914519610075},-6610.584709581346,9017.4123366185904,null,-366.54554892297557,15.092419811544742," ",484.90758018845531,133.45445107702443]
[null,null,null,null,null,null,null,null,null,null,null,null,null,null,null,null,null,null,null,null,880.7056,34.306199999999997,null,null,null,"''",null,15.048344,2.0913029999999999,null,2.0913029999999999,-134.27483999999998,null,{"$f":"camera!$B$5*COS(RADIANS(AE813))*COS(RADIANS(AF813))","v":-348.81798282450319},{"$f":"camera!$B$5*COS(RADIANS(AE813))*SIN(RADIANS(AF813))","v":-357.76123042693399},{"$f":"camera!$B$5*SIN(RADIANS(AE813))","v":18.246009471958899},null,{"$f":"TRANSPOSE(MMULT(camera!$A$12:$C$14,MMULT(camera!$A$16:$C$18,TRANSPOSE(AH813:AJ813))))","v":49.198534711761098},316.30967932465217,-384.09333624491762,null,{"$f":"camera!$B$5*AM813/AN813","v":-411.76147758387157},{"$f":"camera!$B$5*AL813/AN813","v":-64.045025087846867},null,{"$f":"IF( AND( (camera!$B$3) > (AQ813+camera!$B$3/2), 0 < (AQ813+camera!$B$3/2), AN813 >= 0 ), AQ813+camera!$B$3/2, 0)*-1+camera!$B$3","v":1000},{"$f":"IF( AND( (camera!$B$4) > (AP813+camera!$B$4/2), 0 < (AP813+camera!$B$4/2), AN813 >= 0 ), AP813+camera!$B$4/2, 0)","v":0},null,null,null,2033.0196000000001,4529.7808000000005,-402.7894,null,{"$f":"MMULT(               MMULT(AX813:AZ813-$B$2:$D$2, TRANSPOSE($A$16:$C$18)),     TRANSPOSE($A$12:$C$14))","v":288.84421981547803},-6686.5521156354371,8951.0491488962125,null,-373.50661382861364,16.134657234626875," ",483.86534276537316,126.49338617138636]
[null,null,null,null,null,null,null,null,null,null,null,null,null,null,null,null,null,null,null,null,881.65679999999998,562.16219999999998,null,null,null,"''",null,16.900130999999998,10.165359,null,10.165359,-106.49803500000002,null,{"$f":"camera!$B$5*COS(RADIANS(AE814))*COS(RADIANS(AF814))","v":-139.76232228699209},{"$f":"camera!$B$5*COS(RADIANS(AE814))*SIN(RADIANS(AF814))","v":-471.8891214161203},{"$f":"camera!$B$5*SIN(RADIANS(AE814))","v":88.24483190572127},null,{"$f":"TRANSPOSE(MMULT(camera!$A$12:$C$14,MMULT(camera!$A$16:$C$18,TRANSPOSE(AH814:AJ814))))","v":-3.1581013805638918},98.102637583729532,-490.27125032453768,null,{"$f":"camera!$B$5*AM814/AN814","v":-100.04934770169571},{"$f":"camera!$B$5*AL814/AN814","v":3.2207695010398525},null,{"$f":"IF( AND( (camera!$B$3) > (AQ814+camera!$B$3/2), 0 < (AQ814+camera!$B$3/2), AN814 >= 0 ), AQ814+camera!$B$3/2, 0)*-1+camera!$B$3","v":1000},{"$f":"IF( AND( (camera!$B$4) > (AP814+camera!$B$4/2), 0 < (AP814+camera!$B$4/2), AN814 >= 0 ), AP814+camera!$B$4/2, 0)","v":0},null,null,null,2026.3558,4567.9777999999997,-397.91120000000001,null,{"$f":"MMULT(               MMULT(AX814:AZ814-$B$2:$D$2, TRANSPOSE($A$16:$C$18)),     TRANSPOSE($A$12:$C$14))","v":277.53338400293637},-6676.5845855005618,8987.103652233689,null,-371.45363199639621,15.440646661171932," ",484.55935333882803,128.54636800360379]
[null,null,null,null,null,null,null,null,null,null,null,null,null,null,null,null,null,null,null,null,881.65679999999998,152.16220000000001,null,null,null,"''",null,17.350100999999999,-21.112933000000002,null,-21.112933000000002,-99.748485000000016,null,{"$f":"camera!$B$5*COS(RADIANS(AE815))*COS(RADIANS(AF815))","v":-78.978571192900759},{"$f":"camera!$B$5*COS(RADIANS(AE815))*SIN(RADIANS(AF815))","v":-459.70103831081821},{"$f":"camera!$B$5*SIN(RADIANS(AE815))","v":-180.10369421053954},null,{"$f":"TRANSPOSE(MMULT(camera!$A$12:$C$14,MMULT(camera!$A$16:$C$18,TRANSPOSE(AH815:AJ815))))","v":258.08529513002367},38.612448449380189,-426.49860405679232,null,{"$f":"camera!$B$5*AM815/AN815","v":-45.266793469080824},{"$f":"camera!$B$5*AL815/AN815","v":-302.56288376462913},null,{"$f":"IF( AND( (camera!$B$3) > (AQ815+camera!$B$3/2), 0 < (AQ815+camera!$B$3/2), AN815 >= 0 ), AQ815+camera!$B$3/2, 0)*-1+camera!$B$3","v":1000},{"$f":"IF( AND( (camera!$B$4) > (AP815+camera!$B$4/2), 0 < (AP815+camera!$B$4/2), AN815 >= 0 ), AP815+camera!$B$4/2, 0)","v":0},null,null,null,2062.7671999999998,4504.9114,-397.91120000000001,null,{"$f":"MMULT(               MMULT(AX815:AZ815-$B$2:$D$2, TRANSPOSE($A$16:$C$18)),     TRANSPOSE($A$12:$C$14))","v":287.89201018379572},-6718.3540280650805,8928.3569638979643,null,-376.2368627974281,16.122339829595429," ",483.87766017040462,123.7631372025719]
[null,null,null,null,null,null,null,null,null,null,null,null,null,null,null,null,null,null,null,null,884.56859999999995,459.30619999999999,null,null,null,"''",null,19.668275000000001,18.01389,null,18.01389,-64.975874999999974,null,{"$f":"camera!$B$5*COS(RADIANS(AE816))*COS(RADIANS(AF816))","v":201.13252447999142},{"$f":"camera!$B$5*COS(RADIANS(AE816))*SIN(RADIANS(AF816))","v":-430.85635235753989},{"$f":"camera!$B$5*SIN(RADIANS(AE816))","v":154.62377317043166},null,{"$f":"TRANSPOSE(MMULT(camera!$A$12:$C$14,MMULT(camera!$A$16:$C$18,TRANSPOSE(AH816:AJ816))))","v":-80.786000367258112},-237.9187599080438,-432.28264576371788,null,{"$f":"camera!$B$5*AM816/AN816","v":275.18888653014335},{"$f":"camera!$B$5*AL816/AN816","v":93.441179236483933},null,{"$f":"IF( AND( (camera!$B$3) > (AQ816+camera!$B$3/2), 0 < (AQ816+camera!$B$3/2), AN816 >= 0 ), AQ816+camera!$B$3/2, 0)*-1+camera!$B$3","v":1000},{"$f":"IF( AND( (camera!$B$4) > (AP816+camera!$B$4/2), 0 < (AP816+camera!$B$4/2), AN816 >= 0 ), AP816+camera!$B$4/2, 0)","v":0},null,null,null,-4826.0454,1761.6746000000001,933.73940000000005,null,{"$f":"MMULT(               MMULT(AX816:AZ816-$B$2:$D$2, TRANSPOSE($A$16:$C$18)),     TRANSPOSE($A$12:$C$14))","v":-444.7241473171274},-94.844280634176243,5414.5594895506247,null,-8.7582637901765619,-41.067435695866436," ",541.06743569586638,491.24173620982344]
[null,null,null,null,null,null,null,null,null,null,null,null,null,null,null,null,null,null,null,null,884.56859999999995,49.306199999999997,null,null,null,"''",null,19.684149999999999,17.476040999999999,null,17.476040999999999,-64.737750000000005,null,{"$f":"camera!$B$5*COS(RADIANS(AE817))*COS(RADIANS(AF817))","v":203.53194047425526},{"$f":"camera!$B$5*COS(RADIANS(AE817))*SIN(RADIANS(AF817))","v":-431.31042312914053},{"$f":"camera!$B$5*SIN(RADIANS(AE817))","v":150.1534818342418},null,{"$f":"TRANSPOSE(MMULT(camera!$A$12:$C$14,MMULT(camera!$A$16:$C$18,TRANSPOSE(AH817:AJ817))))","v":-76.341388089284123},-240.34862027540481,-431.74591277313863,null,{"$f":"camera!$B$5*AM817/AN817","v":278.34498621148066},{"$f":"camera!$B$5*AL817/AN817","v":88.410087774702106},null,{"$f":"IF( AND( (camera!$B$3) > (AQ817+camera!$B$3/2), 0 < (AQ817+camera!$B$3/2), AN817 >= 0 ), AQ817+camera!$B$3/2, 0)*-1+camera!$B$3","v":1000},{"$f":"IF( AND( (camera!$B$4) > (AP817+camera!$B$4/2), 0 < (AP817+camera!$B$4/2), AN817 >= 0 ), AP817+camera!$B$4/2, 0)","v":0},null,null,null,-4953.3681999999999,1761.6746000000001,1140.145,null,{"$f":"MMULT(               MMULT(AX817:AZ817-$B$2:$D$2, TRANSPOSE($A$16:$C$18)),     TRANSPOSE($A$12:$C$14))","v":-646.06702370688504},31.994017672019368,5367.7892070938415,null,2.9801857373364657,-60.179992058282615," ",560.17999205828255,502.98018573733646]
[null,null,null,null,null,null,null,null,null,null,null,null,null,null,null,null,null,null,null,null,884.94200000000001,547.16219999999998,null,null,null,"''",null,21.331095999999999,-53.449427,null,-53.449427,-40.033560000000023,null,{"$f":"camera!$B$5*COS(RADIANS(AE818))*COS(RADIANS(AF818))","v":227.98987620427897},{"$f":"camera!$B$5*COS(RADIANS(AE818))*SIN(RADIANS(AF818))","v":-191.53389873859183},{"$f":"camera!$B$5*SIN(RADIANS(AE818))","v":-401.66575903648095},null,{"$f":"TRANSPOSE(MMULT(camera!$A$12:$C$14,MMULT(camera!$A$16:$C$18,TRANSPOSE(AH818:AJ818))))","v":425.246005442193},-243.81558509921285,-98.589022300593072,null,{"$f":"camera!$B$5*AM818/AN818","v":1236.52501774402},{"$f":"camera!$B$5*AL818/AN818","v":-2156.6600191329562},null,{"$f":"IF( AND( (camera!$B$3) > (AQ818+camera!$B$3/2), 0 < (AQ818+camera!$B$3/2), AN818 >= 0 ), AQ818+camera!$B$3/2, 0)*-1+camera!$B$3","v":1000},{"$f":"IF( AND( (camera!$B$4) > (AP818+camera!$B$4/2), 0 < (AP818+camera!$B$4/2), AN818 >= 0 ), AP818+camera!$B$4/2, 0)","v":0},null,null,null,-4942.6499999999996,1688.4862000000001,1100.8296,null,{"$f":"MMULT(               MMULT(AX818:AZ818-$B$2:$D$2, TRANSPOSE($A$16:$C$18)),     TRANSPOSE($A$12:$C$14))","v":-594.85045630343961},14.937814296419447,5303.733984568441,null,1.4082356260591113,-56.078458877669547," ",556.07845887766962,501.40823562605914]
[null,null,null,null,null,null,null,null,null,null,null,null,null,null,null,null,null,null,null,null,884.94200000000001,137.16220000000001,null,null,null,"''",null,0.95344499999999999,23.417648,null,23.417648,14.301674999999999,null,{"$f":"camera!$B$5*COS(RADIANS(AE819))*COS(RADIANS(AF819))","v":444.59673183644207},{"$f":"camera!$B$5*COS(RADIANS(AE819))*SIN(RADIANS(AF819))","v":113.34012794213106},{"$f":"camera!$B$5*SIN(RADIANS(AE819))","v":198.71527731509769},null,{"$f":"TRANSPOSE(MMULT(camera!$A$12:$C$14,MMULT(camera!$A$16:$C$18,TRANSPOSE(AH819:AJ819))))","v":-222.03147984164787},-433.02666401047014,114.84742145686738,null,{"$f":"camera!$B$5*AM819/AN819","v":-1885.2258871702209},{"$f":"camera!$B$5*AL819/AN819","v":-966.6367647837659},null,{"$f":"IF( AND( (camera!$B$3) > (AQ819+camera!$B$3/2), 0 < (AQ819+camera!$B$3/2), AN819 >= 0 ), AQ819+camera!$B$3/2, 0)*-1+camera!$B$3","v":1000},{"$f":"IF( AND( (camera!$B$4) > (AP819+camera!$B$4/2), 0 < (AP819+camera!$B$4/2), AN819 >= 0 ), AP819+camera!$B$4/2, 0)","v":0},null,null,null,-4843.2605000000003,1647.3177000000001,923.91060000000004,null,{"$f":"MMULT(               MMULT(AX819:AZ819-$B$2:$D$2, TRANSPOSE($A$16:$C$18)),     TRANSPOSE($A$12:$C$14))","v":-415.00182593848371},-87.66154984487639,5302.5976320038108,null,-8.2659062527953662,-39.131936339440649," ",539.1319363394407,491.73409374720461]
[null,null,null,null,null,null,null,null,null,null,null,null,null,null,null,null,null,null,null,null,885.7056,444.30619999999999,null,null,null,"''",null,7.8014359999999998,-25.937169000000001,null,-25.937169000000001,117.02154,null,{"$f":"camera!$B$5*COS(RADIANS(AE820))*COS(RADIANS(AF820))","v":-204.28157769592647},{"$f":"camera!$B$5*COS(RADIANS(AE820))*SIN(RADIANS(AF820))","v":400.55283154041007},{"$f":"camera!$B$5*SIN(RADIANS(AE820))","v":-218.6926294117454},null,{"$f":"TRANSPOSE(MMULT(camera!$A$12:$C$14,MMULT(camera!$A$16:$C$18,TRANSPOSE(AH820:AJ820))))","v":149.17129295728495},238.41470416108098,413.40821737991138,null,{"$f":"camera!$B$5*AM820/AN820","v":288.35264290596342},{"$f":"camera!$B$5*AL820/AN820","v":180.41645846168609},null,{"$f":"IF( AND( (camera!$B$3) > (AQ820+camera!$B$3/2), 0 < (AQ820+camera!$B$3/2), AN820 >= 0 ), AQ820+camera!$B$3/2, 0)*-1+camera!$B$3","v":319.58354153831397},{"$f":"IF( AND( (camera!$B$4) > (AP820+camera!$B$4/2), 0 < (AP820+camera!$B$4/2), AN820 >= 0 ), AP820+camera!$B$4/2, 0)","v":788.35264290596342},null,null,null,-4911.9501,1554.2823000000001,933.73940000000005,null,{"$f":"MMULT(               MMULT(AX820:AZ820-$B$2:$D$2, TRANSPOSE($A$16:$C$18)),     TRANSPOSE($A$12:$C$14))","v":-407.54777464422341},-27.341903899659428,5203.721803091451,null,-2.6271488882645517,-39.159258513983737," ",539.15925851398379,497.37285111173543]
[null,null,null,null,null,null,null,null,null,null,null,null,null,null,null,null,null,null,null,null,885.7056,34.306199999999997,null,null,null,"''",null,8.1504549999999991,-19.245014000000001,null,-19.245014000000001,122.25682499999999,null,{"$f":"camera!$B$5*COS(RADIANS(AE821))*COS(RADIANS(AF821))","v":-251.94501102004739},{"$f":"camera!$B$5*COS(RADIANS(AE821))*SIN(RADIANS(AF821))","v":399.2032974340982},{"$f":"camera!$B$5*SIN(RADIANS(AE821))","v":-164.80424369490953},null,{"$f":"TRANSPOSE(MMULT(camera!$A$12:$C$14,MMULT(camera!$A$16:$C$18,TRANSPOSE(AH821:AJ821))))","v":97.056404470578173},285.77914408402074,398.63559193560229,null,{"$f":"camera!$B$5*AM821/AN821","v":358.44659867976242},{"$f":"camera!$B$5*AL821/AN821","v":121.73574868128831},null,{"$f":"IF( AND( (camera!$B$3) > (AQ821+camera!$B$3/2), 0 < (AQ821+camera!$B$3/2), AN821 >= 0 ), AQ821+camera!$B$3/2, 0)*-1+camera!$B$3","v":378.26425131871167},{"$f":"IF( AND( (camera!$B$4) > (AP821+camera!$B$4/2), 0 < (AP821+camera!$B$4/2), AN821 >= 0 ), AP821+camera!$B$4/2, 0)","v":858.44659867976247},null,null,null,-5001.9808999999996,1644.3131000000001,1140.145,null,{"$f":"MMULT(               MMULT(AX821:AZ821-$B$2:$D$2, TRANSPOSE($A$16:$C$18)),     TRANSPOSE($A$12:$C$14))","v":-625.02923788260466},70.193002969464374,5248.4779948235891,null,6.6869864976754743,-59.543856190218541," ",559.54385619021855,506.68698649767549]
[null,null,null,null,null,null,null,null,null,null,null,null,null,null,null,null,null,null,null,null,886.65679999999998,562.16219999999998,null,null,null,"''",null,18.949176999999999,-67.233495000000005,null,-67.233495000000005,-75.762345000000039,null,{"$f":"camera!$B$5*COS(RADIANS(AE822))*COS(RADIANS(AF822))","v":47.587374785686947},{"$f":"camera!$B$5*COS(RADIANS(AE822))*SIN(RADIANS(AF822))","v":-187.54509902468271},{"$f":"camera!$B$5*SIN(RADIANS(AE822))","v":-461.0447674497874},null,{"$f":"TRANSPOSE(MMULT(camera!$A$12:$C$14,MMULT(camera!$A$16:$C$18,TRANSPOSE(AH822:AJ822))))","v":485.76319132055687},-63.751922861785474,-99.848957378097055,null,{"$f":"camera!$B$5*AM822/AN822","v":319.24180550216818},{"$f":"camera!$B$5*AL822/AN822","v":-2432.490053356903},null,{"$f":"IF( AND( (camera!$B$3) > (AQ822+camera!$B$3/2), 0 < (AQ822+camera!$B$3/2), AN822 >= 0 ), AQ822+camera!$B$3/2, 0)*-1+camera!$B$3","v":1000},{"$f":"IF( AND( (camera!$B$4) > (AP822+camera!$B$4/2), 0 < (AP822+camera!$B$4/2), AN822 >= 0 ), AP822+camera!$B$4/2, 0)","v":0},null,null,null,-5119.3424999999997,1761.6746000000001,1317.0640000000001,null,{"$f":"MMULT(               MMULT(AX822:AZ822-$B$2:$D$2, TRANSPOSE($A$16:$C$18)),     TRANSPOSE($A$12:$C$14))","v":-817.78629915743227},197.33673535150803,5322.8216969271671,null,18.53685381434337,-76.818870302337515," ",576.81887030233747,518.53685381434332]
[null,null,null,null,null,null,null,null,null,null,null,null,null,null,null,null,null,null,null,null,886.65679999999998,152.16220000000001,null,null,null,"''",null,21.965292999999999,-54.992575000000002,null,-54.992575000000002,-30.520604999999989,null,{"$f":"camera!$B$5*COS(RADIANS(AE823))*COS(RADIANS(AF823))","v":247.09845120922162},{"$f":"camera!$B$5*COS(RADIANS(AE823))*SIN(RADIANS(AF823))","v":-145.6718325048416},{"$f":"camera!$B$5*SIN(RADIANS(AE823))","v":-409.53885362036806},null,{"$f":"TRANSPOSE(MMULT(camera!$A$12:$C$14,MMULT(camera!$A$16:$C$18,TRANSPOSE(AH823:AJ823))))","v":424.77673320722886},-258.85430376068035,-50.588302505302877,null,{"$f":"camera!$B$5*AM823/AN823","v":2558.4403008338354},{"$f":"camera!$B$5*AL823/AN823","v":-4198.3691107514633},null,{"$f":"IF( AND( (camera!$B$3) > (AQ823+camera!$B$3/2), 0 < (AQ823+camera!$B$3/2), AN823 >= 0 ), AQ823+camera!$B$3/2, 0)*-1+camera!$B$3","v":1000},{"$f":"IF( AND( (camera!$B$4) > (AP823+camera!$B$4/2), 0 < (AP823+camera!$B$4/2), AN823 >= 0 ), AP823+camera!$B$4/2, 0)","v":0},null,null,null,-5046.1540999999997,1584.9820999999999,1100.8296,null,{"$f":"MMULT(               MMULT(AX823:AZ823-$B$2:$D$2, TRANSPOSE($A$16:$C$18)),     TRANSPOSE($A$12:$C$14))","v":-575.3790756169019},109.02707323424949,5193.3062972780244,null,10.496884546497288,-55.396219930112359," ",555.39621993011235,510.49688454649731]
[null,null,null,null,null,null,null,null,null,null,null,null,null,null,null,null,null,null,null,null,889.56859999999995,459.30619999999999,null,null,null,"''",null,6.830921,-53.622449000000003,null,-53.622449000000003,102.463815,null,{"$f":"camera!$B$5*COS(RADIANS(AE824))*COS(RADIANS(AF824))","v":-64.002683907907382},{"$f":"camera!$B$5*COS(RADIANS(AE824))*SIN(RADIANS(AF824))","v":289.56275640905403},{"$f":"camera!$B$5*SIN(RADIANS(AE824))","v":-402.56312120383717},null,{"$f":"TRANSPOSE(MMULT(camera!$A$12:$C$14,MMULT(camera!$A$16:$C$18,TRANSPOSE(AH824:AJ824))))","v":347.32522074648216},88.996191479589527,348.48941007659846,null,{"$f":"camera!$B$5*AM824/AN824","v":127.68851635983435},{"$f":"camera!$B$5*AL824/AN824","v":498.32966326026889},null,{"$f":"IF( AND( (camera!$B$3) > (AQ824+camera!$B$3/2), 0 < (AQ824+camera!$B$3/2), AN824 >= 0 ), AQ824+camera!$B$3/2, 0)*-1+camera!$B$3","v":1.6703367397310558},{"$f":"IF( AND( (camera!$B$4) > (AP824+camera!$B$4/2), 0 < (AP824+camera!$B$4/2), AN824 >= 0 ), AP824+camera!$B$4/2, 0)","v":627.68851635983435},null,null,null,-5004.9856,1485.5925999999999,923.91060000000004,null,{"$f":"MMULT(               MMULT(AX824:AZ824-$B$2:$D$2, TRANSPOSE($A$16:$C$18)),     TRANSPOSE($A$12:$C$14))","v":-384.57780419762167},59.352866112041283,5130.0544306252059,null,5.7848183595985629,-37.482819081000734," ",537.4828190810008,505.78481835959855]
[null,null,null,null,null,null,null,null,null,null,null,null,null,null,null,null,null,null,null,null,889.56859999999995,49.306199999999997,null,null,null,"''",null,7.1856590000000002,30.245163000000002,null,30.245163000000002,107.784885,null,{"$f":"camera!$B$5*COS(RADIANS(AE825))*COS(RADIANS(AF825))","v":-131.93323100324301},{"$f":"camera!$B$5*COS(RADIANS(AE825))*SIN(RADIANS(AF825))","v":411.29665193431902},{"$f":"camera!$B$5*SIN(RADIANS(AE825))","v":251.85052444786481},null,{"$f":"TRANSPOSE(MMULT(camera!$A$12:$C$14,MMULT(camera!$A$16:$C$18,TRANSPOSE(AH825:AJ825))))","v":-317.17674999680526},167.27805041650481,348.44936950770534,null,{"$f":"camera!$B$5*AM825/AN825","v":240.03207503695276},{"$f":"camera!$B$5*AL825/AN825","v":-455.12602081174305},null,{"$f":"IF( AND( (camera!$B$3) > (AQ825+camera!$B$3/2), 0 < (AQ825+camera!$B$3/2), AN825 >= 0 ), AQ825+camera!$B$3/2, 0)*-1+camera!$B$3","v":955.12602081174305},{"$f":"IF( AND( (camera!$B$4) > (AP825+camera!$B$4/2), 0 < (AP825+camera!$B$4/2), AN825 >= 0 ), AP825+camera!$B$4/2, 0)","v":740.03207503695273},null,null,null,-5119.3424999999997,1468.3775000000001,933.73940000000005,null,{"$f":"MMULT(               MMULT(AX825:AZ825-$B$2:$D$2, TRANSPOSE($A$16:$C$18)),     TRANSPOSE($A$12:$C$14))","v":-389.5485601823425},171.77420875527389,5101.6431853463864,null,16.83518451943743,-38.178734383193962," ",538.17873438319396,516.83518451943746]
[null,null,null,null,null,null,null,null,null,null,null,null,null,null,null,null,null,null,null,null,889.94200000000001,547.16219999999998,null,null,null,"''",null,14.383956,-39.511819000000003,null,-39.511819000000003,-144.24066000000002,null,{"$f":"camera!$B$5*COS(RADIANS(AE826))*COS(RADIANS(AF826))","v":-313.02522472663514},{"$f":"camera!$B$5*COS(RADIANS(AE826))*SIN(RADIANS(AF826))","v":-225.42339818826306},{"$f":"camera!$B$5*SIN(RADIANS(AE826))","v":-318.11868891043696},null,{"$f":"TRANSPOSE(MMULT(camera!$A$12:$C$14,MMULT(camera!$A$16:$C$18,TRANSPOSE(AH826:AJ826))))","v":357.01861759852977},292.18712553985193,-192.78067941781293,null,{"$f":"camera!$B$5*AM826/AN826","v":-757.82263664139225},{"$f":"camera!$B$5*AL826/AN826","v":-925.97094967375983},null,{"$f":"IF( AND( (camera!$B$3) > (AQ826+camera!$B$3/2), 0 < (AQ826+camera!$B$3/2), AN826 >= 0 ), AQ826+camera!$B$3/2, 0)*-1+camera!$B$3","v":1000},{"$f":"IF( AND( (camera!$B$4) > (AP826+camera!$B$4/2), 0 < (AP826+camera!$B$4/2), AN826 >= 0 ), AP826+camera!$B$4/2, 0)","v":0},null,null,null,-5119.3424999999997,1595.7003,1140.145,null,{"$f":"MMULT(               MMULT(AX826:AZ826-$B$2:$D$2, TRANSPOSE($A$16:$C$18)),     TRANSPOSE($A$12:$C$14))","v":-614.8436346867245},182.87112195798539,5190.712568596954,null,17.615223299429903,-59.22535938576506," ",559.22535938576505,517.61522329942989]
[null,null,null,null,null,null,null,null,null,null,null,null,null,null,null,null,null,null,null,null,889.94200000000001,137.16220000000001,null,null,null,"''",null,17.512308000000001,26.110645000000002,null,26.110645000000002,-97.315380000000005,null,{"$f":"camera!$B$5*COS(RADIANS(AE827))*COS(RADIANS(AF827))","v":-57.168106933148486},{"$f":"camera!$B$5*COS(RADIANS(AE827))*SIN(RADIANS(AF827))","v":-445.31840651839588},{"$f":"camera!$B$5*SIN(RADIANS(AE827))","v":220.05300353686792},null,{"$f":"TRANSPOSE(MMULT(camera!$A$12:$C$14,MMULT(camera!$A$16:$C$18,TRANSPOSE(AH827:AJ827))))","v":-138.81022629625889},18.138508547430128,-480.00282872422343,null,{"$f":"camera!$B$5*AM827/AN827","v":-18.894168390256784},{"$f":"camera!$B$5*AL827/AN827","v":144.59313361256218},null,{"$f":"IF( AND( (camera!$B$3) > (AQ827+camera!$B$3/2), 0 < (AQ827+camera!$B$3/2), AN827 >= 0 ), AQ827+camera!$B$3/2, 0)*-1+camera!$B$3","v":1000},{"$f":"IF( AND( (camera!$B$4) > (AP827+camera!$B$4/2), 0 < (AP827+camera!$B$4/2), AN827 >= 0 ), AP827+camera!$B$4/2, 0)","v":0},null,null,null,-5192.5308999999997,1584.9820999999999,1100.8296,null,{"$f":"MMULT(               MMULT(AX827:AZ827-$B$2:$D$2, TRANSPOSE($A$16:$C$18)),     TRANSPOSE($A$12:$C$14))","v":-573.16374531985889},254.84686531788532,5180.7425348399565,null,24.595592581957757,-55.316756378587833," ",555.3167563785878,524.5955925819577]
[null,null,null,null,null,null,null,null,null,null,null,null,null,null,null,null,null,null,null,null,890.7056,444.30619999999999,null,null,null,"''",null,17.975041000000001,30.189277000000001,null,30.189277000000001,-90.374384999999961,null,{"$f":"camera!$B$5*COS(RADIANS(AE828))*COS(RADIANS(AF828))","v":-2.8239816352319775},{"$f":"camera!$B$5*COS(RADIANS(AE828))*SIN(RADIANS(AF828))","v":-432.175237581413},{"$f":"camera!$B$5*SIN(RADIANS(AE828))","v":251.42909368084892},null,{"$f":"TRANSPOSE(MMULT(camera!$A$12:$C$14,MMULT(camera!$A$16:$C$18,TRANSPOSE(AH828:AJ828))))","v":-172.80571335252279},-34.853318296027112,-467.89254283059643,null,{"$f":"camera!$B$5*AM828/AN828","v":37.245002971383101},{"$f":"camera!$B$5*AL828/AN828","v":184.66388917752877},null,{"$f":"IF( AND( (camera!$B$3) > (AQ828+camera!$B$3/2), 0 < (AQ828+camera!$B$3/2), AN828 >= 0 ), AQ828+camera!$B$3/2, 0)*-1+camera!$B$3","v":1000},{"$f":"IF( AND( (camera!$B$4) > (AP828+camera!$B$4/2), 0 < (AP828+camera!$B$4/2), AN828 >= 0 ), AP828+camera!$B$4/2, 0)","v":0},null,null,null,-5233.6993000000002,1485.5925999999999,923.91060000000004,null,{"$f":"MMULT(               MMULT(AX828:AZ828-$B$2:$D$2, TRANSPOSE($A$16:$C$18)),     TRANSPOSE($A$12:$C$14))","v":-381.11635136521369},287.19624143298762,5110.4235561073065,null,28.099064419990043,-37.288137390271061," ",537.288137390271,528.0990644199901]
[null,null,null,null,null,null,null,null,null,null,null,null,null,null,null,null,null,null,null,null,890.7056,34.306199999999997,null,null,null,"''",null,21.298632000000001,34.896898,null,34.896898,-40.520519999999976,null,{"$f":"camera!$B$5*COS(RADIANS(AE829))*COS(RADIANS(AF829))","v":311.7405613422028},{"$f":"camera!$B$5*COS(RADIANS(AE829))*SIN(RADIANS(AF829))","v":-266.44474017228879},{"$f":"camera!$B$5*SIN(RADIANS(AE829))","v":286.05073474572612},null,{"$f":"TRANSPOSE(MMULT(camera!$A$12:$C$14,MMULT(camera!$A$16:$C$18,TRANSPOSE(AH829:AJ829))))","v":-240.33141764845874},-333.77648362016959,-284.31332834258171,null,{"$f":"camera!$B$5*AM829/AN829","v":586.9870497558727},{"$f":"camera!$B$5*AL829/AN829","v":422.65239383866094},null,{"$f":"IF( AND( (camera!$B$3) > (AQ829+camera!$B$3/2), 0 < (AQ829+camera!$B$3/2), AN829 >= 0 ), AQ829+camera!$B$3/2, 0)*-1+camera!$B$3","v":1000},{"$f":"IF( AND( (camera!$B$4) > (AP829+camera!$B$4/2), 0 < (AP829+camera!$B$4/2), AN829 >= 0 ), AP829+camera!$B$4/2, 0)","v":0},null,null,null,-5326.7348000000002,1554.2823000000001,933.73940000000005,null,{"$f":"MMULT(               MMULT(AX829:AZ829-$B$2:$D$2, TRANSPOSE($A$16:$C$18)),     TRANSPOSE($A$12:$C$14))","v":-401.27024218921736},385.86441508991601,5168.1201474073159,null,37.33121561458784,-38.821682811546289," ",538.82168281154622,537.33121561458779]
[null,null,null,null,null,null,null,null,null,null,null,null,null,null,null,null,null,null,null,null,891.65679999999998,562.16219999999998,null,null,null,"''",null,23.131623000000001,75.387495999999999,null,75.387495999999999,-13.025654999999972,null,{"$f":"camera!$B$5*COS(RADIANS(AE830))*COS(RADIANS(AF830))","v":122.89458582714269},{"$f":"camera!$B$5*COS(RADIANS(AE830))*SIN(RADIANS(AF830))","v":-28.430417511861211},{"$f":"camera!$B$5*SIN(RADIANS(AE830))","v":483.82706841853769},null,{"$f":"TRANSPOSE(MMULT(camera!$A$12:$C$14,MMULT(camera!$A$16:$C$18,TRANSPOSE(AH830:AJ830))))","v":-473.41848449398731},-124.90480898005282,-101.35939637287137,null,{"$f":"camera!$B$5*AM830/AN830","v":616.14814930706973},{"$f":"camera!$B$5*AL830/AN830","v":2335.3458161511739},null,{"$f":"IF( AND( (camera!$B$3) > (AQ830+camera!$B$3/2), 0 < (AQ830+camera!$B$3/2), AN830 >= 0 ), AQ830+camera!$B$3/2, 0)*-1+camera!$B$3","v":1000},{"$f":"IF( AND( (camera!$B$4) > (AP830+camera!$B$4/2), 0 < (AP830+camera!$B$4/2), AN830 >= 0 ), AP830+camera!$B$4/2, 0)","v":0},null,null,null,-5236.7039999999997,1644.3131000000001,1140.145,null,{"$f":"MMULT(               MMULT(AX830:AZ830-$B$2:$D$2, TRANSPOSE($A$16:$C$18)),     TRANSPOSE($A$12:$C$14))","v":-621.47683617109112},304.02291070912315,5228.3313235811038,null,29.074564320159137,-59.433574280963462," ",559.43357428096351,529.07456432015908]
[null,null,null,null,null,null,null,null,null,null,null,null,null,null,null,null,null,null,null,null,891.65679999999998,152.16220000000001,null,null,null,"''",null,23.298393000000001,-9.1825130000000001,null,-9.1825130000000001,-10.524104999999963,null,{"$f":"camera!$B$5*COS(RADIANS(AE831))*COS(RADIANS(AF831))","v":485.28936970725943},{"$f":"camera!$B$5*COS(RADIANS(AE831))*SIN(RADIANS(AF831))","v":-90.154264899199006},{"$f":"camera!$B$5*SIN(RADIANS(AE831))","v":-79.789950304634118},null,{"$f":"TRANSPOSE(MMULT(camera!$A$12:$C$14,MMULT(camera!$A$16:$C$18,TRANSPOSE(AH831:AJ831))))","v":86.828732149171543},-491.30015906181563,-32.938199392227972,null,{"$f":"camera!$B$5*AM831/AN831","v":7457.9085700984278},{"$f":"camera!$B$5*AL831/AN831","v":-1318.0552330018907},null,{"$f":"IF( AND( (camera!$B$3) > (AQ831+camera!$B$3/2), 0 < (AQ831+camera!$B$3/2), AN831 >= 0 ), AQ831+camera!$B$3/2, 0)*-1+camera!$B$3","v":1000},{"$f":"IF( AND( (camera!$B$4) > (AP831+camera!$B$4/2), 0 < (AP831+camera!$B$4/2), AN831 >= 0 ), AP831+camera!$B$4/2, 0)","v":0},null,null,null,-5296.0348999999997,1688.4862000000001,1100.8296,null,{"$f":"MMULT(               MMULT(AX831:AZ831-$B$2:$D$2, TRANSPOSE($A$16:$C$18)),     TRANSPOSE($A$12:$C$14))","v":-589.50217518588852},366.97797806210116,5273.4023751002696,null,34.79518079208998,-55.893911866973703," ",555.89391186697367,534.79518079208992]
[null,null,null,null,null,null,null,null,null,null,null,null,null,null,null,null,null,null,null,null,894.56859999999995,459.30619999999999,null,null,null,"''",null,23.313732999999999,-32.532026999999999,null,-32.532026999999999,-10.294005000000027,null,{"$f":"camera!$B$5*COS(RADIANS(AE832))*COS(RADIANS(AF832))","v":414.76018275228313},{"$f":"camera!$B$5*COS(RADIANS(AE832))*SIN(RADIANS(AF832))","v":-75.329870063292134},{"$f":"camera!$B$5*SIN(RADIANS(AE832))","v":-268.88548023190134},null,{"$f":"TRANSPOSE(MMULT(camera!$A$12:$C$14,MMULT(camera!$A$16:$C$18,TRANSPOSE(AH832:AJ832))))","v":271.55446211145983},-419.7473258138387,8.3878828965860208,null,{"$f":"camera!$B$5*AM832/AN832","v":-25021.053046930436},{"$f":"camera!$B$5*AL832/AN832","v":16187.306466926599},null,{"$f":"IF( AND( (camera!$B$3) > (AQ832+camera!$B$3/2), 0 < (AQ832+camera!$B$3/2), AN832 >= 0 ), AQ832+camera!$B$3/2, 0)*-1+camera!$B$3","v":1000},{"$f":"IF( AND( (camera!$B$4) > (AP832+camera!$B$4/2), 0 < (AP832+camera!$B$4/2), AN832 >= 0 ), AP832+camera!$B$4/2, 0)","v":0},null,null,null,-5395.4243999999999,1647.3177000000001,923.91060000000004,null,{"$f":"MMULT(               MMULT(AX832:AZ832-$B$2:$D$2, TRANSPOSE($A$16:$C$18)),     TRANSPOSE($A$12:$C$14))","v":-406.64513678690054},462.40119981278394,5255.2044927462402,null,43.994596257009256,-38.689753876199575," ",538.68975387619957,543.99459625700922]
[null,null,null,null,null,null,null,null,null,null,null,null,null,null,null,null,null,null,null,null,894.56859999999995,49.306199999999997,null,null,null,"''",null,6.126201,14.768471999999999,null,14.768471999999999,91.893015000000005,null,{"$f":"camera!$B$5*COS(RADIANS(AE833))*COS(RADIANS(AF833))","v":-15.971019140628627},{"$f":"camera!$B$5*COS(RADIANS(AE833))*SIN(RADIANS(AF833))","v":483.21804284403839},{"$f":"camera!$B$5*SIN(RADIANS(AE833))","v":127.45685394511652},null,{"$f":"TRANSPOSE(MMULT(camera!$A$12:$C$14,MMULT(camera!$A$16:$C$18,TRANSPOSE(AH833:AJ833))))","v":-208.86941550340489},58.025472024157885,450.56255044515149,null,{"$f":"camera!$B$5*AM833/AN833","v":64.392249163661376},{"$f":"camera!$B$5*AL833/AN833","v":-231.78736814349517},null,{"$f":"IF( AND( (camera!$B$3) > (AQ833+camera!$B$3/2), 0 < (AQ833+camera!$B$3/2), AN833 >= 0 ), AQ833+camera!$B$3/2, 0)*-1+camera!$B$3","v":731.7873681434952},{"$f":"IF( AND( (camera!$B$4) > (AP833+camera!$B$4/2), 0 < (AP833+camera!$B$4/2), AN833 >= 0 ), AP833+camera!$B$4/2, 0)","v":564.3922491636614},null,null,null,-5412.6395000000002,1761.6746000000001,933.73940000000005,null,{"$f":"MMULT(               MMULT(AX833:AZ833-$B$2:$D$2, TRANSPOSE($A$16:$C$18)),     TRANSPOSE($A$12:$C$14))","v":-435.84637651057403},489.5176517177232,5364.2111493766852,null,45.628111765753715,-40.625393405815025," ",540.62539340581498,545.62811176575372]
[null,null,null,null,null,null,null,null,null,null,null,null,null,null,null,null,null,null,null,null,894.94200000000001,547.16219999999998,null,null,null,"''",null,6.6315059999999999,-18.237477999999999,null,-18.237477999999999,99.472589999999997,null,{"$f":"camera!$B$5*COS(RADIANS(AE834))*COS(RADIANS(AF834))","v":-78.154354555365174},{"$f":"camera!$B$5*COS(RADIANS(AE834))*SIN(RADIANS(AF834))","v":468.40846970400679},{"$f":"camera!$B$5*SIN(RADIANS(AE834))","v":-156.47812106995917},null,{"$f":"TRANSPOSE(MMULT(camera!$A$12:$C$14,MMULT(camera!$A$16:$C$18,TRANSPOSE(AH834:AJ834))))","v":74.254928409372056},118.68144172718388,480.00095937037048,null,{"$f":"camera!$B$5*AM834/AN834","v":123.6262547088045},{"$f":"camera!$B$5*AL834/AN834","v":77.34872916376473},null,{"$f":"IF( AND( (camera!$B$3) > (AQ834+camera!$B$3/2), 0 < (AQ834+camera!$B$3/2), AN834 >= 0 ), AQ834+camera!$B$3/2, 0)*-1+camera!$B$3","v":422.65127083623531},{"$f":"IF( AND( (camera!$B$4) > (AP834+camera!$B$4/2), 0 < (AP834+camera!$B$4/2), AN834 >= 0 ), AP834+camera!$B$4/2, 0)","v":623.62625470880448},null,null,null,-5285.3167000000003,1761.6746000000001,1140.145,null,{"$f":"MMULT(               MMULT(AX834:AZ834-$B$2:$D$2, TRANSPOSE($A$16:$C$18)),     TRANSPOSE($A$12:$C$14))","v":-641.04317041108948},362.67935341152759,5339.2975192329695,null,33.963208840217355,-60.030665841522548," ",560.03066584152248,533.96320884021736]
[null,null,null,null,null,null,null,null,null,null,null,null,null,null,null,null,null,null,null,null,894.94200000000001,137.16220000000001,null,null,null,"''",null,7.2256369999999999,-44.639738999999999,null,{"$f":"AC835","v":-44.639738999999999},{"$f":"IF(AB835*15/1>180, (AB835*15/1)-360, AB835*15/1)","v":108.38455499999999},null,{"$f":"camera!$B$5*COS(RADIANS(AE835))*COS(RADIANS(AF835))","v":-112.20727629705783},{"$f":"camera!$B$5*COS(RADIANS(AE835))*SIN(RADIANS(AF835))","v":337.61134588276127},{"$f":"camera!$B$5*SIN(RADIANS(AE835))","v":-351.32336426321865},null,{"$f":"TRANSPOSE(MMULT(camera!$A$12:$C$14,MMULT(camera!$A$16:$C$18,TRANSPOSE(AH835:AJ835))))","v":289.2816598877306},141.20506134489318,382.59280168762228,null,{"$f":"camera!$B$5*AM835/AN835","v":184.53700739014909},{"$f":"camera!$B$5*AL835/AN835","v":378.05423757543934},null,{"$f":"IF( AND( (camera!$B$3) > (AQ835+camera!$B$3/2), 0 < (AQ835+camera!$B$3/2), AN835 >= 0 ), AQ835+camera!$B$3/2, 0)*-1+camera!$B$3","v":121.9457624245606},{"$f":"IF( AND( (camera!$B$4) > (AP835+camera!$B$4/2), 0 < (AP835+camera!$B$4/2), AN835 >= 0 ), AP835+camera!$B$4/2, 0)","v":684.53700739014903},null,null,null,-5296.0348999999997,1834.8630000000001,1100.8296,null,{"$f":"MMULT(               MMULT(AX835:AZ835-$B$2:$D$2, TRANSPOSE($A$16:$C$18)),     TRANSPOSE($A$12:$C$14))","v":-614.82351634898248},379.73555678712654,5417.0068368868615,null,35.050311751624029,-56.749376072628309," ",556.74937607262837,535.05031175162401]
[null,null,null,null,null,null,null,null,null,null,null,null,null,null,null,null,null,null,null,null,895.7056,444.30619999999999,null,null,null,"''",null,7.2375590000000001,-26.352506999999999,null,-26.352506999999999,108.563385,null,{"$f":"camera!$B$5*COS(RADIANS(AE836))*COS(RADIANS(AF836))","v":-142.63513611825709},{"$f":"camera!$B$5*COS(RADIANS(AE836))*SIN(RADIANS(AF836))","v":424.72940341087065},{"$f":"camera!$B$5*SIN(RADIANS(AE836))","v":-221.94628138982685},null,{"$f":"TRANSPOSE(MMULT(camera!$A$12:$C$14,MMULT(camera!$A$16:$C$18,TRANSPOSE(AH836:AJ836))))","v":147.2602883703866},179.10997298364632,442.98309792459133,null,{"$f":"camera!$B$5*AM836/AN836","v":202.16343899213066},{"$f":"camera!$B$5*AL836/AN836","v":166.21434210505095},null,{"$f":"IF( AND( (camera!$B$3) > (AQ836+camera!$B$3/2), 0 < (AQ836+camera!$B$3/2), AN836 >= 0 ), AQ836+camera!$B$3/2, 0)*-1+camera!$B$3","v":333.78565789494905},{"$f":"IF( AND( (camera!$B$4) > (AP836+camera!$B$4/2), 0 < (AP836+camera!$B$4/2), AN836 >= 0 ), AP836+camera!$B$4/2, 0)","v":702.16343899213064},null,null,null,-5395.4243999999999,1876.0315000000001,923.91060000000004,null,{"$f":"MMULT(               MMULT(AX836:AZ836-$B$2:$D$2, TRANSPOSE($A$16:$C$18)),     TRANSPOSE($A$12:$C$14))","v":-446.20974100360462},482.33492092842329,5479.5865133408042,null,{"$f":"$B$5*BC836/BD836","v":44.01198153858077},{"$f":"$B$5*BB836/BD836","v":-40.715639758332664}," ",{"$f":"IF( AND( ($B$3) > (BG836+$B$3/2), 0 < (BG836+$B$3/2), BD836 >= 0 ), BG836+$B$3/2, 0)*-1+$B$3","v":540.7156397583326},{"$f":"IF( AND( ($B$4) > (BF836+$B$4/2), 0 < (BF836+$B$4/2), BD836 >= 0 ), BF836+$B$4/2, 0)","v":544.01198153858081}]
[null,null,null,null,null,null,null,null,null,null,null,null,null,null,null,null,null,null,null,null,895.7056,34.306199999999997,null,null,null,"''",null,8.2341429999999995,-40.34789,null,-40.34789,123.51214499999999,null,{"$f":"camera!$B$5*COS(RADIANS(AE837))*COS(RADIANS(AF837))","v":-210.39051578167934},{"$f":"camera!$B$5*COS(RADIANS(AE837))*SIN(RADIANS(AF837))","v":317.71904892487549},{"$f":"camera!$B$5*SIN(RADIANS(AE837))","v":-323.7135104060248},null,{"$f":"TRANSPOSE(MMULT(camera!$A$12:$C$14,MMULT(camera!$A$16:$C$18,TRANSPOSE(AH837:AJ837))))","v":267.0183263041265},237.28095604462374,349.85562924768323,null,{"$f":"camera!$B$5*AM837/AN837","v":339.11267421202291},{"$f":"camera!$B$5*AL837/AN837","v":381.61216224862955},null,{"$f":"IF( AND( (camera!$B$3) > (AQ837+camera!$B$3/2), 0 < (AQ837+camera!$B$3/2), AN837 >= 0 ), AQ837+camera!$B$3/2, 0)*-1+camera!$B$3","v":118.3878377513704},{"$f":"IF( AND( (camera!$B$4) > (AP837+camera!$B$4/2), 0 < (AP837+camera!$B$4/2), AN837 >= 0 ), AP837+camera!$B$4/2, 0)","v":839.11267421202297},null,null,null,-5326.7348000000002,1969.0669,933.73940000000005,null,{"$f":"MMULT(               MMULT(AX837:AZ837-$B$2:$D$2, TRANSPOSE($A$16:$C$18)),     TRANSPOSE($A$12:$C$14))","v":-473.02274918347791},422.01527498320627,5575.048835835858,null,37.848572040350042,-42.423193330875854," ",542.42319333087585,537.84857204035006]
[null,null,null,null,null,null,null,null,null,null,null,null,null,null,null,null,null,null,null,null,896.65679999999998,562.16219999999998,null,null,null,"''",null,11.038827,20.179842000000001,null,20.179842000000001,165.58240499999999,null,{"$f":"camera!$B$5*COS(RADIANS(AE838))*COS(RADIANS(AF838))","v":-454.52721230523287},{"$f":"camera!$B$5*COS(RADIANS(AE838))*SIN(RADIANS(AF838))","v":116.85154724653209},{"$f":"camera!$B$5*SIN(RADIANS(AE838))","v":172.48399688123311},null,{"$f":"TRANSPOSE(MMULT(camera!$A$12:$C$14,MMULT(camera!$A$16:$C$18,TRANSPOSE(AH838:AJ838))))","v":-183.19840907341626},462.98188242837881,45.674056706669887,null,{"$f":"camera!$B$5*AM838/AN838","v":5068.3245129917323},{"$f":"camera!$B$5*AL838/AN838","v":-2005.4974561375384},null,{"$f":"IF( AND( (camera!$B$3) > (AQ838+camera!$B$3/2), 0 < (AQ838+camera!$B$3/2), AN838 >= 0 ), AQ838+camera!$B$3/2, 0)*-1+camera!$B$3","v":1000},{"$f":"IF( AND( (camera!$B$4) > (AP838+camera!$B$4/2), 0 < (AP838+camera!$B$4/2), AN838 >= 0 ), AP838+camera!$B$4/2, 0)","v":0},null,null,null,-5236.7039999999997,1879.0361,1140.145,null,{"$f":"MMULT(               MMULT(AX838:AZ838-$B$2:$D$2, TRANSPOSE($A$16:$C$18)),     TRANSPOSE($A$12:$C$14))","v":-662.08095623536974},324.48036811408167,5458.6087315032219,null,29.721892891993789,-60.645577362442893," ",560.64557736244296,529.72189289199378]
[null,null,null,null,null,null,null,null,null,null,null,null,null,null,null,null,null,null,null,null,896.65679999999998,152.16220000000001,null,null,null,"''",null,14.838146999999999,-27.960370999999999,null,-27.960370999999999,-137.427795,null,{"$f":"camera!$B$5*COS(RADIANS(AE839))*COS(RADIANS(AF839))","v":-325.23198634581183},{"$f":"camera!$B$5*COS(RADIANS(AE839))*SIN(RADIANS(AF839))","v":-298.77508828600713},{"$f":"camera!$B$5*SIN(RADIANS(AE839))","v":-234.43037703601109},null,{"$f":"TRANSPOSE(MMULT(camera!$A$12:$C$14,MMULT(camera!$A$16:$C$18,TRANSPOSE(AH839:AJ839))))","v":287.47537938938945},297.95441571348067,-280.3231570915342,null,{"$f":"camera!$B$5*AM839/AN839","v":-531.44809512863276},{"$f":"camera!$B$5*AL839/AN839","v":-512.75710214607739},null,{"$f":"IF( AND( (camera!$B$3) > (AQ839+camera!$B$3/2), 0 < (AQ839+camera!$B$3/2), AN839 >= 0 ), AQ839+camera!$B$3/2, 0)*-1+camera!$B$3","v":1000},{"$f":"IF( AND( (camera!$B$4) > (AP839+camera!$B$4/2), 0 < (AP839+camera!$B$4/2), AN839 >= 0 ), AP839+camera!$B$4/2, 0)","v":0},null,null,null,-5192.5308999999997,1938.367,1100.8296,null,{"$f":"MMULT(               MMULT(AX839:AZ839-$B$2:$D$2, TRANSPOSE($A$16:$C$18)),     TRANSPOSE($A$12:$C$14))","v":-634.29487822333715},285.64638875319224,5527.4344174880871,null,25.83896679528608,-57.376970065579634," ",557.3769700655796,525.83896679528607]
[null,null,null,null,null,null,null,null,null,null,null,null,null,null,null,null,null,null,null,null,899.56859999999995,459.30619999999999,null,null,null,"''",null,15.77406,7.3530730000000002,null,7.3530730000000002,-123.38909999999998,null,{"$f":"camera!$B$5*COS(RADIANS(AE840))*COS(RADIANS(AF840))","v":-272.89811758624711},{"$f":"camera!$B$5*COS(RADIANS(AE840))*SIN(RADIANS(AF840))","v":-414.04309353966812},{"$f":"camera!$B$5*SIN(RADIANS(AE840))","v":63.991672192438593},null,{"$f":"TRANSPOSE(MMULT(camera!$A$12:$C$14,MMULT(camera!$A$16:$C$18,TRANSPOSE(AH840:AJ840))))","v":12.734899888984998},235.77342451164924,-440.73655920387091,null,{"$f":"camera!$B$5*AM840/AN840","v":-267.47659070708931},{"$f":"camera!$B$5*AL840/AN840","v":-14.447292405228213},null,{"$f":"IF( AND( (camera!$B$3) > (AQ840+camera!$B$3/2), 0 < (AQ840+camera!$B$3/2), AN840 >= 0 ), AQ840+camera!$B$3/2, 0)*-1+camera!$B$3","v":1000},{"$f":"IF( AND( (camera!$B$4) > (AP840+camera!$B$4/2), 0 < (AP840+camera!$B$4/2), AN840 >= 0 ), AP840+camera!$B$4/2, 0)","v":0},null,null,null,-5233.6993000000002,2037.7565,923.91060000000004,null,{"$f":"MMULT(               MMULT(AX840:AZ840-$B$2:$D$2, TRANSPOSE($A$16:$C$18)),     TRANSPOSE($A$12:$C$14))","v":-476.63374544572724},335.32049625593123,5652.1296166133834,null,29.663199448781128,-42.164084847307024," ",542.16408484730709,529.66319944878114]
[null,null,null,null,null,null,null,null,null,null,null,null,null,null,null,null,null,null,null,null,899.56859999999995,49.306199999999997,null,null,null,"''",null,18.029222000000001,1.3050759999999999,null,1.3050759999999999,-89.561669999999992,null,{"$f":"camera!$B$5*COS(RADIANS(AE841))*COS(RADIANS(AF841))","v":3.8241212909247038},{"$f":"camera!$B$5*COS(RADIANS(AE841))*SIN(RADIANS(AF841))","v":-499.85566981902639},{"$f":"camera!$B$5*SIN(RADIANS(AE841))","v":11.387951796736903},null,{"$f":"TRANSPOSE(MMULT(camera!$A$12:$C$14,MMULT(camera!$A$16:$C$18,TRANSPOSE(AH841:AJ841))))","v":75.195910521761107},-47.374861524584361,-492.03780092217488,null,{"$f":"camera!$B$5*AM841/AN841","v":48.141485710848457},{"$f":"camera!$B$5*AL841/AN841","v":-76.412737375898047},null,{"$f":"IF( AND( (camera!$B$3) > (AQ841+camera!$B$3/2), 0 < (AQ841+camera!$B$3/2), AN841 >= 0 ), AQ841+camera!$B$3/2, 0)*-1+camera!$B$3","v":1000},{"$f":"IF( AND( (camera!$B$4) > (AP841+camera!$B$4/2), 0 < (AP841+camera!$B$4/2), AN841 >= 0 ), AP841+camera!$B$4/2, 0)","v":0},null,null,null,-5119.3424999999997,2054.9715999999999,933.73940000000005,null,{"$f":"MMULT(               MMULT(AX841:AZ841-$B$2:$D$2, TRANSPOSE($A$16:$C$18)),     TRANSPOSE($A$12:$C$14))","v":-491.02194483317578},222.89925323216789,5677.1273468917316,null,19.63134166386164,-43.245634176412644," ",543.24563417641264,519.63134166386169]
[null,null,null,null,null,null,null,null,null,null,null,null,null,null,null,null,null,null,null,null,899.94200000000001,547.16219999999998,null,null,null,"''",null,22.392675000000001,52.229045999999997,null,52.229045999999997,-24.109874999999988,null,{"$f":"camera!$B$5*COS(RADIANS(AE842))*COS(RADIANS(AF842))","v":279.53683399769352},{"$f":"camera!$B$5*COS(RADIANS(AE842))*SIN(RADIANS(AF842))","v":-125.10069199243574},{"$f":"camera!$B$5*SIN(RADIANS(AE842))","v":395.23281151943809},null,{"$f":"TRANSPOSE(MMULT(camera!$A$12:$C$14,MMULT(camera!$A$16:$C$18,TRANSPOSE(AH842:AJ842))))","v":-371.81812663935978},-289.37635567870143,-167.36966713389455,null,{"$f":"camera!$B$5*AM842/AN842","v":864.48267668239544},{"$f":"camera!$B$5*AL842/AN842","v":1110.7691525188607},null,{"$f":"IF( AND( (camera!$B$3) > (AQ842+camera!$B$3/2), 0 < (AQ842+camera!$B$3/2), AN842 >= 0 ), AQ842+camera!$B$3/2, 0)*-1+camera!$B$3","v":1000},{"$f":"IF( AND( (camera!$B$4) > (AP842+camera!$B$4/2), 0 < (AP842+camera!$B$4/2), AN842 >= 0 ), AP842+camera!$B$4/2, 0)","v":0},null,null,null,-5119.3424999999997,1927.6487999999999,1140.145,null,{"$f":"MMULT(               MMULT(AX842:AZ842-$B$2:$D$2, TRANSPOSE($A$16:$C$18)),     TRANSPOSE($A$12:$C$14))","v":-672.26654061906697},211.80234002945633,5516.374051040666,null,19.197604991044773,-60.933734224589394," ",560.93373422458944,519.19760499104473]
[null,null,null,null,null,null,null,null,null,null,null,null,null,null,null,null,null,null,null,null,899.94200000000001,137.16220000000001,null,null,null,"''",null,23.422993000000002,23.404101000000001,null,23.404101000000001,-8.6551049999999918,null,{"$f":"camera!$B$5*COS(RADIANS(AE843))*COS(RADIANS(AF843))","v":453.63761427178741},{"$f":"camera!$B$5*COS(RADIANS(AE843))*SIN(RADIANS(AF843))","v":-69.05257508733942},{"$f":"camera!$B$5*SIN(RADIANS(AE843))","v":198.60678938950781},null,{"$f":"TRANSPOSE(MMULT(camera!$A$12:$C$14,MMULT(camera!$A$16:$C$18,TRANSPOSE(AH843:AJ843))))","v":-190.50983037910714},-457.92971466291846,-63.295979000737667,null,{"$f":"camera!$B$5*AM843/AN843","v":3617.3681321650911},{"$f":"camera!$B$5*AL843/AN843","v":1504.912582021102},null,{"$f":"IF( AND( (camera!$B$3) > (AQ843+camera!$B$3/2), 0 < (AQ843+camera!$B$3/2), AN843 >= 0 ), AQ843+camera!$B$3/2, 0)*-1+camera!$B$3","v":1000},{"$f":"IF( AND( (camera!$B$4) > (AP843+camera!$B$4/2), 0 < (AP843+camera!$B$4/2), AN843 >= 0 ), AP843+camera!$B$4/2, 0)","v":0},null,null,null,-5046.1540999999997,1938.367,1100.8296,null,{"$f":"MMULT(               MMULT(AX843:AZ843-$B$2:$D$2, TRANSPOSE($A$16:$C$18)),     TRANSPOSE($A$12:$C$14))","v":-636.51020852038016},139.82659666955641,5539.998179926155,null,12.61973308729681,-57.446788595232398," ",557.44678859523242,512.61973308729682]
[null,null,null,null,null,null,null,null,null,null,null,null,null,null,null,null,null,null,null,null,900.7056,444.30619999999999,null,null,null,"''",null,3.769037,-12.101589000000001,null,-12.101589000000001,56.535555000000002,null,{"$f":"camera!$B$5*COS(RADIANS(AE844))*COS(RADIANS(AF844))","v":269.58272470304377},{"$f":"camera!$B$5*COS(RADIANS(AE844))*SIN(RADIANS(AF844))","v":407.84473364269121},{"$f":"camera!$B$5*SIN(RADIANS(AE844))","v":-104.82283998063204},null,{"$f":"TRANSPOSE(MMULT(camera!$A$12:$C$14,MMULT(camera!$A$16:$C$18,TRANSPOSE(AH844:AJ844))))","v":28.598365439636652},-233.01087035994928,441.46128685115747,null,{"$f":"camera!$B$5*AM844/AN844","v":-263.90861135521374},{"$f":"camera!$B$5*AL844/AN844","v":32.390570013083433},null,{"$f":"IF( AND( (camera!$B$3) > (AQ844+camera!$B$3/2), 0 < (AQ844+camera!$B$3/2), AN844 >= 0 ), AQ844+camera!$B$3/2, 0)*-1+camera!$B$3","v":467.60942998691655},{"$f":"IF( AND( (camera!$B$4) > (AP844+camera!$B$4/2), 0 < (AP844+camera!$B$4/2), AN844 >= 0 ), AP844+camera!$B$4/2, 0)","v":236.09138864478626},null,null,null,-5004.9856,2037.7565,923.91060000000004,null,{"$f":"MMULT(               MMULT(AX844:AZ844-$B$2:$D$2, TRANSPOSE($A$16:$C$18)),     TRANSPOSE($A$12:$C$14))","v":-480.09519827813523},107.4771209349849,5671.7604911312828,null,9.4747584196337975,-42.323296181921108," ",542.32329618192114,509.47475841963382]
[null,null,null,null,null,null,null,null,null,null,null,null,null,null,null,null,null,null,null,null,900.7056,34.306199999999997,null,null,null,"''",null,4.254537,-7.6528710000000002,null,-7.6528710000000002,63.818055000000001,null,{"$f":"camera!$B$5*COS(RADIANS(AE845))*COS(RADIANS(AF845))","v":218.64657343277585},{"$f":"camera!$B$5*COS(RADIANS(AE845))*SIN(RADIANS(AF845))","v":444.70220042585828},{"$f":"camera!$B$5*SIN(RADIANS(AE845))","v":-66.585500392394053},null,{"$f":"TRANSPOSE(MMULT(camera!$A$12:$C$14,MMULT(camera!$A$16:$C$18,TRANSPOSE(AH845:AJ845))))","v":-14.663050250460614},-179.0562066300252,466.60890457064596,null,{"$f":"camera!$B$5*AM845/AN845","v":-191.86968452175731},{"$f":"camera!$B$5*AL845/AN845","v":-15.712355793930831},null,{"$f":"IF( AND( (camera!$B$3) > (AQ845+camera!$B$3/2), 0 < (AQ845+camera!$B$3/2), AN845 >= 0 ), AQ845+camera!$B$3/2, 0)*-1+camera!$B$3","v":515.71235579393078},{"$f":"IF( AND( (camera!$B$4) > (AP845+camera!$B$4/2), 0 < (AP845+camera!$B$4/2), AN845 >= 0 ), AP845+camera!$B$4/2, 0)","v":308.13031547824266},null,null,null,-4911.9501,1969.0669,933.73940000000005,null,{"$f":"MMULT(               MMULT(AX845:AZ845-$B$2:$D$2, TRANSPOSE($A$16:$C$18)),     TRANSPOSE($A$12:$C$14))","v":-479.30028163848397},8.8089559936308319,5610.6504915199939,null,0.78502091753396475,-42.713432458758952," ",542.71343245875892,500.78502091753398]
[null,null,null,null,null,null,null,null,null,null,null,null,null,null,null,null,null,null,null,null,901.65679999999998,562.16219999999998,null,null,null,"''",null,4.9547800000000004,53.752101000000003,null,53.752101000000003,74.321700000000007,null,{"$f":"camera!$B$5*COS(RADIANS(AE846))*COS(RADIANS(AF846))","v":79.892528151216396},{"$f":"camera!$B$5*COS(RADIANS(AE846))*SIN(RADIANS(AF846))","v":284.64050319535801},{"$f":"camera!$B$5*SIN(RADIANS(AE846))","v":403.23314333806997},null,{"$f":"TRANSPOSE(MMULT(camera!$A$12:$C$14,MMULT(camera!$A$16:$C$18,TRANSPOSE(AH846:AJ846))))","v":-447.55547303040578},-54.780458489328709,216.08609378724162,null,{"$f":"camera!$B$5*AM846/AN846","v":-126.75609413178053},{"$f":"camera!$B$5*AL846/AN846","v":-1035.5952694278164},null,{"$f":"IF( AND( (camera!$B$3) > (AQ846+camera!$B$3/2), 0 < (AQ846+camera!$B$3/2), AN846 >= 0 ), AQ846+camera!$B$3/2, 0)*-1+camera!$B$3","v":1000},{"$f":"IF( AND( (camera!$B$4) > (AP846+camera!$B$4/2), 0 < (AP846+camera!$B$4/2), AN846 >= 0 ), AP846+camera!$B$4/2, 0)","v":373.24390586821949},null,null,null,-5001.9808999999996,1879.0361,1140.145,null,{"$f":"MMULT(               MMULT(AX846:AZ846-$B$2:$D$2, TRANSPOSE($A$16:$C$18)),     TRANSPOSE($A$12:$C$14))","v":-665.63335794688339},90.650460374422892,5478.7554027457081,null,8.2729063181934457,-60.746767195821306," ",560.74676719582135,508.27290631819346]
[null,null,null,null,null,null,null,null,null,null,null,null,null,null,null,null,null,null,null,null,901.65679999999998,152.16220000000001,null,null,null,"''",null,19.229302000000001,39.145968000000003,null,39.145968000000003,-71.560470000000009,null,{"$f":"camera!$B$5*COS(RADIANS(AE847))*COS(RADIANS(AF847))","v":122.65308113488997},{"$f":"camera!$B$5*COS(RADIANS(AE847))*SIN(RADIANS(AF847))","v":-367.8611976602304},{"$f":"camera!$B$5*SIN(RADIANS(AE847))","v":315.64911047569746},null,{"$f":"TRANSPOSE(MMULT(camera!$A$12:$C$14,MMULT(camera!$A$16:$C$18,TRANSPOSE(AH847:AJ847))))","v":-249.07462651300602},-154.24756504131454,-405.1783793667081,null,{"$f":"camera!$B$5*AM847/AN847","v":190.3452564305168},{"$f":"camera!$B$5*AL847/AN847","v":307.36416254775054},null,{"$f":"IF( AND( (camera!$B$3) > (AQ847+camera!$B$3/2), 0 < (AQ847+camera!$B$3/2), AN847 >= 0 ), AQ847+camera!$B$3/2, 0)*-1+camera!$B$3","v":1000},{"$f":"IF( AND( (camera!$B$4) > (AP847+camera!$B$4/2), 0 < (AP847+camera!$B$4/2), AN847 >= 0 ), AP847+camera!$B$4/2, 0)","v":0},null,null,null,-4942.6499999999996,1834.8630000000001,1100.8296,null,{"$f":"MMULT(               MMULT(AX847:AZ847-$B$2:$D$2, TRANSPOSE($A$16:$C$18)),     TRANSPOSE($A$12:$C$14))","v":-620.17179746653358},27.695393021444829,5447.3384463550337,null,2.5421032027096269,-56.924294641680277," ",556.92429464168026,502.54210320270965]
[null,null,null,null,null,null,null,null,null,null,null,null,null,null,null,null,null,null,null,null,904.56859999999995,459.30619999999999,null,null,null,"''",null,20.044298999999999,-27.709845000000001,null,-27.709845000000001,-59.335515000000044,null,{"$f":"camera!$B$5*COS(RADIANS(AE848))*COS(RADIANS(AF848))","v":225.75935822414726},{"$f":"camera!$B$5*COS(RADIANS(AE848))*SIN(RADIANS(AF848))","v":-380.75952609905613},{"$f":"camera!$B$5*SIN(RADIANS(AE848))","v":-232.49708699044677},null,{"$f":"TRANSPOSE(MMULT(camera!$A$12:$C$14,MMULT(camera!$A$16:$C$18,TRANSPOSE(AH848:AJ848))))","v":291.41479141680287},-258.08565501290019,-313.79804655233846,null,{"$f":"camera!$B$5*AM848/AN848","v":411.22890637538433},{"$f":"camera!$B$5*AL848/AN848","v":-464.33493550795208},null,{"$f":"IF( AND( (camera!$B$3) > (AQ848+camera!$B$3/2), 0 < (AQ848+camera!$B$3/2), AN848 >= 0 ), AQ848+camera!$B$3/2, 0)*-1+camera!$B$3","v":1000},{"$f":"IF( AND( (camera!$B$4) > (AP848+camera!$B$4/2), 0 < (AP848+camera!$B$4/2), AN848 >= 0 ), AP848+camera!$B$4/2, 0)","v":0},null,null,null,-4843.2605000000003,1876.0315000000001,923.91060000000004,null,{"$f":"MMULT(               MMULT(AX848:AZ848-$B$2:$D$2, TRANSPOSE($A$16:$C$18)),     TRANSPOSE($A$12:$C$14))","v":-454.56643015518779},-67.727828729237046,5526.9796525983747,null,-6.127019908368621,-41.122498971159089," ",541.12249897115908,493.8729800916314]
[null,null,null,null,null,null,null,null,null,null,null,null,null,null,null,null,null,null,null,null,904.56859999999995,49.306199999999997,null,null,null,"''",null,20.397670999999999,32.190171999999997,null,32.190171999999997,-54.034935000000019,null,{"$f":"camera!$B$5*COS(RADIANS(AE849))*COS(RADIANS(AF849))","v":248.50801642592305},{"$f":"camera!$B$5*COS(RADIANS(AE849))*SIN(RADIANS(AF849))","v":-342.48088157259809},{"$f":"camera!$B$5*SIN(RADIANS(AE849))","v":266.36555995343917},null,{"$f":"TRANSPOSE(MMULT(camera!$A$12:$C$14,MMULT(camera!$A$16:$C$18,TRANSPOSE(AH849:AJ849))))","v":-206.83502205074103},-277.4115440071335,-360.91842416929575,null,{"$f":"camera!$B$5*AM849/AN849","v":384.3133592384969},{"$f":"camera!$B$5*AL849/AN849","v":286.53984972753994},null,{"$f":"IF( AND( (camera!$B$3) > (AQ849+camera!$B$3/2), 0 < (AQ849+camera!$B$3/2), AN849 >= 0 ), AQ849+camera!$B$3/2, 0)*-1+camera!$B$3","v":1000},{"$f":"IF( AND( (camera!$B$4) > (AP849+camera!$B$4/2), 0 < (AP849+camera!$B$4/2), AN849 >= 0 ), AP849+camera!$B$4/2, 0)","v":0},null,null,null,-4543.7916999999998,1761.6746000000001,0,null,{"$f":"MMULT(               MMULT(AX849:AZ849-$B$2:$D$2, TRANSPOSE($A$16:$C$18)),     TRANSPOSE($A$12:$C$14))","v":470.55790256527439},-376.02392009095456,5600.9279358983758,null,-33.568001980607633,42.007137741346249," ",457.99286225865376,466.43199801939238]
[null,null,null,null,null,null,null,null,null,null,null,null,null,null,null,null,null,null,null,null,904.94200000000001,547.16219999999998,null,null,null,"''",null,20.724315000000001,15.074581,null,15.074581,-49.135274999999979,null,{"$f":"camera!$B$5*COS(RADIANS(AE850))*COS(RADIANS(AF850))","v":315.88024230515754},{"$f":"camera!$B$5*COS(RADIANS(AE850))*SIN(RADIANS(AF850))","v":-365.11610596193941},{"$f":"camera!$B$5*SIN(RADIANS(AE850))","v":130.03807784039577},null,{"$f":"TRANSPOSE(MMULT(camera!$A$12:$C$14,MMULT(camera!$A$16:$C$18,TRANSPOSE(AH850:AJ850))))","v":-69.682692873260777},-346.50018802057934,-353.66925511787707,null,{"$f":"camera!$B$5*AM850/AN850","v":489.86472955514847},{"$f":"camera!$B$5*AL850/AN850","v":98.51392489578393},null,{"$f":"IF( AND( (camera!$B$3) > (AQ850+camera!$B$3/2), 0 < (AQ850+camera!$B$3/2), AN850 >= 0 ), AQ850+camera!$B$3/2, 0)*-1+camera!$B$3","v":1000},{"$f":"IF( AND( (camera!$B$4) > (AP850+camera!$B$4/2), 0 < (AP850+camera!$B$4/2), AN850 >= 0 ), AP850+camera!$B$4/2, 0)","v":0},null,null,null,-4399.9040000000005,1761.6746000000001,0,null,{"$f":"MMULT(               MMULT(AX850:AZ850-$B$2:$D$2, TRANSPOSE($A$16:$C$18)),     TRANSPOSE($A$12:$C$14))","v":468.38024339263336},-519.36408395156957,5613.2780547734992,null,-46.262102009173176,41.720741322828779," ",458.27925867717124,453.73789799082681]
[null,null,null,null,null,null,null,null,null,null,null,null,null,null,null,null,null,null,null,null,904.94200000000001,137.16220000000001,null,null,null,"''",null,20.795621000000001,-5.0277010000000004,null,-5.0277010000000004,-48.065684999999974,null,{"$f":"camera!$B$5*COS(RADIANS(AE851))*COS(RADIANS(AF851))","v":332.85348668293375},{"$f":"camera!$B$5*COS(RADIANS(AE851))*SIN(RADIANS(AF851))","v":-370.52460026842095},{"$f":"camera!$B$5*SIN(RADIANS(AE851))","v":-43.818683217788426},null,{"$f":"TRANSPOSE(MMULT(camera!$A$12:$C$14,MMULT(camera!$A$16:$C$18,TRANSPOSE(AH851:AJ851))))","v":102.21151418649367},-363.88022541756339,-327.32856263663803,null,{"$f":"camera!$B$5*AM851/AN851","v":555.83329252800456},{"$f":"camera!$B$5*AL851/AN851","v":-156.12984299808411},null,{"$f":"IF( AND( (camera!$B$3) > (AQ851+camera!$B$3/2), 0 < (AQ851+camera!$B$3/2), AN851 >= 0 ), AQ851+camera!$B$3/2, 0)*-1+camera!$B$3","v":1000},{"$f":"IF( AND( (camera!$B$4) > (AP851+camera!$B$4/2), 0 < (AP851+camera!$B$4/2), AN851 >= 0 ), AP851+camera!$B$4/2, 0)","v":0},null,null,null,-4456.7457999999997,1487.2180000000001,0,null,{"$f":"MMULT(               MMULT(AX851:AZ851-$B$2:$D$2, TRANSPOSE($A$16:$C$18)),     TRANSPOSE($A$12:$C$14))","v":516.71804395079073},-486.65905298657589,5339.1407652677144,null,-45.574660266723072,48.389625472337734," ",451.61037452766232,454.42533973327693]
[null,null,null,null,null,null,null,null,null,null,null,null,null,null,null,null,null,null,null,null,905.7056,444.30619999999999,null,null,null,"''",null,0.244005,-18.932866000000001,null,-18.932866000000001,3.660075,null,{"$f":"camera!$B$5*COS(RADIANS(AE852))*COS(RADIANS(AF852))","v":471.98504395970514},{"$f":"camera!$B$5*COS(RADIANS(AE852))*SIN(RADIANS(AF852))","v":30.19165321661724},{"$f":"camera!$B$5*SIN(RADIANS(AE852))","v":-162.23002913888277},null,{"$f":"TRANSPOSE(MMULT(camera!$A$12:$C$14,MMULT(camera!$A$16:$C$18,TRANSPOSE(AH852:AJ852))))","v":147.39938766493688},-467.55762241038371,98.302035797590321,null,{"$f":"camera!$B$5*AM852/AN852","v":-2378.168562923317},{"$f":"camera!$B$5*AL852/AN852","v":749.72703499468162},null,{"$f":"IF( AND( (camera!$B$3) > (AQ852+camera!$B$3/2), 0 < (AQ852+camera!$B$3/2), AN852 >= 0 ), AQ852+camera!$B$3/2, 0)*-1+camera!$B$3","v":1000},{"$f":"IF( AND( (camera!$B$4) > (AP852+camera!$B$4/2), 0 < (AP852+camera!$B$4/2), AN852 >= 0 ), AP852+camera!$B$4/2, 0)","v":0},null,null,null,-4589.2650999999996,1542.1094000000001,0,null,{"$f":"MMULT(               MMULT(AX852:AZ852-$B$2:$D$2, TRANSPOSE($A$16:$C$18)),     TRANSPOSE($A$12:$C$14))","v":509.22812856743121},-349.8599281942877,5381.6181862118356,null,-32.505086396751324,47.311803898696965," ",452.68819610130299,467.49491360324868]
[null,null,null,null,null,null,null,null,null,null,null,null,null,null,null,null,null,null,null,null,905.7056,34.306199999999997,null,null,null,"''",null,0.81137300000000001,7.5850790000000003,null,7.5850790000000003,12.170595,null,{"$f":"camera!$B$5*COS(RADIANS(AE853))*COS(RADIANS(AF853))","v":484.48541678188548},{"$f":"camera!$B$5*COS(RADIANS(AE853))*SIN(RADIANS(AF853))","v":104.48921588713291},{"$f":"camera!$B$5*SIN(RADIANS(AE853))","v":65.999126425846285},null,{"$f":"TRANSPOSE(MMULT(camera!$A$12:$C$14,MMULT(camera!$A$16:$C$18,TRANSPOSE(AH853:AJ853))))","v":-90.404182031216266},-473.53496828112043,132.63377279661827,null,{"$f":"camera!$B$5*AM853/AN853","v":-1785.1221385643717},{"$f":"camera!$B$5*AL853/AN853","v":-340.80377917712855},null,{"$f":"IF( AND( (camera!$B$3) > (AQ853+camera!$B$3/2), 0 < (AQ853+camera!$B$3/2), AN853 >= 0 ), AQ853+camera!$B$3/2, 0)*-1+camera!$B$3","v":840.80377917712849},{"$f":"IF( AND( (camera!$B$4) > (AP853+camera!$B$4/2), 0 < (AP853+camera!$B$4/2), AN853 >= 0 ), AP853+camera!$B$4/2, 0)","v":0},null,null,null,-4712.3666000000003,1354.6986999999999,0,null,{"$f":"MMULT(               MMULT(AX853:AZ853-$B$2:$D$2, TRANSPOSE($A$16:$C$18)),     TRANSPOSE($A$12:$C$14))","v":543.51088891521681},-243.56078532450454,5187.1909907251293,null,-23.477136831861344,52.389712455839046," ",447.610287544161,476.52286316813866]
[null,null,null,null,null,null,null,null,null,null,null,null,null,null,null,null,null,null,null,null,906.65679999999998,562.16219999999998,null,null,null,"''",null,4.2747380000000001,-59.302155999999997,null,-59.302155999999997,64.121070000000003,null,{"$f":"camera!$B$5*COS(RADIANS(AE854))*COS(RADIANS(AF854))","v":111.41151616519991},{"$f":"camera!$B$5*COS(RADIANS(AE854))*SIN(RADIANS(AF854))","v":229.65785969949496},{"$f":"camera!$B$5*SIN(RADIANS(AE854))","v":-429.93574118002618},null,{"$f":"TRANSPOSE(MMULT(camera!$A$12:$C$14,MMULT(camera!$A$16:$C$18,TRANSPOSE(AH854:AJ854))))","v":381.98998611723721},-90.971560370188001,309.52839241330696,null,{"$f":"camera!$B$5*AM854/AN854","v":-146.95188325198214},{"$f":"camera!$B$5*AL854/AN854","v":617.05161057918997},null,{"$f":"IF( AND( (camera!$B$3) > (AQ854+camera!$B$3/2), 0 < (AQ854+camera!$B$3/2), AN854 >= 0 ), AQ854+camera!$B$3/2, 0)*-1+camera!$B$3","v":1000},{"$f":"IF( AND( (camera!$B$4) > (AP854+camera!$B$4/2), 0 < (AP854+camera!$B$4/2), AN854 >= 0 ), AP854+camera!$B$4/2, 0)","v":353.04811674801783},null,null,null,-4610.6225999999997,1252.9548,0,null,{"$f":"MMULT(               MMULT(AX854:AZ854-$B$2:$D$2, TRANSPOSE($A$16:$C$18)),     TRANSPOSE($A$12:$C$14))","v":559.57146297764575},-353.7851838616952,5096.1069490322516,null,-34.711318600650529,54.901856316409152," ",445.09814368359082,465.28868139934946]
[null,null,null,null,null,null,null,null,null,null,null,null,null,null,null,null,null,null,null,null,906.65679999999998,152.16220000000001,null,null,null,"''",null,4.6760390000000003,-41.863751999999998,null,-41.863751999999998,70.140585000000002,null,{"$f":"camera!$B$5*COS(RADIANS(AE855))*COS(RADIANS(AF855))","v":126.4980497746906},{"$f":"camera!$B$5*COS(RADIANS(AE855))*SIN(RADIANS(AF855))","v":350.22191345080637},{"$f":"camera!$B$5*SIN(RADIANS(AE855))","v":-333.6807677137773},null,{"$f":"TRANSPOSE(MMULT(camera!$A$12:$C$14,MMULT(camera!$A$16:$C$18,TRANSPOSE(AH855:AJ855))))","v":266.11295434632092},-95.492835511181426,412.38939595376041,null,{"$f":"camera!$B$5*AM855/AN855","v":-115.77993572110262},{"$f":"camera!$B$5*AL855/AN855","v":322.64766863229329},null,{"$f":"IF( AND( (camera!$B$3) > (AQ855+camera!$B$3/2), 0 < (AQ855+camera!$B$3/2), AN855 >= 0 ), AQ855+camera!$B$3/2, 0)*-1+camera!$B$3","v":177.35233136770671},{"$f":"IF( AND( (camera!$B$4) > (AP855+camera!$B$4/2), 0 < (AP855+camera!$B$4/2), AN855 >= 0 ), AP855+camera!$B$4/2, 0)","v":384.22006427889738},null,null,null,-4559.7506999999996,1202.0827999999999,58.972999999999999,null,{"$f":"MMULT(               MMULT(AX855:AZ855-$B$2:$D$2, TRANSPOSE($A$16:$C$18)),     TRANSPOSE($A$12:$C$14))","v":509.52469255328481},-408.89728786860758,5040.3243165680824,null,-40.562596986519168,50.544832093286431," ",449.45516790671354,459.43740301348083]
[null,null,null,null,null,null,null,null,null,null,null,null,null,null,null,null,null,null,null,null,908.19460000000004,501.67039999999997,null,null,null,"''",null,6.3270520000000001,59.010964000000001,null,59.010964000000001,94.905780000000007,null,{"$f":"camera!$B$5*COS(RADIANS(AE856))*COS(RADIANS(AF856))","v":-22.015353368224591},{"$f":"camera!$B$5*COS(RADIANS(AE856))*SIN(RADIANS(AF856))","v":256.49394421215965},{"$f":"camera!$B$5*SIN(RADIANS(AE856))","v":428.63292080585893},null,{"$f":"TRANSPOSE(MMULT(camera!$A$12:$C$14,MMULT(camera!$A$16:$C$18,TRANSPOSE(AH856:AJ856))))","v":-466.15805261830974},44.28649852012876,175.31507644219255,null,{"$f":"camera!$B$5*AM856/AN856","v":126.30544793656566},{"$f":"camera!$B$5*AL856/AN856","v":-1329.4864939126276},null,{"$f":"IF( AND( (camera!$B$3) > (AQ856+camera!$B$3/2), 0 < (AQ856+camera!$B$3/2), AN856 >= 0 ), AQ856+camera!$B$3/2, 0)*-1+camera!$B$3","v":1000},{"$f":"IF( AND( (camera!$B$4) > (AP856+camera!$B$4/2), 0 < (AP856+camera!$B$4/2), AN856 >= 0 ), AP856+camera!$B$4/2, 0)","v":626.30544793656566},null,null,null,-4390.4861000000001,1459.7724000000001,58.972999999999999,null,{"$f":"MMULT(               MMULT(AX856:AZ856-$B$2:$D$2, TRANSPOSE($A$16:$C$18)),     TRANSPOSE($A$12:$C$14))","v":462.38591596862022},-555.05865647688029,5307.6616032117117,null,-52.288436789283018,43.558345514042053," ",456.441654485958,447.71156321071697]
[null,null,null,null,null,null,null,null,null,null,null,null,null,null,null,null,null,null,null,null,908.19460000000004,91.670400000000001,null,null,null,"''",null,7.5675509999999999,-22.296067000000001,null,-22.296067000000001,113.513265,null,{"$f":"camera!$B$5*COS(RADIANS(AE857))*COS(RADIANS(AF857))","v":-184.56666578182637},{"$f":"camera!$B$5*COS(RADIANS(AE857))*SIN(RADIANS(AF857))","v":424.20566993570282},{"$f":"camera!$B$5*SIN(RADIANS(AE857))","v":-189.69632436233752},null,{"$f":"TRANSPOSE(MMULT(camera!$A$12:$C$14,MMULT(camera!$A$16:$C$18,TRANSPOSE(AH857:AJ857))))","v":116.22548999232353},220.83629413734073,433.27008512904536,null,{"$f":"camera!$B$5*AM857/AN857","v":254.84830561469153},{"$f":"camera!$B$5*AL857/AN857","v":134.12591127507324},null,{"$f":"IF( AND( (camera!$B$3) > (AQ857+camera!$B$3/2), 0 < (AQ857+camera!$B$3/2), AN857 >= 0 ), AQ857+camera!$B$3/2, 0)*-1+camera!$B$3","v":365.87408872492676},{"$f":"IF( AND( (camera!$B$4) > (AP857+camera!$B$4/2), 0 < (AP857+camera!$B$4/2), AN857 >= 0 ), AP857+camera!$B$4/2, 0)","v":754.84830561469153},null,null,null,-4327.9601000000002,1761.6746000000001,58.972999999999999,null,{"$f":"MMULT(               MMULT(AX857:AZ857-$B$2:$D$2, TRANSPOSE($A$16:$C$18)),     TRANSPOSE($A$12:$C$14))","v":409.2143454312021},-591.03421569161242,5609.2125645210917,null,-52.684241227545122,36.476986807339898," ",463.52301319266007,447.3157587724549]
[null,null,null,null,null,null,null,null,null,null,null,null,null,null,null,null,null,null,null,null,908.46860000000004,496.70100000000002,null,null,null,"''",null,8.1893039999999999,-39.618544999999997,null,-39.618544999999997,122.83956000000001,null,{"$f":"camera!$B$5*COS(RADIANS(AE858))*COS(RADIANS(AF858))","v":-208.8642646231508},{"$f":"camera!$B$5*COS(RADIANS(AE858))*SIN(RADIANS(AF858))","v":323.60298798725341},{"$f":"camera!$B$5*SIN(RADIANS(AE858))","v":-318.83667469278373},null,{"$f":"TRANSPOSE(MMULT(camera!$A$12:$C$14,MMULT(camera!$A$16:$C$18,TRANSPOSE(AH858:AJ858))))","v":261.17463444881702},236.27333181180472,354.91227506959467,null,{"$f":"camera!$B$5*AM858/AN858","v":332.86159483420789},{"$f":"camera!$B$5*AL858/AN858","v":367.94252100410353},null,{"$f":"IF( AND( (camera!$B$3) > (AQ858+camera!$B$3/2), 0 < (AQ858+camera!$B$3/2), AN858 >= 0 ), AQ858+camera!$B$3/2, 0)*-1+camera!$B$3","v":132.05747899589642},{"$f":"IF( AND( (camera!$B$4) > (AP858+camera!$B$4/2), 0 < (AP858+camera!$B$4/2), AN858 >= 0 ), AP858+camera!$B$4/2, 0)","v":832.86159483420784},null,null,null,-4844.8859000000002,1099.0779,0,null,{"$f":"MMULT(               MMULT(AX858:AZ858-$B$2:$D$2, TRANSPOSE($A$16:$C$18)),     TRANSPOSE($A$12:$C$14))","v":589.73566979180328},-133.82458195542569,4925.0372313239313,null,-13.586149268505267,59.87118899741521," ",440.12881100258483,486.41385073149473]
[null,null,null,null,null,null,null,null,null,null,null,null,null,null,null,null,null,null,null,null,908.46860000000004,86.700999999999993,null,null,null,"''",null,8.3092579999999998,-36.659287999999997,null,-36.659287999999997,124.63887,null,{"$f":"camera!$B$5*COS(RADIANS(AE859))*COS(RADIANS(AF859))","v":-227.98608279020911},{"$f":"camera!$B$5*COS(RADIANS(AE859))*SIN(RADIANS(AF859))","v":330.00544224507024},{"$f":"camera!$B$5*SIN(RADIANS(AE859))","v":-298.52764384996493},null,{"$f":"TRANSPOSE(MMULT(camera!$A$12:$C$14,MMULT(camera!$A$16:$C$18,TRANSPOSE(AH859:AJ859))))","v":240.35599747322709},255.88039634395057,356.02558509960039,null,{"$f":"camera!$B$5*AM859/AN859","v":359.35675279118834},{"$f":"camera!$B$5*AL859/AN859","v":337.5543886908942},null,{"$f":"IF( AND( (camera!$B$3) > (AQ859+camera!$B$3/2), 0 < (AQ859+camera!$B$3/2), AN859 >= 0 ), AQ859+camera!$B$3/2, 0)*-1+camera!$B$3","v":162.44561130910574},{"$f":"IF( AND( (camera!$B$4) > (AP859+camera!$B$4/2), 0 < (AP859+camera!$B$4/2), AN859 >= 0 ), AP859+camera!$B$4/2, 0)","v":859.35675279118834},null,null,null,-4899.7772000000004,1231.5971999999999,0,null,{"$f":"MMULT(               MMULT(AX859:AZ859-$B$2:$D$2, TRANSPOSE($A$16:$C$18)),     TRANSPOSE($A$12:$C$14))","v":567.64225030141756},-67.592341904162367,5050.335239612944,null,-6.6918668461841184,56.198472316158707," ",443.8015276838413,493.3081331538159]
[null,null,null,null,null,null,null,null,null,null,null,null,null,null,null,null,null,null,null,null,909.56169999999997,506.45580000000001,null,null,null,"''",null,14.543628999999999,-50.457157000000002,null,-50.457157000000002,-141.84556500000002,null,{"$f":"camera!$B$5*COS(RADIANS(AE860))*COS(RADIANS(AF860))","v":-250.31634304892302},{"$f":"camera!$B$5*COS(RADIANS(AE860))*SIN(RADIANS(AF860))","v":-196.65740225575519},{"$f":"camera!$B$5*SIN(RADIANS(AE860))","v":-385.57436966249713},null,{"$f":"TRANSPOSE(MMULT(camera!$A$12:$C$14,MMULT(camera!$A$16:$C$18,TRANSPOSE(AH860:AJ860))))","v":417.52427676765478},232.22399183062635,-147.46354101233294,null,{"$f":"camera!$B$5*AM860/AN860","v":-787.39460017172848},{"$f":"camera!$B$5*AL860/AN860","v":-1415.6864601967468},null,{"$f":"IF( AND( (camera!$B$3) > (AQ860+camera!$B$3/2), 0 < (AQ860+camera!$B$3/2), AN860 >= 0 ), AQ860+camera!$B$3/2, 0)*-1+camera!$B$3","v":1000},{"$f":"IF( AND( (camera!$B$4) > (AP860+camera!$B$4/2), 0 < (AP860+camera!$B$4/2), AN860 >= 0 ), AP860+camera!$B$4/2, 0)","v":0},null,null,null,-5119.3424999999997,1186.1238000000001,0,null,{"$f":"MMULT(               MMULT(AX860:AZ860-$B$2:$D$2, TRANSPOSE($A$16:$C$18)),     TRANSPOSE($A$12:$C$14))","v":578.8315722193388},147.17417788849917,4986.8774416459864,null,14.756145464838447,58.035471995506633," ",441.96452800449333,514.75614546483848]
[null,null,null,null,null,null,null,null,null,null,null,null,null,null,null,null,null,null,null,null,909.56169999999997,96.455799999999996,null,null,null,"''",null,19.478427,24.664905000000001,null,24.664905000000001,-67.823595000000012,null,{"$f":"camera!$B$5*COS(RADIANS(AE861))*COS(RADIANS(AF861))","v":171.51078216034102},{"$f":"camera!$B$5*COS(RADIANS(AE861))*SIN(RADIANS(AF861))","v":-420.76957534217763},{"$f":"camera!$B$5*SIN(RADIANS(AE861))","v":208.65525650965884},null,{"$f":"TRANSPOSE(MMULT(camera!$A$12:$C$14,MMULT(camera!$A$16:$C$18,TRANSPOSE(AH861:AJ861))))","v":-135.29320097504726},-207.53061671826424,-434.31186133291635,null,{"$f":"camera!$B$5*AM861/AN861","v":238.9188912333023},{"$f":"camera!$B$5*AL861/AN861","v":155.75582089771655},null,{"$f":"IF( AND( (camera!$B$3) > (AQ861+camera!$B$3/2), 0 < (AQ861+camera!$B$3/2), AN861 >= 0 ), AQ861+camera!$B$3/2, 0)*-1+camera!$B$3","v":1000},{"$f":"IF( AND( (camera!$B$4) > (AP861+camera!$B$4/2), 0 < (AP861+camera!$B$4/2), AN861 >= 0 ), AP861+camera!$B$4/2, 0)","v":0},null,null,null,-5119.3424999999997,1042.2361000000001,0,null,{"$f":"MMULT(               MMULT(AX861:AZ861-$B$2:$D$2, TRANSPOSE($A$16:$C$18)),     TRANSPOSE($A$12:$C$14))","v":603.72233046021404},134.63353852274696,4845.7149369580111,null,13.89202009139086,62.294453792118048," ",437.70554620788198,513.8920200913908]
[null,null,null,null,null,null,null,null,null,null,null,null,null,null,null,null,null,null,null,null,909.56859999999995,459.30619999999999,null,null,null,"''",null,1.690526,5.4876129999999996,null,5.4876129999999996,25.357890000000001,null,{"$f":"camera!$B$5*COS(RADIANS(AE862))*COS(RADIANS(AF862))","v":449.75438763715101},{"$f":"camera!$B$5*COS(RADIANS(AE862))*SIN(RADIANS(AF862))","v":213.1541465661852},{"$f":"camera!$B$5*SIN(RADIANS(AE862))","v":47.815275830768883},null,{"$f":"TRANSPOSE(MMULT(camera!$A$12:$C$14,MMULT(camera!$A$16:$C$18,TRANSPOSE(AH862:AJ862))))","v":-90.768613620409639},-429.46532844391049,239.41718911973058,null,{"$f":"camera!$B$5*AM862/AN862","v":-896.89744087075223},{"$f":"camera!$B$5*AL862/AN862","v":-189.56160573545327},null,{"$f":"IF( AND( (camera!$B$3) > (AQ862+camera!$B$3/2), 0 < (AQ862+camera!$B$3/2), AN862 >= 0 ), AQ862+camera!$B$3/2, 0)*-1+camera!$B$3","v":689.56160573545321},{"$f":"IF( AND( (camera!$B$4) > (AP862+camera!$B$4/2), 0 < (AP862+camera!$B$4/2), AN862 >= 0 ), AP862+camera!$B$4/2, 0)","v":0},null,null,null,-5119.3424999999997,970.29229999999995,58.972999999999999,null,{"$f":"MMULT(               MMULT(AX862:AZ862-$B$2:$D$2, TRANSPOSE($A$16:$C$18)),     TRANSPOSE($A$12:$C$14))","v":558.09063331289303},128.36322319765799,4764.8931796854858,null,13.469685295875909,58.562764396507482," ",441.43723560349247,513.46968529587593]
[null,null,null,null,null,null,null,null,null,null,null,null,null,null,null,null,null,null,null,null,909.56859999999995,49.306199999999997,null,null,null,"''",null,2.8181690000000001,-32.405898000000001,null,-32.405898000000001,42.272535000000005,null,{"$f":"camera!$B$5*COS(RADIANS(AE863))*COS(RADIANS(AF863))","v":312.36134443891228},{"$f":"camera!$B$5*COS(RADIANS(AE863))*SIN(RADIANS(AF863))","v":283.95336800734162},{"$f":"camera!$B$5*SIN(RADIANS(AE863))","v":-267.95685342532749},null,{"$f":"TRANSPOSE(MMULT(camera!$A$12:$C$14,MMULT(camera!$A$16:$C$18,TRANSPOSE(AH863:AJ863))))","v":210.0382208527098},-286.42454852447497,351.91607491499872,null,{"$f":"camera!$B$5*AM863/AN863","v":-406.95007835839482},{"$f":"camera!$B$5*AL863/AN863","v":298.42089609495974},null,{"$f":"IF( AND( (camera!$B$3) > (AQ863+camera!$B$3/2), 0 < (AQ863+camera!$B$3/2), AN863 >= 0 ), AQ863+camera!$B$3/2, 0)*-1+camera!$B$3","v":201.57910390504026},{"$f":"IF( AND( (camera!$B$4) > (AP863+camera!$B$4/2), 0 < (AP863+camera!$B$4/2), AN863 >= 0 ), AP863+camera!$B$4/2, 0)","v":93.049921641605181},null,null,null,-4817.4403000000002,1032.8181999999999,58.972999999999999,null,{"$f":"MMULT(               MMULT(AX863:AZ863-$B$2:$D$2, TRANSPOSE($A$16:$C$18)),     TRANSPOSE($A$12:$C$14))","v":542.70532132469918},-166.94065652910956,4852.1476198532755,null,-17.202759438526488,55.924238486081975," ",444.075761513918,482.79724056147353]
[null,null,null,null,null,null,null,null,null,null,null,null,null,null,null,null,null,null,null,null,909.94200000000001,547.16219999999998,null,null,null,"''",null,5.2049729999999998,-11.869218999999999,null,-11.869218999999999,78.074595000000002,null,{"$f":"camera!$B$5*COS(RADIANS(AE864))*COS(RADIANS(AF864))","v":101.11001886319461},{"$f":"camera!$B$5*COS(RADIANS(AE864))*SIN(RADIANS(AF864))","v":478.74926180385842},{"$f":"camera!$B$5*SIN(RADIANS(AE864))","v":-102.83923574076722},null,{"$f":"TRANSPOSE(MMULT(camera!$A$12:$C$14,MMULT(camera!$A$16:$C$18,TRANSPOSE(AH864:AJ864))))","v":16.929046428879744},-58.999517213062539,496.21816205741038,null,{"$f":"camera!$B$5*AM864/AN864","v":-59.449171477762775},{"$f":"camera!$B$5*AL864/AN864","v":17.058068127422878},null,{"$f":"IF( AND( (camera!$B$3) > (AQ864+camera!$B$3/2), 0 < (AQ864+camera!$B$3/2), AN864 >= 0 ), AQ864+camera!$B$3/2, 0)*-1+camera!$B$3","v":482.94193187257713},{"$f":"IF( AND( (camera!$B$4) > (AP864+camera!$B$4/2), 0 < (AP864+camera!$B$4/2), AN864 >= 0 ), AP864+camera!$B$4/2, 0)","v":440.55082852223723},null,null,null,-5393.799,1099.0779,0,null,{"$f":"MMULT(               MMULT(AX864:AZ864-$B$2:$D$2, TRANSPOSE($A$16:$C$18)),     TRANSPOSE($A$12:$C$14))","v":598.04315991915848},412.99973797767819,4877.9231135980081,null,42.333563727805988,61.301003110526217," ",438.69899688947373,542.33356372780599]
[null,null,null,null,null,null,null,null,null,null,null,null,null,null,null,null,null,null,null,null,909.94200000000001,137.16220000000001,null,null,null,"''",null,6.1989989999999997,14.208765,null,14.208765,92.984984999999995,null,{"$f":"camera!$B$5*COS(RADIANS(AE865))*COS(RADIANS(AF865))","v":-25.240593541069803},{"$f":"camera!$B$5*COS(RADIANS(AE865))*SIN(RADIANS(AF865))","v":484.04626728943788},{"$f":"camera!$B$5*SIN(RADIANS(AE865))","v":122.72784346209519},null,{"$f":"TRANSPOSE(MMULT(camera!$A$12:$C$14,MMULT(camera!$A$16:$C$18,TRANSPOSE(AH865:AJ865))))","v":-204.21523192444803},67.331957412144916,451.40064971275018,null,{"$f":"camera!$B$5*AM865/AN865","v":74.581148094261451},{"$f":"camera!$B$5*AL865/AN865","v":-226.20174788671756},null,{"$f":"IF( AND( (camera!$B$3) > (AQ865+camera!$B$3/2), 0 < (AQ865+camera!$B$3/2), AN865 >= 0 ), AQ865+camera!$B$3/2, 0)*-1+camera!$B$3","v":726.20174788671761},{"$f":"IF( AND( (camera!$B$4) > (AP865+camera!$B$4/2), 0 < (AP865+camera!$B$4/2), AN865 >= 0 ), AP865+camera!$B$4/2, 0)","v":574.58114809426149},null,null,null,-5338.9076999999997,1231.5971999999999,0,null,{"$f":"MMULT(               MMULT(AX865:AZ865-$B$2:$D$2, TRANSPOSE($A$16:$C$18)),     TRANSPOSE($A$12:$C$14))","v":574.28824270599023},369.86713396621423,5012.6439437155732,null,36.893417737152681,57.283965224179148," ",442.71603477582084,536.89341773715273]
[null,null,null,null,null,null,null,null,null,null,null,null,null,null,null,null,null,null,null,null,910.35339999999997,492.0949,null,null,null,"''",null,8.6459550000000007,3.3414350000000002,null,3.3414350000000002,129.689325,null,{"$f":"camera!$B$5*COS(RADIANS(AE866))*COS(RADIANS(AF866))","v":-318.76937406409911},{"$f":"camera!$B$5*COS(RADIANS(AE866))*SIN(RADIANS(AF866))","v":384.10515748335655},{"$f":"camera!$B$5*SIN(RADIANS(AE866))","v":29.142994929627829},null,{"$f":"TRANSPOSE(MMULT(camera!$A$12:$C$14,MMULT(camera!$A$16:$C$18,TRANSPOSE(AH866:AJ866))))","v":-90.321202879841934},351.03333065034809,344.40917682730498,null,{"$f":"camera!$B$5*AM866/AN866","v":509.61669181417403},{"$f":"camera!$B$5*AL866/AN866","v":-131.12484938972918},null,{"$f":"IF( AND( (camera!$B$3) > (AQ866+camera!$B$3/2), 0 < (AQ866+camera!$B$3/2), AN866 >= 0 ), AQ866+camera!$B$3/2, 0)*-1+camera!$B$3","v":631.12484938972921},{"$f":"IF( AND( (camera!$B$4) > (AP866+camera!$B$4/2), 0 < (AP866+camera!$B$4/2), AN866 >= 0 ), AP866+camera!$B$4/2, 0)","v":0},null,null,null,-5526.3182999999999,1354.6986999999999,0,null,{"$f":"MMULT(               MMULT(AX866:AZ866-$B$2:$D$2, TRANSPOSE($A$16:$C$18)),     TRANSPOSE($A$12:$C$14))","v":555.82958874565225},567.29358271825811,5117.3281723354521,null,55.428688918670233,54.308573734873647," ",445.69142626512632,555.42868891867022]
[null,null,null,null,null,null,null,null,null,null,null,null,null,null,null,null,null,null,null,null,910.35339999999997,82.094899999999996,null,null,null,"''",null,9.0015049999999999,-41.253605,null,-41.253605,135.02257499999999,null,{"$f":"camera!$B$5*COS(RADIANS(AE867))*COS(RADIANS(AF867))","v":-265.90555231250636},{"$f":"camera!$B$5*COS(RADIANS(AE867))*SIN(RADIANS(AF867))","v":265.69609695723824},{"$f":"camera!$B$5*SIN(RADIANS(AE867))","v":-329.69655944682046},null,{"$f":"TRANSPOSE(MMULT(camera!$A$12:$C$14,MMULT(camera!$A$16:$C$18,TRANSPOSE(AH867:AJ867))))","v":282.74998303326225},288.05064208233802,295.09197666260383,null,{"$f":"camera!$B$5*AM867/AN867","v":488.06925444076609},{"$f":"camera!$B$5*AL867/AN867","v":479.08788681934766},null,{"$f":"IF( AND( (camera!$B$3) > (AQ867+camera!$B$3/2), 0 < (AQ867+camera!$B$3/2), AN867 >= 0 ), AQ867+camera!$B$3/2, 0)*-1+camera!$B$3","v":20.912113180652341},{"$f":"IF( AND( (camera!$B$4) > (AP867+camera!$B$4/2), 0 < (AP867+camera!$B$4/2), AN867 >= 0 ), AP867+camera!$B$4/2, 0)","v":988.06925444076614},null,null,null,-5628.0622999999996,1252.9548,0,null,{"$f":"MMULT(               MMULT(AX867:AZ867-$B$2:$D$2, TRANSPOSE($A$16:$C$18)),     TRANSPOSE($A$12:$C$14))","v":574.96983890077308},659.78285090636086,5008.7784196077801,null,65.862651093080913,57.396214279508591," ",442.60378572049137,565.8626510930809]
[null,null,null,null,null,null,null,null,null,null,null,null,null,null,null,null,null,null,null,null,910.7056,444.30619999999999,null,null,null,"''",null,10.59314,-57.557636000000002,null,-57.557636000000002,158.89709999999999,null,{"$f":"camera!$B$5*COS(RADIANS(AE868))*COS(RADIANS(AF868))","v":-250.23701136629879},{"$f":"camera!$B$5*COS(RADIANS(AE868))*SIN(RADIANS(AF868))","v":96.572978302882731},{"$f":"camera!$B$5*SIN(RADIANS(AE868))","v":-421.9657545395998},null,{"$f":"TRANSPOSE(MMULT(camera!$A$12:$C$14,MMULT(camera!$A$16:$C$18,TRANSPOSE(AH868:AJ868))))","v":402.63643474471007},257.70167364277194,146.5392398567123,null,{"$f":"camera!$B$5*AM868/AN868","v":879.29237893807658},{"$f":"camera!$B$5*AL868/AN868","v":1373.8178085897416},null,{"$f":"IF( AND( (camera!$B$3) > (AQ868+camera!$B$3/2), 0 < (AQ868+camera!$B$3/2), AN868 >= 0 ), AQ868+camera!$B$3/2, 0)*-1+camera!$B$3","v":1000},{"$f":"IF( AND( (camera!$B$4) > (AP868+camera!$B$4/2), 0 < (AP868+camera!$B$4/2), AN868 >= 0 ), AP868+camera!$B$4/2, 0)","v":0},null,null,null,-5678.9342999999999,1202.0827999999999,58.972999999999999,null,{"$f":"MMULT(               MMULT(AX868:AZ868-$B$2:$D$2, TRANSPOSE($A$16:$C$18)),     TRANSPOSE($A$12:$C$14))","v":526.46290500931423},706.02748064262573,4944.2629402093808,null,71.398658321833381,53.23977621900297," ",446.76022378099708,571.39865832183341]
[null,null,null,null,null,null,null,null,null,null,null,null,null,null,null,null,null,null,null,null,910.7056,34.306199999999997,null,null,null,"''",null,10.763087000000001,-80.540188000000001,null,-80.540188000000001,161.446305,null,{"$f":"camera!$B$5*COS(RADIANS(AE869))*COS(RADIANS(AF869))","v":-77.90676223723888},{"$f":"camera!$B$5*COS(RADIANS(AE869))*SIN(RADIANS(AF869))","v":26.148448006068431},{"$f":"camera!$B$5*SIN(RADIANS(AE869))","v":-493.20056271722183},null,{"$f":"TRANSPOSE(MMULT(camera!$A$12:$C$14,MMULT(camera!$A$16:$C$18,TRANSPOSE(AH869:AJ869))))","v":482.36346097750862},79.889290893899002,104.60971615614611,null,{"$f":"camera!$B$5*AM869/AN869","v":381.84450655927571},{"$f":"camera!$B$5*AL869/AN869","v":2305.5385231019404},null,{"$f":"IF( AND( (camera!$B$3) > (AQ869+camera!$B$3/2), 0 < (AQ869+camera!$B$3/2), AN869 >= 0 ), AQ869+camera!$B$3/2, 0)*-1+camera!$B$3","v":1000},{"$f":"IF( AND( (camera!$B$4) > (AP869+camera!$B$4/2), 0 < (AP869+camera!$B$4/2), AN869 >= 0 ), AP869+camera!$B$4/2, 0)","v":881.84450655927571},null,null,null,-5421.2446,1032.8181999999999,58.972999999999999,null,{"$f":"MMULT(               MMULT(AX869:AZ869-$B$2:$D$2, TRANSPOSE($A$16:$C$18)),     TRANSPOSE($A$12:$C$14))","v":551.84355880000169},434.56598581588798,4800.3220997962435,null,45.264252771114435,57.479846906880013," ",442.52015309312003,545.26425277111446]
[null,null,null,null,null,null,null,null,null,null,null,null,null,null,null,null,null,null,null,null,911.65679999999998,562.16219999999998,null,null,null,"''",null,11.277695,-3.6516009999999999,null,-3.6516009999999999,169.165425,null,{"$f":"camera!$B$5*COS(RADIANS(AE870))*COS(RADIANS(AF870))","v":-490.08998099142201},{"$f":"camera!$B$5*COS(RADIANS(AE870))*SIN(RADIANS(AF870))","v":93.796204769851698},{"$f":"camera!$B$5*SIN(RADIANS(AE870))","v":-31.844662073880475},null,{"$f":"TRANSPOSE(MMULT(camera!$A$12:$C$14,MMULT(camera!$A$16:$C$18,TRANSPOSE(AH870:AJ870))))","v":22.552544482413559},496.39991854516683,55.4842644875147,null,{"$f":"camera!$B$5*AM870/AN870","v":4473.3396317875749},{"$f":"camera!$B$5*AL870/AN870","v":203.23369779451997},null,{"$f":"IF( AND( (camera!$B$3) > (AQ870+camera!$B$3/2), 0 < (AQ870+camera!$B$3/2), AN870 >= 0 ), AQ870+camera!$B$3/2, 0)*-1+camera!$B$3","v":296.76630220548009},{"$f":"IF( AND( (camera!$B$4) > (AP870+camera!$B$4/2), 0 < (AP870+camera!$B$4/2), AN870 >= 0 ), AP870+camera!$B$4/2, 0)","v":0},null,null,null,-5781.9390999999996,1487.2180000000001,0,null,{"$f":"MMULT(               MMULT(AX870:AZ870-$B$2:$D$2, TRANSPOSE($A$16:$C$18)),     TRANSPOSE($A$12:$C$14))","v":536.77409700652402},833.49148642012801,5225.3972361994456,null,79.753887479217369,51.362037443581265," ",448.63796255641876,579.75388747921738]
[null,null,null,null,null,null,null,null,null,null,null,null,null,null,null,null,null,null,null,null,911.65679999999998,152.16220000000001,null,null,null,"''",null,16.535610999999999,-21.466390000000001,null,-21.466390000000001,-111.965835,null,{"$f":"camera!$B$5*COS(RADIANS(AE871))*COS(RADIANS(AF871))","v":-174.05322512494666},{"$f":"camera!$B$5*COS(RADIANS(AE871))*SIN(RADIANS(AF871))","v":-431.53753084394435},{"$f":"camera!$B$5*SIN(RADIANS(AE871))","v":-182.97768797510909},null,{"$f":"TRANSPOSE(MMULT(camera!$A$12:$C$14,MMULT(camera!$A$16:$C$18,TRANSPOSE(AH871:AJ871))))","v":257.48259596677269},135.77992603104644,-406.52985678940632,null,{"$f":"camera!$B$5*AM871/AN871","v":-166.99871333359923},{"$f":"camera!$B$5*AL871/AN871","v":-316.68350019880063},null,{"$f":"IF( AND( (camera!$B$3) > (AQ871+camera!$B$3/2), 0 < (AQ871+camera!$B$3/2), AN871 >= 0 ), AQ871+camera!$B$3/2, 0)*-1+camera!$B$3","v":1000},{"$f":"IF( AND( (camera!$B$4) > (AP871+camera!$B$4/2), 0 < (AP871+camera!$B$4/2), AN871 >= 0 ), AP871+camera!$B$4/2, 0)","v":0},null,null,null,-5649.4197999999997,1542.1094000000001,0,null,{"$f":"MMULT(               MMULT(AX871:AZ871-$B$2:$D$2, TRANSPOSE($A$16:$C$18)),     TRANSPOSE($A$12:$C$14))","v":525.27297192008405},706.26056310275749,5290.6233578073216,null,66.746441330068933,49.641879264089347," ",450.35812073591069,566.74644133006893]
[null,null,null,null,null,null,null,null,null,null,null,null,null,null,null,null,null,null,null,null,912.41920000000005,510.53059999999999,null,null,null,"''",null,19.259229000000001,73.355468000000002,null,73.355468000000002,-71.111564999999985,null,{"$f":"camera!$B$5*COS(RADIANS(AE872))*COS(RADIANS(AF872))","v":46.36298778662151},{"$f":"camera!$B$5*COS(RADIANS(AE872))*SIN(RADIANS(AF872))","v":-135.504450671889},{"$f":"camera!$B$5*SIN(RADIANS(AE872))","v":479.05011972820461},null,{"$f":"TRANSPOSE(MMULT(camera!$A$12:$C$14,MMULT(camera!$A$16:$C$18,TRANSPOSE(AH872:AJ872))))","v":-449.03338786963269},-57.996553664646591,-212.14480041081322,null,{"$f":"camera!$B$5*AM872/AN872","v":136.6909619098316},{"$f":"camera!$B$5*AL872/AN872","v":1058.3181558070019},null,{"$f":"IF( AND( (camera!$B$3) > (AQ872+camera!$B$3/2), 0 < (AQ872+camera!$B$3/2), AN872 >= 0 ), AQ872+camera!$B$3/2, 0)*-1+camera!$B$3","v":1000},{"$f":"IF( AND( (camera!$B$4) > (AP872+camera!$B$4/2), 0 < (AP872+camera!$B$4/2), AN872 >= 0 ), AP872+camera!$B$4/2, 0)","v":0},null,null,null,-5694.8932000000004,1761.6746000000001,0,null,{"$f":"MMULT(               MMULT(AX872:AZ872-$B$2:$D$2, TRANSPOSE($A$16:$C$18)),     TRANSPOSE($A$12:$C$14))","v":487.97917443295898},770.69729117450152,5502.1269934805587,null,70.036305240473069,44.344593918966517," ",455.65540608103345,570.0363052404731]
[null,null,null,null,null,null,null,null,null,null,null,null,null,null,null,null,null,null,null,null,912.41920000000005,100.53060000000001,null,null,null,"''",null,19.568152999999999,7.3789410000000002,null,7.3789410000000002,-66.477705000000014,null,{"$f":"camera!$B$5*COS(RADIANS(AE873))*COS(RADIANS(AF873))","v":197.90033224892494},{"$f":"camera!$B$5*COS(RADIANS(AE873))*SIN(RADIANS(AF873))","v":-454.65571767839356},{"$f":"camera!$B$5*SIN(RADIANS(AE873))","v":64.215550126975145},null,{"$f":"TRANSPOSE(MMULT(camera!$A$12:$C$14,MMULT(camera!$A$16:$C$18,TRANSPOSE(AH873:AJ873))))","v":12.414626212062338},-236.77311850570388,-440.20945856387357,null,{"$f":"camera!$B$5*AM873/AN873","v":268.93233879860912},{"$f":"camera!$B$5*AL873/AN873","v":-14.100817202523828},null,{"$f":"IF( AND( (camera!$B$3) > (AQ873+camera!$B$3/2), 0 < (AQ873+camera!$B$3/2), AN873 >= 0 ), AQ873+camera!$B$3/2, 0)*-1+camera!$B$3","v":1000},{"$f":"IF( AND( (camera!$B$4) > (AP873+camera!$B$4/2), 0 < (AP873+camera!$B$4/2), AN873 >= 0 ), AP873+camera!$B$4/2, 0)","v":0},null,null,null,-5838.7808999999997,1761.6746000000001,0,null,{"$f":"MMULT(               MMULT(AX873:AZ873-$B$2:$D$2, TRANSPOSE($A$16:$C$18)),     TRANSPOSE($A$12:$C$14))","v":490.15683360560001},914.03745503511641,5489.7768746054362,null,83.249053277853889,44.64269175246114," ",455.35730824753887,583.24905327785393]
[null,null,null,null,null,null,null,null,null,null,null,null,null,null,null,null,null,null,null,null,913.10130000000004,500,null,null,null,"''",null,2.4844369999999998,67.402473999999998,null,67.402473999999998,37.266554999999997,null,{"$f":"camera!$B$5*COS(RADIANS(AE874))*COS(RADIANS(AF874))","v":152.90044904770289},{"$f":"camera!$B$5*COS(RADIANS(AE874))*SIN(RADIANS(AF874))","v":116.33794327836995},{"$f":"camera!$B$5*SIN(RADIANS(AE874))","v":461.61340495567237},null,{"$f":"TRANSPOSE(MMULT(camera!$A$12:$C$14,MMULT(camera!$A$16:$C$18,TRANSPOSE(AH874:AJ874))))","v":-477.0395197624386},-142.17909682100745,47.099904585726094,null,{"$f":"camera!$B$5*AM874/AN874","v":-1509.3352955973467},{"$f":"camera!$B$5*AL874/AN874","v":-5064.1240567078376},null,{"$f":"IF( AND( (camera!$B$3) > (AQ874+camera!$B$3/2), 0 < (AQ874+camera!$B$3/2), AN874 >= 0 ), AQ874+camera!$B$3/2, 0)*-1+camera!$B$3","v":1000},{"$f":"IF( AND( (camera!$B$4) > (AP874+camera!$B$4/2), 0 < (AP874+camera!$B$4/2), AN874 >= 0 ), AP874+camera!$B$4/2, 0)","v":0},null,null,null,-5910.7248,1761.6746000000001,58.972999999999999,null,{"$f":"MMULT(               MMULT(AX874:AZ874-$B$2:$D$2, TRANSPOSE($A$16:$C$18)),     TRANSPOSE($A$12:$C$14))","v":433.16859633025354},985.70758677515937,5473.3612568947401,null,90.045909680589148,39.570619953561007," ",460.42938004643895,590.04590968058915]
[null,null,null,null,null,null,null,null,null,null,null,null,null,null,null,null,null,null,null,null,913.10130000000004,90,null,null,null,"''",null,3.9048620000000001,-2.9547300000000001,null,-2.9547300000000001,58.572929999999999,null,{"$f":"camera!$B$5*COS(RADIANS(AE875))*COS(RADIANS(AF875))","v":260.35983157654107},{"$f":"camera!$B$5*COS(RADIANS(AE875))*SIN(RADIANS(AF875))","v":426.08507021563287},{"$f":"camera!$B$5*SIN(RADIANS(AE875))","v":-25.773456127853819},null,{"$f":"TRANSPOSE(MMULT(camera!$A$12:$C$14,MMULT(camera!$A$16:$C$18,TRANSPOSE(AH875:AJ875))))","v":-52.265845652639101},-222.23332304427848,444.83775863443952,null,{"$f":"camera!$B$5*AM875/AN875","v":-249.79143376507551},{"$f":"camera!$B$5*AL875/AN875","v":-58.74708771697405},null,{"$f":"IF( AND( (camera!$B$3) > (AQ875+camera!$B$3/2), 0 < (AQ875+camera!$B$3/2), AN875 >= 0 ), AQ875+camera!$B$3/2, 0)*-1+camera!$B$3","v":558.74708771697408},{"$f":"IF( AND( (camera!$B$4) > (AP875+camera!$B$4/2), 0 < (AP875+camera!$B$4/2), AN875 >= 0 ), AP875+camera!$B$4/2, 0)","v":250.20856623492449},null,null,null,-5848.1988000000001,1459.7724000000001,58.972999999999999,null,{"$f":"MMULT(               MMULT(AX875:AZ875-$B$2:$D$2, TRANSPOSE($A$16:$C$18)),     TRANSPOSE($A$12:$C$14))","v":484.44757538933754},897.10700660412294,5182.5437152284003,null,86.550838342960944,46.738397397964583," ",453.2616026020354,586.5508383429609]
[null,null,null,null,null,null,null,null,null,null,null,null,null,null,null,null,null,null,null,null,913.64160000000004,488.35890000000001,null,null,null,"''",null,5.2215230000000004,2.8612649999999999,null,2.8612649999999999,78.322845000000001,null,{"$f":"camera!$B$5*COS(RADIANS(AE876))*COS(RADIANS(AF876))","v":101.07226074942098},{"$f":"camera!$B$5*COS(RADIANS(AE876))*SIN(RADIANS(AF876))","v":489.04136112273903},{"$f":"camera!$B$5*SIN(RADIANS(AE876))","v":24.958870531733634},null,{"$f":"TRANSPOSE(MMULT(camera!$A$12:$C$14,MMULT(camera!$A$16:$C$18,TRANSPOSE(AH876:AJ876))))","v":-110.70735143999588},-58.064887219741593,484.12018260892609,null,{"$f":"camera!$B$5*AM876/AN876","v":-59.969496527525067},{"$f":"camera!$B$5*AL876/AN876","v":-114.33870701629645},null,{"$f":"IF( AND( (camera!$B$3) > (AQ876+camera!$B$3/2), 0 < (AQ876+camera!$B$3/2), AN876 >= 0 ), AQ876+camera!$B$3/2, 0)*-1+camera!$B$3","v":614.33870701629644},{"$f":"IF( AND( (camera!$B$4) > (AP876+camera!$B$4/2), 0 < (AP876+camera!$B$4/2), AN876 >= 0 ), AP876+camera!$B$4/2, 0)","v":440.03050347247495},null,null,null,-5781.9390999999996,2036.1311000000001,0,null,{"$f":"MMULT(               MMULT(AX876:AZ876-$B$2:$D$2, TRANSPOSE($A$16:$C$18)),     TRANSPOSE($A$12:$C$14))","v":441.81905034618194},881.33241535454761,5763.9140660051953,null,76.452598465383957,38.326304424971603," ",461.67369557502843,576.45259846538397]
[null,null,null,null,null,null,null,null,null,null,null,null,null,null,null,null,null,null,null,null,913.64160000000004,78.358900000000006,null,null,null,"''",null,9.1478629999999992,51.604647999999997,null,51.604647999999997,137.21794499999999,null,{"$f":"camera!$B$5*COS(RADIANS(AE877))*COS(RADIANS(AF877))","v":-227.92008632049462},{"$f":"camera!$B$5*COS(RADIANS(AE877))*SIN(RADIANS(AF877))","v":210.92375631190484},{"$f":"camera!$B$5*SIN(RADIANS(AE877))","v":391.87192202929577},null,{"$f":"TRANSPOSE(MMULT(camera!$A$12:$C$14,MMULT(camera!$A$16:$C$18,TRANSPOSE(AH877:AJ877))))","v":-418.9562159864879},245.43599822557985,119.31831318492753,null,{"$f":"camera!$B$5*AM877/AN877","v":1028.4925745018984},{"$f":"camera!$B$5*AL877/AN877","v":-1755.6241150390781},null,{"$f":"IF( AND( (camera!$B$3) > (AQ877+camera!$B$3/2), 0 < (AQ877+camera!$B$3/2), AN877 >= 0 ), AQ877+camera!$B$3/2, 0)*-1+camera!$B$3","v":1000},{"$f":"IF( AND( (camera!$B$4) > (AP877+camera!$B$4/2), 0 < (AP877+camera!$B$4/2), AN877 >= 0 ), AP877+camera!$B$4/2, 0)","v":0},null,null,null,-5649.4197999999997,1981.2398000000001,0,null,{"$f":"MMULT(               MMULT(AX877:AZ877-$B$2:$D$2, TRANSPOSE($A$16:$C$18)),     TRANSPOSE($A$12:$C$14))","v":449.30894843080193},744.53329927783375,5721.4367431670998,null,65.065239091125349,39.265395092185102," ",460.73460490781486,565.06523909112536]
[null,null,null,null,null,null,null,null,null,null,null,null,null,null,null,null,null,null,null,null,914.56859999999995,459.30619999999999,null,null,null,"''",null,11.194302,-22.825847,null,-22.825847,167.91453000000001,null,{"$f":"camera!$B$5*COS(RADIANS(AE878))*COS(RADIANS(AF878))","v":-450.63014034808157},{"$f":"camera!$B$5*COS(RADIANS(AE878))*SIN(RADIANS(AF878))","v":96.487207483914148},{"$f":"camera!$B$5*SIN(RADIANS(AE878))","v":-193.96570676752216},null,{"$f":"TRANSPOSE(MMULT(camera!$A$12:$C$14,MMULT(camera!$A$16:$C$18,TRANSPOSE(AH878:AJ878))))","v":181.14789424770589},457.32477084900597,89.663227565853958,null,{"$f":"camera!$B$5*AM878/AN878","v":2550.2359398847184},{"$f":"camera!$B$5*AL878/AN878","v":1010.1571132639644},null,{"$f":"IF( AND( (camera!$B$3) > (AQ878+camera!$B$3/2), 0 < (AQ878+camera!$B$3/2), AN878 >= 0 ), AQ878+camera!$B$3/2, 0)*-1+camera!$B$3","v":1000},{"$f":"IF( AND( (camera!$B$4) > (AP878+camera!$B$4/2), 0 < (AP878+camera!$B$4/2), AN878 >= 0 ), AP878+camera!$B$4/2, 0)","v":0},null,null,null,-5526.3182999999999,2168.6504,0,null,{"$f":"MMULT(               MMULT(AX878:AZ878-$B$2:$D$2, TRANSPOSE($A$16:$C$18)),     TRANSPOSE($A$12:$C$14))","v":415.02620538175597},638.23414769247711,5915.8638405477805,null,53.94259949983735,35.077396688640363," ",464.92260331135958,553.94259949983734]
[null,null,null,null,null,null,null,null,null,null,null,null,null,null,null,null,null,null,null,null,914.56859999999995,49.306199999999997,null,null,null,"''",null,12.134788,-50.661278000000003,null,-50.661278000000003,-177.97818000000001,null,{"$f":"camera!$B$5*COS(RADIANS(AE879))*COS(RADIANS(AF879))","v":-316.75454076850343},{"$f":"camera!$B$5*COS(RADIANS(AE879))*SIN(RADIANS(AF879))","v":-11.182090917774016},{"$f":"camera!$B$5*SIN(RADIANS(AE879))","v":-386.70598876309259},null,{"$f":"TRANSPOSE(MMULT(camera!$A$12:$C$14,MMULT(camera!$A$16:$C$18,TRANSPOSE(AH879:AJ879))))","v":387.55931793036342},314.57461067065833,28.992919941861494,null,{"$f":"camera!$B$5*AM879/AN879","v":5425.0246491464814},{"$f":"camera!$B$5*AL879/AN879","v":6683.6889610898588},null,{"$f":"IF( AND( (camera!$B$3) > (AQ879+camera!$B$3/2), 0 < (AQ879+camera!$B$3/2), AN879 >= 0 ), AQ879+camera!$B$3/2, 0)*-1+camera!$B$3","v":1000},{"$f":"IF( AND( (camera!$B$4) > (AP879+camera!$B$4/2), 0 < (AP879+camera!$B$4/2), AN879 >= 0 ), AP879+camera!$B$4/2, 0)","v":0},null,null,null,-5628.0622999999996,2270.3944000000001,0,null,{"$f":"MMULT(               MMULT(AX879:AZ879-$B$2:$D$2, TRANSPOSE($A$16:$C$18)),     TRANSPOSE($A$12:$C$14))","v":398.96561402058762},748.45855494524108,6006.9479803466838,null,62.299403739970849,33.208678960256435," ",466.79132103974359,562.2994037399709]
[null,null,null,null,null,null,null,null,null,null,null,null,null,null,null,null,null,null,null,null,914.94200000000001,547.16219999999998,null,null,null,"''",null,16.453067000000001,-47.554786,null,-47.554786,-113.20399499999999,null,{"$f":"camera!$B$5*COS(RADIANS(AE880))*COS(RADIANS(AF880))","v":-132.95435204685708},{"$f":"camera!$B$5*COS(RADIANS(AE880))*SIN(RADIANS(AF880))","v":-310.14601904272695},{"$f":"camera!$B$5*SIN(RADIANS(AE880))","v":-368.96149818612355},null,{"$f":"TRANSPOSE(MMULT(camera!$A$12:$C$14,MMULT(camera!$A$16:$C$18,TRANSPOSE(AH880:AJ880))))","v":419.01968466599385},105.41741394740424,-251.61413453749512,null,{"$f":"camera!$B$5*AM880/AN880","v":-209.48229744957973},{"$f":"camera!$B$5*AL880/AN880","v":-832.66324730964629},null,{"$f":"IF( AND( (camera!$B$3) > (AQ880+camera!$B$3/2), 0 < (AQ880+camera!$B$3/2), AN880 >= 0 ), AQ880+camera!$B$3/2, 0)*-1+camera!$B$3","v":1000},{"$f":"IF( AND( (camera!$B$4) > (AP880+camera!$B$4/2), 0 < (AP880+camera!$B$4/2), AN880 >= 0 ), AP880+camera!$B$4/2, 0)","v":0},null,null,null,-5678.9342999999999,2321.2664,58.972999999999999,null,{"$f":"MMULT(               MMULT(AX880:AZ880-$B$2:$D$2, TRANSPOSE($A$16:$C$18)),     TRANSPOSE($A$12:$C$14))","v":332.85825072161447},803.57075857162363,6042.2494962645842,null,66.495992847399293,27.54423256830033," ",472.45576743169966,566.49599284739929]
[null,null,null,null,null,null,null,null,null,null,null,null,null,null,null,null,null,null,null,null,914.94200000000001,137.16220000000001,null,null,null,"''",null,22.875426999999998,-32.875503999999999,null,-32.875503999999999,-16.868595000000028,null,{"$f":"camera!$B$5*COS(RADIANS(AE881))*COS(RADIANS(AF881))","v":401.85775855927875},{"$f":"camera!$B$5*COS(RADIANS(AE881))*SIN(RADIANS(AF881))","v":-121.85316321292417},{"$f":"camera!$B$5*SIN(RADIANS(AE881))","v":-271.40771636178084},null,{"$f":"TRANSPOSE(MMULT(camera!$A$12:$C$14,MMULT(camera!$A$16:$C$18,TRANSPOSE(AH881:AJ881))))","v":282.28159395778141},-410.9487714097603,-37.923725943831094,null,{"$f":"camera!$B$5*AM881/AN881","v":5418.0959436635703},{"$f":"camera!$B$5*AL881/AN881","v":-3721.7017438617345},null,{"$f":"IF( AND( (camera!$B$3) > (AQ881+camera!$B$3/2), 0 < (AQ881+camera!$B$3/2), AN881 >= 0 ), AQ881+camera!$B$3/2, 0)*-1+camera!$B$3","v":1000},{"$f":"IF( AND( (camera!$B$4) > (AP881+camera!$B$4/2), 0 < (AP881+camera!$B$4/2), AN881 >= 0 ), AP881+camera!$B$4/2, 0)","v":0},null,null,null,-5848.1988000000001,2063.5767000000001,58.972999999999999,null,{"$f":"MMULT(               MMULT(AX881:AZ881-$B$2:$D$2, TRANSPOSE($A$16:$C$18)),     TRANSPOSE($A$12:$C$14))","v":379.99704309157482},949.73201884485275,5774.9121200980944,null,82.229131724754296,32.900677550494052," ",467.09932244950596,582.22913172475432]
[null,null,null,null,null,null,null,null,null,null,null,null,null,null,null,null,null,null,null,null,915.7056,444.30619999999999,null,null,null,"''",null,2.7517149999999999,-18.572562999999999,null,-18.572562999999999,41.275725000000001,null,{"$f":"camera!$B$5*COS(RADIANS(AE882))*COS(RADIANS(AF882))","v":356.20204038080391},{"$f":"camera!$B$5*COS(RADIANS(AE882))*SIN(RADIANS(AF882))","v":312.66384663864073},{"$f":"camera!$B$5*SIN(RADIANS(AE882))","v":-159.25270934486682},null,{"$f":"TRANSPOSE(MMULT(camera!$A$12:$C$14,MMULT(camera!$A$16:$C$18,TRANSPOSE(AH882:AJ882))))","v":97.355481898342944},-327.59613429268813,364.96942740567795,null,{"$f":"camera!$B$5*AM882/AN882","v":-448.79941947651429},{"$f":"camera!$B$5*AL882/AN882","v":133.37484538140296},null,{"$f":"IF( AND( (camera!$B$3) > (AQ882+camera!$B$3/2), 0 < (AQ882+camera!$B$3/2), AN882 >= 0 ), AQ882+camera!$B$3/2, 0)*-1+camera!$B$3","v":366.62515461859698},{"$f":"IF( AND( (camera!$B$4) > (AP882+camera!$B$4/2), 0 < (AP882+camera!$B$4/2), AN882 >= 0 ), AP882+camera!$B$4/2, 0)","v":51.200580523485712},null,null,null,-5393.799,2424.2712000000001,0,null,{"$f":"MMULT(               MMULT(AX882:AZ882-$B$2:$D$2, TRANSPOSE($A$16:$C$18)),     TRANSPOSE($A$12:$C$14))","v":368.80142450516928},528.49794432339831,6178.0175999489784,null,42.772453766379925,29.847877457342875," ",470.15212254265714,542.77245376637995]
[null,null,null,null,null,null,null,null,null,null,null,null,null,null,null,null,null,null,null,null,915.7056,34.306199999999997,null,null,null,"''",null,3.3389890000000002,29.048458,null,29.048458,50.084835000000005,null,{"$f":"camera!$B$5*COS(RADIANS(AE883))*COS(RADIANS(AF883))","v":280.46938325786221},{"$f":"camera!$B$5*COS(RADIANS(AE883))*SIN(RADIANS(AF883))","v":335.25725777147113},{"$f":"camera!$B$5*SIN(RADIANS(AE883))","v":242.774578913254},null,{"$f":"TRANSPOSE(MMULT(camera!$A$12:$C$14,MMULT(camera!$A$16:$C$18,TRANSPOSE(AH883:AJ883))))","v":-301.32631276760947},-250.18251726592848,310.82336026811146,null,{"$f":"camera!$B$5*AM883/AN883","v":-402.45127819563641},{"$f":"camera!$B$5*AL883/AN883","v":-484.72275781924827},null,{"$f":"IF( AND( (camera!$B$3) > (AQ883+camera!$B$3/2), 0 < (AQ883+camera!$B$3/2), AN883 >= 0 ), AQ883+camera!$B$3/2, 0)*-1+camera!$B$3","v":984.72275781924827},{"$f":"IF( AND( (camera!$B$4) > (AP883+camera!$B$4/2), 0 < (AP883+camera!$B$4/2), AN883 >= 0 ), AP883+camera!$B$4/2, 0)","v":97.548721804363595},null,null,null,-5338.9076999999997,2291.7519000000002,0,null,{"$f":"MMULT(               MMULT(AX883:AZ883-$B$2:$D$2, TRANSPOSE($A$16:$C$18)),     TRANSPOSE($A$12:$C$14))","v":390.89484399555511},462.26570427213494,6052.7195916599658,null,38.186611594322841,32.290843651023302," ",467.70915634897665,538.18661159432281]
[null,null,null,null,null,null,null,null,null,null,null,null,null,null,null,null,null,null,null,null,916.45270000000005,513.4461,null,null,null,"''",null,4.9758060000000004,1.714016,null,1.714016,74.637090000000001,null,{"$f":"camera!$B$5*COS(RADIANS(AE884))*COS(RADIANS(AF884))","v":132.40671207881468},{"$f":"camera!$B$5*COS(RADIANS(AE884))*SIN(RADIANS(AF884))","v":481.91783448267205},{"$f":"camera!$B$5*SIN(RADIANS(AE884))","v":14.955380436811472},null,{"$f":"TRANSPOSE(MMULT(camera!$A$12:$C$14,MMULT(camera!$A$16:$C$18,TRANSPOSE(AH884:AJ884))))","v":-100.09778577346289},-89.900957756995211,481.5581492173348,null,{"$f":"camera!$B$5*AM884/AN884","v":-93.343823485397493},{"$f":"camera!$B$5*AL884/AN884","v":-103.93115134293697},null,{"$f":"IF( AND( (camera!$B$3) > (AQ884+camera!$B$3/2), 0 < (AQ884+camera!$B$3/2), AN884 >= 0 ), AQ884+camera!$B$3/2, 0)*-1+camera!$B$3","v":603.93115134293703},{"$f":"IF( AND( (camera!$B$4) > (AP884+camera!$B$4/2), 0 < (AP884+camera!$B$4/2), AN884 >= 0 ), AP884+camera!$B$4/2, 0)","v":406.65617651460252},null,null,null,-5119.3424999999997,2337.2253000000001,0,null,{"$f":"MMULT(               MMULT(AX884:AZ884-$B$2:$D$2, TRANSPOSE($A$16:$C$18)),     TRANSPOSE($A$12:$C$14))","v":379.70552359107751},247.49928409894261,6116.1773810437571,null,20.233167604493641,31.041081703084846," ",468.95891829691516,520.23316760449359]
[null,null,null,null,null,null,null,null,null,null,null,null,null,null,null,null,null,null,null,null,916.45270000000005,103.4461,null,null,null,"''",null,6.4695029999999996,-32.580069999999999,null,-32.580069999999999,97.04254499999999,null,{"$f":"camera!$B$5*COS(RADIANS(AE885))*COS(RADIANS(AF885))","v":-51.656481875258962},{"$f":"camera!$B$5*COS(RADIANS(AE885))*SIN(RADIANS(AF885))","v":418.14118041188607},{"$f":"camera!$B$5*SIN(RADIANS(AE885))","v":-269.2388551528652},null,{"$f":"TRANSPOSE(MMULT(camera!$A$12:$C$14,MMULT(camera!$A$16:$C$18,TRANSPOSE(AH885:AJ885))))","v":193.59715058828948},87.903318518385788,452.54077150854624,null,{"$f":"camera!$B$5*AM885/AN885","v":97.121987733127085},{"$f":"camera!$B$5*AL885/AN885","v":213.90023040679043},null,{"$f":"IF( AND( (camera!$B$3) > (AQ885+camera!$B$3/2), 0 < (AQ885+camera!$B$3/2), AN885 >= 0 ), AQ885+camera!$B$3/2, 0)*-1+camera!$B$3","v":286.09976959320954},{"$f":"IF( AND( (camera!$B$4) > (AP885+camera!$B$4/2), 0 < (AP885+camera!$B$4/2), AN885 >= 0 ), AP885+camera!$B$4/2, 0)","v":597.12198773312707},null,null,null,-5119.3424999999997,2481.1129999999998,0,null,{"$f":"MMULT(               MMULT(AX885:AZ885-$B$2:$D$2, TRANSPOSE($A$16:$C$18)),     TRANSPOSE($A$12:$C$14))","v":354.81476535020261},260.03992346469471,6257.3398857317306,null,20.778791644165718,28.35188529228429," ",471.64811470771576,520.77879164416572]
[null,null,null,null,null,null,null,null,null,null,null,null,null,null,null,null,null,null,null,null,916.65679999999998,562.16219999999998,null,null,null,"''",null,6.5483960000000003,7.3329649999999997,null,7.3329649999999997,98.225940000000008,null,{"$f":"camera!$B$5*COS(RADIANS(AE886))*COS(RADIANS(AF886))","v":-70.953413195113427},{"$f":"camera!$B$5*COS(RADIANS(AE886))*SIN(RADIANS(AF886))","v":490.80843768552154},{"$f":"camera!$B$5*SIN(RADIANS(AE886))","v":63.817635906237122},null,{"$f":"TRANSPOSE(MMULT(camera!$A$12:$C$14,MMULT(camera!$A$16:$C$18,TRANSPOSE(AH886:AJ886))))","v":-146.67793528705297},113.46018796978422,464.34078977168093,null,{"$f":"camera!$B$5*AM886/AN886","v":122.17340202394587},{"$f":"camera!$B$5*AL886/AN886","v":-157.94211764076914},null,{"$f":"IF( AND( (camera!$B$3) > (AQ886+camera!$B$3/2), 0 < (AQ886+camera!$B$3/2), AN886 >= 0 ), AQ886+camera!$B$3/2, 0)*-1+camera!$B$3","v":657.94211764076908},{"$f":"IF( AND( (camera!$B$4) > (AP886+camera!$B$4/2), 0 < (AP886+camera!$B$4/2), AN886 >= 0 ), AP886+camera!$B$4/2, 0)","v":622.17340202394587},null,null,null,-5119.3424999999997,2553.0569,58.972999999999999,null,{"$f":"MMULT(               MMULT(AX886:AZ886-$B$2:$D$2, TRANSPOSE($A$16:$C$18)),     TRANSPOSE($A$12:$C$14))","v":284.29230996200658},266.31024750535795,6317.6806331471798,null,21.076583557270951,22.499737361714747," ",477.50026263828522,521.07658355727096]
[null,null,null,null,null,null,null,null,null,null,null,null,null,null,null,null,null,null,null,null,916.65679999999998,152.16220000000001,null,null,null,"''",null,7.9706780000000004,-49.244911999999999,null,-49.244911999999999,119.56017,null,{"$f":"camera!$B$5*COS(RADIANS(AE887))*COS(RADIANS(AF887))","v":-161.03196223773975},{"$f":"camera!$B$5*COS(RADIANS(AE887))*SIN(RADIANS(AF887))","v":283.92690568479031},{"$f":"camera!$B$5*SIN(RADIANS(AE887))","v":-378.75350739778418},null,{"$f":"TRANSPOSE(MMULT(camera!$A$12:$C$14,MMULT(camera!$A$16:$C$18,TRANSPOSE(AH887:AJ887))))","v":326.32074299683188},185.16504735554872,330.49762166740777,null,{"$f":"camera!$B$5*AM887/AN887","v":280.13068054977907},{"$f":"camera!$B$5*AL887/AN887","v":493.68092476807709},null,{"$f":"IF( AND( (camera!$B$3) > (AQ887+camera!$B$3/2), 0 < (AQ887+camera!$B$3/2), AN887 >= 0 ), AQ887+camera!$B$3/2, 0)*-1+camera!$B$3","v":6.3190752319228523},{"$f":"IF( AND( (camera!$B$4) > (AP887+camera!$B$4/2), 0 < (AP887+camera!$B$4/2), AN887 >= 0 ), AP887+camera!$B$4/2, 0)","v":780.13068054977907},null,null,null,-5421.2446,2490.5309000000002,58.972999999999999,null,{"$f":"MMULT(               MMULT(AX887:AZ887-$B$2:$D$2, TRANSPOSE($A$16:$C$18)),     TRANSPOSE($A$12:$C$14))","v":299.67763773549609},561.61401889708213,6230.4261034565288,null,45.070273651549194,24.049529900470237," ",475.95047009952975,545.0702736515492]
[null,null,null,null,null,null,null,null,null,null,null,null,null,null,null,null,null,null,null,null,917.97119999999995,485.90449999999998,null,null,null,"''",null,9.0857849999999996,-72.602705,null,-72.602705,136.28677500000001,null,{"$f":"camera!$B$5*COS(RADIANS(AE888))*COS(RADIANS(AF888))","v":-108.05820559817434},{"$f":"camera!$B$5*COS(RADIANS(AE888))*SIN(RADIANS(AF888))","v":103.31039399260057},{"$f":"camera!$B$5*SIN(RADIANS(AE888))","v":-477.12722275719744},null,{"$f":"TRANSPOSE(MMULT(camera!$A$12:$C$14,MMULT(camera!$A$16:$C$18,TRANSPOSE(AH888:AJ888))))","v":453.64259230855595},116.65110562418735,174.93118075468416,null,{"$f":"camera!$B$5*AM888/AN888","v":333.4199915673517},{"$f":"camera!$B$5*AL888/AN888","v":1296.6315963553818},null,{"$f":"IF( AND( (camera!$B$3) > (AQ888+camera!$B$3/2), 0 < (AQ888+camera!$B$3/2), AN888 >= 0 ), AQ888+camera!$B$3/2, 0)*-1+camera!$B$3","v":1000},{"$f":"IF( AND( (camera!$B$4) > (AP888+camera!$B$4/2), 0 < (AP888+camera!$B$4/2), AN888 >= 0 ), AP888+camera!$B$4/2, 0)","v":833.41999156735164},null,null,null,-4844.8859000000002,2424.2712000000001,0,null,{"$f":"MMULT(               MMULT(AX888:AZ888-$B$2:$D$2, TRANSPOSE($A$16:$C$18)),     TRANSPOSE($A$12:$C$14))","v":360.49393437781418},-18.326375609705565,6225.1317176749008,null,-1.4719668949069646,28.954723428122048," ",471.04527657187793,498.52803310509302]
[null,null,null,null,null,null,null,null,null,null,null,null,null,null,null,null,null,null,null,null,917.97119999999995,75.904499999999999,null,null,null,"''",null,9.4109060000000007,26.182324000000001,null,26.182324000000001,141.16359,null,{"$f":"camera!$B$5*COS(RADIANS(AE889))*COS(RADIANS(AF889))","v":-349.50807706877464},{"$f":"camera!$B$5*COS(RADIANS(AE889))*SIN(RADIANS(AF889))","v":281.37757771331889},{"$f":"camera!$B$5*SIN(RADIANS(AE889))","v":220.61451181613745},null,{"$f":"TRANSPOSE(MMULT(camera!$A$12:$C$14,MMULT(camera!$A$16:$C$18,TRANSPOSE(AH889:AJ889))))","v":-260.64804795171943},372.70176509429569,207.74019686751666,null,{"$f":"camera!$B$5*AM889/AN889","v":897.03815321784089},{"$f":"camera!$B$5*AL889/AN889","v":-627.34139054933121},null,{"$f":"IF( AND( (camera!$B$3) > (AQ889+camera!$B$3/2), 0 < (AQ889+camera!$B$3/2), AN889 >= 0 ), AQ889+camera!$B$3/2, 0)*-1+camera!$B$3","v":1000},{"$f":"IF( AND( (camera!$B$4) > (AP889+camera!$B$4/2), 0 < (AP889+camera!$B$4/2), AN889 >= 0 ), AP889+camera!$B$4/2, 0)","v":0},null,null,null,-4899.7772000000004,2291.7519000000002,0,null,{"$f":"MMULT(               MMULT(AX889:AZ889-$B$2:$D$2, TRANSPOSE($A$16:$C$18)),     TRANSPOSE($A$12:$C$14))","v":384.24885159098244},24.806228401758347,6090.4108875573356,null,2.0364987567946597,31.545396417834471," ",468.45460358216553,502.03649875679469]
[null,null,null,null,null,null,null,null,null,null,null,null,null,null,null,null,null,null,null,null,918.10130000000004,500,null,null,null,"''",null,9.5804050000000007,52.051476999999998,null,52.051476999999998,143.706075,null,{"$f":"camera!$B$5*COS(RADIANS(AE890))*COS(RADIANS(AF890))","v":-247.82340487753405},{"$f":"camera!$B$5*COS(RADIANS(AE890))*SIN(RADIANS(AF890))","v":182.00393703853521},{"$f":"camera!$B$5*SIN(RADIANS(AE890))","v":394.28178615982091},null,{"$f":"TRANSPOSE(MMULT(camera!$A$12:$C$14,MMULT(camera!$A$16:$C$18,TRANSPOSE(AH890:AJ890))))","v":-416.02547919812486},262.74305031763498,88.819424495744656,null,{"$f":"camera!$B$5*AM890/AN890","v":1479.0855255441509},{"$f":"camera!$B$5*AL890/AN890","v":-2341.9735128888201},null,{"$f":"IF( AND( (camera!$B$3) > (AQ890+camera!$B$3/2), 0 < (AQ890+camera!$B$3/2), AN890 >= 0 ), AQ890+camera!$B$3/2, 0)*-1+camera!$B$3","v":1000},{"$f":"IF( AND( (camera!$B$4) > (AP890+camera!$B$4/2), 0 < (AP890+camera!$B$4/2), AN890 >= 0 ), AP890+camera!$B$4/2, 0)","v":0},null,null,null,-4712.3666000000003,2168.6504,0,null,{"$f":"MMULT(               MMULT(AX890:AZ890-$B$2:$D$2, TRANSPOSE($A$16:$C$18)),     TRANSPOSE($A$12:$C$14))","v":402.70750555132042},-172.62022035028548,5985.7266589374567,null,-14.419320342045804,33.638982240362289," ",466.36101775963766,485.58067965795419]
[null,null,null,null,null,null,null,null,null,null,null,null,null,null,null,null,null,null,null,null,918.10130000000004,90,null,null,null,"''",null,11.852418999999999,-45.173470000000002,null,-45.173470000000002,177.78628499999999,null,{"$f":"camera!$B$5*COS(RADIANS(AE891))*COS(RADIANS(AF891))","v":-352.21828830754959},{"$f":"camera!$B$5*COS(RADIANS(AE891))*SIN(RADIANS(AF891))","v":13.615298152545602},{"$f":"camera!$B$5*SIN(RADIANS(AE891))","v":-354.62219479033899},null,{"$f":"TRANSPOSE(MMULT(camera!$A$12:$C$14,MMULT(camera!$A$16:$C$18,TRANSPOSE(AH891:AJ891))))","v":352.21003698247915},352.06464280614671,44.705448600600995,null,{"$f":"camera!$B$5*AM891/AN891","v":3937.6032880409766},{"$f":"camera!$B$5*AL891/AN891","v":3939.2294228957167},null,{"$f":"IF( AND( (camera!$B$3) > (AQ891+camera!$B$3/2), 0 < (AQ891+camera!$B$3/2), AN891 >= 0 ), AQ891+camera!$B$3/2, 0)*-1+camera!$B$3","v":1000},{"$f":"IF( AND( (camera!$B$4) > (AP891+camera!$B$4/2), 0 < (AP891+camera!$B$4/2), AN891 >= 0 ), AP891+camera!$B$4/2, 0)","v":0},null,null,null,-4610.6225999999997,2270.3944000000001,0,null,{"$f":"MMULT(               MMULT(AX891:AZ891-$B$2:$D$2, TRANSPOSE($A$16:$C$18)),     TRANSPOSE($A$12:$C$14))","v":383.56723809746018},-265.10947982281493,6094.2765097711545,null,-21.750693408623334,31.469464626561841," ",468.53053537343817,478.24930659137669]
[null,null,null,null,null,null,null,null,null,null,null,null,null,null,null,null,null,null,null,null,919.56859999999995,459.30619999999999,null,null,null,"''",null,14.577999999999999,29.74513,null,29.74513,-141.33000000000001,null,{"$f":"camera!$B$5*COS(RADIANS(AE892))*COS(RADIANS(AF892))","v":-338.94290848200785},{"$f":"camera!$B$5*COS(RADIANS(AE892))*SIN(RADIANS(AF892))","v":-271.25321810378102},{"$f":"camera!$B$5*SIN(RADIANS(AE892))","v":248.07135356203443},null,{"$f":"TRANSPOSE(MMULT(camera!$A$12:$C$14,MMULT(camera!$A$16:$C$18,TRANSPOSE(AH892:AJ892))))","v":-192.24949527192297},314.01185268904442,-338.28492124019476,null,{"$f":"camera!$B$5*AM892/AN892","v":-464.123336532172},{"$f":"camera!$B$5*AL892/AN892","v":284.15321405268719},null,{"$f":"IF( AND( (camera!$B$3) > (AQ892+camera!$B$3/2), 0 < (AQ892+camera!$B$3/2), AN892 >= 0 ), AQ892+camera!$B$3/2, 0)*-1+camera!$B$3","v":1000},{"$f":"IF( AND( (camera!$B$4) > (AP892+camera!$B$4/2), 0 < (AP892+camera!$B$4/2), AN892 >= 0 ), AP892+camera!$B$4/2, 0)","v":0},null,null,null,-4559.7506999999996,2321.2664,58.972999999999999,null,{"$f":"MMULT(               MMULT(AX892:AZ892-$B$2:$D$2, TRANSPOSE($A$16:$C$18)),     TRANSPOSE($A$12:$C$14))","v":315.92003826558516},-311.35400993960968,6138.3108726232858,null,-25.361538084380904,25.733466813694683," ",474.26653318630531,474.63846191561908]
[null,null,null,null,null,null,null,null,null,null,null,null,null,null,null,null,null,null,null,null,919.56859999999995,49.306199999999997,null,null,null,"''",null,14.953055000000001,-4.3464619999999998,null,-4.3464619999999998,-135.70417499999999,null,{"$f":"camera!$B$5*COS(RADIANS(AE893))*COS(RADIANS(AF893))","v":-356.8425739968518},{"$f":"camera!$B$5*COS(RADIANS(AE893))*SIN(RADIANS(AF893))","v":-348.17732173636722},{"$f":"camera!$B$5*SIN(RADIANS(AE893))","v":-37.893667172649849},null,{"$f":"TRANSPOSE(MMULT(camera!$A$12:$C$14,MMULT(camera!$A$16:$C$18,TRANSPOSE(AH893:AJ893))))","v":102.94887579570536},325.13902718525173,-365.63115563834072,null,{"$f":"camera!$B$5*AM893/AN893","v":-444.62708137877996},{"$f":"camera!$B$5*AL893/AN893","v":-140.7824172094567},null,{"$f":"IF( AND( (camera!$B$3) > (AQ893+camera!$B$3/2), 0 < (AQ893+camera!$B$3/2), AN893 >= 0 ), AQ893+camera!$B$3/2, 0)*-1+camera!$B$3","v":1000},{"$f":"IF( AND( (camera!$B$4) > (AP893+camera!$B$4/2), 0 < (AP893+camera!$B$4/2), AN893 >= 0 ), AP893+camera!$B$4/2, 0)","v":0},null,null,null,-4817.4403000000002,2490.5309000000002,58.972999999999999,null,{"$f":"MMULT(               MMULT(AX893:AZ893-$B$2:$D$2, TRANSPOSE($A$16:$C$18)),     TRANSPOSE($A$12:$C$14))","v":290.53940026019359},-39.892623447915412,6282.2516235135618,null,-3.1750259173480946,23.123827066457071," ",476.87617293354288,496.82497408265192]
[null,null,null,null,null,null,null,null,null,null,null,null,null,null,null,null,null,null,null,null,919.94200000000001,547.16219999999998,null,null,null,"''",null,21.241337000000001,10.006981,null,10.006981,-41.379944999999964,null,{"$f":"camera!$B$5*COS(RADIANS(AE894))*COS(RADIANS(AF894))","v":369.46361520241885},{"$f":"camera!$B$5*COS(RADIANS(AE894))*SIN(RADIANS(AF894))","v":-325.49622593221454},{"$f":"camera!$B$5*SIN(RADIANS(AE894))","v":86.884083383803684},null,{"$f":"TRANSPOSE(MMULT(camera!$A$12:$C$14,MMULT(camera!$A$16:$C$18,TRANSPOSE(AH894:AJ894))))","v":-34.848998475420963},-396.42655993514018,-302.70700336009872,null,{"$f":"camera!$B$5*AM894/AN894","v":654.80242533991384},{"$f":"camera!$B$5*AL894/AN894","v":57.562260021392326},null,{"$f":"IF( AND( (camera!$B$3) > (AQ894+camera!$B$3/2), 0 < (AQ894+camera!$B$3/2), AN894 >= 0 ), AQ894+camera!$B$3/2, 0)*-1+camera!$B$3","v":1000},{"$f":"IF( AND( (camera!$B$4) > (AP894+camera!$B$4/2), 0 < (AP894+camera!$B$4/2), AN894 >= 0 ), AP894+camera!$B$4/2, 0)","v":0},null,null,null,-4456.7457999999997,2036.1311000000001,0,null,{"$f":"MMULT(               MMULT(AX894:AZ894-$B$2:$D$2, TRANSPOSE($A$16:$C$18)),     TRANSPOSE($A$12:$C$14))","v":421.76299729044865},-438.81812405215629,5877.6575950734641,null,-37.329337151245838,35.878493300116872," ",464.12150669988318,462.67066284875415]
[null,null,null,null,null,null,null,null,null,null,null,null,null,null,null,null,null,null,null,null,919.94200000000001,137.16220000000001,null,null,null,"''",null,22.101914000000001,-39.543353000000003,null,-39.543353000000003,-28.47129000000001,null,{"$f":"camera!$B$5*COS(RADIANS(AE895))*COS(RADIANS(AF895))","v":338.93901044289868},{"$f":"camera!$B$5*COS(RADIANS(AE895))*SIN(RADIANS(AF895))","v":-183.80902234234921},{"$f":"camera!$B$5*SIN(RADIANS(AE895))","v":-318.33094493865724},null,{"$f":"TRANSPOSE(MMULT(camera!$A$12:$C$14,MMULT(camera!$A$16:$C$18,TRANSPOSE(AH895:AJ895))))","v":340.16177562620231},-353.66925704564676,-95.958444253799087,null,{"$f":"camera!$B$5*AM895/AN895","v":1842.8250884843033},{"$f":"camera!$B$5*AL895/AN895","v":-1772.4431563652354},null,{"$f":"IF( AND( (camera!$B$3) > (AQ895+camera!$B$3/2), 0 < (AQ895+camera!$B$3/2), AN895 >= 0 ), AQ895+camera!$B$3/2, 0)*-1+camera!$B$3","v":1000},{"$f":"IF( AND( (camera!$B$4) > (AP895+camera!$B$4/2), 0 < (AP895+camera!$B$4/2), AN895 >= 0 ), AP895+camera!$B$4/2, 0)","v":0},null,null,null,-4589.2650999999996,1981.2398000000001,0,null,{"$f":"MMULT(               MMULT(AX895:AZ895-$B$2:$D$2, TRANSPOSE($A$16:$C$18)),     TRANSPOSE($A$12:$C$14))","v":433.2641050781491},-311.58719201921144,5812.4315715716148,null,-26.803514861419849,37.27046931590796," ",462.72953068409208,473.19648513858016]
[null,null,null,null,null,null,null,null,null,null,null,null,null,null,null,null,null,null,null,null,920.7056,444.30619999999999,null,null,null,"''",null,0.74541999999999997,48.284363999999997,null,48.284363999999997,11.1813,null,{"$f":"camera!$B$5*COS(RADIANS(AE896))*COS(RADIANS(AF896))","v":326.40157392140742},{"$f":"camera!$B$5*COS(RADIANS(AE896))*SIN(RADIANS(AF896))","v":64.518552715785205},{"$f":"camera!$B$5*SIN(RADIANS(AE896))","v":373.22830666642699},null,{"$f":"TRANSPOSE(MMULT(camera!$A$12:$C$14,MMULT(camera!$A$16:$C$18,TRANSPOSE(AH896:AJ896))))","v":-383.65893004144704},-319.53635500635886,26.501758973741346,null,{"$f":"camera!$B$5*AM896/AN896","v":-6028.5876745570749},{"$f":"camera!$B$5*AL896/AN896","v":-7238.3672801036828},null,{"$f":"IF( AND( (camera!$B$3) > (AQ896+camera!$B$3/2), 0 < (AQ896+camera!$B$3/2), AN896 >= 0 ), AQ896+camera!$B$3/2, 0)*-1+camera!$B$3","v":1000},{"$f":"IF( AND( (camera!$B$4) > (AP896+camera!$B$4/2), 0 < (AP896+camera!$B$4/2), AN896 >= 0 ), AP896+camera!$B$4/2, 0)","v":0},null,null,null,-4390.4861000000001,2063.5767000000001,58.972999999999999,null,{"$f":"MMULT(               MMULT(AX896:AZ896-$B$2:$D$2, TRANSPOSE($A$16:$C$18)),     TRANSPOSE($A$12:$C$14))","v":357.9353836708575},-502.43364423615043,5900.0300080814059,null,-42.578905831661501,30.333352811814962," ",469.66664718818504,457.42109416833853]
[null,null,null,null,null,null,null,null,null,null,null,null,null,null,null,null,null,null,null,null,920.7056,34.306199999999997,null,null,null,"''",null,4.0149460000000001,-62.159284,null,-62.159284,60.22419,null,{"$f":"camera!$B$5*COS(RADIANS(AE897))*COS(RADIANS(AF897))","v":115.96162004034773},{"$f":"camera!$B$5*COS(RADIANS(AE897))*SIN(RADIANS(AF897))","v":202.6787748339716},{"$f":"camera!$B$5*SIN(RADIANS(AE897))","v":-442.12466218185369},null,{"$f":"TRANSPOSE(MMULT(camera!$A$12:$C$14,MMULT(camera!$A$16:$C$18,TRANSPOSE(AH897:AJ897))))","v":398.59190834661808},-97.855731906483754,285.56741118980568,null,{"$f":"camera!$B$5*AM897/AN897","v":-171.33560776205448},{"$f":"camera!$B$5*AL897/AN897","v":697.89459988781653},null,{"$f":"IF( AND( (camera!$B$3) > (AQ897+camera!$B$3/2), 0 < (AQ897+camera!$B$3/2), AN897 >= 0 ), AQ897+camera!$B$3/2, 0)*-1+camera!$B$3","v":1000},{"$f":"IF( AND( (camera!$B$4) > (AP897+camera!$B$4/2), 0 < (AP897+camera!$B$4/2), AN897 >= 0 ), AP897+camera!$B$4/2, 0)","v":328.66439223794555},null,null,null,-4826.0454,1761.6746000000001,0,null,{"$f":"MMULT(               MMULT(AX897:AZ897-$B$2:$D$2, TRANSPOSE($A$16:$C$18)),     TRANSPOSE($A$12:$C$14))","v":474.82965309583994},-94.844280634176243,5576.7016347764375,null,-8.5036179847533138,42.572624841070166," ",457.42737515892986,491.4963820152467]
[null,null,null,null,null,null,null,null,null,null,null,null,null,null,null,null,null,null,null,null,921.21820000000002,514.88130000000001,null,null,null,"''",null,4.4390939999999999,15.618264999999999,null,15.618264999999999,66.586410000000001,null,{"$f":"camera!$B$5*COS(RADIANS(AE898))*COS(RADIANS(AF898))","v":191.34677499166503},{"$f":"camera!$B$5*COS(RADIANS(AE898))*SIN(RADIANS(AF898))","v":441.88871648991454},{"$f":"camera!$B$5*SIN(RADIANS(AE898))","v":134.6134240675315},null,{"$f":"TRANSPOSE(MMULT(camera!$A$12:$C$14,MMULT(camera!$A$16:$C$18,TRANSPOSE(AH898:AJ898))))","v":-211.9054466527574},-152.10550344616308,426.56769392475644,null,{"$f":"camera!$B$5*AM898/AN898","v":-178.28999431095389},{"$f":"camera!$B$5*AL898/AN898","v":-248.38431235035821},null,{"$f":"IF( AND( (camera!$B$3) > (AQ898+camera!$B$3/2), 0 < (AQ898+camera!$B$3/2), AN898 >= 0 ), AQ898+camera!$B$3/2, 0)*-1+camera!$B$3","v":748.38431235035819},{"$f":"IF( AND( (camera!$B$4) > (AP898+camera!$B$4/2), 0 < (AP898+camera!$B$4/2), AN898 >= 0 ), AP898+camera!$B$4/2, 0)","v":321.71000568904611},null,null,null,-4687.6794,1761.6746000000001,0,null,{"$f":"MMULT(               MMULT(AX898:AZ898-$B$2:$D$2, TRANSPOSE($A$16:$C$18)),     TRANSPOSE($A$12:$C$14))","v":472.73556173791542},-232.68375623033876,5588.5778170232534,null,-20.817796928725365,42.294799966632411," ",457.70520003336765,479.18220307127461]
[null,null,null,null,null,null,null,null,null,null,null,null,null,null,null,null,null,null,null,null,921.21820000000002,104.8813,null,null,null,"''",null,6.7976799999999997,2.4121589999999999,null,{"$f":"AC899","v":2.4121589999999999},{"$f":"IF(AB899*15/1>180, (AB899*15/1)-360, AB899*15/1)","v":101.9652},null,{"$f":"camera!$B$5*COS(RADIANS(AE899))*COS(RADIANS(AF899))","v":-103.5669253920159},{"$f":"camera!$B$5*COS(RADIANS(AE899))*SIN(RADIANS(AF899))","v":488.70343638777683},{"$f":"camera!$B$5*SIN(RADIANS(AE899))","v":21.043840610088537},null,{"$f":"TRANSPOSE(MMULT(camera!$A$12:$C$14,MMULT(camera!$A$16:$C$18,TRANSPOSE(AH899:AJ899))))","v":-103.6962442550814},145.76613295489921,466.90397664912342,null,{"$f":"camera!$B$5*AM899/AN899","v":156.0986201071081},{"$f":"camera!$B$5*AL899/AN899","v":-111.04664924819085},null,{"$f":"IF( AND( (camera!$B$3) > (AQ899+camera!$B$3/2), 0 < (AQ899+camera!$B$3/2), AN899 >= 0 ), AQ899+camera!$B$3/2, 0)*-1+camera!$B$3","v":611.04664924819087},{"$f":"IF( AND( (camera!$B$4) > (AP899+camera!$B$4/2), 0 < (AP899+camera!$B$4/2), AN899 >= 0 ), AP899+camera!$B$4/2, 0)","v":656.0986201071081},null,null,null,-4721.7844999999998,1597.0007000000001,0,null,{"$f":"MMULT(               MMULT(AX899:AZ899-$B$2:$D$2, TRANSPOSE($A$16:$C$18)),     TRANSPOSE($A$12:$C$14))","v":501.73823199625474},-213.06071249810373,5424.0955004667658,null,-19.640206600323406,46.250866338275031," ",453.74913366172495,480.35979339967662]
[null,null,null,null,null,null,null,null,null,null,null,null,null,null,null,null,null,null,null,null,921.65679999999998,562.16219999999998,null,null,null,"''",null,10.132300000000001,-0.371637,null,-0.371637,151.98450000000003,null,{"$f":"camera!$B$5*COS(RADIANS(AE900))*COS(RADIANS(AF900))","v":-441.40099267306829},{"$f":"camera!$B$5*COS(RADIANS(AE900))*SIN(RADIANS(AF900))","v":234.85026256660308},{"$f":"camera!$B$5*SIN(RADIANS(AE900))","v":-3.2431218952625569},null,{"$f":"TRANSPOSE(MMULT(camera!$A$12:$C$14,MMULT(camera!$A$16:$C$18,TRANSPOSE(AH900:AJ900))))","v":-30.751928267203652},460.18987770181889,193.07924634365492,null,{"$f":"camera!$B$5*AM900/AN900","v":1191.7124352213991},{"$f":"camera!$B$5*AL900/AN900","v":-79.635509381648887},null,{"$f":"IF( AND( (camera!$B$3) > (AQ900+camera!$B$3/2), 0 < (AQ900+camera!$B$3/2), AN900 >= 0 ), AQ900+camera!$B$3/2, 0)*-1+camera!$B$3","v":579.63550938164894},{"$f":"IF( AND( (camera!$B$4) > (AP900+camera!$B$4/2), 0 < (AP900+camera!$B$4/2), AN900 >= 0 ), AP900+camera!$B$4/2, 0)","v":0},null,null,null,-4843.2605000000003,1647.3177000000001,0,null,{"$f":"MMULT(               MMULT(AX900:AZ900-$B$2:$D$2, TRANSPOSE($A$16:$C$18)),     TRANSPOSE($A$12:$C$14))","v":494.8724960316772},-87.66154984487639,5463.0330240209705,null,{"$f":"$B$5*BC900/BD900","v":-8.0231575993983864},{"$f":"$B$5*BB900/BD900","v":45.292834022393926}," ",{"$f":"IF( AND( ($B$3) > (BG900+$B$3/2), 0 < (BG900+$B$3/2), BD900 >= 0 ), BG900+$B$3/2, 0)*-1+$B$3","v":454.70716597760611},{"$f":"IF( AND( ($B$4) > (BF900+$B$4/2), 0 < (BF900+$B$4/2), BD900 >= 0 ), BF900+$B$4/2, 0)","v":491.97684240060164}]
[null,null,null,null,null,null,null,null,null,null,null,null,null,null,null,null,null,null,null,null,921.65679999999998,152.16220000000001,null,null,null,"''",null,15.389625000000001,-59.320787000000003,null,-59.320787000000003,-129.15562499999999,null,{"$f":"camera!$B$5*COS(RADIANS(AE901))*COS(RADIANS(AF901))","v":-161.08728374526729},{"$f":"camera!$B$5*COS(RADIANS(AE901))*SIN(RADIANS(AF901))","v":-197.82514280726042},{"$f":"camera!$B$5*SIN(RADIANS(AE901))","v":-430.0187203934949},null,{"$f":"TRANSPOSE(MMULT(camera!$A$12:$C$14,MMULT(camera!$A$16:$C$18,TRANSPOSE(AH901:AJ901))))","v":460.14499086135277},143.23270074150759,-133.23280685889364,null,{"$f":"camera!$B$5*AM901/AN901","v":-537.52789616301027},{"$f":"camera!$B$5*AL901/AN901","v":-1726.8456685322653},null,{"$f":"IF( AND( (camera!$B$3) > (AQ901+camera!$B$3/2), 0 < (AQ901+camera!$B$3/2), AN901 >= 0 ), AQ901+camera!$B$3/2, 0)*-1+camera!$B$3","v":1000},{"$f":"IF( AND( (camera!$B$4) > (AP901+camera!$B$4/2), 0 < (AP901+camera!$B$4/2), AN901 >= 0 ), AP901+camera!$B$4/2, 0)","v":0},null,null,null,-4911.9501,1554.2823000000001,0,null,{"$f":"MMULT(               MMULT(AX901:AZ901-$B$2:$D$2, TRANSPOSE($A$16:$C$18)),     TRANSPOSE($A$12:$C$14))","v":512.00602576874394},-27.341903899659428,5365.8639483172637,null,-2.5477634322273355,47.709560911370957," ",452.290439088629,497.45223656777267]
[null,null,null,null,null,null,null,null,null,null,null,null,null,null,null,null,null,null,null,null,922.8655,485.00189999999998,null,null,null,"''",null,16.401717999999999,-20.037327000000001,null,-20.037327000000001,-113.97423000000001,null,{"$f":"camera!$B$5*COS(RADIANS(AE902))*COS(RADIANS(AF902))","v":-190.86532914110367},{"$f":"camera!$B$5*COS(RADIANS(AE902))*SIN(RADIANS(AF902))","v":-429.20998311311428},{"$f":"camera!$B$5*SIN(RADIANS(AE902))","v":-171.31613037860251},null,{"$f":"TRANSPOSE(MMULT(camera!$A$12:$C$14,MMULT(camera!$A$16:$C$18,TRANSPOSE(AH902:AJ902))))","v":245.85000892794125},152.73091406697014,-407.71441107520229,null,{"$f":"camera!$B$5*AM902/AN902","v":-187.30134368343332},{"$f":"camera!$B$5*AL902/AN902","v":-301.49781593395113},null,{"$f":"IF( AND( (camera!$B$3) > (AQ902+camera!$B$3/2), 0 < (AQ902+camera!$B$3/2), AN902 >= 0 ), AQ902+camera!$B$3/2, 0)*-1+camera!$B$3","v":1000},{"$f":"IF( AND( (camera!$B$4) > (AP902+camera!$B$4/2), 0 < (AP902+camera!$B$4/2), AN902 >= 0 ), AP902+camera!$B$4/2, 0)","v":0},null,null,null,-4814.1106,1456.4427000000001,0,null,{"$f":"MMULT(               MMULT(AX902:AZ902-$B$2:$D$2, TRANSPOSE($A$16:$C$18)),     TRANSPOSE($A$12:$C$14))","v":527.45029755404823},-133.33637807174063,5278.2751305240336,null,-12.630677141161343,49.964267162185834," ",450.03573283781418,487.36932285883864]
[null,null,null,null,null,null,null,null,null,null,null,null,null,null,null,null,null,null,null,null,922.8655,75.001900000000006,null,null,null,"''",null,23.064615,3.8200449999999999,null,3.8200449999999999,-14.030775000000006,null,{"$f":"camera!$B$5*COS(RADIANS(AE903))*COS(RADIANS(AF903))","v":484.00507527995944},{"$f":"camera!$B$5*COS(RADIANS(AE903))*SIN(RADIANS(AF903))","v":-120.95218803161281},{"$f":"camera!$B$5*SIN(RADIANS(AE903))","v":33.311489213275834},null,{"$f":"TRANSPOSE(MMULT(camera!$A$12:$C$14,MMULT(camera!$A$16:$C$18,TRANSPOSE(AH903:AJ903))))","v":-19.207352832237603},-492.70496762824143,-82.902909910518588,null,{"$f":"camera!$B$5*AM903/AN903","v":2971.5782483391927},{"$f":"camera!$B$5*AL903/AN903","v":115.84245265316439},null,{"$f":"IF( AND( (camera!$B$3) > (AQ903+camera!$B$3/2), 0 < (AQ903+camera!$B$3/2), AN903 >= 0 ), AQ903+camera!$B$3/2, 0)*-1+camera!$B$3","v":1000},{"$f":"IF( AND( (camera!$B$4) > (AP903+camera!$B$4/2), 0 < (AP903+camera!$B$4/2), AN903 >= 0 ), AP903+camera!$B$4/2, 0)","v":0},null,null,null,-4954.6684999999998,1364.1166000000001,0,null,{"$f":"MMULT(               MMULT(AX903:AZ903-$B$2:$D$2, TRANSPOSE($A$16:$C$18)),     TRANSPOSE($A$12:$C$14))","v":545.5488135122921},-1.3600931373255776,5175.6333460079841,null,-0.13139388422623005,52.703580126389667," ",447.29641987361038,499.86860611577379]
[null,null,null,null,null,null,null,null,null,null,null,null,null,null,null,null,null,null,null,null,923.10130000000004,500,null,null,null,"''",null,23.111345,-23.743115,null,-23.743115,-13.329825000000028,null,{"$f":"camera!$B$5*COS(RADIANS(AE904))*COS(RADIANS(AF904))","v":445.3495746944501},{"$f":"camera!$B$5*COS(RADIANS(AE904))*SIN(RADIANS(AF904))","v":-105.52098717575404},{"$f":"camera!$B$5*SIN(RADIANS(AE904))","v":-201.31834885307097},null,{"$f":"TRANSPOSE(MMULT(camera!$A$12:$C$14,MMULT(camera!$A$16:$C$18,TRANSPOSE(AH904:AJ904))))","v":209.77355675815556},-452.85164512079393,-30.338793588793294,null,{"$f":"camera!$B$5*AM904/AN904","v":7463.2441101427103},{"$f":"camera!$B$5*AL904/AN904","v":-3457.1835584728528},null,{"$f":"IF( AND( (camera!$B$3) > (AQ904+camera!$B$3/2), 0 < (AQ904+camera!$B$3/2), AN904 >= 0 ), AQ904+camera!$B$3/2, 0)*-1+camera!$B$3","v":1000},{"$f":"IF( AND( (camera!$B$4) > (AP904+camera!$B$4/2), 0 < (AP904+camera!$B$4/2), AN904 >= 0 ), AP904+camera!$B$4/2, 0)","v":0},null,null,null,-5004.9856,1485.5925999999999,0,null,{"$f":"MMULT(               MMULT(AX904:AZ904-$B$2:$D$2, TRANSPOSE($A$16:$C$18)),     TRANSPOSE($A$12:$C$14))","v":525.29651777253923},59.352866112041283,5290.4898226423657,null,5.6093923343374996,49.645357555019068," ",450.35464244498098,505.60939233433749]
[null,null,null,null,null,null,null,null,null,null,null,null,null,null,null,null,null,null,null,null,923.10130000000004,90,null,null,null,"''",null,2.0326439999999999,70.907020000000003,null,70.907020000000003,30.489659999999997,null,{"$f":"camera!$B$5*COS(RADIANS(AE905))*COS(RADIANS(AF905))","v":140.93534024485388},{"$f":"camera!$B$5*COS(RADIANS(AE905))*SIN(RADIANS(AF905))","v":82.98300426405126},{"$f":"camera!$B$5*SIN(RADIANS(AE905))","v":472.49449824667772},null,{"$f":"TRANSPOSE(MMULT(camera!$A$12:$C$14,MMULT(camera!$A$16:$C$18,TRANSPOSE(AH905:AJ905))))","v":-481.80423564982328},-133.16659335361419,11.460232304920481,null,{"$f":"camera!$B$5*AM905/AN905","v":-5809.9430190624826},{"$f":"camera!$B$5*AL905/AN905","v":-21020.701100577138},null,{"$f":"IF( AND( (camera!$B$3) > (AQ905+camera!$B$3/2), 0 < (AQ905+camera!$B$3/2), AN905 >= 0 ), AQ905+camera!$B$3/2, 0)*-1+camera!$B$3","v":1000},{"$f":"IF( AND( (camera!$B$4) > (AP905+camera!$B$4/2), 0 < (AP905+camera!$B$4/2), AN905 >= 0 ), AP905+camera!$B$4/2, 0)","v":0},null,null,null,-5119.3424999999997,1468.3775000000001,0,null,{"$f":"MMULT(               MMULT(AX905:AZ905-$B$2:$D$2, TRANSPOSE($A$16:$C$18)),     TRANSPOSE($A$12:$C$14))","v":530.00524023062485},171.77420875527389,5263.7853305721992,null,16.316604683477966,50.344496113124222," ",449.65550388687575,516.31660468347798]
[null,null,null,null,null,null,null,null,null,null,null,null,null,null,null,null,null,null,null,null,924.56859999999995,459.30619999999999,null,null,null,"''",null,4.5584899999999999,-29.766492,null,-29.766492,68.377349999999993,null,{"$f":"camera!$B$5*COS(RADIANS(AE906))*COS(RADIANS(AF906))","v":159.93587105254383},{"$f":"camera!$B$5*COS(RADIANS(AE906))*SIN(RADIANS(AF906))","v":403.48581045900397},{"$f":"camera!$B$5*SIN(RADIANS(AE906))","v":-248.23319260103958},null,{"$f":"TRANSPOSE(MMULT(camera!$A$12:$C$14,MMULT(camera!$A$16:$C$18,TRANSPOSE(AH906:AJ906))))","v":172.24347460265128},-124.16116127853395,452.67669642557451,null,{"$f":"camera!$B$5*AM906/AN906","v":-137.14110120858356},{"$f":"camera!$B$5*AL906/AN906","v":190.24999073590504},null,{"$f":"IF( AND( (camera!$B$3) > (AQ906+camera!$B$3/2), 0 < (AQ906+camera!$B$3/2), AN906 >= 0 ), AQ906+camera!$B$3/2, 0)*-1+camera!$B$3","v":309.75000926409496},{"$f":"IF( AND( (camera!$B$4) > (AP906+camera!$B$4/2), 0 < (AP906+camera!$B$4/2), AN906 >= 0 ), AP906+camera!$B$4/2, 0)","v":362.85889879141644},null,null,null,-5119.3424999999997,1330.0115000000001,0,null,{"$f":"MMULT(               MMULT(AX906:AZ906-$B$2:$D$2, TRANSPOSE($A$16:$C$18)),     TRANSPOSE($A$12:$C$14))","v":553.94081397846378},159.71481725425144,5128.0399463339609,null,15.572696286076289,54.01096908132282," ",445.98903091867714,515.57269628607628]
[null,null,null,null,null,null,null,null,null,null,null,null,null,null,null,null,null,null,null,null,924.56859999999995,49.306199999999997,null,null,null,"''",null,6.7331370000000001,13.228016999999999,null,13.228016999999999,100.997055,null,{"$f":"camera!$B$5*COS(RADIANS(AE907))*COS(RADIANS(AF907))","v":-92.848583569610781},{"$f":"camera!$B$5*COS(RADIANS(AE907))*SIN(RADIANS(AF907))","v":477.79566930630926},{"$f":"camera!$B$5*SIN(RADIANS(AE907))","v":114.41345603229091},null,{"$f":"TRANSPOSE(MMULT(camera!$A$12:$C$14,MMULT(camera!$A$16:$C$18,TRANSPOSE(AH907:AJ907))))","v":-193.9226752749494},134.13790311738046,440.90930922524058,null,{"$f":"camera!$B$5*AM907/AN907","v":152.11507254528786},{"$f":"camera!$B$5*AL907/AN907","v":-219.91220327793431},null,{"$f":"IF( AND( (camera!$B$3) > (AQ907+camera!$B$3/2), 0 < (AQ907+camera!$B$3/2), AN907 >= 0 ), AQ907+camera!$B$3/2, 0)*-1+camera!$B$3","v":719.91220327793428},{"$f":"IF( AND( (camera!$B$4) > (AP907+camera!$B$4/2), 0 < (AP907+camera!$B$4/2), AN907 >= 0 ), AP907+camera!$B$4/2, 0)","v":652.11507254528783},null,null,null,-5284.0164000000004,1364.1166000000001,0,null,{"$f":"MMULT(               MMULT(AX907:AZ907-$B$2:$D$2, TRANSPOSE($A$16:$C$18)),     TRANSPOSE($A$12:$C$14))","v":550.53330819408257},326.73453867032549,5147.364871939164,null,31.738039443397273,53.477198711452573," ",446.52280128854738,531.73803944339727]
[null,null,null,null,null,null,null,null,null,null,null,null,null,null,null,null,null,null,null,null,924.94200000000001,547.16219999999998,null,null,null,"''",null,7.2093499999999997,-46.759304999999998,null,-46.759304999999998,108.14024999999999,null,{"$f":"camera!$B$5*COS(RADIANS(AE908))*COS(RADIANS(AF908))","v":-106.64541997545705},{"$f":"camera!$B$5*COS(RADIANS(AE908))*SIN(RADIANS(AF908))","v":325.50754579034532},{"$f":"camera!$B$5*SIN(RADIANS(AE908))","v":-364.24111798615576},null,{"$f":"TRANSPOSE(MMULT(camera!$A$12:$C$14,MMULT(camera!$A$16:$C$18,TRANSPOSE(AH908:AJ908))))","v":304.01279318216689},134.60945387864274,373.43877210068933,null,{"$f":"camera!$B$5*AM908/AN908","v":180.22961718922471},{"$f":"camera!$B$5*AL908/AN908","v":407.04503106629312},null,{"$f":"IF( AND( (camera!$B$3) > (AQ908+camera!$B$3/2), 0 < (AQ908+camera!$B$3/2), AN908 >= 0 ), AQ908+camera!$B$3/2, 0)*-1+camera!$B$3","v":92.954968933706823},{"$f":"IF( AND( (camera!$B$4) > (AP908+camera!$B$4/2), 0 < (AP908+camera!$B$4/2), AN908 >= 0 ), AP908+camera!$B$4/2, 0)","v":680.22961718922465},null,null,null,-5233.6993000000002,1485.5925999999999,0,null,{"$f":"MMULT(               MMULT(AX908:AZ908-$B$2:$D$2, TRANSPOSE($A$16:$C$18)),     TRANSPOSE($A$12:$C$14))","v":528.75797060494722},287.19624143298762,5270.8589481244662,null,27.243779833567817,50.158615114629043," ",449.84138488537099,527.24377983356783]
[null,null,null,null,null,null,null,null,null,null,null,null,null,null,null,null,null,null,null,null,924.94200000000001,137.16220000000001,null,null,null,"''",null,7.877402,-38.862811999999998,null,-38.862811999999998,118.16103,null,{"$f":"camera!$B$5*COS(RADIANS(AE909))*COS(RADIANS(AF909))","v":-183.74254726145875},{"$f":"camera!$B$5*COS(RADIANS(AE909))*SIN(RADIANS(AF909))","v":343.23876860283713},{"$f":"camera!$B$5*SIN(RADIANS(AE909))","v":-313.72890216535455},null,{"$f":"TRANSPOSE(MMULT(camera!$A$12:$C$14,MMULT(camera!$A$16:$C$18,TRANSPOSE(AH909:AJ909))))","v":252.36751492566526},212.95858121310903,375.44544223887402,null,{"$f":"camera!$B$5*AM909/AN909","v":283.6078924586011},{"$f":"camera!$B$5*AL909/AN909","v":336.09079580342666},null,{"$f":"IF( AND( (camera!$B$3) > (AQ909+camera!$B$3/2), 0 < (AQ909+camera!$B$3/2), AN909 >= 0 ), AQ909+camera!$B$3/2, 0)*-1+camera!$B$3","v":163.90920419657334},{"$f":"IF( AND( (camera!$B$4) > (AP909+camera!$B$4/2), 0 < (AP909+camera!$B$4/2), AN909 >= 0 ), AP909+camera!$B$4/2, 0)","v":783.6078924586011},null,null,null,-5326.7348000000002,1554.2823000000001,0,null,{"$f":"MMULT(               MMULT(AX909:AZ909-$B$2:$D$2, TRANSPOSE($A$16:$C$18)),     TRANSPOSE($A$12:$C$14))","v":518.28355822374999},385.86441508991601,5330.2622926331287,null,36.195631087724628,48.617078275872231," ",451.38292172412775,536.19563108772468]
[null,null,null,null,null,null,null,null,null,null,null,null,null,null,null,null,null,null,null,null,925.30179999999996,517.20039999999995,null,null,null,"''",null,10.123821,35.244692999999998,null,35.244692999999998,151.857315,null,{"$f":"camera!$B$5*COS(RADIANS(AE910))*COS(RADIANS(AF910))","v":-360.07091515054407},{"$f":"camera!$B$5*COS(RADIANS(AE910))*SIN(RADIANS(AF910))","v":192.60483042765676},{"$f":"camera!$B$5*SIN(RADIANS(AE910))","v":288.53477322254122},null,{"$f":"TRANSPOSE(MMULT(camera!$A$12:$C$14,MMULT(camera!$A$16:$C$18,TRANSPOSE(AH910:AJ910))))","v":-312.0200191709597},375.48735366272393,107.94792668652056,null,{"$f":"camera!$B$5*AM910/AN910","v":1739.2059541501642},{"$f":"camera!$B$5*AL910/AN910","v":-1445.2339602457673},null,{"$f":"IF( AND( (camera!$B$3) > (AQ910+camera!$B$3/2), 0 < (AQ910+camera!$B$3/2), AN910 >= 0 ), AQ910+camera!$B$3/2, 0)*-1+camera!$B$3","v":1000},{"$f":"IF( AND( (camera!$B$4) > (AP910+camera!$B$4/2), 0 < (AP910+camera!$B$4/2), AN910 >= 0 ), AP910+camera!$B$4/2, 0)","v":0},null,null,null,-5424.5743000000002,1456.4427000000001,0,null,{"$f":"MMULT(               MMULT(AX910:AZ910-$B$2:$D$2, TRANSPOSE($A$16:$C$18)),     TRANSPOSE($A$12:$C$14))","v":536.68932129179223},474.80432324572962,5225.8780231691489,null,45.428186530633205,51.349200929715316," ",448.65079907028473,545.42818653063318]
[null,null,null,null,null,null,null,null,null,null,null,null,null,null,null,null,null,null,null,null,925.30179999999996,107.2004,null,null,null,"''",null,14.678768,16.418323999999998,null,16.418323999999998,-139.81847999999999,null,{"$f":"camera!$B$5*COS(RADIANS(AE911))*COS(RADIANS(AF911))","v":-366.42542747985476},{"$f":"camera!$B$5*COS(RADIANS(AE911))*SIN(RADIANS(AF911))","v":-309.45096308998598},{"$f":"camera!$B$5*SIN(RADIANS(AE911))","v":141.32412228238249},null,{"$f":"TRANSPOSE(MMULT(camera!$A$12:$C$14,MMULT(camera!$A$16:$C$18,TRANSPOSE(AH911:AJ911))))","v":-80.100333513975471},338.06063956934685,-359.58161875284173,null,{"$f":"camera!$B$5*AM911/AN911","v":-470.07497316167417},{"$f":"camera!$B$5*AL911/AN911","v":111.37990561335172},null,{"$f":"IF( AND( (camera!$B$3) > (AQ911+camera!$B$3/2), 0 < (AQ911+camera!$B$3/2), AN911 >= 0 ), AQ911+camera!$B$3/2, 0)*-1+camera!$B$3","v":1000},{"$f":"IF( AND( (camera!$B$4) > (AP911+camera!$B$4/2), 0 < (AP911+camera!$B$4/2), AN911 >= 0 ), AP911+camera!$B$4/2, 0)","v":0},null,null,null,-5516.9004999999997,1597.0007000000001,0,null,{"$f":"MMULT(               MMULT(AX911:AZ911-$B$2:$D$2, TRANSPOSE($A$16:$C$18)),     TRANSPOSE($A$12:$C$14))","v":513.77186413238337},579.02963106981269,5355.8493813091718,null,54.055817279935901,47.963621412258433," ",452.03637858774152,554.05581727993592]
[null,null,null,null,null,null,null,null,null,null,null,null,null,null,null,null,null,null,null,null,925.7056,444.30619999999999,null,null,null,"''",null,19.607372000000002,50.221102999999999,null,50.221102999999999,-65.889419999999973,null,{"$f":"camera!$B$5*COS(RADIANS(AE912))*COS(RADIANS(AF912))","v":130.6842847021515},{"$f":"camera!$B$5*COS(RADIANS(AE912))*SIN(RADIANS(AF912))","v":-292.00370583930277},{"$f":"camera!$B$5*SIN(RADIANS(AE912))","v":384.25961732662068},null,{"$f":"TRANSPOSE(MMULT(camera!$A$12:$C$14,MMULT(camera!$A$16:$C$18,TRANSPOSE(AH912:AJ912))))","v":-329.88672315328785},-155.63679141168865,-341.9823665721093,null,{"$f":"camera!$B$5*AM912/AN912","v":227.55090119371926},{"$f":"camera!$B$5*AL912/AN912","v":482.3153989779309},null,{"$f":"IF( AND( (camera!$B$3) > (AQ912+camera!$B$3/2), 0 < (AQ912+camera!$B$3/2), AN912 >= 0 ), AQ912+camera!$B$3/2, 0)*-1+camera!$B$3","v":1000},{"$f":"IF( AND( (camera!$B$4) > (AP912+camera!$B$4/2), 0 < (AP912+camera!$B$4/2), AN912 >= 0 ), AP912+camera!$B$4/2, 0)","v":0},null,null,null,-5395.4243999999999,1647.3177000000001,0,null,{"$f":"MMULT(               MMULT(AX912:AZ912-$B$2:$D$2, TRANSPOSE($A$16:$C$18)),     TRANSPOSE($A$12:$C$14))","v":503.22918518326037},462.40119981278394,5415.6398847634,null,42.691280222834223,46.460731870214225," ",453.5392681297858,542.69128022283417]
[null,null,null,null,null,null,null,null,null,null,null,null,null,null,null,null,null,null,null,null,925.7056,34.306199999999997,null,null,null,"''",null,21.118797000000001,-25.005852999999998,null,-25.005852999999998,-43.218044999999961,null,{"$f":"camera!$B$5*COS(RADIANS(AE913))*COS(RADIANS(AF913))","v":330.22152526224471},{"$f":"camera!$B$5*COS(RADIANS(AE913))*SIN(RADIANS(AF913))","v":-310.29442492297068},{"$f":"camera!$B$5*SIN(RADIANS(AE913))","v":-211.35542130543885},null,{"$f":"TRANSPOSE(MMULT(camera!$A$12:$C$14,MMULT(camera!$A$16:$C$18,TRANSPOSE(AH913:AJ913))))","v":256.82376495234314},-356.00887373663653,-239.37258735384711,null,{"$f":"camera!$B$5*AM913/AN913","v":743.62916337277682},{"$f":"camera!$B$5*AL913/AN913","v":-536.45191329427212},null,{"$f":"IF( AND( (camera!$B$3) > (AQ913+camera!$B$3/2), 0 < (AQ913+camera!$B$3/2), AN913 >= 0 ), AQ913+camera!$B$3/2, 0)*-1+camera!$B$3","v":1000},{"$f":"IF( AND( (camera!$B$4) > (AP913+camera!$B$4/2), 0 < (AP913+camera!$B$4/2), AN913 >= 0 ), AP913+camera!$B$4/2, 0)","v":0},null,null,null,-5412.6395000000002,1761.6746000000001,0,null,{"$f":"MMULT(               MMULT(AX913:AZ913-$B$2:$D$2, TRANSPOSE($A$16:$C$18)),     TRANSPOSE($A$12:$C$14))","v":483.70742390239332},489.5176517177232,5526.353294602498,null,44.289391722008375,43.763708011105869," ",456.2362919888941,544.28939172200842]
[null,null,null,null,null,null,null,null,null,null,null,null,null,null,null,null,null,null,null,null,926.4701,481.63119999999998,null,null,null,"''",null,21.735710000000001,28.742632,null,28.742632,-33.964349999999968,null,{"$f":"camera!$B$5*COS(RADIANS(AE914))*COS(RADIANS(AF914))","v":363.59780947732156},{"$f":"camera!$B$5*COS(RADIANS(AE914))*SIN(RADIANS(AF914))","v":-244.9207952113357},{"$f":"camera!$B$5*SIN(RADIANS(AE914))","v":240.43801075607897},null,{"$f":"TRANSPOSE(MMULT(camera!$A$12:$C$14,MMULT(camera!$A$16:$C$18,TRANSPOSE(AH914:AJ914))))","v":-199.91985477115139},-383.56046386007137,-250.82548162363526,null,{"$f":"camera!$B$5*AM914/AN914","v":764.59628698252743},{"$f":"camera!$B$5*AL914/AN914","v":398.52381320477639},null,{"$f":"IF( AND( (camera!$B$3) > (AQ914+camera!$B$3/2), 0 < (AQ914+camera!$B$3/2), AN914 >= 0 ), AQ914+camera!$B$3/2, 0)*-1+camera!$B$3","v":1000},{"$f":"IF( AND( (camera!$B$4) > (AP914+camera!$B$4/2), 0 < (AP914+camera!$B$4/2), AN914 >= 0 ), AP914+camera!$B$4/2, 0)","v":0},null,null,null,-5551.0055000000002,1761.6746000000001,0,null,{"$f":"MMULT(               MMULT(AX914:AZ914-$B$2:$D$2, TRANSPOSE($A$16:$C$18)),     TRANSPOSE($A$12:$C$14))","v":485.80151526031796},627.3571273138856,5514.477112355682,null,56.882739245415991,44.047831314036642," ",455.95216868596333,556.88273924541602]
[null,null,null,null,null,null,null,null,null,null,null,null,null,null,null,null,null,null,null,null,926.4701,71.631200000000007,null,null,null,"''",null,23.700779000000001,1.780041,null,1.780041,-4.4883150000000001,null,{"$f":"camera!$B$5*COS(RADIANS(AE915))*COS(RADIANS(AF915))","v":498.22611780339264},{"$f":"camera!$B$5*COS(RADIANS(AE915))*SIN(RADIANS(AF915))","v":-39.109009039794344},{"$f":"camera!$B$5*SIN(RADIANS(AE915))","v":15.531289401888586},null,{"$f":"TRANSPOSE(MMULT(camera!$A$12:$C$14,MMULT(camera!$A$16:$C$18,TRANSPOSE(AH915:AJ915))))","v":-16.070339908737658},-499.73879173756137,1.6982955867432752,null,{"$f":"camera!$B$5*AM915/AN915","v":-147129.50903201778},{"$f":"camera!$B$5*AL915/AN915","v":-4731.3141582010567},null,{"$f":"IF( AND( (camera!$B$3) > (AQ915+camera!$B$3/2), 0 < (AQ915+camera!$B$3/2), AN915 >= 0 ), AQ915+camera!$B$3/2, 0)*-1+camera!$B$3","v":1000},{"$f":"IF( AND( (camera!$B$4) > (AP915+camera!$B$4/2), 0 < (AP915+camera!$B$4/2), AN915 >= 0 ), AP915+camera!$B$4/2, 0)","v":0},null,null,null,-5516.9004999999997,1926.3485000000001,0,null,{"$f":"MMULT(               MMULT(AX915:AZ915-$B$2:$D$2, TRANSPOSE($A$16:$C$18)),     TRANSPOSE($A$12:$C$14))","v":456.79884651542193},607.73418320111978,5678.9594203290053,null,53.50753000854435,40.218534127943961," ",459.78146587205606,553.50753000854434]
[null,null,null,null,null,null,null,null,null,null,null,null,null,null,null,null,null,null,null,null,926.65679999999998,562.16219999999998,null,null,null,"''",null,23.712039000000001,-14.544905,null,-14.544905,-4.3194149999999922,null,{"$f":"camera!$B$5*COS(RADIANS(AE916))*COS(RADIANS(AF916))","v":482.60090448044929},{"$f":"camera!$B$5*COS(RADIANS(AE916))*SIN(RADIANS(AF916))","v":-36.451405081222383},{"$f":"camera!$B$5*SIN(RADIANS(AE916))","v":-125.5693516040313},null,{"$f":"TRANSPOSE(MMULT(camera!$A$12:$C$14,MMULT(camera!$A$16:$C$18,TRANSPOSE(AH916:AJ916))))","v":122.66341211548698},-483.94141162175418,27.466296541944047,null,{"$f":"camera!$B$5*AM916/AN916","v":-8809.7317904276351},{"$f":"camera!$B$5*AL916/AN916","v":2232.980553606244},null,{"$f":"IF( AND( (camera!$B$3) > (AQ916+camera!$B$3/2), 0 < (AQ916+camera!$B$3/2), AN916 >= 0 ), AQ916+camera!$B$3/2, 0)*-1+camera!$B$3","v":1000},{"$f":"IF( AND( (camera!$B$4) > (AP916+camera!$B$4/2), 0 < (AP916+camera!$B$4/2), AN916 >= 0 ), AP916+camera!$B$4/2, 0)","v":0},null,null,null,-5395.4243999999999,1876.0315000000001,0,null,{"$f":"MMULT(               MMULT(AX916:AZ916-$B$2:$D$2, TRANSPOSE($A$16:$C$18)),     TRANSPOSE($A$12:$C$14))","v":463.66458096655629},482.33492092842329,5640.021905357964,null,42.760021948692255,41.104856394802262," ",458.89514360519775,542.76002194869227]
[null,null,null,null,null,null,null,null,null,null,null,null,null,null,null,null,null,null,null,null,926.65679999999998,152.16220000000001,null,null,null,"''",null,23.998594000000001,-65.577132000000006,null,-65.577132000000006,-2.1090000000015152E-2,null,{"$f":"camera!$B$5*COS(RADIANS(AE917))*COS(RADIANS(AF917))","v":206.73392134399791},{"$f":"camera!$B$5*COS(RADIANS(AE917))*SIN(RADIANS(AF917))","v":-7.6096679984357277E-2},{"$f":"camera!$B$5*SIN(RADIANS(AE917))","v":-455.25935462660073},null,{"$f":"TRANSPOSE(MMULT(camera!$A$12:$C$14,MMULT(camera!$A$16:$C$18,TRANSPOSE(AH917:AJ917))))","v":445.22730455275439},-205.95386862127134,96.724615691255252,null,{"$f":"camera!$B$5*AM917/AN917","v":-1064.6404079736828},{"$f":"camera!$B$5*AL917/AN917","v":2301.5201527081736},null,{"$f":"IF( AND( (camera!$B$3) > (AQ917+camera!$B$3/2), 0 < (AQ917+camera!$B$3/2), AN917 >= 0 ), AQ917+camera!$B$3/2, 0)*-1+camera!$B$3","v":1000},{"$f":"IF( AND( (camera!$B$4) > (AP917+camera!$B$4/2), 0 < (AP917+camera!$B$4/2), AN917 >= 0 ), AP917+camera!$B$4/2, 0)","v":0},null,null,null,-5326.7348000000002,1969.0669,0,null,{"$f":"MMULT(               MMULT(AX917:AZ917-$B$2:$D$2, TRANSPOSE($A$16:$C$18)),     TRANSPOSE($A$12:$C$14))","v":446.53105122948944},422.01527498320627,5737.1909810616708,null,36.778911175893263,38.915477339300509," ",461.08452266069946,536.77891117589331]
[null,null,null,null,null,null,null,null,null,null,null,null,null,null,null,null,null,null,null,null,928.10130000000004,485,null,null,null,"''",null,5.6530959999999997,4.121467,null,4.121467,84.79643999999999,null,{"$f":"camera!$B$5*COS(RADIANS(AE918))*COS(RADIANS(AF918))","v":45.229957677411832},{"$f":"camera!$B$5*COS(RADIANS(AE918))*SIN(RADIANS(AF918))","v":496.6516740815905},{"$f":"camera!$B$5*SIN(RADIANS(AE918))","v":35.935575137363514},null,{"$f":"TRANSPOSE(MMULT(camera!$A$12:$C$14,MMULT(camera!$A$16:$C$18,TRANSPOSE(AH918:AJ918))))","v":-121.98864168742459},-1.7717984917028531,484.88723640591104,null,{"$f":"camera!$B$5*AM918/AN918","v":-1.8270211697422747},{"$f":"camera!$B$5*AL918/AN918","v":-125.7907329048613},null,{"$f":"IF( AND( (camera!$B$3) > (AQ918+camera!$B$3/2), 0 < (AQ918+camera!$B$3/2), AN918 >= 0 ), AQ918+camera!$B$3/2, 0)*-1+camera!$B$3","v":625.79073290486133},{"$f":"IF( AND( (camera!$B$4) > (AP918+camera!$B$4/2), 0 < (AP918+camera!$B$4/2), AN918 >= 0 ), AP918+camera!$B$4/2, 0)","v":498.1729788302577},null,null,null,-5424.5743000000002,2066.9065000000001,0,null,{"$f":"MMULT(               MMULT(AX918:AZ918-$B$2:$D$2, TRANSPOSE($A$16:$C$18)),     TRANSPOSE($A$12:$C$14))","v":431.08677944418525},528.00974915528741,5824.7797988549009,null,45.324438638786766,37.004555908614179," ",462.99544409138582,545.32443863878677]
[null,null,null,null,null,null,null,null,null,null,null,null,null,null,null,null,null,null,null,null,928.10130000000004,500,null,null,null,"''",null,5.8304510000000001,-56.166663,null,-56.166663,87.456765000000004,null,{"$f":"camera!$B$5*COS(RADIANS(AE919))*COS(RADIANS(AF919))","v":12.353047297815543},{"$f":"camera!$B$5*COS(RADIANS(AE919))*SIN(RADIANS(AF919))","v":278.11530335724416},{"$f":"camera!$B$5*SIN(RADIANS(AE919))","v":-415.33032668102385},null,{"$f":"TRANSPOSE(MMULT(camera!$A$12:$C$14,MMULT(camera!$A$16:$C$18,TRANSPOSE(AH919:AJ919))))","v":360.72312783559511},11.933305610230466,346.02950923543756,null,{"$f":"camera!$B$5*AM919/AN919","v":17.243190669774751},{"$f":"camera!$B$5*AL919/AN919","v":521.23174210289687},null,{"$f":"IF( AND( (camera!$B$3) > (AQ919+camera!$B$3/2), 0 < (AQ919+camera!$B$3/2), AN919 >= 0 ), AQ919+camera!$B$3/2, 0)*-1+camera!$B$3","v":1000},{"$f":"IF( AND( (camera!$B$4) > (AP919+camera!$B$4/2), 0 < (AP919+camera!$B$4/2), AN919 >= 0 ), AP919+camera!$B$4/2, 0)","v":517.24319066977478},null,null,null,-5284.0164000000004,2159.2325999999998,0,null,{"$f":"MMULT(               MMULT(AX919:AZ919-$B$2:$D$2, TRANSPOSE($A$16:$C$18)),     TRANSPOSE($A$12:$C$14))","v":412.98826348594127},396.03346422087236,5927.4215833709513,null,33.406891904898586,34.837092121518459," ",465.16290787848152,533.40689190489854]
[null,null,null,null,null,null,null,null,null,null,null,null,null,null,null,null,null,null,null,null,928.10130000000004,515,null,null,null,"''",null,8.7784870000000002,-56.769776,null,-56.769776,131.67730499999999,null,{"$f":"camera!$B$5*COS(RADIANS(AE920))*COS(RADIANS(AF920))","v":-182.19358055330957},{"$f":"camera!$B$5*COS(RADIANS(AE920))*SIN(RADIANS(AF920))","v":204.65274296557769},{"$f":"camera!$B$5*SIN(RADIANS(AE920))","v":-418.23767644944417},null,{"$f":"TRANSPOSE(MMULT(camera!$A$12:$C$14,MMULT(camera!$A$16:$C$18,TRANSPOSE(AH920:AJ920))))","v":379.23875877050699},199.33694079206884,257.76490816607389,null,{"$f":"camera!$B$5*AM920/AN920","v":386.66423255651068},{"$f":"camera!$B$5*AL920/AN920","v":735.62914647437071},null,{"$f":"IF( AND( (camera!$B$3) > (AQ920+camera!$B$3/2), 0 < (AQ920+camera!$B$3/2), AN920 >= 0 ), AQ920+camera!$B$3/2, 0)*-1+camera!$B$3","v":1000},{"$f":"IF( AND( (camera!$B$4) > (AP920+camera!$B$4/2), 0 < (AP920+camera!$B$4/2), AN920 >= 0 ), AP920+camera!$B$4/2, 0)","v":886.66423255651068},null,null,null,-5233.6993000000002,2037.7565,0,null,{"$f":"MMULT(               MMULT(AX920:AZ920-$B$2:$D$2, TRANSPOSE($A$16:$C$18)),     TRANSPOSE($A$12:$C$14))","v":433.24057652443366},335.32049625593123,5812.5650086305432,null,28.844451267043436,37.267589771568538," ",462.73241022843149,528.84445126704338]
[null,null,null,null,null,null,null,null,null,null,null,null,null,null,null,null,null,null,null,null,928.10130000000004,75,null,null,null,"''",null,10.348557,-56.043219999999998,null,-56.043219999999998,155.22835499999999,null,{"$f":"camera!$B$5*COS(RADIANS(AE921))*COS(RADIANS(AF921))","v":-253.58538501070521},{"$f":"camera!$B$5*COS(RADIANS(AE921))*SIN(RADIANS(AF921))","v":117.02064235144282},{"$f":"camera!$B$5*SIN(RADIANS(AE921))","v":-414.72957667934429},null,{"$f":"TRANSPOSE(MMULT(camera!$A$12:$C$14,MMULT(camera!$A$16:$C$18,TRANSPOSE(AH921:AJ921))))","v":392.02367831643403},262.81943706216657,165.05568497200846,null,{"$f":"camera!$B$5*AM921/AN921","v":796.15384682671697},{"$f":"camera!$B$5*AL921/AN921","v":1187.5497605033013},null,{"$f":"IF( AND( (camera!$B$3) > (AQ921+camera!$B$3/2), 0 < (AQ921+camera!$B$3/2), AN921 >= 0 ), AQ921+camera!$B$3/2, 0)*-1+camera!$B$3","v":1000},{"$f":"IF( AND( (camera!$B$4) > (AP921+camera!$B$4/2), 0 < (AP921+camera!$B$4/2), AN921 >= 0 ), AP921+camera!$B$4/2, 0)","v":0},null,null,null,-5119.3424999999997,2054.9715999999999,0,null,{"$f":"MMULT(               MMULT(AX921:AZ921-$B$2:$D$2, TRANSPOSE($A$16:$C$18)),     TRANSPOSE($A$12:$C$14))","v":428.53185557979157},222.89925323216789,5839.2694921175444,null,19.086227612294703,36.693961133175016," ",463.30603886682502,519.08622761229469]
[null,null,null,null,null,null,null,null,null,null,null,null,null,null,null,null,null,null,null,null,928.10130000000004,90,null,null,null,"''",null,11.799761999999999,20.218931000000001,null,20.218931000000001,176.99643,null,{"$f":"camera!$B$5*COS(RADIANS(AE922))*COS(RADIANS(AF922))","v":-468.54490233394495},{"$f":"camera!$B$5*COS(RADIANS(AE922))*SIN(RADIANS(AF922))","v":24.584672320377614},{"$f":"camera!$B$5*SIN(RADIANS(AE922))","v":172.80413300547423},null,{"$f":"TRANSPOSE(MMULT(camera!$A$12:$C$14,MMULT(camera!$A$16:$C$18,TRANSPOSE(AH922:AJ922))))","v":-167.34052554027616},468.90464289928099,-46.104060335310308,null,{"$f":"camera!$B$5*AM922/AN922","v":-5085.2857588787574},{"$f":"camera!$B$5*AL922/AN922","v":1814.8133192957946},null,{"$f":"IF( AND( (camera!$B$3) > (AQ922+camera!$B$3/2), 0 < (AQ922+camera!$B$3/2), AN922 >= 0 ), AQ922+camera!$B$3/2, 0)*-1+camera!$B$3","v":1000},{"$f":"IF( AND( (camera!$B$4) > (AP922+camera!$B$4/2), 0 < (AP922+camera!$B$4/2), AN922 >= 0 ), AP922+camera!$B$4/2, 0)","v":0},null,null,null,-5119.3424999999997,2193.3377,0,null,{"$f":"MMULT(               MMULT(AX922:AZ922-$B$2:$D$2, TRANSPOSE($A$16:$C$18)),     TRANSPOSE($A$12:$C$14))","v":404.59626453321334},234.95865344876461,5975.0149744618084,null,19.661762728044728,33.857343141609185," ",466.14265685839086,519.66176272804478]
[null,null,null,null,null,null,null,null,null,null,null,null,null,null,null,null,null,null,null,null,928.10130000000004,105,null,null,null,"''",null,13.787710000000001,17.456906,null,17.456906,-153.18434999999999,null,{"$f":"camera!$B$5*COS(RADIANS(AE923))*COS(RADIANS(AF923))","v":-425.67917335936113},{"$f":"camera!$B$5*COS(RADIANS(AE923))*SIN(RADIANS(AF923))","v":-215.17198316555729},{"$f":"camera!$B$5*SIN(RADIANS(AE923))","v":149.9941966500441},null,{"$f":"TRANSPOSE(MMULT(camera!$A$12:$C$14,MMULT(camera!$A$16:$C$18,TRANSPOSE(AH923:AJ923))))","v":-104.05099299055615},405.30586157739185,-273.67964745060476,null,{"$f":"camera!$B$5*AM923/AN923","v":-740.4749775018322},{"$f":"camera!$B$5*AL923/AN923","v":190.09632970485293},null,{"$f":"IF( AND( (camera!$B$3) > (AQ923+camera!$B$3/2), 0 < (AQ923+camera!$B$3/2), AN923 >= 0 ), AQ923+camera!$B$3/2, 0)*-1+camera!$B$3","v":1000},{"$f":"IF( AND( (camera!$B$4) > (AP923+camera!$B$4/2), 0 < (AP923+camera!$B$4/2), AN923 >= 0 ), AP923+camera!$B$4/2, 0)","v":0},null,null,null,-4954.6684999999998,2159.2325999999998,0,null,{"$f":"MMULT(               MMULT(AX923:AZ923-$B$2:$D$2, TRANSPOSE($A$16:$C$18)),     TRANSPOSE($A$12:$C$14))","v":408.00376880415081},67.938832413221292,5955.6900574397705,null,5.7036910717300495,34.253274168832696," ",465.74672583116728,505.70369107173008]
[null,null,null,null,null,null,null,null,null,null,null,null,null,null,null,null,null,null,null,null,928.83730000000003,520.73599999999999,null,null,null,"''",null,20.262816000000001,27.814242,null,27.814242,-56.057759999999973,null,{"$f":"camera!$B$5*COS(RADIANS(AE924))*COS(RADIANS(AF924))","v":246.92355734802103},{"$f":"camera!$B$5*COS(RADIANS(AE924))*SIN(RADIANS(AF924))","v":-366.87647642940692},{"$f":"camera!$B$5*SIN(RADIANS(AE924))","v":233.30325301920121},null,{"$f":"TRANSPOSE(MMULT(camera!$A$12:$C$14,MMULT(camera!$A$16:$C$18,TRANSPOSE(AH924:AJ924))))","v":-170.03089557754973},-277.9593304639003,-379.24676024609181,null,{"$f":"camera!$B$5*AM924/AN924","v":366.46236645968116},{"$f":"camera!$B$5*AL924/AN924","v":224.16921303061008},null,{"$f":"IF( AND( (camera!$B$3) > (AQ924+camera!$B$3/2), 0 < (AQ924+camera!$B$3/2), AN924 >= 0 ), AQ924+camera!$B$3/2, 0)*-1+camera!$B$3","v":1000},{"$f":"IF( AND( (camera!$B$4) > (AP924+camera!$B$4/2), 0 < (AP924+camera!$B$4/2), AN924 >= 0 ), AP924+camera!$B$4/2, 0)","v":0},null,null,null,-5004.9856,2037.7565,0,null,{"$f":"MMULT(               MMULT(AX924:AZ924-$B$2:$D$2, TRANSPOSE($A$16:$C$18)),     TRANSPOSE($A$12:$C$14))","v":429.77912369202568},107.4771209349849,5832.1958831484426,null,9.2141213265426742,36.845395139576006," ",463.154604860424,509.21412132654268]
[null,null,null,null,null,null,null,null,null,null,null,null,null,null,null,null,null,null,null,null,928.83730000000003,110.736,null,null,null,"''",null,21.159901999999999,-11.371693,null,-11.371693,-42.601470000000006,null,{"$f":"camera!$B$5*COS(RADIANS(AE925))*COS(RADIANS(AF925))","v":360.81476226765608},{"$f":"camera!$B$5*COS(RADIANS(AE925))*SIN(RADIANS(AF925))","v":-331.80326711774575},{"$f":"camera!$B$5*SIN(RADIANS(AE925))","v":-98.586506478953297},null,{"$f":"TRANSPOSE(MMULT(camera!$A$12:$C$14,MMULT(camera!$A$16:$C$18,TRANSPOSE(AH925:AJ925))))","v":149.02581050559405},-388.36031335601933,-277.43030622692476,null,{"$f":"camera!$B$5*AM925/AN925","v":699.92409740260882},{"$f":"camera!$B$5*AL925/AN925","v":-268.58242802013496},null,{"$f":"IF( AND( (camera!$B$3) > (AQ925+camera!$B$3/2), 0 < (AQ925+camera!$B$3/2), AN925 >= 0 ), AQ925+camera!$B$3/2, 0)*-1+camera!$B$3","v":1000},{"$f":"IF( AND( (camera!$B$4) > (AP925+camera!$B$4/2), 0 < (AP925+camera!$B$4/2), AN925 >= 0 ), AP925+camera!$B$4/2, 0)","v":0},null,null,null,-4911.9501,1969.0669,0,null,{"$f":"MMULT(               MMULT(AX925:AZ925-$B$2:$D$2, TRANSPOSE($A$16:$C$18)),     TRANSPOSE($A$12:$C$14))","v":440.25351877448338},8.8089559936308319,5772.7926367458067,null,0.76297180133916498,38.131762777353075," ",461.86823722264694,500.76297180133918]
[null,null,null,null,null,null,null,null,null,null,null,null,null,null,null,null,null,null,null,null,929.56859999999995,459.30619999999999,null,null,null,"''",null,21.478721,-21.807179999999999,null,-21.807179999999999,-37.819185000000004,null,{"$f":"camera!$B$5*COS(RADIANS(AE926))*COS(RADIANS(AF926))","v":366.71018527568117},{"$f":"camera!$B$5*COS(RADIANS(AE926))*SIN(RADIANS(AF926))","v":-284.6462980536802},{"$f":"camera!$B$5*SIN(RADIANS(AE926))","v":-185.74209275070382},null,{"$f":"TRANSPOSE(MMULT(camera!$A$12:$C$14,MMULT(camera!$A$16:$C$18,TRANSPOSE(AH926:AJ926))))","v":226.61052249891335},-390.12330183511506,-215.52605517207709,null,{"$f":"camera!$B$5*AM926/AN926","v":905.04904737303957},{"$f":"camera!$B$5*AL926/AN926","v":-525.71491256123613},null,{"$f":"IF( AND( (camera!$B$3) > (AQ926+camera!$B$3/2), 0 < (AQ926+camera!$B$3/2), AN926 >= 0 ), AQ926+camera!$B$3/2, 0)*-1+camera!$B$3","v":1000},{"$f":"IF( AND( (camera!$B$4) > (AP926+camera!$B$4/2), 0 < (AP926+camera!$B$4/2), AN926 >= 0 ), AP926+camera!$B$4/2, 0)","v":0},null,null,null,-4814.1106,2066.9065000000001,0,null,{"$f":"MMULT(               MMULT(AX926:AZ926-$B$2:$D$2, TRANSPOSE($A$16:$C$18)),     TRANSPOSE($A$12:$C$14))","v":421.84775570644126},-80.13095216218278,5877.1769062097856,null,-6.8171295029010395,35.888638579240293," ",464.11136142075975,493.18287049709897]
[null,null,null,null,null,null,null,null,null,null,null,null,null,null,null,null,null,null,null,null,929.56859999999995,49.306199999999997,null,null,null,"''",null,22.139721999999999,-32.988467999999997,null,-32.988467999999997,-27.904170000000022,null,{"$f":"camera!$B$5*COS(RADIANS(AE927))*COS(RADIANS(AF927))","v":370.62825950708043},{"$f":"camera!$B$5*COS(RADIANS(AE927))*SIN(RADIANS(AF927))","v":-196.27209978763511},{"$f":"camera!$B$5*SIN(RADIANS(AE927))","v":-272.23511180541146},null,{"$f":"TRANSPOSE(MMULT(camera!$A$12:$C$14,MMULT(camera!$A$16:$C$18,TRANSPOSE(AH927:AJ927))))","v":296.44259815384794},-386.32414772155892,-113.46999112984611,null,{"$f":"camera!$B$5*AM927/AN927","v":1702.3185772504382},{"$f":"camera!$B$5*AL927/AN927","v":-1306.2598983312796},null,{"$f":"IF( AND( (camera!$B$3) > (AQ927+camera!$B$3/2), 0 < (AQ927+camera!$B$3/2), AN927 >= 0 ), AQ927+camera!$B$3/2, 0)*-1+camera!$B$3","v":1000},{"$f":"IF( AND( (camera!$B$4) > (AP927+camera!$B$4/2), 0 < (AP927+camera!$B$4/2), AN927 >= 0 ), AP927+camera!$B$4/2, 0)","v":0},null,null,null,-4721.7844999999998,1926.3485000000001,0,null,{"$f":"MMULT(               MMULT(AX927:AZ927-$B$2:$D$2, TRANSPOSE($A$16:$C$18)),     TRANSPOSE($A$12:$C$14))","v":444.7652143792933},-184.35616036679664,5747.2055394865993,null,-16.038765196421465,38.694041071221584," ",461.30595892877841,483.96123480357852]
[null,null,null,null,null,null,null,null,null,null,null,null,null,null,null,null,null,null,null,null,929.94200000000001,547.16219999999998,null,null,null,"''",null,22.231311999999999,39.714927000000003,null,39.714927000000003,-26.530320000000017,null,{"$f":"camera!$B$5*COS(RADIANS(AE928))*COS(RADIANS(AF928))","v":344.11570868509921},{"$f":"camera!$B$5*COS(RADIANS(AE928))*SIN(RADIANS(AF928))","v":-171.79719108074752},{"$f":"camera!$B$5*SIN(RADIANS(AE928))","v":319.48412194179076},null,{"$f":"TRANSPOSE(MMULT(camera!$A$12:$C$14,MMULT(camera!$A$16:$C$18,TRANSPOSE(AH928:AJ928))))","v":-290.11968901960245},-357.77935631278336,-194.4852134214309,null,{"$f":"camera!$B$5*AM928/AN928","v":919.81120317231944},{"$f":"camera!$B$5*AL928/AN928","v":745.86567255100454},null,{"$f":"IF( AND( (camera!$B$3) > (AQ928+camera!$B$3/2), 0 < (AQ928+camera!$B$3/2), AN928 >= 0 ), AQ928+camera!$B$3/2, 0)*-1+camera!$B$3","v":1000},{"$f":"IF( AND( (camera!$B$4) > (AP928+camera!$B$4/2), 0 < (AP928+camera!$B$4/2), AN928 >= 0 ), AP928+camera!$B$4/2, 0)","v":0},null,null,null,-4843.2605000000003,1876.0315000000001,0,null,{"$f":"MMULT(               MMULT(AX928:AZ928-$B$2:$D$2, TRANSPOSE($A$16:$C$18)),     TRANSPOSE($A$12:$C$14))","v":455.30789181497312},-67.727828729237046,5687.4150446155345,null,-5.9541837722356172,40.02766531396616," ",459.97233468603383,494.04581622776436]
[null,null,null,null,null,null,null,null,null,null,null,null,null,null,null,null,null,null,null,null,929.94200000000001,137.16220000000001,null,null,null,"''",null,22.675232999999999,44.276305000000001,null,44.276305000000001,-19.871505000000013,null,{"$f":"camera!$B$5*COS(RADIANS(AE929))*COS(RADIANS(AF929))","v":336.6750142805858},{"$f":"camera!$B$5*COS(RADIANS(AE929))*SIN(RADIANS(AF929))","v":-121.6853074562612},{"$f":"camera!$B$5*SIN(RADIANS(AE929))","v":349.0596234290677},null,{"$f":"TRANSPOSE(MMULT(camera!$A$12:$C$14,MMULT(camera!$A$16:$C$18,TRANSPOSE(AH929:AJ929))))","v":-327.80198562384754},-345.99943755910988,-151.09681475743449,null,{"$f":"camera!$B$5*AM929/AN929","v":1144.9594027331589},{"$f":"camera!$B$5*AL929/AN929","v":1084.7415484902488},null,{"$f":"IF( AND( (camera!$B$3) > (AQ929+camera!$B$3/2), 0 < (AQ929+camera!$B$3/2), AN929 >= 0 ), AQ929+camera!$B$3/2, 0)*-1+camera!$B$3","v":1000},{"$f":"IF( AND( (camera!$B$4) > (AP929+camera!$B$4/2), 0 < (AP929+camera!$B$4/2), AN929 >= 0 ), AP929+camera!$B$4/2, 0)","v":0},null,null,null,-5001.9808999999996,1644.3131000000001,0,null,{"$f":"MMULT(               MMULT(AX929:AZ929-$B$2:$D$2, TRANSPOSE($A$16:$C$18)),     TRANSPOSE($A$12:$C$14))","v":497.79439767549923},70.193002969464374,5446.4620963496509,null,6.443908148787945,45.698876524738225," ",454.30112347526176,506.44390814878795]
[null,null,null,null,null,null,null,null,null,null,null,null,null,null,null,null,null,null,null,null,930.00570000000005,478.09570000000002,null,null,null,"''",null,0.30546299999999998,36.785223999999999,null,36.785223999999999,4.5819450000000002,null,{"$f":"camera!$B$5*COS(RADIANS(AE930))*COS(RADIANS(AF930))","v":399.16313818168737},{"$f":"camera!$B$5*COS(RADIANS(AE930))*SIN(RADIANS(AF930))","v":31.989308517793024},{"$f":"camera!$B$5*SIN(RADIANS(AE930))","v":299.40853905241352},null,{"$f":"TRANSPOSE(MMULT(camera!$A$12:$C$14,MMULT(camera!$A$16:$C$18,TRANSPOSE(AH930:AJ930))))","v":-306.4347066198219},-394.85614998640756,13.652523456685685,null,{"$f":"camera!$B$5*AM930/AN930","v":-14460.921866903851},{"$f":"camera!$B$5*AL930/AN930","v":-11222.639814244736},null,{"$f":"IF( AND( (camera!$B$3) > (AQ930+camera!$B$3/2), 0 < (AQ930+camera!$B$3/2), AN930 >= 0 ), AQ930+camera!$B$3/2, 0)*-1+camera!$B$3","v":1000},{"$f":"IF( AND( (camera!$B$4) > (AP930+camera!$B$4/2), 0 < (AP930+camera!$B$4/2), AN930 >= 0 ), AP930+camera!$B$4/2, 0)","v":0},null,null,null,-4942.6499999999996,1688.4862000000001,0,null,{"$f":"MMULT(               MMULT(AX930:AZ930-$B$2:$D$2, TRANSPOSE($A$16:$C$18)),     TRANSPOSE($A$12:$C$14))","v":489.25506852188812},14.937814296419447,5494.891038530257,null,1.3592457240439595,44.519087375093008," ",455.48091262490698,501.35924572404394]
[null,null,null,null,null,null,null,null,null,null,null,null,null,null,null,null,null,null,null,null,930.00570000000005,68.095699999999994,null,null,null,"''",null,1.194342,30.089638000000001,null,30.089638000000001,17.915130000000001,null,{"$f":"camera!$B$5*COS(RADIANS(AE931))*COS(RADIANS(AF931))","v":411.64464539155881},{"$f":"camera!$B$5*COS(RADIANS(AE931))*SIN(RADIANS(AF931))","v":133.07765045496339},{"$f":"camera!$B$5*SIN(RADIANS(AE931))","v":250.67713272224174},null,{"$f":"TRANSPOSE(MMULT(camera!$A$12:$C$14,MMULT(camera!$A$16:$C$18,TRANSPOSE(AH931:AJ931))))","v":-276.11954924941983},-398.47973176841202,122.35970697934685,null,{"$f":"camera!$B$5*AM931/AN931","v":-1628.3127085114368},{"$f":"camera!$B$5*AL931/AN931","v":-1128.31076530784},null,{"$f":"IF( AND( (camera!$B$3) > (AQ931+camera!$B$3/2), 0 < (AQ931+camera!$B$3/2), AN931 >= 0 ), AQ931+camera!$B$3/2, 0)*-1+camera!$B$3","v":1000},{"$f":"IF( AND( (camera!$B$4) > (AP931+camera!$B$4/2), 0 < (AP931+camera!$B$4/2), AN931 >= 0 ), AP931+camera!$B$4/2, 0)","v":0},null,null,null,-4953.3681999999999,1761.6746000000001,0,null,{"$f":"MMULT(               MMULT(AX931:AZ931-$B$2:$D$2, TRANSPOSE($A$16:$C$18)),     TRANSPOSE($A$12:$C$14))","v":476.75661185121885},31.994017672019368,5565.7733086199032,null,2.8741754198351144,42.829323565231235," ",457.17067643476878,502.87417541983513]
[null,null,null,null,null,null,null,null,null,null,null,null,null,null,null,null,null,null,null,null,930.7056,444.30619999999999,null,null,null,"''",null,5.8195670000000002,39.181071000000003,null,39.181071000000003,87.293504999999996,null,{"$f":"camera!$B$5*COS(RADIANS(AE932))*COS(RADIANS(AF932))","v":18.301245690255289},{"$f":"camera!$B$5*COS(RADIANS(AE932))*SIN(RADIANS(AF932))","v":387.1442953885587},{"$f":"camera!$B$5*SIN(RADIANS(AE932))","v":315.88662357605665},null,{"$f":"TRANSPOSE(MMULT(camera!$A$12:$C$14,MMULT(camera!$A$16:$C$18,TRANSPOSE(AH932:AJ932))))","v":-378.33565773259511},15.510244690001866,326.52957354227641,null,{"$f":"camera!$B$5*AM932/AN932","v":23.750137731389472},{"$f":"camera!$B$5*AL932/AN932","v":-579.32831876193177},null,{"$f":"IF( AND( (camera!$B$3) > (AQ932+camera!$B$3/2), 0 < (AQ932+camera!$B$3/2), AN932 >= 0 ), AQ932+camera!$B$3/2, 0)*-1+camera!$B$3","v":1000},{"$f":"IF( AND( (camera!$B$4) > (AP932+camera!$B$4/2), 0 < (AP932+camera!$B$4/2), AN932 >= 0 ), AP932+camera!$B$4/2, 0)","v":523.75013773138949},null,null,null,-5119.3424999999997,1761.6746000000001,0,null,{"$f":"MMULT(               MMULT(AX932:AZ932-$B$2:$D$2, TRANSPOSE($A$16:$C$18)),     TRANSPOSE($A$12:$C$14))","v":479.2685392558385},197.33673535150803,5551.5274603978851,null,17.773192761741708,43.165465961820956," ",456.83453403817907,517.77319276174171]
[null,null,null,null,null,null,null,null,null,null,null,null,null,null,null,null,null,null,null,null,930.7056,34.306199999999997,null,null,null,"''",null,9.4874229999999997,-35.951335,null,-35.951335,142.31134499999999,null,{"$f":"camera!$B$5*COS(RADIANS(AE933))*COS(RADIANS(AF933))","v":-320.30303820777715},{"$f":"camera!$B$5*COS(RADIANS(AE933))*SIN(RADIANS(AF933))","v":247.45702776003213},{"$f":"camera!$B$5*SIN(RADIANS(AE933))","v":-293.54894502797646},null,{"$f":"TRANSPOSE(MMULT(camera!$A$12:$C$14,MMULT(camera!$A$16:$C$18,TRANSPOSE(AH933:AJ933))))","v":251.12993641220879},340.65148949781883,266.25235724875256,null,{"$f":"camera!$B$5*AM933/AN933","v":639.71544330696213},{"$f":"camera!$B$5*AL933/AN933","v":471.6013390589153},null,{"$f":"IF( AND( (camera!$B$3) > (AQ933+camera!$B$3/2), 0 < (AQ933+camera!$B$3/2), AN933 >= 0 ), AQ933+camera!$B$3/2, 0)*-1+camera!$B$3","v":28.3986609410847},{"$f":"IF( AND( (camera!$B$4) > (AP933+camera!$B$4/2), 0 < (AP933+camera!$B$4/2), AN933 >= 0 ), AP933+camera!$B$4/2, 0)","v":0},null,null,null,-5119.3424999999997,1595.7003,0,null,{"$f":"MMULT(               MMULT(AX933:AZ933-$B$2:$D$2, TRANSPOSE($A$16:$C$18)),     TRANSPOSE($A$12:$C$14))","v":507.98000087137939},182.87112195798539,5388.6966701230158,null,16.968028927281477,47.133846268227877," ",452.8661537317721,516.96802892728147]
[null,null,null,null,null,null,null,null,null,null,null,null,null,null,null,null,null,null,null,null,931.65679999999998,562.16219999999998,null,null,null,"''",null,9.6558390000000003,-61.328060000000001,null,-61.328060000000001,144.83758499999999,null,{"$f":"camera!$B$5*COS(RADIANS(AE934))*COS(RADIANS(AF934))","v":-196.12122512998317},{"$f":"camera!$B$5*COS(RADIANS(AE934))*SIN(RADIANS(AF934))","v":138.15572271576809},{"$f":"camera!$B$5*SIN(RADIANS(AE934))","v":-438.69062143428397},null,{"$f":"TRANSPOSE(MMULT(camera!$A$12:$C$14,MMULT(camera!$A$16:$C$18,TRANSPOSE(AH934:AJ934))))","v":411.09491084441009},207.41598928587911,194.88350793842602,null,{"$f":"camera!$B$5*AM934/AN934","v":532.15377606865729},{"$f":"camera!$B$5*AL934/AN934","v":1054.7195993985715},null,{"$f":"IF( AND( (camera!$B$3) > (AQ934+camera!$B$3/2), 0 < (AQ934+camera!$B$3/2), AN934 >= 0 ), AQ934+camera!$B$3/2, 0)*-1+camera!$B$3","v":1000},{"$f":"IF( AND( (camera!$B$4) > (AP934+camera!$B$4/2), 0 < (AP934+camera!$B$4/2), AN934 >= 0 ), AP934+camera!$B$4/2, 0)","v":0},null,null,null,-5046.1540999999997,1584.9820999999999,0,null,{"$f":"MMULT(               MMULT(AX934:AZ934-$B$2:$D$2, TRANSPOSE($A$16:$C$18)),     TRANSPOSE($A$12:$C$14))","v":508.72644920842583},109.02707323424949,5384.4633512398404,null,10.124228369865738,47.240218386042606," ",452.75978161395744,510.12422836986576]
[null,null,null,null,null,null,null,null,null,null,null,null,null,null,null,null,null,null,null,null,931.65679999999998,152.16220000000001,null,null,null,"''",null,15.692515999999999,19.670400999999998,null,19.670400999999998,-124.61226000000002,null,{"$f":"camera!$B$5*COS(RADIANS(AE935))*COS(RADIANS(AF935))","v":-267.43640847352617},{"$f":"camera!$B$5*COS(RADIANS(AE935))*SIN(RADIANS(AF935))","v":-387.49372638284524},{"$f":"camera!$B$5*SIN(RADIANS(AE935))","v":168.30442488751734},null,{"$f":"TRANSPOSE(MMULT(camera!$A$12:$C$14,MMULT(camera!$A$16:$C$18,TRANSPOSE(AH935:AJ935))))","v":-94.668473424471046},232.64642866507049,-432.33496200153479,null,{"$f":"camera!$B$5*AM935/AN935","v":-269.05807893492153},{"$f":"camera!$B$5*AL935/AN935","v":109.48510037933848},null,{"$f":"IF( AND( (camera!$B$3) > (AQ935+camera!$B$3/2), 0 < (AQ935+camera!$B$3/2), AN935 >= 0 ), AQ935+camera!$B$3/2, 0)*-1+camera!$B$3","v":1000},{"$f":"IF( AND( (camera!$B$4) > (AP935+camera!$B$4/2), 0 < (AP935+camera!$B$4/2), AN935 >= 0 ), AP935+camera!$B$4/2, 0)","v":0},null,null,null,-5236.7039999999997,1644.3131000000001,0,null,{"$f":"MMULT(               MMULT(AX935:AZ935-$B$2:$D$2, TRANSPOSE($A$16:$C$18)),     TRANSPOSE($A$12:$C$14))","v":501.34679938701277},304.02291070912315,5426.3154251071655,null,28.013752140396345,46.195876954306577," ",453.80412304569347,528.01375214039638]
[null,null,null,null,null,null,null,null,null,null,null,null,null,null,null,null,null,null,null,null,932.37279999999998,524.27149999999995,null,null,null,"''",null,20.046959999999999,67.873564999999999,null,67.873564999999999,-59.295600000000036,null,{"$f":"camera!$B$5*COS(RADIANS(AE936))*COS(RADIANS(AF936))","v":96.160864927652668},{"$f":"camera!$B$5*COS(RADIANS(AE936))*SIN(RADIANS(AF936))","v":-161.92502698455957},{"$f":"camera!$B$5*SIN(RADIANS(AE936))","v":463.17747537247033},null,{"$f":"TRANSPOSE(MMULT(camera!$A$12:$C$14,MMULT(camera!$A$16:$C$18,TRANSPOSE(AH936:AJ936))))","v":-429.58512078458597},-109.90763980111794,-231.03448814806927,null,{"$f":"camera!$B$5*AM936/AN936","v":237.85981193136516},{"$f":"camera!$B$5*AL936/AN936","v":929.69912030896921},null,{"$f":"IF( AND( (camera!$B$3) > (AQ936+camera!$B$3/2), 0 < (AQ936+camera!$B$3/2), AN936 >= 0 ), AQ936+camera!$B$3/2, 0)*-1+camera!$B$3","v":1000},{"$f":"IF( AND( (camera!$B$4) > (AP936+camera!$B$4/2), 0 < (AP936+camera!$B$4/2), AN936 >= 0 ), AP936+camera!$B$4/2, 0)","v":0},null,null,null,-5192.5308999999997,1584.9820999999999,0,null,{"$f":"MMULT(               MMULT(AX936:AZ936-$B$2:$D$2, TRANSPOSE($A$16:$C$18)),     TRANSPOSE($A$12:$C$14))","v":510.94177950546884},254.84686531788532,5371.8995888017726,null,23.720367544577478,47.556899664559516," ",452.44310033544048,523.72036754457747]
[null,null,null,null,null,null,null,null,null,null,null,null,null,null,null,null,null,null,null,null,932.37279999999998,114.2715,null,null,null,"''",null,20.733965999999999,-51.920971000000002,null,-51.920971000000002,-48.990510000000029,null,{"$f":"camera!$B$5*COS(RADIANS(AE937))*COS(RADIANS(AF937))","v":202.35002831619965},{"$f":"camera!$B$5*COS(RADIANS(AE937))*SIN(RADIANS(AF937))","v":-232.69922625072314},{"$f":"camera!$B$5*SIN(RADIANS(AE937))","v":-393.58040619770179},null,{"$f":"TRANSPOSE(MMULT(camera!$A$12:$C$14,MMULT(camera!$A$16:$C$18,TRANSPOSE(AH937:AJ937))))","v":424.79261464150255},-221.8610992679998,-142.57940656921875,null,{"$f":"camera!$B$5*AM937/AN937","v":778.0264506862419},{"$f":"camera!$B$5*AL937/AN937","v":-1489.6702997402235},null,{"$f":"IF( AND( (camera!$B$3) > (AQ937+camera!$B$3/2), 0 < (AQ937+camera!$B$3/2), AN937 >= 0 ), AQ937+camera!$B$3/2, 0)*-1+camera!$B$3","v":1000},{"$f":"IF( AND( (camera!$B$4) > (AP937+camera!$B$4/2), 0 < (AP937+camera!$B$4/2), AN937 >= 0 ), AP937+camera!$B$4/2, 0)","v":0},null,null,null,-5285.3167000000003,1761.6746000000001,0,null,{"$f":"MMULT(               MMULT(AX937:AZ937-$B$2:$D$2, TRANSPOSE($A$16:$C$18)),     TRANSPOSE($A$12:$C$14))","v":481.78046514701441},362.67935341152759,5537.2816207590313,null,32.748862912431456,43.503337751581945," ",456.49666224841803,532.74886291243149]
[null,null,null,null,null,null,null,null,null,null,null,null,null,null,null,null,null,null,null,null,933.10130000000004,485,null,null,null,"''",null,21.618008,-19.466011000000002,null,-19.466011000000002,-35.72987999999998,null,{"$f":"camera!$B$5*COS(RADIANS(AE938))*COS(RADIANS(AF938))","v":382.68863658428677},{"$f":"camera!$B$5*COS(RADIANS(AE938))*SIN(RADIANS(AF938))","v":-275.29241829800935},{"$f":"camera!$B$5*SIN(RADIANS(AE938))","v":-166.62380339223316},null,{"$f":"TRANSPOSE(MMULT(camera!$A$12:$C$14,MMULT(camera!$A$16:$C$18,TRANSPOSE(AH938:AJ938))))","v":205.92275478520574},-405.22570597478727,-208.29773469461279,null,{"$f":"camera!$B$5*AM938/AN938","v":972.7079043103671},{"$f":"camera!$B$5*AL938/AN938","v":-494.29907408045261},null,{"$f":"IF( AND( (camera!$B$3) > (AQ938+camera!$B$3/2), 0 < (AQ938+camera!$B$3/2), AN938 >= 0 ), AQ938+camera!$B$3/2, 0)*-1+camera!$B$3","v":1000},{"$f":"IF( AND( (camera!$B$4) > (AP938+camera!$B$4/2), 0 < (AP938+camera!$B$4/2), AN938 >= 0 ), AP938+camera!$B$4/2, 0)","v":0},null,null,null,-5296.0348999999997,1688.4862000000001,0,null,{"$f":"MMULT(               MMULT(AX938:AZ938-$B$2:$D$2, TRANSPOSE($A$16:$C$18)),     TRANSPOSE($A$12:$C$14))","v":494.60334963943922},366.97797806210116,5464.5594290620857,null,33.578002291493767,45.255555919933592," ",454.74444408006639,533.57800229149382]
[null,null,null,null,null,null,null,null,null,null,null,null,null,null,null,null,null,null,null,null,933.10130000000004,500,null,null,null,"''",null,22.455531000000001,-64.966353999999995,null,-64.966353999999995,-23.167034999999998,null,{"$f":"camera!$B$5*COS(RADIANS(AE939))*COS(RADIANS(AF939))","v":194.51416675585421},{"$f":"camera!$B$5*COS(RADIANS(AE939))*SIN(RADIANS(AF939))","v":-83.236439411421088},{"$f":"camera!$B$5*SIN(RADIANS(AE939))","v":-453.02972759564528},null,{"$f":"TRANSPOSE(MMULT(camera!$A$12:$C$14,MMULT(camera!$A$16:$C$18,TRANSPOSE(AH939:AJ939))))","v":457.60218062591667},-201.0285153264885,13.703295663222121,null,{"$f":"camera!$B$5*AM939/AN939","v":-7335.042615552079},{"$f":"camera!$B$5*AL939/AN939","v":16696.792942082608},null,{"$f":"IF( AND( (camera!$B$3) > (AQ939+camera!$B$3/2), 0 < (AQ939+camera!$B$3/2), AN939 >= 0 ), AQ939+camera!$B$3/2, 0)*-1+camera!$B$3","v":1000},{"$f":"IF( AND( (camera!$B$4) > (AP939+camera!$B$4/2), 0 < (AP939+camera!$B$4/2), AN939 >= 0 ), AP939+camera!$B$4/2, 0)","v":0},null,null,null,-5236.7039999999997,1879.0361,0,null,{"$f":"MMULT(               MMULT(AX939:AZ939-$B$2:$D$2, TRANSPOSE($A$16:$C$18)),     TRANSPOSE($A$12:$C$14))","v":460.74267932273415},324.48036811408167,5656.5928330292836,null,28.681609026145182,40.726166167769925," ",459.27383383223003,528.68160902614522]
[null,null,null,null,null,null,null,null,null,null,null,null,null,null,null,null,null,null,null,null,933.10130000000004,515,null,null,null,"''",null,23.906397999999999,57.499381999999997,null,57.499381999999997,-1.4040300000000343,null,{"$f":"camera!$B$5*COS(RADIANS(AE940))*COS(RADIANS(AF940))","v":268.5736942134883},{"$f":"camera!$B$5*COS(RADIANS(AE940))*SIN(RADIANS(AF940))","v":-6.58270162693033},{"$f":"camera!$B$5*SIN(RADIANS(AE940))","v":421.69282518891697},null,{"$f":"TRANSPOSE(MMULT(camera!$A$12:$C$14,MMULT(camera!$A$16:$C$18,TRANSPOSE(AH940:AJ940))))","v":-418.21235059609779},-268.12541047197209,-56.632093976146109,null,{"$f":"camera!$B$5*AM940/AN940","v":2367.2567235895308},{"$f":"camera!$B$5*AL940/AN940","v":3692.361709000661},null,{"$f":"IF( AND( (camera!$B$3) > (AQ940+camera!$B$3/2), 0 < (AQ940+camera!$B$3/2), AN940 >= 0 ), AQ940+camera!$B$3/2, 0)*-1+camera!$B$3","v":1000},{"$f":"IF( AND( (camera!$B$4) > (AP940+camera!$B$4/2), 0 < (AP940+camera!$B$4/2), AN940 >= 0 ), AP940+camera!$B$4/2, 0)","v":0},null,null,null,-5296.0348999999997,1834.8630000000001,0,null,{"$f":"MMULT(               MMULT(AX940:AZ940-$B$2:$D$2, TRANSPOSE($A$16:$C$18)),     TRANSPOSE($A$12:$C$14))","v":469.28200847634525},379.73555678712654,5608.1638908486775,null,33.85560445253514,41.839184589640205," ",458.16081541035976,533.85560445253509]
[null,null,null,null,null,null,null,null,null,null,null,null,null,null,null,null,null,null,null,null,933.10130000000004,75,null,null,null,"''",null,2.7984800000000001,29.247118,null,29.247118,41.977200000000003,null,{"$f":"camera!$B$5*COS(RADIANS(AE941))*COS(RADIANS(AF941))","v":324.32071607824031},{"$f":"camera!$B$5*COS(RADIANS(AE941))*SIN(RADIANS(AF941))","v":291.78607817109912},{"$f":"camera!$B$5*SIN(RADIANS(AE941))","v":244.28867699512116},null,{"$f":"TRANSPOSE(MMULT(camera!$A$12:$C$14,MMULT(camera!$A$16:$C$18,TRANSPOSE(AH941:AJ941))))","v":-295.96110741329358},-297.65574547203295,271.67642534122308,null,{"$f":"camera!$B$5*AM941/AN941","v":-547.81298211315186},{"$f":"camera!$B$5*AL941/AN941","v":-544.69412839477911},null,{"$f":"IF( AND( (camera!$B$3) > (AQ941+camera!$B$3/2), 0 < (AQ941+camera!$B$3/2), AN941 >= 0 ), AQ941+camera!$B$3/2, 0)*-1+camera!$B$3","v":1000},{"$f":"IF( AND( (camera!$B$4) > (AP941+camera!$B$4/2), 0 < (AP941+camera!$B$4/2), AN941 >= 0 ), AP941+camera!$B$4/2, 0)","v":0},null,null,null,-5119.3424999999997,1927.6487999999999,0,null,{"$f":"MMULT(               MMULT(AX941:AZ941-$B$2:$D$2, TRANSPOSE($A$16:$C$18)),     TRANSPOSE($A$12:$C$14))","v":450.55709493903692},211.80234002945633,5714.3581525667278,null,18.532469822032482,39.423246050534956," ",460.576753949465,518.53246982203245]
[null,null,null,null,null,null,null,null,null,null,null,null,null,null,null,null,null,null,null,null,933.10130000000004,90,null,null,null,"''",null,13.377211000000001,-60.988393000000002,null,-60.988393000000002,-159.34183499999997,null,{"$f":"camera!$B$5*COS(RADIANS(AE942))*COS(RADIANS(AF942))","v":-226.90152466471588},{"$f":"camera!$B$5*COS(RADIANS(AE942))*SIN(RADIANS(AF942))","v":-85.549663849720972},{"$f":"camera!$B$5*SIN(RADIANS(AE942))","v":-437.26073814147441},null,{"$f":"TRANSPOSE(MMULT(camera!$A$12:$C$14,MMULT(camera!$A$16:$C$18,TRANSPOSE(AH942:AJ942))))","v":448.8508049910497},218.58195136528849,-27.475177819793785,null,{"$f":"camera!$B$5*AM942/AN942","v":-3977.807765229762},{"$f":"camera!$B$5*AL942/AN942","v":-8168.2966336925156},null,{"$f":"IF( AND( (camera!$B$3) > (AQ942+camera!$B$3/2), 0 < (AQ942+camera!$B$3/2), AN942 >= 0 ), AQ942+camera!$B$3/2, 0)*-1+camera!$B$3","v":1000},{"$f":"IF( AND( (camera!$B$4) > (AP942+camera!$B$4/2), 0 < (AP942+camera!$B$4/2), AN942 >= 0 ), AP942+camera!$B$4/2, 0)","v":0},null,null,null,-5192.5308999999997,1938.367,0,null,{"$f":"MMULT(               MMULT(AX942:AZ942-$B$2:$D$2, TRANSPOSE($A$16:$C$18)),     TRANSPOSE($A$12:$C$14))","v":449.81064660199058},285.64638875319224,5718.5914714499031,null,24.975239985167967,39.328797033996267," ",460.67120296600376,524.97523998516795]
[null,null,null,null,null,null,null,null,null,null,null,null,null,null,null,null,null,null,null,null,933.10130000000004,105,null,null,null,"''",null,13.400128,-64.535668000000001,null,-64.535668000000001,-158.99807999999999,null,{"$f":"camera!$B$5*COS(RADIANS(AE943))*COS(RADIANS(AF943))","v":-200.69346544659928},{"$f":"camera!$B$5*COS(RADIANS(AE943))*SIN(RADIANS(AF943))","v":-77.046719837489931},{"$f":"camera!$B$5*SIN(RADIANS(AE943))","v":-451.42655647327393},null,{"$f":"TRANSPOSE(MMULT(camera!$A$12:$C$14,MMULT(camera!$A$16:$C$18,TRANSPOSE(AH943:AJ943))))","v":460.93386639426649},193.21470212585399,-14.423927802439451,null,{"$f":"camera!$B$5*AM943/AN943","v":-6697.7145466984548},{"$f":"camera!$B$5*AL943/AN943","v":-15978.09808491661},null,{"$f":"IF( AND( (camera!$B$3) > (AQ943+camera!$B$3/2), 0 < (AQ943+camera!$B$3/2), AN943 >= 0 ), AQ943+camera!$B$3/2, 0)*-1+camera!$B$3","v":1000},{"$f":"IF( AND( (camera!$B$4) > (AP943+camera!$B$4/2), 0 < (AP943+camera!$B$4/2), AN943 >= 0 ), AP943+camera!$B$4/2, 0)","v":0},null,null,null,-5001.9808999999996,1879.0361,0,null,{"$f":"MMULT(               MMULT(AX943:AZ943-$B$2:$D$2, TRANSPOSE($A$16:$C$18)),     TRANSPOSE($A$12:$C$14))","v":457.19027761122049},90.650460374422892,5676.7395042717699,null,7.9843773266509803,40.268738530910476," ",459.73126146908953,507.98437732665099]
[null,null,null,null,null,null,null,null,null,null,null,null,null,null,null,null,null,null,null,null,933.5412,474.56009999999998,null,null,null,"''",null,14.318498,-13.371095,null,-13.371095,-145.22253000000001,null,{"$f":"camera!$B$5*COS(RADIANS(AE944))*COS(RADIANS(AF944))","v":-399.55415877490447},{"$f":"camera!$B$5*COS(RADIANS(AE944))*SIN(RADIANS(AF944))","v":-277.46443055269901},{"$f":"camera!$B$5*SIN(RADIANS(AE944))","v":-115.62856041543056},null,{"$f":"TRANSPOSE(MMULT(camera!$A$12:$C$14,MMULT(camera!$A$16:$C$18,TRANSPOSE(AH944:AJ944))))","v":167.91677832006891},373.85111604119083,-286.42503136661236,null,{"$f":"camera!$B$5*AM944/AN944","v":-652.61599912801728},{"$f":"camera!$B$5*AL944/AN944","v":-293.12518099219875},null,{"$f":"IF( AND( (camera!$B$3) > (AQ944+camera!$B$3/2), 0 < (AQ944+camera!$B$3/2), AN944 >= 0 ), AQ944+camera!$B$3/2, 0)*-1+camera!$B$3","v":1000},{"$f":"IF( AND( (camera!$B$4) > (AP944+camera!$B$4/2), 0 < (AP944+camera!$B$4/2), AN944 >= 0 ), AP944+camera!$B$4/2, 0)","v":0},null,null,null,-5046.1540999999997,1938.367,0,null,{"$f":"MMULT(               MMULT(AX944:AZ944-$B$2:$D$2, TRANSPOSE($A$16:$C$18)),     TRANSPOSE($A$12:$C$14))","v":447.59531630494757},139.82659666955641,5731.155233887971,null,12.198814284663786,39.049310133700779," ",460.95068986629917,512.19881428466374]
[null,null,null,null,null,null,null,null,null,null,null,null,null,null,null,null,null,null,null,null,933.5412,64.560100000000006,null,null,null,"''",null,15.074097999999999,26.947648999999998,null,26.947648999999998,-133.88853,null,{"$f":"camera!$B$5*COS(RADIANS(AE945))*COS(RADIANS(AF945))","v":-308.99216403135432},{"$f":"camera!$B$5*COS(RADIANS(AE945))*SIN(RADIANS(AF945))","v":-321.21904596104798},{"$f":"camera!$B$5*SIN(RADIANS(AE945))","v":226.58810003858261},null,{"$f":"TRANSPOSE(MMULT(camera!$A$12:$C$14,MMULT(camera!$A$16:$C$18,TRANSPOSE(AH945:AJ945))))","v":-162.90244991784829},279.82027102450087,-381.00315974350895,null,{"$f":"camera!$B$5*AM945/AN945","v":-367.21515802241078},{"$f":"camera!$B$5*AL945/AN945","v":213.78096972675252},null,{"$f":"IF( AND( (camera!$B$3) > (AQ945+camera!$B$3/2), 0 < (AQ945+camera!$B$3/2), AN945 >= 0 ), AQ945+camera!$B$3/2, 0)*-1+camera!$B$3","v":1000},{"$f":"IF( AND( (camera!$B$4) > (AP945+camera!$B$4/2), 0 < (AP945+camera!$B$4/2), AN945 >= 0 ), AP945+camera!$B$4/2, 0)","v":0},null,null,null,-4942.6499999999996,1834.8630000000001,0,null,{"$f":"MMULT(               MMULT(AX945:AZ945-$B$2:$D$2, TRANSPOSE($A$16:$C$18)),     TRANSPOSE($A$12:$C$14))","v":463.93372735879416},27.695393021444829,5638.4955003168498,null,2.4559204684909757,41.139850810621716," ",458.86014918937826,502.455920468491]
[null,null,null,null,null,null,null,null,null,null,null,null,null,null,null,null,null,null,null,null,934.56859999999995,459.30619999999999,null,null,null,"''",null,18.187156999999999,-45.954417999999997,null,-45.954417999999997,-87.192645000000027,null,{"$f":"camera!$B$5*COS(RADIANS(AE946))*COS(RADIANS(AF946))","v":17.025492715793181},{"$f":"camera!$B$5*COS(RADIANS(AE946))*SIN(RADIANS(AF946))","v":-347.19802531878827},{"$f":"camera!$B$5*SIN(RADIANS(AE946))","v":-359.39346656904951},null,{"$f":"TRANSPOSE(MMULT(camera!$A$12:$C$14,MMULT(camera!$A$16:$C$18,TRANSPOSE(AH946:AJ946))))","v":413.73668260677226},-47.221007353052009,-276.75283906421976,null,{"$f":"camera!$B$5*AM946/AN946","v":85.312597899121286},{"$f":"camera!$B$5*AL946/AN946","v":-747.48408002919496},null,{"$f":"IF( AND( (camera!$B$3) > (AQ946+camera!$B$3/2), 0 < (AQ946+camera!$B$3/2), AN946 >= 0 ), AQ946+camera!$B$3/2, 0)*-1+camera!$B$3","v":1000},{"$f":"IF( AND( (camera!$B$4) > (AP946+camera!$B$4/2), 0 < (AP946+camera!$B$4/2), AN946 >= 0 ), AP946+camera!$B$4/2, 0)","v":0},null,null,null,-4543.7916999999998,1761.6746000000001,471.78410000000002,null,{"$f":"MMULT(               MMULT(AX946:AZ946-$B$2:$D$2, TRANSPOSE($A$16:$C$18)),     TRANSPOSE($A$12:$C$14))","v":5.9412631373875229},-376.02392009095456,5519.0034866811429,null,-34.066287600506378,0.5382550628682703," ",499.46174493713175,465.93371239949363]
[null,null,null,null,null,null,null,null,null,null,null,null,null,null,null,null,null,null,null,null,934.56859999999995,49.306199999999997,null,null,null,"''",null,19.362117000000001,-15.955018000000001,null,-15.955018000000001,-69.56824499999999,null,{"$f":"camera!$B$5*COS(RADIANS(AE947))*COS(RADIANS(AF947))","v":167.82184555401992},{"$f":"camera!$B$5*COS(RADIANS(AE947))*SIN(RADIANS(AF947))","v":-450.49496916288723},{"$f":"camera!$B$5*SIN(RADIANS(AE947))","v":-137.44129988388491},null,{"$f":"TRANSPOSE(MMULT(camera!$A$12:$C$14,MMULT(camera!$A$16:$C$18,TRANSPOSE(AH947:AJ947))))","v":210.74331943719545},-206.44645640636119,-403.69185519384536,null,{"$f":"camera!$B$5*AM947/AN947","v":255.69806988950697},{"$f":"camera!$B$5*AL947/AN947","v":-261.02002892280353},null,{"$f":"IF( AND( (camera!$B$3) > (AQ947+camera!$B$3/2), 0 < (AQ947+camera!$B$3/2), AN947 >= 0 ), AQ947+camera!$B$3/2, 0)*-1+camera!$B$3","v":1000},{"$f":"IF( AND( (camera!$B$4) > (AP947+camera!$B$4/2), 0 < (AP947+camera!$B$4/2), AN947 >= 0 ), AP947+camera!$B$4/2, 0)","v":0},null,null,null,-4687.6794,1761.6746000000001,707.67619999999999,null,{"$f":"MMULT(               MMULT(AX947:AZ947-$B$2:$D$2, TRANSPOSE($A$16:$C$18)),     TRANSPOSE($A$12:$C$14))","v":-224.18944664430251},-232.68375623033876,5465.6911345149956,null,-21.285849355900918,-20.508792129560778," ",520.50879212956079,478.71415064409911]
[null,null,null,null,null,null,null,null,null,null,null,null,null,null,null,null,null,null,null,null,934.94200000000001,547.16219999999998,null,null,null,"''",null,20.755877999999999,57.579725000000003,null,57.579725000000003,-48.661830000000009,null,{"$f":"camera!$B$5*COS(RADIANS(AE948))*COS(RADIANS(AF948))","v":177.0559977732849},{"$f":"camera!$B$5*COS(RADIANS(AE948))*SIN(RADIANS(AF948))","v":-201.26803596187378},{"$f":"camera!$B$5*SIN(RADIANS(AE948))","v":422.06913101120819},null,{"$f":"TRANSPOSE(MMULT(camera!$A$12:$C$14,MMULT(camera!$A$16:$C$18,TRANSPOSE(AH948:AJ948))))","v":-383.51976215474474},-193.9239114127098,-255.55059894111668,null,{"$f":"camera!$B$5*AM948/AN948","v":379.42370750888608},{"$f":"camera!$B$5*AL948/AN948","v":750.37930598455455},null,{"$f":"IF( AND( (camera!$B$3) > (AQ948+camera!$B$3/2), 0 < (AQ948+camera!$B$3/2), AN948 >= 0 ), AQ948+camera!$B$3/2, 0)*-1+camera!$B$3","v":1000},{"$f":"IF( AND( (camera!$B$4) > (AP948+camera!$B$4/2), 0 < (AP948+camera!$B$4/2), AN948 >= 0 ), AP948+camera!$B$4/2, 0)","v":0},null,null,null,-4721.7844999999998,1597.0007000000001,707.67619999999999,null,{"$f":"MMULT(               MMULT(AX948:AZ948-$B$2:$D$2, TRANSPOSE($A$16:$C$18)),     TRANSPOSE($A$12:$C$14))","v":-195.18677638596319},-213.06071249810373,5301.208817958508,null,-20.095483861749976,-18.409647977339016," ",518.40964797733909,479.90451613825002]
[null,null,null,null,null,null,null,null,null,null,null,null,null,null,null,null,null,null,null,null,934.94200000000001,137.16220000000001,null,null,null,"''",null,21.499137000000001,23.638838,null,23.638838,-37.512945000000002,null,{"$f":"camera!$B$5*COS(RADIANS(AE949))*COS(RADIANS(AF949))","v":363.32897528436547},{"$f":"camera!$B$5*COS(RADIANS(AE949))*SIN(RADIANS(AF949))","v":-278.92257145283151},{"$f":"camera!$B$5*SIN(RADIANS(AE949))","v":200.48504895117017},null,{"$f":"TRANSPOSE(MMULT(camera!$A$12:$C$14,MMULT(camera!$A$16:$C$18,TRANSPOSE(AH949:AJ949))))","v":-154.6879209151748},-386.25610272544998,-277.26858861091222,null,{"$f":"camera!$B$5*AM949/AN949","v":696.53779510429626},{"$f":"camera!$B$5*AL949/AN949","v":278.9495948497912},null,{"$f":"IF( AND( (camera!$B$3) > (AQ949+camera!$B$3/2), 0 < (AQ949+camera!$B$3/2), AN949 >= 0 ), AQ949+camera!$B$3/2, 0)*-1+camera!$B$3","v":1000},{"$f":"IF( AND( (camera!$B$4) > (AP949+camera!$B$4/2), 0 < (AP949+camera!$B$4/2), AN949 >= 0 ), AP949+camera!$B$4/2, 0)","v":0},null,null,null,-4589.2650999999996,1542.1094000000001,471.78410000000002,null,{"$f":"MMULT(               MMULT(AX949:AZ949-$B$2:$D$2, TRANSPOSE($A$16:$C$18)),     TRANSPOSE($A$12:$C$14))","v":44.611489139544346},-349.8599281942877,5299.6937369946027,null,-33.007560960748023,4.2088742626892843," ",495.79112573731072,466.99243903925196]
[null,null,null,null,null,null,null,null,null,null,null,null,null,null,null,null,null,null,null,null,935.7056,444.30619999999999,null,null,null,"''",null,22.508127999999999,43.123376,null,43.123376,-22.378080000000011,null,{"$f":"camera!$B$5*COS(RADIANS(AE950))*COS(RADIANS(AF950))","v":337.4586031306726},{"$f":"camera!$B$5*COS(RADIANS(AE950))*SIN(RADIANS(AF950))","v":-138.93938670779326},{"$f":"camera!$B$5*SIN(RADIANS(AE950))","v":341.78580718683673},null,{"$f":"TRANSPOSE(MMULT(camera!$A$12:$C$14,MMULT(camera!$A$16:$C$18,TRANSPOSE(AH950:AJ950))))","v":-317.6657959654375},-348.28383670964439,-166.6937646118019,null,{"$f":"camera!$B$5*AM950/AN950","v":1044.6816577714569},{"$f":"camera!$B$5*AL950/AN950","v":952.8424674588781},null,{"$f":"IF( AND( (camera!$B$3) > (AQ950+camera!$B$3/2), 0 < (AQ950+camera!$B$3/2), AN950 >= 0 ), AQ950+camera!$B$3/2, 0)*-1+camera!$B$3","v":1000},{"$f":"IF( AND( (camera!$B$4) > (AP950+camera!$B$4/2), 0 < (AP950+camera!$B$4/2), AN950 >= 0 ), AP950+camera!$B$4/2, 0)","v":0},null,null,null,-4712.3666000000003,1354.6986999999999,471.78410000000002,null,{"$f":"MMULT(               MMULT(AX950:AZ950-$B$2:$D$2, TRANSPOSE($A$16:$C$18)),     TRANSPOSE($A$12:$C$14))","v":78.894249487329944},-243.56078532450454,5105.2665415078964,null,-23.853875536591101,7.7267512720332583," ",492.27324872796675,476.14612446340891]
[null,null,null,null,null,null,null,null,null,null,null,null,null,null,null,null,null,null,null,null,935.7056,34.306199999999997,null,null,null,"''",null,0.52594600000000002,-62.965561000000001,null,-62.965561000000001,7.8891900000000001,null,{"$f":"camera!$B$5*COS(RADIANS(AE951))*COS(RADIANS(AF951))","v":225.11203079907332},{"$f":"camera!$B$5*COS(RADIANS(AE951))*SIN(RADIANS(AF951))","v":31.193587036308422},{"$f":"camera!$B$5*SIN(RADIANS(AE951))","v":-445.36674069504261},null,{"$f":"TRANSPOSE(MMULT(camera!$A$12:$C$14,MMULT(camera!$A$16:$C$18,TRANSPOSE(AH951:AJ951))))","v":429.79757824092047},-221.53671131158939,127.26164889504368,null,{"$f":"camera!$B$5*AM951/AN951","v":-870.39855775520027},{"$f":"camera!$B$5*AL951/AN951","v":1688.6374723754634},null,{"$f":"IF( AND( (camera!$B$3) > (AQ951+camera!$B$3/2), 0 < (AQ951+camera!$B$3/2), AN951 >= 0 ), AQ951+camera!$B$3/2, 0)*-1+camera!$B$3","v":1000},{"$f":"IF( AND( (camera!$B$4) > (AP951+camera!$B$4/2), 0 < (AP951+camera!$B$4/2), AN951 >= 0 ), AP951+camera!$B$4/2, 0)","v":0},null,null,null,-4814.1106,1456.4427000000001,707.67619999999999,null,{"$f":"MMULT(               MMULT(AX951:AZ951-$B$2:$D$2, TRANSPOSE($A$16:$C$18)),     TRANSPOSE($A$12:$C$14))","v":-169.47471082816969},-133.33637807174063,5155.3884480157758,null,-12.931748927964836,-16.436657735596793," ",516.43665773559678,487.06825107203514]
[null,null,null,null,null,null,null,null,null,null,null,null,null,null,null,null,null,null,null,null,935.90840000000003,527.80700000000002,null,null,null,"''",null,0.83023400000000003,41.078910999999998,null,41.078910999999998,12.45351,null,{"$f":"camera!$B$5*COS(RADIANS(AE952))*COS(RADIANS(AF952))","v":368.03462418692357},{"$f":"camera!$B$5*COS(RADIANS(AE952))*SIN(RADIANS(AF952))","v":81.278066562857148},{"$f":"camera!$B$5*SIN(RADIANS(AE952))","v":328.54891765975077},null,{"$f":"TRANSPOSE(MMULT(camera!$A$12:$C$14,MMULT(camera!$A$16:$C$18,TRANSPOSE(AH952:AJ952))))","v":-343.18759870230093},-359.55029106882193,54.275779950856936,null,{"$f":"camera!$B$5*AM952/AN952","v":-3312.2535631396777},{"$f":"camera!$B$5*AL952/AN952","v":-3161.5169695675877},null,{"$f":"IF( AND( (camera!$B$3) > (AQ952+camera!$B$3/2), 0 < (AQ952+camera!$B$3/2), AN952 >= 0 ), AQ952+camera!$B$3/2, 0)*-1+camera!$B$3","v":1000},{"$f":"IF( AND( (camera!$B$4) > (AP952+camera!$B$4/2), 0 < (AP952+camera!$B$4/2), AN952 >= 0 ), AP952+camera!$B$4/2, 0)","v":0},null,null,null,-4954.6684999999998,1364.1166000000001,707.67619999999999,null,{"$f":"MMULT(               MMULT(AX952:AZ952-$B$2:$D$2, TRANSPOSE($A$16:$C$18)),     TRANSPOSE($A$12:$C$14))","v":-151.37619486992583},-1.3600931373255776,5052.7466634997263,null,-0.13458948448283423,-14.979594758178203," ",514.97959475817822,499.86541051551717]
[null,null,null,null,null,null,null,null,null,null,null,null,null,null,null,null,null,null,null,null,935.90840000000003,117.807,null,null,null,"''",null,6.0009300000000003,-3.0742530000000001,null,-3.0742530000000001,90.013950000000008,null,{"$f":"camera!$B$5*COS(RADIANS(AE953))*COS(RADIANS(AF953))","v":-0.12156151927587565},{"$f":"camera!$B$5*COS(RADIANS(AE953))*SIN(RADIANS(AF953))","v":499.28042065073976},{"$f":"camera!$B$5*SIN(RADIANS(AE953))","v":-26.815047596775432},null,{"$f":"TRANSPOSE(MMULT(camera!$A$12:$C$14,MMULT(camera!$A$16:$C$18,TRANSPOSE(AH953:AJ953))))","v":-59.959712270476487},43.636254842173024,494.47013071346436,null,{"$f":"camera!$B$5*AM953/AN953","v":44.124257595914699},{"$f":"camera!$B$5*AL953/AN953","v":-60.630267175047983},null,{"$f":"IF( AND( (camera!$B$3) > (AQ953+camera!$B$3/2), 0 < (AQ953+camera!$B$3/2), AN953 >= 0 ), AQ953+camera!$B$3/2, 0)*-1+camera!$B$3","v":560.63026717504795},{"$f":"IF( AND( (camera!$B$4) > (AP953+camera!$B$4/2), 0 < (AP953+camera!$B$4/2), AN953 >= 0 ), AP953+camera!$B$4/2, 0)","v":544.12425759591474},null,null,null,-4899.7772000000004,1231.5971999999999,471.78410000000002,null,{"$f":"MMULT(               MMULT(AX953:AZ953-$B$2:$D$2, TRANSPOSE($A$16:$C$18)),     TRANSPOSE($A$12:$C$14))","v":103.0256108735307},-67.592341904162367,4968.410790395711,null,-6.8022094745892527,10.368064882304667," ",489.63193511769532,493.19779052541077]
[null,null,null,null,null,null,null,null,null,null,null,null,null,null,null,null,null,null,null,null,936.65679999999998,562.16219999999998,null,null,null,"''",null,7.6228090000000002,-34.968530000000001,null,-34.968530000000001,114.342135,null,{"$f":"camera!$B$5*COS(RADIANS(AE954))*COS(RADIANS(AF954))","v":-168.88578485975776},{"$f":"camera!$B$5*COS(RADIANS(AE954))*SIN(RADIANS(AF954))","v":373.30833972946346},{"$f":"camera!$B$5*SIN(RADIANS(AE954))","v":-286.56321320213988},null,{"$f":"TRANSPOSE(MMULT(camera!$A$12:$C$14,MMULT(camera!$A$16:$C$18,TRANSPOSE(AH954:AJ954))))","v":220.18802835486312},200.77908908337037,401.50341163687511,null,{"$f":"camera!$B$5*AM954/AN954","v":250.03410091189659},{"$f":"camera!$B$5*AL954/AN954","v":274.20443011578197},null,{"$f":"IF( AND( (camera!$B$3) > (AQ954+camera!$B$3/2), 0 < (AQ954+camera!$B$3/2), AN954 >= 0 ), AQ954+camera!$B$3/2, 0)*-1+camera!$B$3","v":225.79556988421803},{"$f":"IF( AND( (camera!$B$4) > (AP954+camera!$B$4/2), 0 < (AP954+camera!$B$4/2), AN954 >= 0 ), AP954+camera!$B$4/2, 0)","v":750.03410091189653},null,null,null,-5119.3424999999997,1186.1238000000001,471.78410000000002,null,{"$f":"MMULT(               MMULT(AX954:AZ954-$B$2:$D$2, TRANSPOSE($A$16:$C$18)),     TRANSPOSE($A$12:$C$14))","v":114.21493279145193},147.17417788849917,4904.9529924287535,null,15.002608395602982,11.642816247959276," ",488.35718375204073,515.00260839560303]
[null,null,null,null,null,null,null,null,null,null,null,null,null,null,null,null,null,null,null,null,936.65679999999998,152.16220000000001,null,null,null,"''",null,14.224717999999999,51.789965000000002,null,51.789965000000002,-146.62923000000001,null,{"$f":"camera!$B$5*COS(RADIANS(AE955))*COS(RADIANS(AF955))","v":-258.28273366002372},{"$f":"camera!$B$5*COS(RADIANS(AE955))*SIN(RADIANS(AF955))","v":-170.11709317739755},{"$f":"camera!$B$5*SIN(RADIANS(AE955))","v":392.87428536616886},null,{"$f":"TRANSPOSE(MMULT(camera!$A$12:$C$14,MMULT(camera!$A$16:$C$18,TRANSPOSE(AH955:AJ955))))","v":-353.56856609986397},242.47320827080938,-257.28585724238081,null,{"$f":"camera!$B$5*AM955/AN955","v":-471.21363542805057},{"$f":"camera!$B$5*AL955/AN955","v":687.11232301971859},null,{"$f":"IF( AND( (camera!$B$3) > (AQ955+camera!$B$3/2), 0 < (AQ955+camera!$B$3/2), AN955 >= 0 ), AQ955+camera!$B$3/2, 0)*-1+camera!$B$3","v":1000},{"$f":"IF( AND( (camera!$B$4) > (AP955+camera!$B$4/2), 0 < (AP955+camera!$B$4/2), AN955 >= 0 ), AP955+camera!$B$4/2, 0)","v":0},null,null,null,-5119.3424999999997,1330.0115000000001,707.67619999999999,null,{"$f":"MMULT(               MMULT(AX955:AZ955-$B$2:$D$2, TRANSPOSE($A$16:$C$18)),     TRANSPOSE($A$12:$C$14))","v":-142.98419440375415},159.71481725425144,5005.1532638257031,null,15.955037621782333,-14.283697907630481," ",514.28369790763054,515.95503762178237]
[null,null,null,null,null,null,null,null,null,null,null,null,null,null,null,null,null,null,null,null,937.07669999999996,471.02460000000002,null,null,null,"''",null,17.443856,-5.0865960000000001,null,-5.0865960000000001,-98.342159999999978,null,{"$f":"camera!$B$5*COS(RADIANS(AE956))*COS(RADIANS(AF956))","v":-72.25645974167746},{"$f":"camera!$B$5*COS(RADIANS(AE956))*SIN(RADIANS(AF956))","v":-492.7614012180054},{"$f":"camera!$B$5*SIN(RADIANS(AE956))","v":-44.330638335887912},null,{"$f":"TRANSPOSE(MMULT(camera!$A$12:$C$14,MMULT(camera!$A$16:$C$18,TRANSPOSE(AH956:AJ956))))","v":129.99222771115882},29.034516177006701,-481.93258616227371,null,{"$f":"camera!$B$5*AM956/AN956","v":-30.123005800680968},{"$f":"camera!$B$5*AL956/AN956","v":-134.86557191153344},null,{"$f":"IF( AND( (camera!$B$3) > (AQ956+camera!$B$3/2), 0 < (AQ956+camera!$B$3/2), AN956 >= 0 ), AQ956+camera!$B$3/2, 0)*-1+camera!$B$3","v":1000},{"$f":"IF( AND( (camera!$B$4) > (AP956+camera!$B$4/2), 0 < (AP956+camera!$B$4/2), AN956 >= 0 ), AP956+camera!$B$4/2, 0)","v":0},null,null,null,-5284.0164000000004,1364.1166000000001,707.67619999999999,null,{"$f":"MMULT(               MMULT(AX956:AZ956-$B$2:$D$2, TRANSPOSE($A$16:$C$18)),     TRANSPOSE($A$12:$C$14))","v":-146.39170018813536},326.73453867032549,5024.4781894309062,null,32.514275746844554,-14.567851095072252," ",514.56785109507223,532.51427574684453]
[null,null,null,null,null,null,null,null,null,null,null,null,null,null,null,null,null,null,null,null,937.07669999999996,61.0246,null,null,null,"''",null,17.792674000000002,-27.830787999999998,null,-27.830787999999998,-93.10988999999995,null,{"$f":"camera!$B$5*COS(RADIANS(AE957))*COS(RADIANS(AF957))","v":-23.987976095694062},{"$f":"camera!$B$5*COS(RADIANS(AE957))*SIN(RADIANS(AF957))","v":-441.51394947178568},{"$f":"camera!$B$5*SIN(RADIANS(AE957))","v":-233.43095215643092},null,{"$f":"TRANSPOSE(MMULT(camera!$A$12:$C$14,MMULT(camera!$A$16:$C$18,TRANSPOSE(AH957:AJ957))))","v":306.6240034639959},-14.583781595183535,-394.67585917318968,null,{"$f":"camera!$B$5*AM957/AN957","v":18.47564432460506},{"$f":"camera!$B$5*AL957/AN957","v":-388.45041612925797},null,{"$f":"IF( AND( (camera!$B$3) > (AQ957+camera!$B$3/2), 0 < (AQ957+camera!$B$3/2), AN957 >= 0 ), AQ957+camera!$B$3/2, 0)*-1+camera!$B$3","v":1000},{"$f":"IF( AND( (camera!$B$4) > (AP957+camera!$B$4/2), 0 < (AP957+camera!$B$4/2), AN957 >= 0 ), AP957+camera!$B$4/2, 0)","v":0},null,null,null,-5338.9076999999997,1231.5971999999999,471.78410000000002,null,{"$f":"MMULT(               MMULT(AX957:AZ957-$B$2:$D$2, TRANSPOSE($A$16:$C$18)),     TRANSPOSE($A$12:$C$14))","v":109.67160327810336},369.86713396621423,4930.7194944983403,null,37.506405949365927,11.121257597443346," ",488.87874240255667,537.5064059493659]
[null,null,null,null,null,null,null,null,null,null,null,null,null,null,null,null,null,null,null,null,938.10130000000004,485,null,null,null,"''",null,20.790149,36.490716999999997,null,36.490716999999997,-48.147764999999993,null,{"$f":"camera!$B$5*COS(RADIANS(AE958))*COS(RADIANS(AF958))","v":268.20354775436971},{"$f":"camera!$B$5*COS(RADIANS(AE958))*SIN(RADIANS(AF958))","v":-299.41952676395238},{"$f":"camera!$B$5*SIN(RADIANS(AE958))","v":297.3462694644416},null,{"$f":"TRANSPOSE(MMULT(camera!$A$12:$C$14,MMULT(camera!$A$16:$C$18,TRANSPOSE(AH958:AJ958))))","v":-245.0922172746597},-293.27908353056392,-322.36188390512837,null,{"$f":"camera!$B$5*AM958/AN958","v":454.89106835111505},{"$f":"camera!$B$5*AL958/AN958","v":380.15073976114178},null,{"$f":"IF( AND( (camera!$B$3) > (AQ958+camera!$B$3/2), 0 < (AQ958+camera!$B$3/2), AN958 >= 0 ), AQ958+camera!$B$3/2, 0)*-1+camera!$B$3","v":1000},{"$f":"IF( AND( (camera!$B$4) > (AP958+camera!$B$4/2), 0 < (AP958+camera!$B$4/2), AN958 >= 0 ), AP958+camera!$B$4/2, 0)","v":0},null,null,null,-5526.3182999999999,1354.6986999999999,471.78410000000002,null,{"$f":"MMULT(               MMULT(AX958:AZ958-$B$2:$D$2, TRANSPOSE($A$16:$C$18)),     TRANSPOSE($A$12:$C$14))","v":91.212949317765379},567.29358271825811,5035.4037231182192,null,56.330496412207886,9.0571634702292485," ",490.94283652977077,556.33049641220794]
[null,null,null,null,null,null,null,null,null,null,null,null,null,null,null,null,null,null,null,null,938.10130000000004,500,null,null,null,"''",null,23.209160000000001,49.406207000000002,null,49.406207000000002,-11.862599999999986,null,{"$f":"camera!$B$5*COS(RADIANS(AE959))*COS(RADIANS(AF959))","v":318.39768839442559},{"$f":"camera!$B$5*COS(RADIANS(AE959))*SIN(RADIANS(AF959))","v":-66.879881911180021},{"$f":"camera!$B$5*SIN(RADIANS(AE959))","v":379.67090146682676},null,{"$f":"TRANSPOSE(MMULT(camera!$A$12:$C$14,MMULT(camera!$A$16:$C$18,TRANSPOSE(AH959:AJ959))))","v":-367.15224028597214},-323.01505484603899,-104.21375530995007,null,{"$f":"camera!$B$5*AM959/AN959","v":1549.7716874578375},{"$f":"camera!$B$5*AL959/AN959","v":1761.5344500061276},null,{"$f":"IF( AND( (camera!$B$3) > (AQ959+camera!$B$3/2), 0 < (AQ959+camera!$B$3/2), AN959 >= 0 ), AQ959+camera!$B$3/2, 0)*-1+camera!$B$3","v":1000},{"$f":"IF( AND( (camera!$B$4) > (AP959+camera!$B$4/2), 0 < (AP959+camera!$B$4/2), AN959 >= 0 ), AP959+camera!$B$4/2, 0)","v":0},null,null,null,-5424.5743000000002,1456.4427000000001,707.67619999999999,null,{"$f":"MMULT(               MMULT(AX959:AZ959-$B$2:$D$2, TRANSPOSE($A$16:$C$18)),     TRANSPOSE($A$12:$C$14))","v":-160.2356870904257},474.80432324572962,5102.9913406608912,null,46.522156471486142,-15.700172349270877," ",515.70017234927082,546.52215647148614]
[null,null,null,null,null,null,null,null,null,null,null,null,null,null,null,null,null,null,null,null,938.10130000000004,515,null,null,null,"''",null,5.3029349999999997,33.371613000000004,null,33.371613000000004,79.544024999999991,null,{"$f":"camera!$B$5*COS(RADIANS(AE960))*COS(RADIANS(AF960))","v":75.778815801073293},{"$f":"camera!$B$5*COS(RADIANS(AE960))*SIN(RADIANS(AF960))","v":410.62651059587546},{"$f":"camera!$B$5*SIN(RADIANS(AE960))","v":275.03352499584929},null,{"$f":"TRANSPOSE(MMULT(camera!$A$12:$C$14,MMULT(camera!$A$16:$C$18,TRANSPOSE(AH960:AJ960))))","v":-343.03522732914359},-39.701996005837572,361.59450261915663,null,{"$f":"camera!$B$5*AM960/AN960","v":-54.898506086599767},{"$f":"camera!$B$5*AL960/AN960","v":-474.33689511928191},null,{"$f":"IF( AND( (camera!$B$3) > (AQ960+camera!$B$3/2), 0 < (AQ960+camera!$B$3/2), AN960 >= 0 ), AQ960+camera!$B$3/2, 0)*-1+camera!$B$3","v":974.33689511928196},{"$f":"IF( AND( (camera!$B$4) > (AP960+camera!$B$4/2), 0 < (AP960+camera!$B$4/2), AN960 >= 0 ), AP960+camera!$B$4/2, 0)","v":445.10149391340025},null,null,null,-5516.9004999999997,1597.0007000000001,707.67619999999999,null,{"$f":"MMULT(               MMULT(AX960:AZ960-$B$2:$D$2, TRANSPOSE($A$16:$C$18)),     TRANSPOSE($A$12:$C$14))","v":-183.15314424983455},579.02963106981269,5232.962698800914,null,55.325220567929144,-17.499947428614622," ",517.49994742861463,555.32522056792914]
[null,null,null,null,null,null,null,null,null,null,null,null,null,null,null,null,null,null,null,null,938.10130000000004,75,null,null,null,"''",null,6.5842739999999997,-22.964793,null,-22.964793,98.764110000000002,null,{"$f":"camera!$B$5*COS(RADIANS(AE961))*COS(RADIANS(AF961))","v":-70.145458941865854},{"$f":"camera!$B$5*COS(RADIANS(AE961))*SIN(RADIANS(AF961))","v":454.99708782535447},{"$f":"camera!$B$5*SIN(RADIANS(AE961))","v":-195.08271235627637},null,{"$f":"TRANSPOSE(MMULT(camera!$A$12:$C$14,MMULT(camera!$A$16:$C$18,TRANSPOSE(AH961:AJ961))))","v":114.47181909282399},109.5341434305392,474.23461920922409,null,{"$f":"camera!$B$5*AM961/AN961","v":115.48518285441182},{"$f":"camera!$B$5*AL961/AN961","v":120.69112466283383},null,{"$f":"IF( AND( (camera!$B$3) > (AQ961+camera!$B$3/2), 0 < (AQ961+camera!$B$3/2), AN961 >= 0 ), AQ961+camera!$B$3/2, 0)*-1+camera!$B$3","v":379.30887533716623},{"$f":"IF( AND( (camera!$B$4) > (AP961+camera!$B$4/2), 0 < (AP961+camera!$B$4/2), AN961 >= 0 ), AP961+camera!$B$4/2, 0)","v":615.48518285441185},null,null,null,-5649.4197999999997,1542.1094000000001,471.78410000000002,null,{"$f":"MMULT(               MMULT(AX961:AZ961-$B$2:$D$2, TRANSPOSE($A$16:$C$18)),     TRANSPOSE($A$12:$C$14))","v":60.65633249219718},706.26056310275749,5208.6989085900886,null,67.796255408236959,5.8225992283950117," ",494.17740077160499,567.7962554082369]
[null,null,null,null,null,null,null,null,null,null,null,null,null,null,null,null,null,null,null,null,938.10130000000004,90,null,null,null,"''",null,9.5330359999999992,-1.1846639999999999,null,-1.1846639999999999,142.99553999999998,null,{"$f":"camera!$B$5*COS(RADIANS(AE962))*COS(RADIANS(AF962))","v":-399.2089827752925},{"$f":"camera!$B$5*COS(RADIANS(AE962))*SIN(RADIANS(AF962))","v":300.87426956542845},{"$f":"camera!$B$5*SIN(RADIANS(AE962))","v":-10.337407072669979},null,{"$f":"TRANSPOSE(MMULT(camera!$A$12:$C$14,MMULT(camera!$A$16:$C$18,TRANSPOSE(AH962:AJ962))))","v":-35.825294398978428},423.91279250897935,262.70609552971069,null,{"$f":"camera!$B$5*AM962/AN962","v":806.81948329789896},{"$f":"camera!$B$5*AL962/AN962","v":-68.185122097646129},null,{"$f":"IF( AND( (camera!$B$3) > (AQ962+camera!$B$3/2), 0 < (AQ962+camera!$B$3/2), AN962 >= 0 ), AQ962+camera!$B$3/2, 0)*-1+camera!$B$3","v":568.18512209764617},{"$f":"IF( AND( (camera!$B$4) > (AP962+camera!$B$4/2), 0 < (AP962+camera!$B$4/2), AN962 >= 0 ), AP962+camera!$B$4/2, 0)","v":0},null,null,null,-5694.8932000000004,1761.6746000000001,471.78410000000002,null,{"$f":"MMULT(               MMULT(AX962:AZ962-$B$2:$D$2, TRANSPOSE($A$16:$C$18)),     TRANSPOSE($A$12:$C$14))","v":23.362535005072118},770.69729117450152,5420.2025442633258,null,71.094879285479635,2.1551348694338675," ",497.84486513056612,571.09487928547969]
[null,null,null,null,null,null,null,null,null,null,null,null,null,null,null,null,null,null,null,null,938.10130000000004,105,null,null,null,"''",null,9.5703840000000007,36.397557999999997,null,{"$f":"AC963","v":36.397557999999997},{"$f":"IF(AB963*15/1>180, (AB963*15/1)-360, AB963*15/1)","v":143.55576000000002},null,{"$f":"camera!$B$5*COS(RADIANS(AE963))*COS(RADIANS(AF963))","v":-323.75268794751742},{"$f":"camera!$B$5*COS(RADIANS(AE963))*SIN(RADIANS(AF963))","v":239.07714630110038},{"$f":"camera!$B$5*SIN(RADIANS(AE963))","v":296.69229036710686},null,{"$f":"TRANSPOSE(MMULT(camera!$A$12:$C$14,MMULT(camera!$A$16:$C$18,TRANSPOSE(AH963:AJ963))))","v":-328.64238599452295},343.35765748613113,155.24078450414891,null,{"$f":"camera!$B$5*AM963/AN963","v":1105.887407690067},{"$f":"camera!$B$5*AL963/AN963","v":-1058.492415650411},null,{"$f":"IF( AND( (camera!$B$3) > (AQ963+camera!$B$3/2), 0 < (AQ963+camera!$B$3/2), AN963 >= 0 ), AQ963+camera!$B$3/2, 0)*-1+camera!$B$3","v":1000},{"$f":"IF( AND( (camera!$B$4) > (AP963+camera!$B$4/2), 0 < (AP963+camera!$B$4/2), AN963 >= 0 ), AP963+camera!$B$4/2, 0)","v":0},null,null,null,-5551.0055000000002,1761.6746000000001,707.67619999999999,null,{"$f":"MMULT(               MMULT(AX963:AZ963-$B$2:$D$2, TRANSPOSE($A$16:$C$18)),     TRANSPOSE($A$12:$C$14))","v":-211.12349312189997},627.3571273138856,5391.5904298474243,null,58.179227027417127,-19.578962447994638," ",519.57896244799463,558.17922702741714]
[null,null,null,null,null,null,null,null,null,null,null,null,null,null,null,null,null,null,null,null,939.56859999999995,459.30619999999999,null,null,null,"''",null,9.5747029999999995,69.830342999999999,null,69.830342999999999,143.62054499999999,null,{"$f":"camera!$B$5*COS(RADIANS(AE964))*COS(RADIANS(AF964))","v":-138.80082452360227},{"$f":"camera!$B$5*COS(RADIANS(AE964))*SIN(RADIANS(AF964))","v":102.25598953175729},{"$f":"camera!$B$5*SIN(RADIANS(AE964))","v":469.33787799031234},null,{"$f":"TRANSPOSE(MMULT(camera!$A$12:$C$14,MMULT(camera!$A$16:$C$18,TRANSPOSE(AH964:AJ964))))","v":-477.79590598768186},147.18484219921237,6.9061167238338044,null,{"$f":"camera!$B$5*AM964/AN964","v":10656.121818160163},{"$f":"camera!$B$5*AL964/AN964","v":-34592.226362085159},null,{"$f":"IF( AND( (camera!$B$3) > (AQ964+camera!$B$3/2), 0 < (AQ964+camera!$B$3/2), AN964 >= 0 ), AQ964+camera!$B$3/2, 0)*-1+camera!$B$3","v":1000},{"$f":"IF( AND( (camera!$B$4) > (AP964+camera!$B$4/2), 0 < (AP964+camera!$B$4/2), AN964 >= 0 ), AP964+camera!$B$4/2, 0)","v":0},null,null,null,-5516.9004999999997,1926.3485000000001,707.67619999999999,null,{"$f":"MMULT(               MMULT(AX964:AZ964-$B$2:$D$2, TRANSPOSE($A$16:$C$18)),     TRANSPOSE($A$12:$C$14))","v":-240.126161866796},607.73418320111978,5556.0727378207475,null,{"$f":"$B$5*BC964/BD964","v":54.69098515073533},{"$f":"$B$5*BB964/BD964","v":-21.609342893608375}," ",{"$f":"IF( AND( ($B$3) > (BG964+$B$3/2), 0 < (BG964+$B$3/2), BD964 >= 0 ), BG964+$B$3/2, 0)*-1+$B$3","v":521.6093428936083},{"$f":"IF( AND( ($B$4) > (BF964+$B$4/2), 0 < (BF964+$B$4/2), BD964 >= 0 ), BF964+$B$4/2, 0)","v":554.69098515073529}]
[null,null,null,null,null,null,null,null,null,null,null,null,null,null,null,null,null,null,null,null,939.56859999999995,49.306199999999997,null,null,null,"''",null,14.856493,19.100460000000002,null,19.100460000000002,-137.15260499999999,null,{"$f":"camera!$B$5*COS(RADIANS(AE965))*COS(RADIANS(AF965))","v":-346.40199076032906},{"$f":"camera!$B$5*COS(RADIANS(AE965))*SIN(RADIANS(AF965))","v":-321.30442139245662},{"$f":"camera!$B$5*SIN(RADIANS(AE965))","v":163.6127427523285},null,{"$f":"TRANSPOSE(MMULT(camera!$A$12:$C$14,MMULT(camera!$A$16:$C$18,TRANSPOSE(AH965:AJ965))))","v":-100.30288431553694},317.08030110929957,-373.3623093543589,null,{"$f":"camera!$B$5*AM965/AN965","v":-424.6281603218257},{"$f":"camera!$B$5*AL965/AN965","v":134.32379461251307},null,{"$f":"IF( AND( (camera!$B$3) > (AQ965+camera!$B$3/2), 0 < (AQ965+camera!$B$3/2), AN965 >= 0 ), AQ965+camera!$B$3/2, 0)*-1+camera!$B$3","v":1000},{"$f":"IF( AND( (camera!$B$4) > (AP965+camera!$B$4/2), 0 < (AP965+camera!$B$4/2), AN965 >= 0 ), AP965+camera!$B$4/2, 0)","v":0},null,null,null,-5649.4197999999997,1981.2398000000001,471.78410000000002,null,{"$f":"MMULT(               MMULT(AX965:AZ965-$B$2:$D$2, TRANSPOSE($A$16:$C$18)),     TRANSPOSE($A$12:$C$14))","v":-15.307690997084933},744.53329927783375,5639.5122939498669,null,66.010433213930355,-1.357182163917543," ",501.35718216391757,566.01043321393036]
[null,null,null,null,null,null,null,null,null,null,null,null,null,null,null,null,null,null,null,null,939.94200000000001,547.16219999999998,null,null,null,"''",null,15.203692,-19.791709999999998,null,-19.791709999999998,-131.94461999999999,null,{"$f":"camera!$B$5*COS(RADIANS(AE966))*COS(RADIANS(AF966))","v":-314.46437358721846},{"$f":"camera!$B$5*COS(RADIANS(AE966))*SIN(RADIANS(AF966))","v":-349.92765813286229},{"$f":"camera!$B$5*SIN(RADIANS(AE966))","v":-169.30089136814661},null,{"$f":"TRANSPOSE(MMULT(camera!$A$12:$C$14,MMULT(camera!$A$16:$C$18,TRANSPOSE(AH966:AJ966))))","v":232.02114495925221},282.76953675381077,-340.89232519350293,null,{"$f":"camera!$B$5*AM966/AN966","v":-414.74905102850357},{"$f":"camera!$B$5*AL966/AN966","v":-340.31441574337077},null,{"$f":"IF( AND( (camera!$B$3) > (AQ966+camera!$B$3/2), 0 < (AQ966+camera!$B$3/2), AN966 >= 0 ), AQ966+camera!$B$3/2, 0)*-1+camera!$B$3","v":1000},{"$f":"IF( AND( (camera!$B$4) > (AP966+camera!$B$4/2), 0 < (AP966+camera!$B$4/2), AN966 >= 0 ), AP966+camera!$B$4/2, 0)","v":0},null,null,null,-5526.3182999999999,2168.6504,471.78410000000002,null,{"$f":"MMULT(               MMULT(AX966:AZ966-$B$2:$D$2, TRANSPOSE($A$16:$C$18)),     TRANSPOSE($A$12:$C$14))","v":-49.590434046130895},638.23414769247711,5833.9393913305476,null,54.700100985015112,-4.250167058628012," ",504.25016705862799,554.70010098501507]
[null,null,null,null,null,null,null,null,null,null,null,null,null,null,null,null,null,null,null,null,939.94200000000001,137.16220000000001,null,null,null,"''",null,15.385930999999999,-36.858488999999999,null,-36.858488999999999,-129.21103500000001,null,{"$f":"camera!$B$5*COS(RADIANS(AE967))*COS(RADIANS(AF967))","v":-252.9091757030078},{"$f":"camera!$B$5*COS(RADIANS(AE967))*SIN(RADIANS(AF967))","v":-309.97537723592308},{"$f":"camera!$B$5*SIN(RADIANS(AE967))","v":-299.92034668003492},null,{"$f":"TRANSPOSE(MMULT(camera!$A$12:$C$14,MMULT(camera!$A$16:$C$18,TRANSPOSE(AH967:AJ967))))","v":352.81335309413402},224.93064569760767,-273.73151536593519,null,{"$f":"camera!$B$5*AM967/AN967","v":-410.85997240199288},{"$f":"camera!$B$5*AL967/AN967","v":-644.45146665424886},null,{"$f":"IF( AND( (camera!$B$3) > (AQ967+camera!$B$3/2), 0 < (AQ967+camera!$B$3/2), AN967 >= 0 ), AQ967+camera!$B$3/2, 0)*-1+camera!$B$3","v":1000},{"$f":"IF( AND( (camera!$B$4) > (AP967+camera!$B$4/2), 0 < (AP967+camera!$B$4/2), AN967 >= 0 ), AP967+camera!$B$4/2, 0)","v":0},null,null,null,-5424.5743000000002,2066.9065000000001,707.67619999999999,null,{"$f":"MMULT(               MMULT(AX967:AZ967-$B$2:$D$2, TRANSPOSE($A$16:$C$18)),     TRANSPOSE($A$12:$C$14))","v":-265.83822893803267},528.00974915528741,5701.8931163466432,null,46.301266823254437,-23.311400574653565," ",523.31140057465359,546.30126682325442]
[null,null,null,null,null,null,null,null,null,null,null,null,null,null,null,null,null,null,null,null,940,530,null,null,null,"''",null,19.949120000000001,-27.169899000000001,null,-27.169899000000001,-60.763199999999983,null,{"$f":"camera!$B$5*COS(RADIANS(AE968))*COS(RADIANS(AF968))","v":217.26308535302448},{"$f":"camera!$B$5*COS(RADIANS(AE968))*SIN(RADIANS(AF968))","v":-388.16088906071934},{"$f":"camera!$B$5*SIN(RADIANS(AE968))","v":-228.31529941393839},null,{"$f":"TRANSPOSE(MMULT(camera!$A$12:$C$14,MMULT(camera!$A$16:$C$18,TRANSPOSE(AH968:AJ968))))","v":288.70546337740734},-250.26678431141571,-322.51463856150752,null,{"$f":"camera!$B$5*AM968/AN968","v":387.99290696953398},{"$f":"camera!$B$5*AL968/AN968","v":-447.5850532941742},null,{"$f":"IF( AND( (camera!$B$3) > (AQ968+camera!$B$3/2), 0 < (AQ968+camera!$B$3/2), AN968 >= 0 ), AQ968+camera!$B$3/2, 0)*-1+camera!$B$3","v":1000},{"$f":"IF( AND( (camera!$B$4) > (AP968+camera!$B$4/2), 0 < (AP968+camera!$B$4/2), AN968 >= 0 ), AP968+camera!$B$4/2, 0)","v":0},null,null,null,-5284.0164000000004,2159.2325999999998,707.67619999999999,null,{"$f":"MMULT(               MMULT(AX968:AZ968-$B$2:$D$2, TRANSPOSE($A$16:$C$18)),     TRANSPOSE($A$12:$C$14))","v":-283.93674489627665},396.03346422087236,5804.5349008626936,null,34.114142733641955,-24.458182244203304," ",524.45818224420327,534.11414273364198]
[null,null,null,null,null,null,null,null,null,null,null,null,null,null,null,null,null,null,null,null,940,120,null,null,null,"''",null,23.116738999999999,9.4094920000000002,null,9.4094920000000002,-13.248915000000011,null,{"$f":"camera!$B$5*COS(RADIANS(AE969))*COS(RADIANS(AF969))","v":480.14340514532995},{"$f":"camera!$B$5*COS(RADIANS(AE969))*SIN(RADIANS(AF969))","v":-113.04916782138848},{"$f":"camera!$B$5*SIN(RADIANS(AE969))","v":81.744701053579647},null,{"$f":"TRANSPOSE(MMULT(camera!$A$12:$C$14,MMULT(camera!$A$16:$C$18,TRANSPOSE(AH969:AJ969))))","v":-68.213434027030829},-488.16919871797245,-83.891363329562779,null,{"$f":"camera!$B$5*AM969/AN969","v":2909.5319192765146},{"$f":"camera!$B$5*AL969/AN969","v":406.55814448418226},null,{"$f":"IF( AND( (camera!$B$3) > (AQ969+camera!$B$3/2), 0 < (AQ969+camera!$B$3/2), AN969 >= 0 ), AQ969+camera!$B$3/2, 0)*-1+camera!$B$3","v":1000},{"$f":"IF( AND( (camera!$B$4) > (AP969+camera!$B$4/2), 0 < (AP969+camera!$B$4/2), AN969 >= 0 ), AP969+camera!$B$4/2, 0)","v":0},null,null,null,-5338.9076999999997,2291.7519000000002,471.78410000000002,null,{"$f":"MMULT(               MMULT(AX969:AZ969-$B$2:$D$2, TRANSPOSE($A$16:$C$18)),     TRANSPOSE($A$12:$C$14))","v":-73.72179543233176},462.26570427213494,5970.7951424427329,null,38.710564777727058,-6.1735324754561223," ",506.17353247545611,538.71056477772709]
[null,null,null,null,null,null,null,null,null,null,null,null,null,null,null,null,null,null,null,null,940.7056,444.30619999999999,null,null,null,"''",null,23.485914999999999,12.760554000000001,null,12.760554000000001,-7.7112750000000005,null,{"$f":"camera!$B$5*COS(RADIANS(AE970))*COS(RADIANS(AF970))","v":483.24090837293335},{"$f":"camera!$B$5*COS(RADIANS(AE970))*SIN(RADIANS(AF970))","v":-65.433570178079876},{"$f":"camera!$B$5*SIN(RADIANS(AE970))","v":110.4385456652364},null,{"$f":"TRANSPOSE(MMULT(camera!$A$12:$C$14,MMULT(camera!$A$16:$C$18,TRANSPOSE(AH970:AJ970))))","v":-104.75513177487191},-487.10494223165676,-41.894362631785171,null,{"$f":"camera!$B$5*AM970/AN970","v":5813.4903079070973},{"$f":"camera!$B$5*AL970/AN970","v":1250.2294484770894},null,{"$f":"IF( AND( (camera!$B$3) > (AQ970+camera!$B$3/2), 0 < (AQ970+camera!$B$3/2), AN970 >= 0 ), AQ970+camera!$B$3/2, 0)*-1+camera!$B$3","v":1000},{"$f":"IF( AND( (camera!$B$4) > (AP970+camera!$B$4/2), 0 < (AP970+camera!$B$4/2), AN970 >= 0 ), AP970+camera!$B$4/2, 0)","v":0},null,null,null,-5119.3424999999997,2337.2253000000001,471.78410000000002,null,{"$f":"MMULT(               MMULT(AX970:AZ970-$B$2:$D$2, TRANSPOSE($A$16:$C$18)),     TRANSPOSE($A$12:$C$14))","v":-84.911115836809358},247.49928409894261,6034.2529318265242,null,20.507864593606485,-7.035760416087447," ",507.03576041608744,520.50786459360643]
[null,null,null,null,null,null,null,null,null,null,null,null,null,null,null,null,null,null,null,null,940.7056,34.306199999999997,null,null,null,"''",null,6.2330000000000003E-2,-17.335988,null,-17.335988,0.93495000000000006,null,{"$f":"camera!$B$5*COS(RADIANS(AE971))*COS(RADIANS(AF971))","v":477.22337011888965},{"$f":"camera!$B$5*COS(RADIANS(AE971))*SIN(RADIANS(AF971))","v":7.7880011441873034},{"$f":"camera!$B$5*SIN(RADIANS(AE971))","v":-148.98725465806575},null,{"$f":"TRANSPOSE(MMULT(camera!$A$12:$C$14,MMULT(camera!$A$16:$C$18,TRANSPOSE(AH971:AJ971))))","v":138.15407095976366},-474.72862209367133,74.472733549190281,null,{"$f":"camera!$B$5*AM971/AN971","v":-3187.264650223336},{"$f":"camera!$B$5*AL971/AN971","v":927.54800566378412},null,{"$f":"IF( AND( (camera!$B$3) > (AQ971+camera!$B$3/2), 0 < (AQ971+camera!$B$3/2), AN971 >= 0 ), AQ971+camera!$B$3/2, 0)*-1+camera!$B$3","v":1000},{"$f":"IF( AND( (camera!$B$4) > (AP971+camera!$B$4/2), 0 < (AP971+camera!$B$4/2), AN971 >= 0 ), AP971+camera!$B$4/2, 0)","v":0},null,null,null,-5119.3424999999997,2193.3377,707.67619999999999,null,{"$f":"MMULT(               MMULT(AX971:AZ971-$B$2:$D$2, TRANSPOSE($A$16:$C$18)),     TRANSPOSE($A$12:$C$14))","v":-292.32874384900458},234.95865344876461,5852.1282919535506,null,20.074632828181812,-24.976276088388666," ",524.97627608838866,520.07463282818185]
[null,null,null,null,null,null,null,null,null,null,null,null,null,null,null,null,null,null,null,null,941.65229999999997,470,null,null,null,"''",null,3.4985400000000002,58.878749999999997,null,58.878749999999997,52.478100000000005,null,{"$f":"camera!$B$5*COS(RADIANS(AE972))*COS(RADIANS(AF972))","v":157.39779015983675},{"$f":"camera!$B$5*COS(RADIANS(AE972))*SIN(RADIANS(AF972))","v":204.96253446540553},{"$f":"camera!$B$5*SIN(RADIANS(AE972))","v":428.03772627925855},null,{"$f":"TRANSPOSE(MMULT(camera!$A$12:$C$14,MMULT(camera!$A$16:$C$18,TRANSPOSE(AH972:AJ972))))","v":-459.37293287716938},-138.93518212181158,140.26233888184913,null,{"$f":"camera!$B$5*AM972/AN972","v":-495.26901957211948},{"$f":"camera!$B$5*AL972/AN972","v":-1637.5490974242384},null,{"$f":"IF( AND( (camera!$B$3) > (AQ972+camera!$B$3/2), 0 < (AQ972+camera!$B$3/2), AN972 >= 0 ), AQ972+camera!$B$3/2, 0)*-1+camera!$B$3","v":1000},{"$f":"IF( AND( (camera!$B$4) > (AP972+camera!$B$4/2), 0 < (AP972+camera!$B$4/2), AN972 >= 0 ), AP972+camera!$B$4/2, 0)","v":4.7309804278805245},null,null,null,-4954.6684999999998,2159.2325999999998,707.67619999999999,null,{"$f":"MMULT(               MMULT(AX972:AZ972-$B$2:$D$2, TRANSPOSE($A$16:$C$18)),     TRANSPOSE($A$12:$C$14))","v":-288.92123957806712},67.938832413221292,5832.8033749315127,null,5.8238575900922607,-24.766927753797248," ",524.76692775379729,505.82385759009225]
[null,null,null,null,null,null,null,null,null,null,null,null,null,null,null,null,null,null,null,null,941.65229999999997,60,null,null,null,"''",null,5.0734399999999997,-35.482978000000003,null,-35.482978000000003,76.101599999999991,null,{"$f":"camera!$B$5*COS(RADIANS(AE973))*COS(RADIANS(AF973))","v":97.796369837517702},{"$f":"camera!$B$5*COS(RADIANS(AE973))*SIN(RADIANS(AF973))","v":395.2241239869179},{"$f":"camera!$B$5*SIN(RADIANS(AE973))","v":-290.23053227628685},null,{"$f":"TRANSPOSE(MMULT(camera!$A$12:$C$14,MMULT(camera!$A$16:$C$18,TRANSPOSE(AH973:AJ973))))","v":215.97239423103429},-62.978173046882283,446.53070963797285,null,{"$f":"camera!$B$5*AM973/AN973","v":-70.519419703453522},{"$f":"camera!$B$5*AL973/AN973","v":241.83375249390468},null,{"$f":"IF( AND( (camera!$B$3) > (AQ973+camera!$B$3/2), 0 < (AQ973+camera!$B$3/2), AN973 >= 0 ), AQ973+camera!$B$3/2, 0)*-1+camera!$B$3","v":258.16624750609526},{"$f":"IF( AND( (camera!$B$4) > (AP973+camera!$B$4/2), 0 < (AP973+camera!$B$4/2), AN973 >= 0 ), AP973+camera!$B$4/2, 0)","v":429.48058029654646},null,null,null,-4899.7772000000004,2291.7519000000002,471.78410000000002,null,{"$f":"MMULT(               MMULT(AX973:AZ973-$B$2:$D$2, TRANSPOSE($A$16:$C$18)),     TRANSPOSE($A$12:$C$14))","v":-80.367787836904427},24.806228401758347,6008.4864383401027,null,2.0642659891407931,-6.6878563063801089," ",506.68785630638013,502.06426598914078]
[null,null,null,null,null,null,null,null,null,null,null,null,null,null,null,null,null,null,null,null,941.65679999999998,562.16219999999998,null,null,null,"''",null,7.0010810000000001,76.977407999999997,null,76.977407999999997,105.016215,null,{"$f":"camera!$B$5*COS(RADIANS(AE974))*COS(RADIANS(AF974))","v":-29.191323130238128},{"$f":"camera!$B$5*COS(RADIANS(AE974))*SIN(RADIANS(AF974))","v":108.82030489512397},{"$f":"camera!$B$5*SIN(RADIANS(AE974))","v":487.14064488239768},null,{"$f":"TRANSPOSE(MMULT(camera!$A$12:$C$14,MMULT(camera!$A$16:$C$18,TRANSPOSE(AH974:AJ974))))","v":-498.12263062870329},38.56455583178731,19.662652136406464,null,{"$f":"camera!$B$5*AM974/AN974","v":980.6549890689198},{"$f":"camera!$B$5*AL974/AN974","v":-12666.72031761174},null,{"$f":"IF( AND( (camera!$B$3) > (AQ974+camera!$B$3/2), 0 < (AQ974+camera!$B$3/2), AN974 >= 0 ), AQ974+camera!$B$3/2, 0)*-1+camera!$B$3","v":1000},{"$f":"IF( AND( (camera!$B$4) > (AP974+camera!$B$4/2), 0 < (AP974+camera!$B$4/2), AN974 >= 0 ), AP974+camera!$B$4/2, 0)","v":0},null,null,null,-4712.3666000000003,2168.6504,471.78410000000002,null,{"$f":"MMULT(               MMULT(AX974:AZ974-$B$2:$D$2, TRANSPOSE($A$16:$C$18)),     TRANSPOSE($A$12:$C$14))","v":-61.909133876566443},-172.62022035028548,5903.8022097202238,null,-14.619410865939715,-5.243157856358831," ",505.24315785635883,485.3805891340603]
[null,null,null,null,null,null,null,null,null,null,null,null,null,null,null,null,null,null,null,null,941.65679999999998,152.16220000000001,null,null,null,"''",null,7.4966059999999999,12.006563999999999,null,12.006563999999999,112.44909,null,{"$f":"camera!$B$5*COS(RADIANS(AE975))*COS(RADIANS(AF975))","v":-186.75433192670619},{"$f":"camera!$B$5*COS(RADIANS(AE975))*SIN(RADIANS(AF975))","v":452.00038653755888},{"$f":"camera!$B$5*SIN(RADIANS(AE975))","v":104.01187468989772},null,{"$f":"TRANSPOSE(MMULT(camera!$A$12:$C$14,MMULT(camera!$A$16:$C$18,TRANSPOSE(AH975:AJ975))))","v":-177.79564805436885},225.4381047219602,409.34871255727364,null,{"$f":"camera!$B$5*AM975/AN975","v":275.36193202319924},{"$f":"camera!$B$5*AL975/AN975","v":-217.16893518932557},null,{"$f":"IF( AND( (camera!$B$3) > (AQ975+camera!$B$3/2), 0 < (AQ975+camera!$B$3/2), AN975 >= 0 ), AQ975+camera!$B$3/2, 0)*-1+camera!$B$3","v":717.16893518932557},{"$f":"IF( AND( (camera!$B$4) > (AP975+camera!$B$4/2), 0 < (AP975+camera!$B$4/2), AN975 >= 0 ), AP975+camera!$B$4/2, 0)","v":775.36193202319919},null,null,null,-4814.1106,2066.9065000000001,707.67619999999999,null,{"$f":"MMULT(               MMULT(AX975:AZ975-$B$2:$D$2, TRANSPOSE($A$16:$C$18)),     TRANSPOSE($A$12:$C$14))","v":-275.07725267577666},-80.13095216218278,5754.2902237015278,null,-6.9627138228211765,-23.901927256184635," ",523.90192725618465,493.03728617717883]
[null,null,null,null,null,null,null,null,null,null,null,null,null,null,null,null,null,null,null,null,943.10130000000004,485,null,null,null,"''",null,9.8684329999999996,54.064332,null,54.064332,148.02649499999998,null,{"$f":"camera!$B$5*COS(RADIANS(AE976))*COS(RADIANS(AF976))","v":-248.92163478770198},{"$f":"camera!$B$5*COS(RADIANS(AE976))*SIN(RADIANS(AF976))","v":155.38349414252161},{"$f":"camera!$B$5*SIN(RADIANS(AE976))","v":404.83822631105238},null,{"$f":"TRANSPOSE(MMULT(camera!$A$12:$C$14,MMULT(camera!$A$16:$C$18,TRANSPOSE(AH976:AJ976))))","v":-421.79992117137357},261.51697665855636,60.775796327083256,null,{"$f":"camera!$B$5*AM976/AN976","v":2151.4895111462133},{"$f":"camera!$B$5*AL976/AN976","v":-3470.1307647318204},null,{"$f":"IF( AND( (camera!$B$3) > (AQ976+camera!$B$3/2), 0 < (AQ976+camera!$B$3/2), AN976 >= 0 ), AQ976+camera!$B$3/2, 0)*-1+camera!$B$3","v":1000},{"$f":"IF( AND( (camera!$B$4) > (AP976+camera!$B$4/2), 0 < (AP976+camera!$B$4/2), AN976 >= 0 ), AP976+camera!$B$4/2, 0)","v":0},null,null,null,-4721.7844999999998,1926.3485000000001,707.67619999999999,null,{"$f":"MMULT(               MMULT(AX976:AZ976-$B$2:$D$2, TRANSPOSE($A$16:$C$18)),     TRANSPOSE($A$12:$C$14))","v":-252.15979400292463},-184.35616036679664,5624.3188569783415,null,-16.389198857214311,-22.416918422935677," ",522.41691842293562,483.6108011427857]
[null,null,null,null,null,null,null,null,null,null,null,null,null,null,null,null,null,null,null,null,943.10130000000004,500,null,null,null,"''",null,15.598126000000001,-44.958388999999997,null,-44.958388999999997,-126.02811,null,{"$f":"camera!$B$5*COS(RADIANS(AE977))*COS(RADIANS(AF977))","v":-208.10474533875598},{"$f":"camera!$B$5*COS(RADIANS(AE977))*SIN(RADIANS(AF977))","v":-286.13629120125876},{"$f":"camera!$B$5*SIN(RADIANS(AE977))","v":-353.29652959671137},null,{"$f":"TRANSPOSE(MMULT(camera!$A$12:$C$14,MMULT(camera!$A$16:$C$18,TRANSPOSE(AH977:AJ977))))","v":400.57668071053843},182.37442296749572,-237.22962023786212,null,{"$f":"camera!$B$5*AM977/AN977","v":-384.38375187852819},{"$f":"camera!$B$5*AL977/AN977","v":-844.28049142618386},null,{"$f":"IF( AND( (camera!$B$3) > (AQ977+camera!$B$3/2), 0 < (AQ977+camera!$B$3/2), AN977 >= 0 ), AQ977+camera!$B$3/2, 0)*-1+camera!$B$3","v":1000},{"$f":"IF( AND( (camera!$B$4) > (AP977+camera!$B$4/2), 0 < (AP977+camera!$B$4/2), AN977 >= 0 ), AP977+camera!$B$4/2, 0)","v":0},null,null,null,-4589.2650999999996,1981.2398000000001,471.78410000000002,null,{"$f":"MMULT(               MMULT(AX977:AZ977-$B$2:$D$2, TRANSPOSE($A$16:$C$18)),     TRANSPOSE($A$12:$C$14))","v":-31.352534349737766},-311.58719201921144,5730.5071223543819,null,-27.186703145671657,-2.7355811344717917," ",502.73558113447177,472.81329685432831]
[null,null,null,null,null,null,null,null,null,null,null,null,null,null,null,null,null,null,null,null,943.10130000000004,515,null,null,null,"''",null,16.343938999999999,-24.169319999999999,null,-24.169319999999999,-114.84091500000002,null,{"$f":"camera!$B$5*COS(RADIANS(AE978))*COS(RADIANS(AF978))","v":-191.63700962568868},{"$f":"camera!$B$5*COS(RADIANS(AE978))*SIN(RADIANS(AF978))","v":-413.96387622088406},{"$f":"camera!$B$5*SIN(RADIANS(AE978))","v":-204.71728243092787},null,{"$f":"TRANSPOSE(MMULT(camera!$A$12:$C$14,MMULT(camera!$A$16:$C$18,TRANSPOSE(AH978:AJ978))))","v":276.11801707865089},154.82844384453711,-387.02324687443888,null,{"$f":"camera!$B$5*AM978/AN978","v":-200.02473377880548},{"$f":"camera!$B$5*AL978/AN978","v":-356.72019614913631},null,{"$f":"IF( AND( (camera!$B$3) > (AQ978+camera!$B$3/2), 0 < (AQ978+camera!$B$3/2), AN978 >= 0 ), AQ978+camera!$B$3/2, 0)*-1+camera!$B$3","v":1000},{"$f":"IF( AND( (camera!$B$4) > (AP978+camera!$B$4/2), 0 < (AP978+camera!$B$4/2), AN978 >= 0 ), AP978+camera!$B$4/2, 0)","v":0},null,null,null,-4399.9040000000005,1761.6746000000001,235.8921,null,{"$f":"MMULT(               MMULT(AX978:AZ978-$B$2:$D$2, TRANSPOSE($A$16:$C$18)),     TRANSPOSE($A$12:$C$14))","v":236.07187443830219},-519.36408395156957,5572.3158214824743,null,-46.602175880745079,21.182564126049211," ",478.81743587395079,453.39782411925489]
[null,null,null,null,null,null,null,null,null,null,null,null,null,null,null,null,null,null,null,null,943.10130000000004,75,null,null,null,"''",null,18.134716000000001,-28.457093,null,-28.457093,-87.979260000000011,null,{"$f":"camera!$B$5*COS(RADIANS(AE979))*COS(RADIANS(AF979))","v":15.500392827227596},{"$f":"camera!$B$5*COS(RADIANS(AE979))*SIN(RADIANS(AF979))","v":-439.31373101429131},{"$f":"camera!$B$5*SIN(RADIANS(AE979))","v":-238.25025407017836},null,{"$f":"TRANSPOSE(MMULT(camera!$A$12:$C$14,MMULT(camera!$A$16:$C$18,TRANSPOSE(AH979:AJ979))))","v":310.39184510742075},-53.730123678618909,-388.29109737449716,null,{"$f":"camera!$B$5*AM979/AN979","v":69.187941781211549},{"$f":"camera!$B$5*AL979/AN979","v":-399.68962359193046},null,{"$f":"IF( AND( (camera!$B$3) > (AQ979+camera!$B$3/2), 0 < (AQ979+camera!$B$3/2), AN979 >= 0 ), AQ979+camera!$B$3/2, 0)*-1+camera!$B$3","v":1000},{"$f":"IF( AND( (camera!$B$4) > (AP979+camera!$B$4/2), 0 < (AP979+camera!$B$4/2), AN979 >= 0 ), AP979+camera!$B$4/2, 0)","v":0},null,null,null,-4456.7457999999997,1487.2180000000001,235.8921,null,{"$f":"MMULT(               MMULT(AX979:AZ979-$B$2:$D$2, TRANSPOSE($A$16:$C$18)),     TRANSPOSE($A$12:$C$14))","v":284.40967499645956},-486.65905298657589,5298.1785319766896,null,-45.927015298690677,26.840325715708715," ",473.15967428429133,454.07298470130934]
[null,null,null,null,null,null,null,null,null,null,null,null,null,null,null,null,null,null,null,null,943.10130000000004,90,null,null,null,"''",null,21.698651999999999,71.311417000000006,null,71.311417000000006,-34.520219999999995,null,{"$f":"camera!$B$5*COS(RADIANS(AE980))*COS(RADIANS(AF980))","v":132.00297076118943},{"$f":"camera!$B$5*COS(RADIANS(AE980))*SIN(RADIANS(AF980))","v":-90.791733976819231},{"$f":"camera!$B$5*SIN(RADIANS(AE980))","v":473.63707282232781},null,{"$f":"TRANSPOSE(MMULT(camera!$A$12:$C$14,MMULT(camera!$A$16:$C$18,TRANSPOSE(AH980:AJ980))))","v":-452.73342647861773},-139.4136806147541,-159.98834397035728,null,{"$f":"camera!$B$5*AM980/AN980","v":435.69949270987121},{"$f":"camera!$B$5*AL980/AN980","v":1414.8950331109759},null,{"$f":"IF( AND( (camera!$B$3) > (AQ980+camera!$B$3/2), 0 < (AQ980+camera!$B$3/2), AN980 >= 0 ), AQ980+camera!$B$3/2, 0)*-1+camera!$B$3","v":1000},{"$f":"IF( AND( (camera!$B$4) > (AP980+camera!$B$4/2), 0 < (AP980+camera!$B$4/2), AN980 >= 0 ), AP980+camera!$B$4/2, 0)","v":0},null,null,null,-4610.6225999999997,1252.9548,235.8921,null,{"$f":"MMULT(               MMULT(AX980:AZ980-$B$2:$D$2, TRANSPOSE($A$16:$C$18)),     TRANSPOSE($A$12:$C$14))","v":327.26309402331458},-353.7851838616952,5055.1447157412267,null,-34.992587132079791,32.369310121256206," ",467.63068987874385,465.00741286792021]
[null,null,null,null,null,null,null,null,null,null,null,null,null,null,null,null,null,null,null,null,943.10130000000004,105,null,null,null,"''",null,22.350428000000001,46.536569,null,46.536569,-24.743580000000009,null,{"$f":"camera!$B$5*COS(RADIANS(AE981))*COS(RADIANS(AF981))","v":312.3681023014779},{"$f":"camera!$B$5*COS(RADIANS(AE981))*SIN(RADIANS(AF981))","v":-143.96123026195792},{"$f":"camera!$B$5*SIN(RADIANS(AE981))","v":362.90678258478027},null,{"$f":"TRANSPOSE(MMULT(camera!$A$12:$C$14,MMULT(camera!$A$16:$C$18,TRANSPOSE(AH981:AJ981))))","v":-337.21745008284603},-323.72649531605987,-177.44167376916934,null,{"$f":"camera!$B$5*AM981/AN981","v":912.20536990986056},{"$f":"camera!$B$5*AL981/AN981","v":950.22055112466455},null,{"$f":"IF( AND( (camera!$B$3) > (AQ981+camera!$B$3/2), 0 < (AQ981+camera!$B$3/2), AN981 >= 0 ), AQ981+camera!$B$3/2, 0)*-1+camera!$B$3","v":1000},{"$f":"IF( AND( (camera!$B$4) > (AP981+camera!$B$4/2), 0 < (AP981+camera!$B$4/2), AN981 >= 0 ), AP981+camera!$B$4/2, 0)","v":0},null,null,null,-4844.8859000000002,1099.0779,235.8921,null,{"$f":"MMULT(               MMULT(AX981:AZ981-$B$2:$D$2, TRANSPOSE($A$16:$C$18)),     TRANSPOSE($A$12:$C$14))","v":357.4273008374721},-133.82458195542569,4884.0749980329065,null,-13.700094901217161,36.591094627071485," ",463.40890537292853,486.29990509878286]
[null,null,null,null,null,null,null,null,null,null,null,null,null,null,null,null,null,null,null,null,944.56859999999995,459.30619999999999,null,null,null,"''",null,22.408608999999998,49.476391999999997,null,49.476391999999997,-23.870865000000038,null,{"$f":"camera!$B$5*COS(RADIANS(AE982))*COS(RADIANS(AF982))","v":297.0903152215281},{"$f":"camera!$B$5*COS(RADIANS(AE982))*SIN(RADIANS(AF982))","v":-131.47160992518675},{"$f":"camera!$B$5*SIN(RADIANS(AE982))","v":380.06915210952411},null,{"$f":"TRANSPOSE(MMULT(camera!$A$12:$C$14,MMULT(camera!$A$16:$C$18,TRANSPOSE(AH982:AJ982))))","v":-356.04841083477027},-307.41830269135176,-169.48013545074554,null,{"$f":"camera!$B$5*AM982/AN982","v":906.9449404018618},{"$f":"camera!$B$5*AL982/AN982","v":1050.4134006260731},null,{"$f":"IF( AND( (camera!$B$3) > (AQ982+camera!$B$3/2), 0 < (AQ982+camera!$B$3/2), AN982 >= 0 ), AQ982+camera!$B$3/2, 0)*-1+camera!$B$3","v":1000},{"$f":"IF( AND( (camera!$B$4) > (AP982+camera!$B$4/2), 0 < (AP982+camera!$B$4/2), AN982 >= 0 ), AP982+camera!$B$4/2, 0)","v":0},null,null,null,-5119.3424999999997,1042.2361000000001,235.8921,null,{"$f":"MMULT(               MMULT(AX982:AZ982-$B$2:$D$2, TRANSPOSE($A$16:$C$18)),     TRANSPOSE($A$12:$C$14))","v":371.41396150588287},134.63353852274696,4804.7527036669862,null,14.010454525577838,38.650684479808895," ",461.34931552019111,514.01045452557787]
[null,null,null,null,null,null,null,null,null,null,null,null,null,null,null,null,null,null,null,null,944.56859999999995,49.306199999999997,null,null,null,"''",null,2.8585660000000002,35.059741000000002,null,35.059741000000002,42.878489999999999,null,{"$f":"camera!$B$5*COS(RADIANS(AE983))*COS(RADIANS(AF983))","v":299.91736518179232},{"$f":"camera!$B$5*COS(RADIANS(AE983))*SIN(RADIANS(AF983))","v":278.4906644595751},{"$f":"camera!$B$5*SIN(RADIANS(AE983))","v":287.21511776241124},null,{"$f":"TRANSPOSE(MMULT(camera!$A$12:$C$14,MMULT(camera!$A$16:$C$18,TRANSPOSE(AH983:AJ983))))","v":-335.56612917110749},-274.5040283504843,249.08414516479371,null,{"$f":"camera!$B$5*AM983/AN983","v":-551.02669856580565},{"$f":"camera!$B$5*AL983/AN983","v":-673.59993738079436},null,{"$f":"IF( AND( (camera!$B$3) > (AQ983+camera!$B$3/2), 0 < (AQ983+camera!$B$3/2), AN983 >= 0 ), AQ983+camera!$B$3/2, 0)*-1+camera!$B$3","v":1000},{"$f":"IF( AND( (camera!$B$4) > (AP983+camera!$B$4/2), 0 < (AP983+camera!$B$4/2), AN983 >= 0 ), AP983+camera!$B$4/2, 0)","v":0},null,null,null,-5393.799,1099.0779,235.8921,null,{"$f":"MMULT(               MMULT(AX983:AZ983-$B$2:$D$2, TRANSPOSE($A$16:$C$18)),     TRANSPOSE($A$12:$C$14))","v":365.73479096482731},412.99973797767819,4836.9608803069832,null,42.692069276304203,37.806258931498277," ",462.19374106850171,542.69206927630421]
[null,null,null,null,null,null,null,null,null,null,null,null,null,null,null,null,null,null,null,null,944.94200000000001,547.16219999999998,null,null,null,"''",null,3.979095,-61.400185,null,-61.400185,59.686425,null,{"$f":"camera!$B$5*COS(RADIANS(AE984))*COS(RADIANS(AF984))","v":120.80487530748623},{"$f":"camera!$B$5*COS(RADIANS(AE984))*SIN(RADIANS(AF984))","v":206.62037000312193},{"$f":"camera!$B$5*SIN(RADIANS(AE984))","v":-438.99226052598664},null,{"$f":"TRANSPOSE(MMULT(camera!$A$12:$C$14,MMULT(camera!$A$16:$C$18,TRANSPOSE(AH984:AJ984))))","v":394.75194869775856},-102.33702447053417,289.30612233729084,null,{"$f":"camera!$B$5*AM984/AN984","v":-176.86633045259822},{"$f":"camera!$B$5*AL984/AN984","v":682.23918925146779},null,{"$f":"IF( AND( (camera!$B$3) > (AQ984+camera!$B$3/2), 0 < (AQ984+camera!$B$3/2), AN984 >= 0 ), AQ984+camera!$B$3/2, 0)*-1+camera!$B$3","v":1000},{"$f":"IF( AND( (camera!$B$4) > (AP984+camera!$B$4/2), 0 < (AP984+camera!$B$4/2), AN984 >= 0 ), AP984+camera!$B$4/2, 0)","v":323.13366954740178},null,null,null,-5628.0622999999996,1252.9548,235.8921,null,{"$f":"MMULT(               MMULT(AX984:AZ984-$B$2:$D$2, TRANSPOSE($A$16:$C$18)),     TRANSPOSE($A$12:$C$14))","v":342.66146994644191},659.78285090636086,4967.8161863167552,null,66.405722973773905,34.488138962373569," ",465.51186103762643,566.40572297377389]
[null,null,null,null,null,null,null,null,null,null,null,null,null,null,null,null,null,null,null,null,944.94200000000001,137.16220000000001,null,null,null,"''",null,5.8887900000000002,27.612262000000001,null,27.612262000000001,88.331850000000003,null,{"$f":"camera!$B$5*COS(RADIANS(AE985))*COS(RADIANS(AF985))","v":12.897514084525932},{"$f":"camera!$B$5*COS(RADIANS(AE985))*SIN(RADIANS(AF985))","v":442.86443699548835},{"$f":"camera!$B$5*SIN(RADIANS(AE985))","v":231.74284147543491},null,{"$f":"TRANSPOSE(MMULT(camera!$A$12:$C$14,MMULT(camera!$A$16:$C$18,TRANSPOSE(AH985:AJ985))))","v":-305.02730840823779},25.749743793296894,395.34199349399421,null,{"$f":"camera!$B$5*AM985/AN985","v":32.566416187821531},{"$f":"camera!$B$5*AL985/AN985","v":-385.77650923499925},null,{"$f":"IF( AND( (camera!$B$3) > (AQ985+camera!$B$3/2), 0 < (AQ985+camera!$B$3/2), AN985 >= 0 ), AQ985+camera!$B$3/2, 0)*-1+camera!$B$3","v":885.77650923499925},{"$f":"IF( AND( (camera!$B$4) > (AP985+camera!$B$4/2), 0 < (AP985+camera!$B$4/2), AN985 >= 0 ), AP985+camera!$B$4/2, 0)","v":532.56641618782157},null,null,null,-5781.9390999999996,1487.2180000000001,235.8921,null,{"$f":"MMULT(               MMULT(AX985:AZ985-$B$2:$D$2, TRANSPOSE($A$16:$C$18)),     TRANSPOSE($A$12:$C$14))","v":304.46572805219284},833.49148642012801,5184.4350029084208,null,80.384023133913999,29.363443449613154," ",470.6365565503869,580.38402313391396]
[null,null,null,null,null,null,null,null,null,null,null,null,null,null,null,null,null,null,null,null,945,530,null,null,null,"''",null,9.1088249999999995,38.452215000000002,null,38.452215000000002,136.632375,null,{"$f":"camera!$B$5*COS(RADIANS(AE986))*COS(RADIANS(AF986))","v":-284.65211972058296},{"$f":"camera!$B$5*COS(RADIANS(AE986))*SIN(RADIANS(AF986))","v":268.87761312319765},{"$f":"camera!$B$5*SIN(RADIANS(AE986))","v":310.93086032066827},null,{"$f":"TRANSPOSE(MMULT(camera!$A$12:$C$14,MMULT(camera!$A$16:$C$18,TRANSPOSE(AH986:AJ986))))","v":-348.4115102134391},307.00316054619134,185.36040290590671,null,{"$f":"camera!$B$5*AM986/AN986","v":828.12498174713539},{"$f":"camera!$B$5*AL986/AN986","v":-939.82184099562244},null,{"$f":"IF( AND( (camera!$B$3) > (AQ986+camera!$B$3/2), 0 < (AQ986+camera!$B$3/2), AN986 >= 0 ), AQ986+camera!$B$3/2, 0)*-1+camera!$B$3","v":1000},{"$f":"IF( AND( (camera!$B$4) > (AP986+camera!$B$4/2), 0 < (AP986+camera!$B$4/2), AN986 >= 0 ), AP986+camera!$B$4/2, 0)","v":0},null,null,null,-5838.7808999999997,1761.6746000000001,235.8921,null,{"$f":"MMULT(               MMULT(AX986:AZ986-$B$2:$D$2, TRANSPOSE($A$16:$C$18)),     TRANSPOSE($A$12:$C$14))","v":257.84846465126884},914.03745503511641,5448.8146413144113,null,83.874889788380116,23.660968634920234," ",476.33903136507979,583.87488978838007]
[null,null,null,null,null,null,null,null,null,null,null,null,null,null,null,null,null,null,null,null,945,120,null,null,null,"''",null,11.253397,23.095502,null,23.095502,168.80095499999999,null,{"$f":"camera!$B$5*COS(RADIANS(AE987))*COS(RADIANS(AF987))","v":-451.16841434773653},{"$f":"camera!$B$5*COS(RADIANS(AE987))*SIN(RADIANS(AF987))","v":89.325936841778841},{"$f":"camera!$B$5*SIN(RADIANS(AE987))","v":196.13245244550353},null,{"$f":"TRANSPOSE(MMULT(camera!$A$12:$C$14,MMULT(camera!$A$16:$C$18,TRANSPOSE(AH987:AJ987))))","v":-201.77684136215214},457.23685069175059,14.851554107322031,null,{"$f":"camera!$B$5*AM987/AN987","v":15393.569164129638},{"$f":"camera!$B$5*AL987/AN987","v":-6793.122117188841},null,{"$f":"IF( AND( (camera!$B$3) > (AQ987+camera!$B$3/2), 0 < (AQ987+camera!$B$3/2), AN987 >= 0 ), AQ987+camera!$B$3/2, 0)*-1+camera!$B$3","v":1000},{"$f":"IF( AND( (camera!$B$4) > (AP987+camera!$B$4/2), 0 < (AP987+camera!$B$4/2), AN987 >= 0 ), AP987+camera!$B$4/2, 0)","v":0},null,null,null,-5781.9390999999996,2036.1311000000001,235.8921,null,{"$f":"MMULT(               MMULT(AX987:AZ987-$B$2:$D$2, TRANSPOSE($A$16:$C$18)),     TRANSPOSE($A$12:$C$14))","v":209.51068139185077},881.33241535454761,5722.9518327141705,null,76.999810684809347,18.304424667199068," ",481.6955753328009,576.99981068480929]
[null,null,null,null,null,null,null,null,null,null,null,null,null,null,null,null,null,null,null,null,945.7056,444.30619999999999,null,null,null,"''",null,14.435619000000001,-45.221423999999999,null,-45.221423999999999,-143.46571499999999,null,{"$f":"camera!$B$5*COS(RADIANS(AE988))*COS(RADIANS(AF988))","v":-282.98045662843793},{"$f":"camera!$B$5*COS(RADIANS(AE988))*SIN(RADIANS(AF988))","v":-209.65668681239782},{"$f":"camera!$B$5*SIN(RADIANS(AE988))","v":-354.91708164190817},null,{"$f":"TRANSPOSE(MMULT(camera!$A$12:$C$14,MMULT(camera!$A$16:$C$18,TRANSPOSE(AH988:AJ988))))","v":390.07580713023793},263.6308462956834,-168.34381952752284,null,{"$f":"camera!$B$5*AM988/AN988","v":-783.01314249491031},{"$f":"camera!$B$5*AL988/AN988","v":-1158.5688391324154},null,{"$f":"IF( AND( (camera!$B$3) > (AQ988+camera!$B$3/2), 0 < (AQ988+camera!$B$3/2), AN988 >= 0 ), AQ988+camera!$B$3/2, 0)*-1+camera!$B$3","v":1000},{"$f":"IF( AND( (camera!$B$4) > (AP988+camera!$B$4/2), 0 < (AP988+camera!$B$4/2), AN988 >= 0 ), AP988+camera!$B$4/2, 0)","v":0},null,null,null,-5628.0622999999996,2270.3944000000001,235.8921,null,{"$f":"MMULT(               MMULT(AX988:AZ988-$B$2:$D$2, TRANSPOSE($A$16:$C$18)),     TRANSPOSE($A$12:$C$14))","v":166.65724506625645},748.45855494524108,5965.985747055659,null,62.727149098086706,13.967284882343654," ",486.03271511765638,562.72714909808667]
[null,null,null,null,null,null,null,null,null,null,null,null,null,null,null,null,null,null,null,null,945.7056,34.306199999999997,null,null,null,"''",null,17.594332000000001,-46.505684000000002,null,-46.505684000000002,-96.085019999999986,null,{"$f":"camera!$B$5*COS(RADIANS(AE989))*COS(RADIANS(AF989))","v":-36.480388629120021},{"$f":"camera!$B$5*COS(RADIANS(AE989))*SIN(RADIANS(AF989))","v":-342.20230815183504},{"$f":"camera!$B$5*SIN(RADIANS(AE989))","v":-362.72132766219426},null,{"$f":"TRANSPOSE(MMULT(camera!$A$12:$C$14,MMULT(camera!$A$16:$C$18,TRANSPOSE(AH989:AJ989))))","v":416.95957125031003},6.5166733997195898,-275.86636059976394,null,{"$f":"camera!$B$5*AM989/AN989","v":-11.811286786746347},{"$f":"camera!$B$5*AL989/AN989","v":-755.72746590739428},null,{"$f":"IF( AND( (camera!$B$3) > (AQ989+camera!$B$3/2), 0 < (AQ989+camera!$B$3/2), AN989 >= 0 ), AQ989+camera!$B$3/2, 0)*-1+camera!$B$3","v":1000},{"$f":"IF( AND( (camera!$B$4) > (AP989+camera!$B$4/2), 0 < (AP989+camera!$B$4/2), AN989 >= 0 ), AP989+camera!$B$4/2, 0)","v":0},null,null,null,-5393.799,2424.2712000000001,235.8921,null,{"$f":"MMULT(               MMULT(AX989:AZ989-$B$2:$D$2, TRANSPOSE($A$16:$C$18)),     TRANSPOSE($A$12:$C$14))","v":136.49305555083811},528.49794432339831,6137.0553666579535,null,43.057941695839837,11.120402815036678," ",488.8795971849633,543.05794169583987]
[null,null,null,null,null,null,null,null,null,null,null,null,null,null,null,null,null,null,null,null,946.65229999999997,470,null,null,null,"''",null,20.868801000000001,27.096979000000001,null,27.096979000000001,-46.967984999999999,null,{"$f":"camera!$B$5*COS(RADIANS(AE990))*COS(RADIANS(AF990))","v":303.75187964676928},{"$f":"camera!$B$5*COS(RADIANS(AE990))*SIN(RADIANS(AF990))","v":-325.36932199586408},{"$f":"camera!$B$5*SIN(RADIANS(AE990))","v":227.74898444341375},null,{"$f":"TRANSPOSE(MMULT(camera!$A$12:$C$14,MMULT(camera!$A$16:$C$18,TRANSPOSE(AH990:AJ990))))","v":-172.60128789771795},-330.95381696536504,-332.68358308173964,null,{"$f":"camera!$B$5*AM990/AN990","v":497.4002833257486},{"$f":"camera!$B$5*AL990/AN990","v":259.40758227211683},null,{"$f":"IF( AND( (camera!$B$3) > (AQ990+camera!$B$3/2), 0 < (AQ990+camera!$B$3/2), AN990 >= 0 ), AQ990+camera!$B$3/2, 0)*-1+camera!$B$3","v":1000},{"$f":"IF( AND( (camera!$B$4) > (AP990+camera!$B$4/2), 0 < (AP990+camera!$B$4/2), AN990 >= 0 ), AP990+camera!$B$4/2, 0)","v":0},null,null,null,-5119.3424999999997,2481.1129999999998,235.8921,null,{"$f":"MMULT(               MMULT(AX990:AZ990-$B$2:$D$2, TRANSPOSE($A$16:$C$18)),     TRANSPOSE($A$12:$C$14))","v":122.50639639587143},260.03992346469471,6216.3776524407058,null,20.915711528770821,9.8535194646493487," ",490.14648053535063,520.91571152877077]
[null,null,null,null,null,null,null,null,null,null,null,null,null,null,null,null,null,null,null,null,946.65229999999997,60,null,null,null,"''",null,21.110026000000001,47.648403000000002,null,47.648403000000002,-43.349609999999984,null,{"$f":"camera!$B$5*COS(RADIANS(AE991))*COS(RADIANS(AF991))","v":244.94224519964203},{"$f":"camera!$B$5*COS(RADIANS(AE991))*SIN(RADIANS(AF991))","v":-231.22264495381972},{"$f":"camera!$B$5*SIN(RADIANS(AE991))","v":369.51236106132939},null,{"$f":"TRANSPOSE(MMULT(camera!$A$12:$C$14,MMULT(camera!$A$16:$C$18,TRANSPOSE(AH991:AJ991))))","v":-327.60709794951998},-264.16254736759993,-269.98469945786587,null,{"$f":"camera!$B$5*AM991/AN991","v":489.21762584702589},{"$f":"camera!$B$5*AL991/AN991","v":606.71419270677359},null,{"$f":"IF( AND( (camera!$B$3) > (AQ991+camera!$B$3/2), 0 < (AQ991+camera!$B$3/2), AN991 >= 0 ), AQ991+camera!$B$3/2, 0)*-1+camera!$B$3","v":1000},{"$f":"IF( AND( (camera!$B$4) > (AP991+camera!$B$4/2), 0 < (AP991+camera!$B$4/2), AN991 >= 0 ), AP991+camera!$B$4/2, 0)","v":0},null,null,null,-4844.8859000000002,2424.2712000000001,235.8921,null,{"$f":"MMULT(               MMULT(AX991:AZ991-$B$2:$D$2, TRANSPOSE($A$16:$C$18)),     TRANSPOSE($A$12:$C$14))","v":128.18556542348301},-18.326375609705565,6184.1694843838759,null,-1.4817167977028212,10.364008113553023," ",489.63599188644696,498.5182832022972]
[null,null,null,null,null,null,null,null,null,null,null,null,null,null,null,null,null,null,null,null,946.65679999999998,562.16219999999998,null,null,null,"''",null,3.6182439999999998,-40.274545000000003,null,-40.274545000000003,54.27366,null,{"$f":"camera!$B$5*COS(RADIANS(AE992))*COS(RADIANS(AF992))","v":222.75041316429028},{"$f":"camera!$B$5*COS(RADIANS(AE992))*SIN(RADIANS(AF992))","v":309.68946966844459},{"$f":"camera!$B$5*SIN(RADIANS(AE992))","v":-323.22544115773985},null,{"$f":"TRANSPOSE(MMULT(camera!$A$12:$C$14,MMULT(camera!$A$16:$C$18,TRANSPOSE(AH992:AJ992))))","v":261.37134428891454},-194.9115648419301,379.07057690550948,null,{"$f":"camera!$B$5*AM992/AN992","v":-257.09139236427143},{"$f":"camera!$B$5*AL992/AN992","v":344.7528774490803},null,{"$f":"IF( AND( (camera!$B$3) > (AQ992+camera!$B$3/2), 0 < (AQ992+camera!$B$3/2), AN992 >= 0 ), AQ992+camera!$B$3/2, 0)*-1+camera!$B$3","v":155.2471225509197},{"$f":"IF( AND( (camera!$B$4) > (AP992+camera!$B$4/2), 0 < (AP992+camera!$B$4/2), AN992 >= 0 ), AP992+camera!$B$4/2, 0)","v":242.90860763572857},null,null,null,-4610.6225999999997,2270.3944000000001,235.8921,null,{"$f":"MMULT(               MMULT(AX992:AZ992-$B$2:$D$2, TRANSPOSE($A$16:$C$18)),     TRANSPOSE($A$12:$C$14))","v":151.258869143129},-265.10947982281493,6053.3142764801296,null,-21.897878394723818,12.493888656238971," ",487.50611134376106,478.10212160527618]
[null,null,null,null,null,null,null,null,null,null,null,null,null,null,null,null,null,null,null,null,946.65679999999998,152.16220000000001,null,null,null,"''",null,16.423597999999998,14.03327,null,14.03327,-113.64603000000002,null,{"$f":"camera!$B$5*COS(RADIANS(AE993))*COS(RADIANS(AF993))","v":-194.557368100041},{"$f":"camera!$B$5*COS(RADIANS(AE993))*SIN(RADIANS(AF993))","v":-444.35082207357203},{"$f":"camera!$B$5*SIN(RADIANS(AE993))","v":121.24263870654566},null,{"$f":"TRANSPOSE(MMULT(camera!$A$12:$C$14,MMULT(camera!$A$16:$C$18,TRANSPOSE(AH993:AJ993))))","v":-39.589083878242661},155.08929263759029,-473.6876774277049,null,{"$f":"camera!$B$5*AM993/AN993","v":-163.70416629769761},{"$f":"camera!$B$5*AL993/AN993","v":41.788171578819274},null,{"$f":"IF( AND( (camera!$B$3) > (AQ993+camera!$B$3/2), 0 < (AQ993+camera!$B$3/2), AN993 >= 0 ), AQ993+camera!$B$3/2, 0)*-1+camera!$B$3","v":1000},{"$f":"IF( AND( (camera!$B$4) > (AP993+camera!$B$4/2), 0 < (AP993+camera!$B$4/2), AN993 >= 0 ), AP993+camera!$B$4/2, 0)","v":0},null,null,null,-4456.7457999999997,2036.1311000000001,235.8921,null,{"$f":"MMULT(               MMULT(AX993:AZ993-$B$2:$D$2, TRANSPOSE($A$16:$C$18)),     TRANSPOSE($A$12:$C$14))","v":189.45462833611748},-438.81812405215629,5836.6953617824392,null,-37.591316391588052,16.229614241701736," ",483.77038575829829,462.40868360841193]
[null,null,null,null,null,null,null,null,null,null,null,null,null,null,null,null,null,null,null,null,947.49919999999997,560.63710000000003,null,null,null,"''",null,16.426421999999999,-23.447178000000001,null,-23.447178000000001,-113.60367000000002,null,{"$f":"camera!$B$5*COS(RADIANS(AE994))*COS(RADIANS(AF994))","v":-183.67249011970736},{"$f":"camera!$B$5*COS(RADIANS(AE994))*SIN(RADIANS(AF994))","v":-420.33632768835764},{"$f":"camera!$B$5*SIN(RADIANS(AE994))","v":-198.95172278392474},null,{"$f":"TRANSPOSE(MMULT(camera!$A$12:$C$14,MMULT(camera!$A$16:$C$18,TRANSPOSE(AH994:AJ994))))","v":271.42186450015197},146.33883599905917,-393.59257684781301,null,{"$f":"camera!$B$5*AM994/AN994","v":-185.90141761698254},{"$f":"camera!$B$5*AL994/AN994","v":-344.80053800036512},null,{"$f":"IF( AND( (camera!$B$3) > (AQ994+camera!$B$3/2), 0 < (AQ994+camera!$B$3/2), AN994 >= 0 ), AQ994+camera!$B$3/2, 0)*-1+camera!$B$3","v":1000},{"$f":"IF( AND( (camera!$B$4) > (AP994+camera!$B$4/2), 0 < (AP994+camera!$B$4/2), AN994 >= 0 ), AP994+camera!$B$4/2, 0)","v":0}]
[null,null,null,null,null,null,null,null,null,null,null,null,null,null,null,null,null,null,null,null,947.49919999999997,150.6371,null,null,null,"''",null,17.698978,72.148842999999999,null,72.148842999999999,-94.515330000000006,null,{"$f":"camera!$B$5*COS(RADIANS(AE995))*COS(RADIANS(AF995))","v":-12.06651611984657},{"$f":"camera!$B$5*COS(RADIANS(AE995))*SIN(RADIANS(AF995))","v":-152.79693825134885},{"$f":"camera!$B$5*SIN(RADIANS(AE995))","v":475.92803536852398},null,{"$f":"TRANSPOSE(MMULT(camera!$A$12:$C$14,MMULT(camera!$A$16:$C$18,TRANSPOSE(AH995:AJ995))))","v":-442.08305504418882},-1.2965312598346301,-233.58272934763175,null,{"$f":"camera!$B$5*AM995/AN995","v":2.7753149033228715},{"$f":"camera!$B$5*AL995/AN995","v":946.30937886305458},null,{"$f":"IF( AND( (camera!$B$3) > (AQ995+camera!$B$3/2), 0 < (AQ995+camera!$B$3/2), AN995 >= 0 ), AQ995+camera!$B$3/2, 0)*-1+camera!$B$3","v":1000},{"$f":"IF( AND( (camera!$B$4) > (AP995+camera!$B$4/2), 0 < (AP995+camera!$B$4/2), AN995 >= 0 ), AP995+camera!$B$4/2, 0)","v":0}]
[null,null,null,null,null,null,null,null,null,null,null,null,null,null,null,null,null,null,null,null,948.10130000000004,485,null,null,null,"''",null,18.912468000000001,22.645076,null,22.645076,-76.312979999999982,null,{"$f":"camera!$B$5*COS(RADIANS(AE996))*COS(RADIANS(AF996))","v":109.18829408237411},{"$f":"camera!$B$5*COS(RADIANS(AE996))*SIN(RADIANS(AF996))","v":-448.34977920898962},{"$f":"camera!$B$5*SIN(RADIANS(AE996))","v":192.51075792960575},null,{"$f":"TRANSPOSE(MMULT(camera!$A$12:$C$14,MMULT(camera!$A$16:$C$18,TRANSPOSE(AH996:AJ996))))","v":-113.67973031304599},-147.84905767625142,-463.91548266920086,null,{"$f":"camera!$B$5*AM996/AN996","v":159.34913060627093},{"$f":"camera!$B$5*AL996/AN996","v":122.5220267051384},null,{"$f":"IF( AND( (camera!$B$3) > (AQ996+camera!$B$3/2), 0 < (AQ996+camera!$B$3/2), AN996 >= 0 ), AQ996+camera!$B$3/2, 0)*-1+camera!$B$3","v":1000},{"$f":"IF( AND( (camera!$B$4) > (AP996+camera!$B$4/2), 0 < (AP996+camera!$B$4/2), AN996 >= 0 ), AP996+camera!$B$4/2, 0)","v":0}]
[null,null,null,null,null,null,null,null,null,null,null,null,null,null,null,null,null,null,null,null,948.10130000000004,500,null,null,null,"''",null,19.139156,-40.496702999999997,null,-40.496702999999997,-72.912660000000017,null,{"$f":"camera!$B$5*COS(RADIANS(AE997))*COS(RADIANS(AF997))","v":111.72020086439301},{"$f":"camera!$B$5*COS(RADIANS(AE997))*SIN(RADIANS(AF997))","v":-363.43790870197921},{"$f":"camera!$B$5*SIN(RADIANS(AE997))","v":-324.70214541507346},null,{"$f":"TRANSPOSE(MMULT(camera!$A$12:$C$14,MMULT(camera!$A$16:$C$18,TRANSPOSE(AH997:AJ997))))","v":380.9485446855349},-142.97077264642974,-290.58142485516169,null,{"$f":"camera!$B$5*AM997/AN997","v":246.00810722449404},{"$f":"camera!$B$5*AL997/AN997","v":-655.49362777647627},null,{"$f":"IF( AND( (camera!$B$3) > (AQ997+camera!$B$3/2), 0 < (AQ997+camera!$B$3/2), AN997 >= 0 ), AQ997+camera!$B$3/2, 0)*-1+camera!$B$3","v":1000},{"$f":"IF( AND( (camera!$B$4) > (AP997+camera!$B$4/2), 0 < (AP997+camera!$B$4/2), AN997 >= 0 ), AP997+camera!$B$4/2, 0)","v":0}]
[null,null,null,null,null,null,null,null,null,null,null,null,null,null,null,null,null,null,null,null,948.10130000000004,515,null,null,null,"''",null,19.891026,24.079613999999999,null,24.079613999999999,-61.634610000000009,null,{"$f":"camera!$B$5*COS(RADIANS(AE998))*COS(RADIANS(AF998))","v":216.87495401994062},{"$f":"camera!$B$5*COS(RADIANS(AE998))*SIN(RADIANS(AF998))","v":-401.68159357304887},{"$f":"camera!$B$5*SIN(RADIANS(AE998))","v":204.00282278307967},null,{"$f":"TRANSPOSE(MMULT(camera!$A$12:$C$14,MMULT(camera!$A$16:$C$18,TRANSPOSE(AH998:AJ998))))","v":-134.69998954349424},-251.05853697947796,-410.88383252046634,null,{"$f":"camera!$B$5*AM998/AN998","v":305.51036218609624},{"$f":"camera!$B$5*AL998/AN998","v":163.91493030671239},null,{"$f":"IF( AND( (camera!$B$3) > (AQ998+camera!$B$3/2), 0 < (AQ998+camera!$B$3/2), AN998 >= 0 ), AQ998+camera!$B$3/2, 0)*-1+camera!$B$3","v":1000},{"$f":"IF( AND( (camera!$B$4) > (AP998+camera!$B$4/2), 0 < (AP998+camera!$B$4/2), AN998 >= 0 ), AP998+camera!$B$4/2, 0)","v":0}]
[null,null,null,null,null,null,null,null,null,null,null,null,null,null,null,null,null,null,null,null,948.10130000000004,75,null,null,null,"''",null,5.5897680000000003,-4.8383580000000004,null,-4.8383580000000004,83.846519999999998,null,{"$f":"camera!$B$5*COS(RADIANS(AE999))*COS(RADIANS(AF999))","v":53.405087620176722},{"$f":"camera!$B$5*COS(RADIANS(AE999))*SIN(RADIANS(AF999))","v":495.34773540330258},{"$f":"camera!$B$5*SIN(RADIANS(AE999))","v":-42.172474993779751},null,{"$f":"TRANSPOSE(MMULT(camera!$A$12:$C$14,MMULT(camera!$A$16:$C$18,TRANSPOSE(AH999:AJ999))))","v":-44.965389371917247},-10.029465340899897,497.87299945227755,null,{"$f":"camera!$B$5*AM999/AN999","v":-10.072312971313528},{"$f":"camera!$B$5*AL999/AN999","v":-45.157489381212464},null,{"$f":"IF( AND( (camera!$B$3) > (AQ999+camera!$B$3/2), 0 < (AQ999+camera!$B$3/2), AN999 >= 0 ), AQ999+camera!$B$3/2, 0)*-1+camera!$B$3","v":545.15748938121249},{"$f":"IF( AND( (camera!$B$4) > (AP999+camera!$B$4/2), 0 < (AP999+camera!$B$4/2), AN999 >= 0 ), AP999+camera!$B$4/2, 0)","v":489.92768702868648}]
[null,null,null,null,null,null,null,null,null,null,null,null,null,null,null,null,null,null,null,null,948.10130000000004,90,null,null,null,"''",null,9.8612979999999997,-46.547620000000002,null,-46.547620000000002,147.91946999999999,null,{"$f":"camera!$B$5*COS(RADIANS(AE1000))*COS(RADIANS(AF1000))","v":-291.3667488072208},{"$f":"camera!$B$5*COS(RADIANS(AE1000))*SIN(RADIANS(AF1000))","v":182.63607420913712},{"$f":"camera!$B$5*SIN(RADIANS(AE1000))","v":-362.97311482668312},null,{"$f":"TRANSPOSE(MMULT(camera!$A$12:$C$14,MMULT(camera!$A$16:$C$18,TRANSPOSE(AH1000:AJ1000))))","v":330.27467048576443},306.17579306219653,217.19812563246202,null,{"$f":"camera!$B$5*AM1000/AN1000","v":704.83065213071995},{"$f":"camera!$B$5*AL1000/AN1000","v":760.30736804020148},null,{"$f":"IF( AND( (camera!$B$3) > (AQ1000+camera!$B$3/2), 0 < (AQ1000+camera!$B$3/2), AN1000 >= 0 ), AQ1000+camera!$B$3/2, 0)*-1+camera!$B$3","v":1000},{"$f":"IF( AND( (camera!$B$4) > (AP1000+camera!$B$4/2), 0 < (AP1000+camera!$B$4/2), AN1000 >= 0 ), AP1000+camera!$B$4/2, 0)","v":0}]
[null,null,null,null,null,null,null,null,null,null,null,null,null,null,null,null,null,null,null,null,948.10130000000004,105,null,null,null,"''",null,10.725638999999999,-60.566619000000003,null,-60.566619000000003,160.88458499999999,null,{"$f":"camera!$B$5*COS(RADIANS(AE1001))*COS(RADIANS(AF1001))","v":-232.15762227907956},{"$f":"camera!$B$5*COS(RADIANS(AE1001))*SIN(RADIANS(AF1001))","v":80.461741022540849},{"$f":"camera!$B$5*SIN(RADIANS(AE1001))","v":-435.46382932379788},null,{"$f":"TRANSPOSE(MMULT(camera!$A$12:$C$14,MMULT(camera!$A$16:$C$18,TRANSPOSE(AH1001:AJ1001))))","v":418.44286303768621},238.28689523759442,134.62884509217142,null,{"$f":"camera!$B$5*AM1001/AN1001","v":884.97712015005118},{"$f":"camera!$B$5*AL1001/AN1001","v":1554.0609545866869},null,{"$f":"IF( AND( (camera!$B$3) > (AQ1001+camera!$B$3/2), 0 < (AQ1001+camera!$B$3/2), AN1001 >= 0 ), AQ1001+camera!$B$3/2, 0)*-1+camera!$B$3","v":1000},{"$f":"IF( AND( (camera!$B$4) > (AP1001+camera!$B$4/2), 0 < (AP1001+camera!$B$4/2), AN1001 >= 0 ), AP1001+camera!$B$4/2, 0)","v":0}]
[null,null,null,null,null,null,null,null,null,null,null,null,null,null,null,null,null,null,null,null,948.54570000000001,447.88740000000001,null,null,null,"''",null,13.204891999999999,-59.920578999999996,null,-59.920578999999996,-161.92662000000001,null,{"$f":"camera!$B$5*COS(RADIANS(AE1002))*COS(RADIANS(AF1002))","v":-238.23537325842833},{"$f":"camera!$B$5*COS(RADIANS(AE1002))*SIN(RADIANS(AF1002))","v":-77.744830835371232},{"$f":"camera!$B$5*SIN(RADIANS(AE1002))","v":-432.66574651432347},null,{"$f":"TRANSPOSE(MMULT(camera!$A$12:$C$14,MMULT(camera!$A$16:$C$18,TRANSPOSE(AH1002:AJ1002))))","v":443.14701529348946},230.55290726170651,-21.588881157826407,null,{"$f":"camera!$B$5*AM1002/AN1002","v":-5339.6214833052245},{"$f":"camera!$B$5*AL1002/AN1002","v":-10263.315918361977},null,{"$f":"IF( AND( (camera!$B$3) > (AQ1002+camera!$B$3/2), 0 < (AQ1002+camera!$B$3/2), AN1002 >= 0 ), AQ1002+camera!$B$3/2, 0)*-1+camera!$B$3","v":1000},{"$f":"IF( AND( (camera!$B$4) > (AP1002+camera!$B$4/2), 0 < (AP1002+camera!$B$4/2), AN1002 >= 0 ), AP1002+camera!$B$4/2, 0)","v":0}]
[null,null,null,null,null,null,null,null,null,null,null,null,null,null,null,null,null,null,null,null,948.54570000000001,37.8874,null,null,null,"''",null,8.3092579999999998,-36.659287999999997,null,-36.659287999999997,124.63887,null,{"$f":"camera!$B$5*COS(RADIANS(AE1003))*COS(RADIANS(AF1003))","v":-227.98608279020911},{"$f":"camera!$B$5*COS(RADIANS(AE1003))*SIN(RADIANS(AF1003))","v":330.00544224507024},{"$f":"camera!$B$5*SIN(RADIANS(AE1003))","v":-298.52764384996493},null,{"$f":"TRANSPOSE(MMULT(camera!$A$12:$C$14,MMULT(camera!$A$16:$C$18,TRANSPOSE(AH1003:AJ1003))))","v":240.35599747322709},255.88039634395057,356.02558509960039,null,{"$f":"camera!$B$5*AM1003/AN1003","v":359.35675279118834},{"$f":"camera!$B$5*AL1003/AN1003","v":337.5543886908942},null,{"$f":"IF( AND( (camera!$B$3) > (AQ1003+camera!$B$3/2), 0 < (AQ1003+camera!$B$3/2), AN1003 >= 0 ), AQ1003+camera!$B$3/2, 0)*-1+camera!$B$3","v":162.44561130910574},{"$f":"IF( AND( (camera!$B$4) > (AP1003+camera!$B$4/2), 0 < (AP1003+camera!$B$4/2), AN1003 >= 0 ), AP1003+camera!$B$4/2, 0)","v":859.35675279118834}]
[null,null,null,null,null,null,null,null,null,null,null,null,null,null,null,null,null,null,null,null,949.56859999999995,459.30619999999999,null,null,null,"''",null,14.543628999999999,-50.457157000000002,null,-50.457157000000002,-141.84556500000002,null,{"$f":"camera!$B$5*COS(RADIANS(AE1004))*COS(RADIANS(AF1004))","v":-250.31634304892302},{"$f":"camera!$B$5*COS(RADIANS(AE1004))*SIN(RADIANS(AF1004))","v":-196.65740225575519},{"$f":"camera!$B$5*SIN(RADIANS(AE1004))","v":-385.57436966249713},null,{"$f":"TRANSPOSE(MMULT(camera!$A$12:$C$14,MMULT(camera!$A$16:$C$18,TRANSPOSE(AH1004:AJ1004))))","v":417.52427676765478},232.22399183062635,-147.46354101233294,null,{"$f":"camera!$B$5*AM1004/AN1004","v":-787.39460017172848},{"$f":"camera!$B$5*AL1004/AN1004","v":-1415.6864601967468},null,{"$f":"IF( AND( (camera!$B$3) > (AQ1004+camera!$B$3/2), 0 < (AQ1004+camera!$B$3/2), AN1004 >= 0 ), AQ1004+camera!$B$3/2, 0)*-1+camera!$B$3","v":1000},{"$f":"IF( AND( (camera!$B$4) > (AP1004+camera!$B$4/2), 0 < (AP1004+camera!$B$4/2), AN1004 >= 0 ), AP1004+camera!$B$4/2, 0)","v":0}]
[null,null,null,null,null,null,null,null,null,null,null,null,null,null,null,null,null,null,null,null,949.56859999999995,49.306199999999997,null,null,null,"''",null,19.478427,24.664905000000001,null,24.664905000000001,-67.823595000000012,null,{"$f":"camera!$B$5*COS(RADIANS(AE1005))*COS(RADIANS(AF1005))","v":171.51078216034102},{"$f":"camera!$B$5*COS(RADIANS(AE1005))*SIN(RADIANS(AF1005))","v":-420.76957534217763},{"$f":"camera!$B$5*SIN(RADIANS(AE1005))","v":208.65525650965884},null,{"$f":"TRANSPOSE(MMULT(camera!$A$12:$C$14,MMULT(camera!$A$16:$C$18,TRANSPOSE(AH1005:AJ1005))))","v":-135.29320097504726},-207.53061671826424,-434.31186133291635,null,{"$f":"camera!$B$5*AM1005/AN1005","v":238.9188912333023},{"$f":"camera!$B$5*AL1005/AN1005","v":155.75582089771655},null,{"$f":"IF( AND( (camera!$B$3) > (AQ1005+camera!$B$3/2), 0 < (AQ1005+camera!$B$3/2), AN1005 >= 0 ), AQ1005+camera!$B$3/2, 0)*-1+camera!$B$3","v":1000},{"$f":"IF( AND( (camera!$B$4) > (AP1005+camera!$B$4/2), 0 < (AP1005+camera!$B$4/2), AN1005 >= 0 ), AP1005+camera!$B$4/2, 0)","v":0}]
[null,null,null,null,null,null,null,null,null,null,null,null,null,null,null,null,null,null,null,null,949.91669999999999,556.2604,null,null,null,"''",null,1.690526,5.4876129999999996,null,5.4876129999999996,25.357890000000001,null,{"$f":"camera!$B$5*COS(RADIANS(AE1006))*COS(RADIANS(AF1006))","v":449.75438763715101},{"$f":"camera!$B$5*COS(RADIANS(AE1006))*SIN(RADIANS(AF1006))","v":213.1541465661852},{"$f":"camera!$B$5*SIN(RADIANS(AE1006))","v":47.815275830768883},null,{"$f":"TRANSPOSE(MMULT(camera!$A$12:$C$14,MMULT(camera!$A$16:$C$18,TRANSPOSE(AH1006:AJ1006))))","v":-90.768613620409639},-429.46532844391049,239.41718911973058,null,{"$f":"camera!$B$5*AM1006/AN1006","v":-896.89744087075223},{"$f":"camera!$B$5*AL1006/AN1006","v":-189.56160573545327},null,{"$f":"IF( AND( (camera!$B$3) > (AQ1006+camera!$B$3/2), 0 < (AQ1006+camera!$B$3/2), AN1006 >= 0 ), AQ1006+camera!$B$3/2, 0)*-1+camera!$B$3","v":689.56160573545321},{"$f":"IF( AND( (camera!$B$4) > (AP1006+camera!$B$4/2), 0 < (AP1006+camera!$B$4/2), AN1006 >= 0 ), AP1006+camera!$B$4/2, 0)","v":0}]
[null,null,null,null,null,null,null,null,null,null,null,null,null,null,null,null,null,null,null,null,949.91669999999999,146.2604,null,null,null,"''",null,2.8181690000000001,-32.405898000000001,null,-32.405898000000001,42.272535000000005,null,{"$f":"camera!$B$5*COS(RADIANS(AE1007))*COS(RADIANS(AF1007))","v":312.36134443891228},{"$f":"camera!$B$5*COS(RADIANS(AE1007))*SIN(RADIANS(AF1007))","v":283.95336800734162},{"$f":"camera!$B$5*SIN(RADIANS(AE1007))","v":-267.95685342532749},null,{"$f":"TRANSPOSE(MMULT(camera!$A$12:$C$14,MMULT(camera!$A$16:$C$18,TRANSPOSE(AH1007:AJ1007))))","v":210.0382208527098},-286.42454852447497,351.91607491499872,null,{"$f":"camera!$B$5*AM1007/AN1007","v":-406.95007835839482},{"$f":"camera!$B$5*AL1007/AN1007","v":298.42089609495974},null,{"$f":"IF( AND( (camera!$B$3) > (AQ1007+camera!$B$3/2), 0 < (AQ1007+camera!$B$3/2), AN1007 >= 0 ), AQ1007+camera!$B$3/2, 0)*-1+camera!$B$3","v":201.57910390504026},{"$f":"IF( AND( (camera!$B$4) > (AP1007+camera!$B$4/2), 0 < (AP1007+camera!$B$4/2), AN1007 >= 0 ), AP1007+camera!$B$4/2, 0)","v":93.049921641605181}]
[null,null,null,null,null,null,null,null,null,null,null,null,null,null,null,null,null,null,null,null,949.94200000000001,547.16219999999998,null,null,null,"''",null,5.2049729999999998,-11.869218999999999,null,-11.869218999999999,78.074595000000002,null,{"$f":"camera!$B$5*COS(RADIANS(AE1008))*COS(RADIANS(AF1008))","v":101.11001886319461},{"$f":"camera!$B$5*COS(RADIANS(AE1008))*SIN(RADIANS(AF1008))","v":478.74926180385842},{"$f":"camera!$B$5*SIN(RADIANS(AE1008))","v":-102.83923574076722},null,{"$f":"TRANSPOSE(MMULT(camera!$A$12:$C$14,MMULT(camera!$A$16:$C$18,TRANSPOSE(AH1008:AJ1008))))","v":16.929046428879744},-58.999517213062539,496.21816205741038,null,{"$f":"camera!$B$5*AM1008/AN1008","v":-59.449171477762775},{"$f":"camera!$B$5*AL1008/AN1008","v":17.058068127422878},null,{"$f":"IF( AND( (camera!$B$3) > (AQ1008+camera!$B$3/2), 0 < (AQ1008+camera!$B$3/2), AN1008 >= 0 ), AQ1008+camera!$B$3/2, 0)*-1+camera!$B$3","v":482.94193187257713},{"$f":"IF( AND( (camera!$B$4) > (AP1008+camera!$B$4/2), 0 < (AP1008+camera!$B$4/2), AN1008 >= 0 ), AP1008+camera!$B$4/2, 0)","v":440.55082852223723}]
[null,null,null,null,null,null,null,null,null,null,null,null,null,null,null,null,null,null,null,null,949.94200000000001,137.16220000000001,null,null,null,"''",null,6.1989989999999997,14.208765,null,14.208765,92.984984999999995,null,{"$f":"camera!$B$5*COS(RADIANS(AE1009))*COS(RADIANS(AF1009))","v":-25.240593541069803},{"$f":"camera!$B$5*COS(RADIANS(AE1009))*SIN(RADIANS(AF1009))","v":484.04626728943788},{"$f":"camera!$B$5*SIN(RADIANS(AE1009))","v":122.72784346209519},null,{"$f":"TRANSPOSE(MMULT(camera!$A$12:$C$14,MMULT(camera!$A$16:$C$18,TRANSPOSE(AH1009:AJ1009))))","v":-204.21523192444803},67.331957412144916,451.40064971275018,null,{"$f":"camera!$B$5*AM1009/AN1009","v":74.581148094261451},{"$f":"camera!$B$5*AL1009/AN1009","v":-226.20174788671756},null,{"$f":"IF( AND( (camera!$B$3) > (AQ1009+camera!$B$3/2), 0 < (AQ1009+camera!$B$3/2), AN1009 >= 0 ), AQ1009+camera!$B$3/2, 0)*-1+camera!$B$3","v":726.20174788671761},{"$f":"IF( AND( (camera!$B$4) > (AP1009+camera!$B$4/2), 0 < (AP1009+camera!$B$4/2), AN1009 >= 0 ), AP1009+camera!$B$4/2, 0)","v":574.58114809426149}]
[null,null,null,null,null,null,null,null,null,null,null,null,null,null,null,null,null,null,null,null,950,530,null,null,null,"''",null,8.6459550000000007,3.3414350000000002,null,3.3414350000000002,129.689325,null,{"$f":"camera!$B$5*COS(RADIANS(AE1010))*COS(RADIANS(AF1010))","v":-318.76937406409911},{"$f":"camera!$B$5*COS(RADIANS(AE1010))*SIN(RADIANS(AF1010))","v":384.10515748335655},{"$f":"camera!$B$5*SIN(RADIANS(AE1010))","v":29.142994929627829},null,{"$f":"TRANSPOSE(MMULT(camera!$A$12:$C$14,MMULT(camera!$A$16:$C$18,TRANSPOSE(AH1010:AJ1010))))","v":-90.321202879841934},351.03333065034809,344.40917682730498,null,{"$f":"camera!$B$5*AM1010/AN1010","v":509.61669181417403},{"$f":"camera!$B$5*AL1010/AN1010","v":-131.12484938972918},null,{"$f":"IF( AND( (camera!$B$3) > (AQ1010+camera!$B$3/2), 0 < (AQ1010+camera!$B$3/2), AN1010 >= 0 ), AQ1010+camera!$B$3/2, 0)*-1+camera!$B$3","v":631.12484938972921},{"$f":"IF( AND( (camera!$B$4) > (AP1010+camera!$B$4/2), 0 < (AP1010+camera!$B$4/2), AN1010 >= 0 ), AP1010+camera!$B$4/2, 0)","v":0}]
[null,null,null,null,null,null,null,null,null,null,null,null,null,null,null,null,null,null,null,null,950,120,null,null,null,"''",null,9.0015049999999999,-41.253605,null,-41.253605,135.02257499999999,null,{"$f":"camera!$B$5*COS(RADIANS(AE1011))*COS(RADIANS(AF1011))","v":-265.90555231250636},{"$f":"camera!$B$5*COS(RADIANS(AE1011))*SIN(RADIANS(AF1011))","v":265.69609695723824},{"$f":"camera!$B$5*SIN(RADIANS(AE1011))","v":-329.69655944682046},null,{"$f":"TRANSPOSE(MMULT(camera!$A$12:$C$14,MMULT(camera!$A$16:$C$18,TRANSPOSE(AH1011:AJ1011))))","v":282.74998303326225},288.05064208233802,295.09197666260383,null,{"$f":"camera!$B$5*AM1011/AN1011","v":488.06925444076609},{"$f":"camera!$B$5*AL1011/AN1011","v":479.08788681934766},null,{"$f":"IF( AND( (camera!$B$3) > (AQ1011+camera!$B$3/2), 0 < (AQ1011+camera!$B$3/2), AN1011 >= 0 ), AQ1011+camera!$B$3/2, 0)*-1+camera!$B$3","v":20.912113180652341},{"$f":"IF( AND( (camera!$B$4) > (AP1011+camera!$B$4/2), 0 < (AP1011+camera!$B$4/2), AN1011 >= 0 ), AP1011+camera!$B$4/2, 0)","v":988.06925444076614}]
[null,null,null,null,null,null,null,null,null,null,null,null,null,null,null,null,null,null,null,null,950.87840000000006,452.30990000000003,null,null,null,"''",null,10.59314,-57.557636000000002,null,-57.557636000000002,158.89709999999999,null,{"$f":"camera!$B$5*COS(RADIANS(AE1012))*COS(RADIANS(AF1012))","v":-250.23701136629879},{"$f":"camera!$B$5*COS(RADIANS(AE1012))*SIN(RADIANS(AF1012))","v":96.572978302882731},{"$f":"camera!$B$5*SIN(RADIANS(AE1012))","v":-421.9657545395998},null,{"$f":"TRANSPOSE(MMULT(camera!$A$12:$C$14,MMULT(camera!$A$16:$C$18,TRANSPOSE(AH1012:AJ1012))))","v":402.63643474471007},257.70167364277194,146.5392398567123,null,{"$f":"camera!$B$5*AM1012/AN1012","v":879.29237893807658},{"$f":"camera!$B$5*AL1012/AN1012","v":1373.8178085897416},null,{"$f":"IF( AND( (camera!$B$3) > (AQ1012+camera!$B$3/2), 0 < (AQ1012+camera!$B$3/2), AN1012 >= 0 ), AQ1012+camera!$B$3/2, 0)*-1+camera!$B$3","v":1000},{"$f":"IF( AND( (camera!$B$4) > (AP1012+camera!$B$4/2), 0 < (AP1012+camera!$B$4/2), AN1012 >= 0 ), AP1012+camera!$B$4/2, 0)","v":0}]
[null,null,null,null,null,null,null,null,null,null,null,null,null,null,null,null,null,null,null,null,950.87840000000006,42.309899999999999,null,null,null,"''",null,10.763087000000001,-80.540188000000001,null,-80.540188000000001,161.446305,null,{"$f":"camera!$B$5*COS(RADIANS(AE1013))*COS(RADIANS(AF1013))","v":-77.90676223723888},{"$f":"camera!$B$5*COS(RADIANS(AE1013))*SIN(RADIANS(AF1013))","v":26.148448006068431},{"$f":"camera!$B$5*SIN(RADIANS(AE1013))","v":-493.20056271722183},null,{"$f":"TRANSPOSE(MMULT(camera!$A$12:$C$14,MMULT(camera!$A$16:$C$18,TRANSPOSE(AH1013:AJ1013))))","v":482.36346097750862},79.889290893899002,104.60971615614611,null,{"$f":"camera!$B$5*AM1013/AN1013","v":381.84450655927571},{"$f":"camera!$B$5*AL1013/AN1013","v":2305.5385231019404},null,{"$f":"IF( AND( (camera!$B$3) > (AQ1013+camera!$B$3/2), 0 < (AQ1013+camera!$B$3/2), AN1013 >= 0 ), AQ1013+camera!$B$3/2, 0)*-1+camera!$B$3","v":1000},{"$f":"IF( AND( (camera!$B$4) > (AP1013+camera!$B$4/2), 0 < (AP1013+camera!$B$4/2), AN1013 >= 0 ), AP1013+camera!$B$4/2, 0)","v":881.84450655927571}]
[null,null,null,null,null,null,null,null,null,null,null,null,null,null,null,null,null,null,null,null,951.65229999999997,470,null,null,null,"''",null,11.277695,-3.6516009999999999,null,-3.6516009999999999,169.165425,null,{"$f":"camera!$B$5*COS(RADIANS(AE1014))*COS(RADIANS(AF1014))","v":-490.08998099142201},{"$f":"camera!$B$5*COS(RADIANS(AE1014))*SIN(RADIANS(AF1014))","v":93.796204769851698},{"$f":"camera!$B$5*SIN(RADIANS(AE1014))","v":-31.844662073880475},null,{"$f":"TRANSPOSE(MMULT(camera!$A$12:$C$14,MMULT(camera!$A$16:$C$18,TRANSPOSE(AH1014:AJ1014))))","v":22.552544482413559},496.39991854516683,55.4842644875147,null,{"$f":"camera!$B$5*AM1014/AN1014","v":4473.3396317875749},{"$f":"camera!$B$5*AL1014/AN1014","v":203.23369779451997},null,{"$f":"IF( AND( (camera!$B$3) > (AQ1014+camera!$B$3/2), 0 < (AQ1014+camera!$B$3/2), AN1014 >= 0 ), AQ1014+camera!$B$3/2, 0)*-1+camera!$B$3","v":296.76630220548009},{"$f":"IF( AND( (camera!$B$4) > (AP1014+camera!$B$4/2), 0 < (AP1014+camera!$B$4/2), AN1014 >= 0 ), AP1014+camera!$B$4/2, 0)","v":0}]
[null,null,null,null,null,null,null,null,null,null,null,null,null,null,null,null,null,null,null,null,951.65229999999997,60,null,null,null,"''",null,16.535610999999999,-21.466390000000001,null,-21.466390000000001,-111.965835,null,{"$f":"camera!$B$5*COS(RADIANS(AE1015))*COS(RADIANS(AF1015))","v":-174.05322512494666},{"$f":"camera!$B$5*COS(RADIANS(AE1015))*SIN(RADIANS(AF1015))","v":-431.53753084394435},{"$f":"camera!$B$5*SIN(RADIANS(AE1015))","v":-182.97768797510909},null,{"$f":"TRANSPOSE(MMULT(camera!$A$12:$C$14,MMULT(camera!$A$16:$C$18,TRANSPOSE(AH1015:AJ1015))))","v":257.48259596677269},135.77992603104644,-406.52985678940632,null,{"$f":"camera!$B$5*AM1015/AN1015","v":-166.99871333359923},{"$f":"camera!$B$5*AL1015/AN1015","v":-316.68350019880063},null,{"$f":"IF( AND( (camera!$B$3) > (AQ1015+camera!$B$3/2), 0 < (AQ1015+camera!$B$3/2), AN1015 >= 0 ), AQ1015+camera!$B$3/2, 0)*-1+camera!$B$3","v":1000},{"$f":"IF( AND( (camera!$B$4) > (AP1015+camera!$B$4/2), 0 < (AP1015+camera!$B$4/2), AN1015 >= 0 ), AP1015+camera!$B$4/2, 0)","v":0}]
[null,null,null,null,null,null,null,null,null,null,null,null,null,null,null,null,null,null,null,null,952.33410000000003,551.88369999999998,null,null,null,"''",null,19.259229000000001,73.355468000000002,null,73.355468000000002,-71.111564999999985,null,{"$f":"camera!$B$5*COS(RADIANS(AE1016))*COS(RADIANS(AF1016))","v":46.36298778662151},{"$f":"camera!$B$5*COS(RADIANS(AE1016))*SIN(RADIANS(AF1016))","v":-135.504450671889},{"$f":"camera!$B$5*SIN(RADIANS(AE1016))","v":479.05011972820461},null,{"$f":"TRANSPOSE(MMULT(camera!$A$12:$C$14,MMULT(camera!$A$16:$C$18,TRANSPOSE(AH1016:AJ1016))))","v":-449.03338786963269},-57.996553664646591,-212.14480041081322,null,{"$f":"camera!$B$5*AM1016/AN1016","v":136.6909619098316},{"$f":"camera!$B$5*AL1016/AN1016","v":1058.3181558070019},null,{"$f":"IF( AND( (camera!$B$3) > (AQ1016+camera!$B$3/2), 0 < (AQ1016+camera!$B$3/2), AN1016 >= 0 ), AQ1016+camera!$B$3/2, 0)*-1+camera!$B$3","v":1000},{"$f":"IF( AND( (camera!$B$4) > (AP1016+camera!$B$4/2), 0 < (AP1016+camera!$B$4/2), AN1016 >= 0 ), AP1016+camera!$B$4/2, 0)","v":0}]
[null,null,null,null,null,null,null,null,null,null,null,null,null,null,null,null,null,null,null,null,952.33410000000003,141.8837,null,null,null,"''",null,19.568152999999999,7.3789410000000002,null,7.3789410000000002,-66.477705000000014,null,{"$f":"camera!$B$5*COS(RADIANS(AE1017))*COS(RADIANS(AF1017))","v":197.90033224892494},{"$f":"camera!$B$5*COS(RADIANS(AE1017))*SIN(RADIANS(AF1017))","v":-454.65571767839356},{"$f":"camera!$B$5*SIN(RADIANS(AE1017))","v":64.215550126975145},null,{"$f":"TRANSPOSE(MMULT(camera!$A$12:$C$14,MMULT(camera!$A$16:$C$18,TRANSPOSE(AH1017:AJ1017))))","v":12.414626212062338},-236.77311850570388,-440.20945856387357,null,{"$f":"camera!$B$5*AM1017/AN1017","v":268.93233879860912},{"$f":"camera!$B$5*AL1017/AN1017","v":-14.100817202523828},null,{"$f":"IF( AND( (camera!$B$3) > (AQ1017+camera!$B$3/2), 0 < (AQ1017+camera!$B$3/2), AN1017 >= 0 ), AQ1017+camera!$B$3/2, 0)*-1+camera!$B$3","v":1000},{"$f":"IF( AND( (camera!$B$4) > (AP1017+camera!$B$4/2), 0 < (AP1017+camera!$B$4/2), AN1017 >= 0 ), AP1017+camera!$B$4/2, 0)","v":0}]
[null,null,null,null,null,null,null,null,null,null,null,null,null,null,null,null,null,null,null,null,953.10130000000004,485,null,null,null,"''",null,2.4844369999999998,67.402473999999998,null,67.402473999999998,37.266554999999997,null,{"$f":"camera!$B$5*COS(RADIANS(AE1018))*COS(RADIANS(AF1018))","v":152.90044904770289},{"$f":"camera!$B$5*COS(RADIANS(AE1018))*SIN(RADIANS(AF1018))","v":116.33794327836995},{"$f":"camera!$B$5*SIN(RADIANS(AE1018))","v":461.61340495567237},null,{"$f":"TRANSPOSE(MMULT(camera!$A$12:$C$14,MMULT(camera!$A$16:$C$18,TRANSPOSE(AH1018:AJ1018))))","v":-477.0395197624386},-142.17909682100745,47.099904585726094,null,{"$f":"camera!$B$5*AM1018/AN1018","v":-1509.3352955973467},{"$f":"camera!$B$5*AL1018/AN1018","v":-5064.1240567078376},null,{"$f":"IF( AND( (camera!$B$3) > (AQ1018+camera!$B$3/2), 0 < (AQ1018+camera!$B$3/2), AN1018 >= 0 ), AQ1018+camera!$B$3/2, 0)*-1+camera!$B$3","v":1000},{"$f":"IF( AND( (camera!$B$4) > (AP1018+camera!$B$4/2), 0 < (AP1018+camera!$B$4/2), AN1018 >= 0 ), AP1018+camera!$B$4/2, 0)","v":0}]
[null,null,null,null,null,null,null,null,null,null,null,null,null,null,null,null,null,null,null,null,953.10130000000004,500,null,null,null,"''",null,3.9048620000000001,-2.9547300000000001,null,-2.9547300000000001,58.572929999999999,null,{"$f":"camera!$B$5*COS(RADIANS(AE1019))*COS(RADIANS(AF1019))","v":260.35983157654107},{"$f":"camera!$B$5*COS(RADIANS(AE1019))*SIN(RADIANS(AF1019))","v":426.08507021563287},{"$f":"camera!$B$5*SIN(RADIANS(AE1019))","v":-25.773456127853819},null,{"$f":"TRANSPOSE(MMULT(camera!$A$12:$C$14,MMULT(camera!$A$16:$C$18,TRANSPOSE(AH1019:AJ1019))))","v":-52.265845652639101},-222.23332304427848,444.83775863443952,null,{"$f":"camera!$B$5*AM1019/AN1019","v":-249.79143376507551},{"$f":"camera!$B$5*AL1019/AN1019","v":-58.74708771697405},null,{"$f":"IF( AND( (camera!$B$3) > (AQ1019+camera!$B$3/2), 0 < (AQ1019+camera!$B$3/2), AN1019 >= 0 ), AQ1019+camera!$B$3/2, 0)*-1+camera!$B$3","v":558.74708771697408},{"$f":"IF( AND( (camera!$B$4) > (AP1019+camera!$B$4/2), 0 < (AP1019+camera!$B$4/2), AN1019 >= 0 ), AP1019+camera!$B$4/2, 0)","v":250.20856623492449}]
[null,null,null,null,null,null,null,null,null,null,null,null,null,null,null,null,null,null,null,null,953.10130000000004,515,null,null,null,"''",null,5.2215230000000004,2.8612649999999999,null,2.8612649999999999,78.322845000000001,null,{"$f":"camera!$B$5*COS(RADIANS(AE1020))*COS(RADIANS(AF1020))","v":101.07226074942098},{"$f":"camera!$B$5*COS(RADIANS(AE1020))*SIN(RADIANS(AF1020))","v":489.04136112273903},{"$f":"camera!$B$5*SIN(RADIANS(AE1020))","v":24.958870531733634},null,{"$f":"TRANSPOSE(MMULT(camera!$A$12:$C$14,MMULT(camera!$A$16:$C$18,TRANSPOSE(AH1020:AJ1020))))","v":-110.70735143999588},-58.064887219741593,484.12018260892609,null,{"$f":"camera!$B$5*AM1020/AN1020","v":-59.969496527525067},{"$f":"camera!$B$5*AL1020/AN1020","v":-114.33870701629645},null,{"$f":"IF( AND( (camera!$B$3) > (AQ1020+camera!$B$3/2), 0 < (AQ1020+camera!$B$3/2), AN1020 >= 0 ), AQ1020+camera!$B$3/2, 0)*-1+camera!$B$3","v":614.33870701629644},{"$f":"IF( AND( (camera!$B$4) > (AP1020+camera!$B$4/2), 0 < (AP1020+camera!$B$4/2), AN1020 >= 0 ), AP1020+camera!$B$4/2, 0)","v":440.03050347247495}]
[null,null,null,null,null,null,null,null,null,null,null,null,null,null,null,null,null,null,null,null,953.10130000000004,75,null,null,null,"''",null,9.1478629999999992,51.604647999999997,null,51.604647999999997,137.21794499999999,null,{"$f":"camera!$B$5*COS(RADIANS(AE1021))*COS(RADIANS(AF1021))","v":-227.92008632049462},{"$f":"camera!$B$5*COS(RADIANS(AE1021))*SIN(RADIANS(AF1021))","v":210.92375631190484},{"$f":"camera!$B$5*SIN(RADIANS(AE1021))","v":391.87192202929577},null,{"$f":"TRANSPOSE(MMULT(camera!$A$12:$C$14,MMULT(camera!$A$16:$C$18,TRANSPOSE(AH1021:AJ1021))))","v":-418.9562159864879},245.43599822557985,119.31831318492753,null,{"$f":"camera!$B$5*AM1021/AN1021","v":1028.4925745018984},{"$f":"camera!$B$5*AL1021/AN1021","v":-1755.6241150390781},null,{"$f":"IF( AND( (camera!$B$3) > (AQ1021+camera!$B$3/2), 0 < (AQ1021+camera!$B$3/2), AN1021 >= 0 ), AQ1021+camera!$B$3/2, 0)*-1+camera!$B$3","v":1000},{"$f":"IF( AND( (camera!$B$4) > (AP1021+camera!$B$4/2), 0 < (AP1021+camera!$B$4/2), AN1021 >= 0 ), AP1021+camera!$B$4/2, 0)","v":0}]
[null,null,null,null,null,null,null,null,null,null,null,null,null,null,null,null,null,null,null,null,953.10130000000004,90,null,null,null,"''",null,11.194302,-22.825847,null,-22.825847,167.91453000000001,null,{"$f":"camera!$B$5*COS(RADIANS(AE1022))*COS(RADIANS(AF1022))","v":-450.63014034808157},{"$f":"camera!$B$5*COS(RADIANS(AE1022))*SIN(RADIANS(AF1022))","v":96.487207483914148},{"$f":"camera!$B$5*SIN(RADIANS(AE1022))","v":-193.96570676752216},null,{"$f":"TRANSPOSE(MMULT(camera!$A$12:$C$14,MMULT(camera!$A$16:$C$18,TRANSPOSE(AH1022:AJ1022))))","v":181.14789424770589},457.32477084900597,89.663227565853958,null,{"$f":"camera!$B$5*AM1022/AN1022","v":2550.2359398847184},{"$f":"camera!$B$5*AL1022/AN1022","v":1010.1571132639644},null,{"$f":"IF( AND( (camera!$B$3) > (AQ1022+camera!$B$3/2), 0 < (AQ1022+camera!$B$3/2), AN1022 >= 0 ), AQ1022+camera!$B$3/2, 0)*-1+camera!$B$3","v":1000},{"$f":"IF( AND( (camera!$B$4) > (AP1022+camera!$B$4/2), 0 < (AP1022+camera!$B$4/2), AN1022 >= 0 ), AP1022+camera!$B$4/2, 0)","v":0}]
[null,null,null,null,null,null,null,null,null,null,null,null,null,null,null,null,null,null,null,null,953.10130000000004,105,null,null,null,"''",null,12.134788,-50.661278000000003,null,-50.661278000000003,-177.97818000000001,null,{"$f":"camera!$B$5*COS(RADIANS(AE1023))*COS(RADIANS(AF1023))","v":-316.75454076850343},{"$f":"camera!$B$5*COS(RADIANS(AE1023))*SIN(RADIANS(AF1023))","v":-11.182090917774016},{"$f":"camera!$B$5*SIN(RADIANS(AE1023))","v":-386.70598876309259},null,{"$f":"TRANSPOSE(MMULT(camera!$A$12:$C$14,MMULT(camera!$A$16:$C$18,TRANSPOSE(AH1023:AJ1023))))","v":387.55931793036342},314.57461067065833,28.992919941861494,null,{"$f":"camera!$B$5*AM1023/AN1023","v":5425.0246491464814},{"$f":"camera!$B$5*AL1023/AN1023","v":6683.6889610898588},null,{"$f":"IF( AND( (camera!$B$3) > (AQ1023+camera!$B$3/2), 0 < (AQ1023+camera!$B$3/2), AN1023 >= 0 ), AQ1023+camera!$B$3/2, 0)*-1+camera!$B$3","v":1000},{"$f":"IF( AND( (camera!$B$4) > (AP1023+camera!$B$4/2), 0 < (AP1023+camera!$B$4/2), AN1023 >= 0 ), AP1023+camera!$B$4/2, 0)","v":0}]
[null,null,null,null,null,null,null,null,null,null,null,null,null,null,null,null,null,null,null,null,953.21100000000001,456.73239999999998,null,null,null,"''",null,16.453067000000001,-47.554786,null,-47.554786,-113.20399499999999,null,{"$f":"camera!$B$5*COS(RADIANS(AE1024))*COS(RADIANS(AF1024))","v":-132.95435204685708},{"$f":"camera!$B$5*COS(RADIANS(AE1024))*SIN(RADIANS(AF1024))","v":-310.14601904272695},{"$f":"camera!$B$5*SIN(RADIANS(AE1024))","v":-368.96149818612355},null,{"$f":"TRANSPOSE(MMULT(camera!$A$12:$C$14,MMULT(camera!$A$16:$C$18,TRANSPOSE(AH1024:AJ1024))))","v":419.01968466599385},105.41741394740424,-251.61413453749512,null,{"$f":"camera!$B$5*AM1024/AN1024","v":-209.48229744957973},{"$f":"camera!$B$5*AL1024/AN1024","v":-832.66324730964629},null,{"$f":"IF( AND( (camera!$B$3) > (AQ1024+camera!$B$3/2), 0 < (AQ1024+camera!$B$3/2), AN1024 >= 0 ), AQ1024+camera!$B$3/2, 0)*-1+camera!$B$3","v":1000},{"$f":"IF( AND( (camera!$B$4) > (AP1024+camera!$B$4/2), 0 < (AP1024+camera!$B$4/2), AN1024 >= 0 ), AP1024+camera!$B$4/2, 0)","v":0}]
[null,null,null,null,null,null,null,null,null,null,null,null,null,null,null,null,null,null,null,null,953.21100000000001,46.732399999999998,null,null,null,"''",null,22.875426999999998,-32.875503999999999,null,-32.875503999999999,-16.868595000000028,null,{"$f":"camera!$B$5*COS(RADIANS(AE1025))*COS(RADIANS(AF1025))","v":401.85775855927875},{"$f":"camera!$B$5*COS(RADIANS(AE1025))*SIN(RADIANS(AF1025))","v":-121.85316321292417},{"$f":"camera!$B$5*SIN(RADIANS(AE1025))","v":-271.40771636178084},null,{"$f":"TRANSPOSE(MMULT(camera!$A$12:$C$14,MMULT(camera!$A$16:$C$18,TRANSPOSE(AH1025:AJ1025))))","v":282.28159395778141},-410.9487714097603,-37.923725943831094,null,{"$f":"camera!$B$5*AM1025/AN1025","v":5418.0959436635703},{"$f":"camera!$B$5*AL1025/AN1025","v":-3721.7017438617345},null,{"$f":"IF( AND( (camera!$B$3) > (AQ1025+camera!$B$3/2), 0 < (AQ1025+camera!$B$3/2), AN1025 >= 0 ), AQ1025+camera!$B$3/2, 0)*-1+camera!$B$3","v":1000},{"$f":"IF( AND( (camera!$B$4) > (AP1025+camera!$B$4/2), 0 < (AP1025+camera!$B$4/2), AN1025 >= 0 ), AP1025+camera!$B$4/2, 0)","v":0}]
[null,null,null,null,null,null,null,null,null,null,null,null,null,null,null,null,null,null,null,null,954.56859999999995,459.30619999999999,null,null,null,"''",null,2.7517149999999999,-18.572562999999999,null,-18.572562999999999,41.275725000000001,null,{"$f":"camera!$B$5*COS(RADIANS(AE1026))*COS(RADIANS(AF1026))","v":356.20204038080391},{"$f":"camera!$B$5*COS(RADIANS(AE1026))*SIN(RADIANS(AF1026))","v":312.66384663864073},{"$f":"camera!$B$5*SIN(RADIANS(AE1026))","v":-159.25270934486682},null,{"$f":"TRANSPOSE(MMULT(camera!$A$12:$C$14,MMULT(camera!$A$16:$C$18,TRANSPOSE(AH1026:AJ1026))))","v":97.355481898342944},-327.59613429268813,364.96942740567795,null,{"$f":"camera!$B$5*AM1026/AN1026","v":-448.79941947651429},{"$f":"camera!$B$5*AL1026/AN1026","v":133.37484538140296},null,{"$f":"IF( AND( (camera!$B$3) > (AQ1026+camera!$B$3/2), 0 < (AQ1026+camera!$B$3/2), AN1026 >= 0 ), AQ1026+camera!$B$3/2, 0)*-1+camera!$B$3","v":366.62515461859698},{"$f":"IF( AND( (camera!$B$4) > (AP1026+camera!$B$4/2), 0 < (AP1026+camera!$B$4/2), AN1026 >= 0 ), AP1026+camera!$B$4/2, 0)","v":51.200580523485712}]
[null,null,null,null,null,null,null,null,null,null,null,null,null,null,null,null,null,null,null,null,954.56859999999995,49.306199999999997,null,null,null,"''",null,3.3389890000000002,29.048458,null,{"$f":"AC1027","v":29.048458},{"$f":"IF(AB1027*15/1>180, (AB1027*15/1)-360, AB1027*15/1)","v":50.084835000000005},null,{"$f":"camera!$B$5*COS(RADIANS(AE1027))*COS(RADIANS(AF1027))","v":280.46938325786221},{"$f":"camera!$B$5*COS(RADIANS(AE1027))*SIN(RADIANS(AF1027))","v":335.25725777147113},{"$f":"camera!$B$5*SIN(RADIANS(AE1027))","v":242.774578913254},null,{"$f":"TRANSPOSE(MMULT(camera!$A$12:$C$14,MMULT(camera!$A$16:$C$18,TRANSPOSE(AH1027:AJ1027))))","v":-301.32631276760947},-250.18251726592848,310.82336026811146,null,{"$f":"camera!$B$5*AM1027/AN1027","v":-402.45127819563641},{"$f":"camera!$B$5*AL1027/AN1027","v":-484.72275781924827},null,{"$f":"IF( AND( (camera!$B$3) > (AQ1027+camera!$B$3/2), 0 < (AQ1027+camera!$B$3/2), AN1027 >= 0 ), AQ1027+camera!$B$3/2, 0)*-1+camera!$B$3","v":984.72275781924827},{"$f":"IF( AND( (camera!$B$4) > (AP1027+camera!$B$4/2), 0 < (AP1027+camera!$B$4/2), AN1027 >= 0 ), AP1027+camera!$B$4/2, 0)","v":97.548721804363595}]
[null,null,null,null,null,null,null,null,null,null,null,null,null,null,null,null,null,null,null,null,954.75160000000005,547.50689999999997,null,null,null,"''",null,4.9758060000000004,1.714016,null,1.714016,74.637090000000001,null,{"$f":"camera!$B$5*COS(RADIANS(AE1028))*COS(RADIANS(AF1028))","v":132.40671207881468},{"$f":"camera!$B$5*COS(RADIANS(AE1028))*SIN(RADIANS(AF1028))","v":481.91783448267205},{"$f":"camera!$B$5*SIN(RADIANS(AE1028))","v":14.955380436811472},null,{"$f":"TRANSPOSE(MMULT(camera!$A$12:$C$14,MMULT(camera!$A$16:$C$18,TRANSPOSE(AH1028:AJ1028))))","v":-100.09778577346289},-89.900957756995211,481.5581492173348,null,{"$f":"camera!$B$5*AM1028/AN1028","v":-93.343823485397493},{"$f":"camera!$B$5*AL1028/AN1028","v":-103.93115134293697},null,{"$f":"IF( AND( (camera!$B$3) > (AQ1028+camera!$B$3/2), 0 < (AQ1028+camera!$B$3/2), AN1028 >= 0 ), AQ1028+camera!$B$3/2, 0)*-1+camera!$B$3","v":603.93115134293703},{"$f":"IF( AND( (camera!$B$4) > (AP1028+camera!$B$4/2), 0 < (AP1028+camera!$B$4/2), AN1028 >= 0 ), AP1028+camera!$B$4/2, 0)","v":406.65617651460252}]
[null,null,null,null,null,null,null,null,null,null,null,null,null,null,null,null,null,null,null,null,954.75160000000005,137.5069,null,null,null,"''",null,6.4695029999999996,-32.580069999999999,null,-32.580069999999999,97.04254499999999,null,{"$f":"camera!$B$5*COS(RADIANS(AE1029))*COS(RADIANS(AF1029))","v":-51.656481875258962},{"$f":"camera!$B$5*COS(RADIANS(AE1029))*SIN(RADIANS(AF1029))","v":418.14118041188607},{"$f":"camera!$B$5*SIN(RADIANS(AE1029))","v":-269.2388551528652},null,{"$f":"TRANSPOSE(MMULT(camera!$A$12:$C$14,MMULT(camera!$A$16:$C$18,TRANSPOSE(AH1029:AJ1029))))","v":193.59715058828948},87.903318518385788,452.54077150854624,null,{"$f":"camera!$B$5*AM1029/AN1029","v":97.121987733127085},{"$f":"camera!$B$5*AL1029/AN1029","v":213.90023040679043},null,{"$f":"IF( AND( (camera!$B$3) > (AQ1029+camera!$B$3/2), 0 < (AQ1029+camera!$B$3/2), AN1029 >= 0 ), AQ1029+camera!$B$3/2, 0)*-1+camera!$B$3","v":286.09976959320954},{"$f":"IF( AND( (camera!$B$4) > (AP1029+camera!$B$4/2), 0 < (AP1029+camera!$B$4/2), AN1029 >= 0 ), AP1029+camera!$B$4/2, 0)","v":597.12198773312707}]
[null,null,null,null,null,null,null,null,null,null,null,null,null,null,null,null,null,null,null,null,955,530,null,null,null,"''",null,6.5483960000000003,7.3329649999999997,null,7.3329649999999997,98.225940000000008,null,{"$f":"camera!$B$5*COS(RADIANS(AE1030))*COS(RADIANS(AF1030))","v":-70.953413195113427},{"$f":"camera!$B$5*COS(RADIANS(AE1030))*SIN(RADIANS(AF1030))","v":490.80843768552154},{"$f":"camera!$B$5*SIN(RADIANS(AE1030))","v":63.817635906237122},null,{"$f":"TRANSPOSE(MMULT(camera!$A$12:$C$14,MMULT(camera!$A$16:$C$18,TRANSPOSE(AH1030:AJ1030))))","v":-146.67793528705297},113.46018796978422,464.34078977168093,null,{"$f":"camera!$B$5*AM1030/AN1030","v":122.17340202394587},{"$f":"camera!$B$5*AL1030/AN1030","v":-157.94211764076914},null,{"$f":"IF( AND( (camera!$B$3) > (AQ1030+camera!$B$3/2), 0 < (AQ1030+camera!$B$3/2), AN1030 >= 0 ), AQ1030+camera!$B$3/2, 0)*-1+camera!$B$3","v":657.94211764076908},{"$f":"IF( AND( (camera!$B$4) > (AP1030+camera!$B$4/2), 0 < (AP1030+camera!$B$4/2), AN1030 >= 0 ), AP1030+camera!$B$4/2, 0)","v":622.17340202394587}]
[null,null,null,null,null,null,null,null,null,null,null,null,null,null,null,null,null,null,null,null,955,120,null,null,null,"''",null,7.9706780000000004,-49.244911999999999,null,-49.244911999999999,119.56017,null,{"$f":"camera!$B$5*COS(RADIANS(AE1031))*COS(RADIANS(AF1031))","v":-161.03196223773975},{"$f":"camera!$B$5*COS(RADIANS(AE1031))*SIN(RADIANS(AF1031))","v":283.92690568479031},{"$f":"camera!$B$5*SIN(RADIANS(AE1031))","v":-378.75350739778418},null,{"$f":"TRANSPOSE(MMULT(camera!$A$12:$C$14,MMULT(camera!$A$16:$C$18,TRANSPOSE(AH1031:AJ1031))))","v":326.32074299683188},185.16504735554872,330.49762166740777,null,{"$f":"camera!$B$5*AM1031/AN1031","v":280.13068054977907},{"$f":"camera!$B$5*AL1031/AN1031","v":493.68092476807709},null,{"$f":"IF( AND( (camera!$B$3) > (AQ1031+camera!$B$3/2), 0 < (AQ1031+camera!$B$3/2), AN1031 >= 0 ), AQ1031+camera!$B$3/2, 0)*-1+camera!$B$3","v":6.3190752319228523},{"$f":"IF( AND( (camera!$B$4) > (AP1031+camera!$B$4/2), 0 < (AP1031+camera!$B$4/2), AN1031 >= 0 ), AP1031+camera!$B$4/2, 0)","v":780.13068054977907}]
[null,null,null,null,null,null,null,null,null,null,null,null,null,null,null,null,null,null,null,null,955.54369999999994,461.15499999999997,null,null,null,"''",null,9.0857849999999996,-72.602705,null,-72.602705,136.28677500000001,null,{"$f":"camera!$B$5*COS(RADIANS(AE1032))*COS(RADIANS(AF1032))","v":-108.05820559817434},{"$f":"camera!$B$5*COS(RADIANS(AE1032))*SIN(RADIANS(AF1032))","v":103.31039399260057},{"$f":"camera!$B$5*SIN(RADIANS(AE1032))","v":-477.12722275719744},null,{"$f":"TRANSPOSE(MMULT(camera!$A$12:$C$14,MMULT(camera!$A$16:$C$18,TRANSPOSE(AH1032:AJ1032))))","v":453.64259230855595},116.65110562418735,174.93118075468416,null,{"$f":"camera!$B$5*AM1032/AN1032","v":333.4199915673517},{"$f":"camera!$B$5*AL1032/AN1032","v":1296.6315963553818},null,{"$f":"IF( AND( (camera!$B$3) > (AQ1032+camera!$B$3/2), 0 < (AQ1032+camera!$B$3/2), AN1032 >= 0 ), AQ1032+camera!$B$3/2, 0)*-1+camera!$B$3","v":1000},{"$f":"IF( AND( (camera!$B$4) > (AP1032+camera!$B$4/2), 0 < (AP1032+camera!$B$4/2), AN1032 >= 0 ), AP1032+camera!$B$4/2, 0)","v":833.41999156735164}]
[null,null,null,null,null,null,null,null,null,null,null,null,null,null,null,null,null,null,null,null,955.54369999999994,51.155000000000001,null,null,null,"''",null,9.4109060000000007,26.182324000000001,null,26.182324000000001,141.16359,null,{"$f":"camera!$B$5*COS(RADIANS(AE1033))*COS(RADIANS(AF1033))","v":-349.50807706877464},{"$f":"camera!$B$5*COS(RADIANS(AE1033))*SIN(RADIANS(AF1033))","v":281.37757771331889},{"$f":"camera!$B$5*SIN(RADIANS(AE1033))","v":220.61451181613745},null,{"$f":"TRANSPOSE(MMULT(camera!$A$12:$C$14,MMULT(camera!$A$16:$C$18,TRANSPOSE(AH1033:AJ1033))))","v":-260.64804795171943},372.70176509429569,207.74019686751666,null,{"$f":"camera!$B$5*AM1033/AN1033","v":897.03815321784089},{"$f":"camera!$B$5*AL1033/AN1033","v":-627.34139054933121},null,{"$f":"IF( AND( (camera!$B$3) > (AQ1033+camera!$B$3/2), 0 < (AQ1033+camera!$B$3/2), AN1033 >= 0 ), AQ1033+camera!$B$3/2, 0)*-1+camera!$B$3","v":1000},{"$f":"IF( AND( (camera!$B$4) > (AP1033+camera!$B$4/2), 0 < (AP1033+camera!$B$4/2), AN1033 >= 0 ), AP1033+camera!$B$4/2, 0)","v":0}]
[null,null,null,null,null,null,null,null,null,null,null,null,null,null,null,null,null,null,null,null,956.65229999999997,470,null,null,null,"''",null,9.5804050000000007,52.051476999999998,null,52.051476999999998,143.706075,null,{"$f":"camera!$B$5*COS(RADIANS(AE1034))*COS(RADIANS(AF1034))","v":-247.82340487753405},{"$f":"camera!$B$5*COS(RADIANS(AE1034))*SIN(RADIANS(AF1034))","v":182.00393703853521},{"$f":"camera!$B$5*SIN(RADIANS(AE1034))","v":394.28178615982091},null,{"$f":"TRANSPOSE(MMULT(camera!$A$12:$C$14,MMULT(camera!$A$16:$C$18,TRANSPOSE(AH1034:AJ1034))))","v":-416.02547919812486},262.74305031763498,88.819424495744656,null,{"$f":"camera!$B$5*AM1034/AN1034","v":1479.0855255441509},{"$f":"camera!$B$5*AL1034/AN1034","v":-2341.9735128888201},null,{"$f":"IF( AND( (camera!$B$3) > (AQ1034+camera!$B$3/2), 0 < (AQ1034+camera!$B$3/2), AN1034 >= 0 ), AQ1034+camera!$B$3/2, 0)*-1+camera!$B$3","v":1000},{"$f":"IF( AND( (camera!$B$4) > (AP1034+camera!$B$4/2), 0 < (AP1034+camera!$B$4/2), AN1034 >= 0 ), AP1034+camera!$B$4/2, 0)","v":0}]
[null,null,null,null,null,null,null,null,null,null,null,null,null,null,null,null,null,null,null,null,956.65229999999997,60,null,null,null,"''",null,11.852418999999999,-45.173470000000002,null,-45.173470000000002,177.78628499999999,null,{"$f":"camera!$B$5*COS(RADIANS(AE1035))*COS(RADIANS(AF1035))","v":-352.21828830754959},{"$f":"camera!$B$5*COS(RADIANS(AE1035))*SIN(RADIANS(AF1035))","v":13.615298152545602},{"$f":"camera!$B$5*SIN(RADIANS(AE1035))","v":-354.62219479033899},null,{"$f":"TRANSPOSE(MMULT(camera!$A$12:$C$14,MMULT(camera!$A$16:$C$18,TRANSPOSE(AH1035:AJ1035))))","v":352.21003698247915},352.06464280614671,44.705448600600995,null,{"$f":"camera!$B$5*AM1035/AN1035","v":3937.6032880409766},{"$f":"camera!$B$5*AL1035/AN1035","v":3939.2294228957167},null,{"$f":"IF( AND( (camera!$B$3) > (AQ1035+camera!$B$3/2), 0 < (AQ1035+camera!$B$3/2), AN1035 >= 0 ), AQ1035+camera!$B$3/2, 0)*-1+camera!$B$3","v":1000},{"$f":"IF( AND( (camera!$B$4) > (AP1035+camera!$B$4/2), 0 < (AP1035+camera!$B$4/2), AN1035 >= 0 ), AP1035+camera!$B$4/2, 0)","v":0}]
[null,null,null,null,null,null,null,null,null,null,null,null,null,null,null,null,null,null,null,null,957.16909999999996,543.13019999999995,null,null,null,"''",null,14.577999999999999,29.74513,null,29.74513,-141.33000000000001,null,{"$f":"camera!$B$5*COS(RADIANS(AE1036))*COS(RADIANS(AF1036))","v":-338.94290848200785},{"$f":"camera!$B$5*COS(RADIANS(AE1036))*SIN(RADIANS(AF1036))","v":-271.25321810378102},{"$f":"camera!$B$5*SIN(RADIANS(AE1036))","v":248.07135356203443},null,{"$f":"TRANSPOSE(MMULT(camera!$A$12:$C$14,MMULT(camera!$A$16:$C$18,TRANSPOSE(AH1036:AJ1036))))","v":-192.24949527192297},314.01185268904442,-338.28492124019476,null,{"$f":"camera!$B$5*AM1036/AN1036","v":-464.123336532172},{"$f":"camera!$B$5*AL1036/AN1036","v":284.15321405268719},null,{"$f":"IF( AND( (camera!$B$3) > (AQ1036+camera!$B$3/2), 0 < (AQ1036+camera!$B$3/2), AN1036 >= 0 ), AQ1036+camera!$B$3/2, 0)*-1+camera!$B$3","v":1000},{"$f":"IF( AND( (camera!$B$4) > (AP1036+camera!$B$4/2), 0 < (AP1036+camera!$B$4/2), AN1036 >= 0 ), AP1036+camera!$B$4/2, 0)","v":0}]
[null,null,null,null,null,null,null,null,null,null,null,null,null,null,null,null,null,null,null,null,957.16909999999996,133.1302,null,null,null,"''",null,14.953055000000001,-4.3464619999999998,null,-4.3464619999999998,-135.70417499999999,null,{"$f":"camera!$B$5*COS(RADIANS(AE1037))*COS(RADIANS(AF1037))","v":-356.8425739968518},{"$f":"camera!$B$5*COS(RADIANS(AE1037))*SIN(RADIANS(AF1037))","v":-348.17732173636722},{"$f":"camera!$B$5*SIN(RADIANS(AE1037))","v":-37.893667172649849},null,{"$f":"TRANSPOSE(MMULT(camera!$A$12:$C$14,MMULT(camera!$A$16:$C$18,TRANSPOSE(AH1037:AJ1037))))","v":102.94887579570536},325.13902718525173,-365.63115563834072,null,{"$f":"camera!$B$5*AM1037/AN1037","v":-444.62708137877996},{"$f":"camera!$B$5*AL1037/AN1037","v":-140.7824172094567},null,{"$f":"IF( AND( (camera!$B$3) > (AQ1037+camera!$B$3/2), 0 < (AQ1037+camera!$B$3/2), AN1037 >= 0 ), AQ1037+camera!$B$3/2, 0)*-1+camera!$B$3","v":1000},{"$f":"IF( AND( (camera!$B$4) > (AP1037+camera!$B$4/2), 0 < (AP1037+camera!$B$4/2), AN1037 >= 0 ), AP1037+camera!$B$4/2, 0)","v":0}]
[null,null,null,null,null,null,null,null,null,null,null,null,null,null,null,null,null,null,null,null,957.87639999999999,465.57749999999999,null,null,null,"''",null,21.241337000000001,10.006981,null,10.006981,-41.379944999999964,null,{"$f":"camera!$B$5*COS(RADIANS(AE1038))*COS(RADIANS(AF1038))","v":369.46361520241885},{"$f":"camera!$B$5*COS(RADIANS(AE1038))*SIN(RADIANS(AF1038))","v":-325.49622593221454},{"$f":"camera!$B$5*SIN(RADIANS(AE1038))","v":86.884083383803684},null,{"$f":"TRANSPOSE(MMULT(camera!$A$12:$C$14,MMULT(camera!$A$16:$C$18,TRANSPOSE(AH1038:AJ1038))))","v":-34.848998475420963},-396.42655993514018,-302.70700336009872,null,{"$f":"camera!$B$5*AM1038/AN1038","v":654.80242533991384},{"$f":"camera!$B$5*AL1038/AN1038","v":57.562260021392326},null,{"$f":"IF( AND( (camera!$B$3) > (AQ1038+camera!$B$3/2), 0 < (AQ1038+camera!$B$3/2), AN1038 >= 0 ), AQ1038+camera!$B$3/2, 0)*-1+camera!$B$3","v":1000},{"$f":"IF( AND( (camera!$B$4) > (AP1038+camera!$B$4/2), 0 < (AP1038+camera!$B$4/2), AN1038 >= 0 ), AP1038+camera!$B$4/2, 0)","v":0}]
[null,null,null,null,null,null,null,null,null,null,null,null,null,null,null,null,null,null,null,null,957.87639999999999,55.577500000000001,null,null,null,"''",null,22.101914000000001,-39.543353000000003,null,-39.543353000000003,-28.47129000000001,null,{"$f":"camera!$B$5*COS(RADIANS(AE1039))*COS(RADIANS(AF1039))","v":338.93901044289868},{"$f":"camera!$B$5*COS(RADIANS(AE1039))*SIN(RADIANS(AF1039))","v":-183.80902234234921},{"$f":"camera!$B$5*SIN(RADIANS(AE1039))","v":-318.33094493865724},null,{"$f":"TRANSPOSE(MMULT(camera!$A$12:$C$14,MMULT(camera!$A$16:$C$18,TRANSPOSE(AH1039:AJ1039))))","v":340.16177562620231},-353.66925704564676,-95.958444253799087,null,{"$f":"camera!$B$5*AM1039/AN1039","v":1842.8250884843033},{"$f":"camera!$B$5*AL1039/AN1039","v":-1772.4431563652354},null,{"$f":"IF( AND( (camera!$B$3) > (AQ1039+camera!$B$3/2), 0 < (AQ1039+camera!$B$3/2), AN1039 >= 0 ), AQ1039+camera!$B$3/2, 0)*-1+camera!$B$3","v":1000},{"$f":"IF( AND( (camera!$B$4) > (AP1039+camera!$B$4/2), 0 < (AP1039+camera!$B$4/2), AN1039 >= 0 ), AP1039+camera!$B$4/2, 0)","v":0}]
[null,null,null,null,null,null,null,null,null,null,null,null,null,null,null,null,null,null,null,null,958.10130000000004,485,null,null,null,"''",null,0.74541999999999997,48.284363999999997,null,48.284363999999997,11.1813,null,{"$f":"camera!$B$5*COS(RADIANS(AE1040))*COS(RADIANS(AF1040))","v":326.40157392140742},{"$f":"camera!$B$5*COS(RADIANS(AE1040))*SIN(RADIANS(AF1040))","v":64.518552715785205},{"$f":"camera!$B$5*SIN(RADIANS(AE1040))","v":373.22830666642699},null,{"$f":"TRANSPOSE(MMULT(camera!$A$12:$C$14,MMULT(camera!$A$16:$C$18,TRANSPOSE(AH1040:AJ1040))))","v":-383.65893004144704},-319.53635500635886,26.501758973741346,null,{"$f":"camera!$B$5*AM1040/AN1040","v":-6028.5876745570749},{"$f":"camera!$B$5*AL1040/AN1040","v":-7238.3672801036828},null,{"$f":"IF( AND( (camera!$B$3) > (AQ1040+camera!$B$3/2), 0 < (AQ1040+camera!$B$3/2), AN1040 >= 0 ), AQ1040+camera!$B$3/2, 0)*-1+camera!$B$3","v":1000},{"$f":"IF( AND( (camera!$B$4) > (AP1040+camera!$B$4/2), 0 < (AP1040+camera!$B$4/2), AN1040 >= 0 ), AP1040+camera!$B$4/2, 0)","v":0}]
[null,null,null,null,null,null,null,null,null,null,null,null,null,null,null,null,null,null,null,null,958.10130000000004,500,null,null,null,"''",null,4.0149460000000001,-62.159284,null,-62.159284,60.22419,null,{"$f":"camera!$B$5*COS(RADIANS(AE1041))*COS(RADIANS(AF1041))","v":115.96162004034773},{"$f":"camera!$B$5*COS(RADIANS(AE1041))*SIN(RADIANS(AF1041))","v":202.6787748339716},{"$f":"camera!$B$5*SIN(RADIANS(AE1041))","v":-442.12466218185369},null,{"$f":"TRANSPOSE(MMULT(camera!$A$12:$C$14,MMULT(camera!$A$16:$C$18,TRANSPOSE(AH1041:AJ1041))))","v":398.59190834661808},-97.855731906483754,285.56741118980568,null,{"$f":"camera!$B$5*AM1041/AN1041","v":-171.33560776205448},{"$f":"camera!$B$5*AL1041/AN1041","v":697.89459988781653},null,{"$f":"IF( AND( (camera!$B$3) > (AQ1041+camera!$B$3/2), 0 < (AQ1041+camera!$B$3/2), AN1041 >= 0 ), AQ1041+camera!$B$3/2, 0)*-1+camera!$B$3","v":1000},{"$f":"IF( AND( (camera!$B$4) > (AP1041+camera!$B$4/2), 0 < (AP1041+camera!$B$4/2), AN1041 >= 0 ), AP1041+camera!$B$4/2, 0)","v":328.66439223794555}]
[null,null,null,null,null,null,null,null,null,null,null,null,null,null,null,null,null,null,null,null,958.10130000000004,515,null,null,null,"''",null,4.4390939999999999,15.618264999999999,null,15.618264999999999,66.586410000000001,null,{"$f":"camera!$B$5*COS(RADIANS(AE1042))*COS(RADIANS(AF1042))","v":191.34677499166503},{"$f":"camera!$B$5*COS(RADIANS(AE1042))*SIN(RADIANS(AF1042))","v":441.88871648991454},{"$f":"camera!$B$5*SIN(RADIANS(AE1042))","v":134.6134240675315},null,{"$f":"TRANSPOSE(MMULT(camera!$A$12:$C$14,MMULT(camera!$A$16:$C$18,TRANSPOSE(AH1042:AJ1042))))","v":-211.9054466527574},-152.10550344616308,426.56769392475644,null,{"$f":"camera!$B$5*AM1042/AN1042","v":-178.28999431095389},{"$f":"camera!$B$5*AL1042/AN1042","v":-248.38431235035821},null,{"$f":"IF( AND( (camera!$B$3) > (AQ1042+camera!$B$3/2), 0 < (AQ1042+camera!$B$3/2), AN1042 >= 0 ), AQ1042+camera!$B$3/2, 0)*-1+camera!$B$3","v":748.38431235035819},{"$f":"IF( AND( (camera!$B$4) > (AP1042+camera!$B$4/2), 0 < (AP1042+camera!$B$4/2), AN1042 >= 0 ), AP1042+camera!$B$4/2, 0)","v":321.71000568904611}]
[null,null,null,null,null,null,null,null,null,null,null,null,null,null,null,null,null,null,null,null,958.10130000000004,75,null,null,null,"''",null,6.7976799999999997,2.4121589999999999,null,2.4121589999999999,101.9652,null,{"$f":"camera!$B$5*COS(RADIANS(AE1043))*COS(RADIANS(AF1043))","v":-103.5669253920159},{"$f":"camera!$B$5*COS(RADIANS(AE1043))*SIN(RADIANS(AF1043))","v":488.70343638777683},{"$f":"camera!$B$5*SIN(RADIANS(AE1043))","v":21.043840610088537},null,{"$f":"TRANSPOSE(MMULT(camera!$A$12:$C$14,MMULT(camera!$A$16:$C$18,TRANSPOSE(AH1043:AJ1043))))","v":-103.6962442550814},145.76613295489921,466.90397664912342,null,{"$f":"camera!$B$5*AM1043/AN1043","v":156.0986201071081},{"$f":"camera!$B$5*AL1043/AN1043","v":-111.04664924819085},null,{"$f":"IF( AND( (camera!$B$3) > (AQ1043+camera!$B$3/2), 0 < (AQ1043+camera!$B$3/2), AN1043 >= 0 ), AQ1043+camera!$B$3/2, 0)*-1+camera!$B$3","v":611.04664924819087},{"$f":"IF( AND( (camera!$B$4) > (AP1043+camera!$B$4/2), 0 < (AP1043+camera!$B$4/2), AN1043 >= 0 ), AP1043+camera!$B$4/2, 0)","v":656.0986201071081}]
[null,null,null,null,null,null,null,null,null,null,null,null,null,null,null,null,null,null,null,null,958.10130000000004,90,null,null,null,"''",null,10.132300000000001,-0.371637,null,-0.371637,151.98450000000003,null,{"$f":"camera!$B$5*COS(RADIANS(AE1044))*COS(RADIANS(AF1044))","v":-441.40099267306829},{"$f":"camera!$B$5*COS(RADIANS(AE1044))*SIN(RADIANS(AF1044))","v":234.85026256660308},{"$f":"camera!$B$5*SIN(RADIANS(AE1044))","v":-3.2431218952625569},null,{"$f":"TRANSPOSE(MMULT(camera!$A$12:$C$14,MMULT(camera!$A$16:$C$18,TRANSPOSE(AH1044:AJ1044))))","v":-30.751928267203652},460.18987770181889,193.07924634365492,null,{"$f":"camera!$B$5*AM1044/AN1044","v":1191.7124352213991},{"$f":"camera!$B$5*AL1044/AN1044","v":-79.635509381648887},null,{"$f":"IF( AND( (camera!$B$3) > (AQ1044+camera!$B$3/2), 0 < (AQ1044+camera!$B$3/2), AN1044 >= 0 ), AQ1044+camera!$B$3/2, 0)*-1+camera!$B$3","v":579.63550938164894},{"$f":"IF( AND( (camera!$B$4) > (AP1044+camera!$B$4/2), 0 < (AP1044+camera!$B$4/2), AN1044 >= 0 ), AP1044+camera!$B$4/2, 0)","v":0}]
[null,null,null,null,null,null,null,null,null,null,null,null,null,null,null,null,null,null,null,null,958.10130000000004,105,null,null,null,"''",null,15.389625000000001,-59.320787000000003,null,-59.320787000000003,-129.15562499999999,null,{"$f":"camera!$B$5*COS(RADIANS(AE1045))*COS(RADIANS(AF1045))","v":-161.08728374526729},{"$f":"camera!$B$5*COS(RADIANS(AE1045))*SIN(RADIANS(AF1045))","v":-197.82514280726042},{"$f":"camera!$B$5*SIN(RADIANS(AE1045))","v":-430.0187203934949},null,{"$f":"TRANSPOSE(MMULT(camera!$A$12:$C$14,MMULT(camera!$A$16:$C$18,TRANSPOSE(AH1045:AJ1045))))","v":460.14499086135277},143.23270074150759,-133.23280685889364,null,{"$f":"camera!$B$5*AM1045/AN1045","v":-537.52789616301027},{"$f":"camera!$B$5*AL1045/AN1045","v":-1726.8456685322653},null,{"$f":"IF( AND( (camera!$B$3) > (AQ1045+camera!$B$3/2), 0 < (AQ1045+camera!$B$3/2), AN1045 >= 0 ), AQ1045+camera!$B$3/2, 0)*-1+camera!$B$3","v":1000},{"$f":"IF( AND( (camera!$B$4) > (AP1045+camera!$B$4/2), 0 < (AP1045+camera!$B$4/2), AN1045 >= 0 ), AP1045+camera!$B$4/2, 0)","v":0}]
[null,null,null,null,null,null,null,null,null,null,null,null,null,null,null,null,null,null,null,null,959.58659999999998,538.75350000000003,null,null,null,"''",null,16.401717999999999,-20.037327000000001,null,-20.037327000000001,-113.97423000000001,null,{"$f":"camera!$B$5*COS(RADIANS(AE1046))*COS(RADIANS(AF1046))","v":-190.86532914110367},{"$f":"camera!$B$5*COS(RADIANS(AE1046))*SIN(RADIANS(AF1046))","v":-429.20998311311428},{"$f":"camera!$B$5*SIN(RADIANS(AE1046))","v":-171.31613037860251},null,{"$f":"TRANSPOSE(MMULT(camera!$A$12:$C$14,MMULT(camera!$A$16:$C$18,TRANSPOSE(AH1046:AJ1046))))","v":245.85000892794125},152.73091406697014,-407.71441107520229,null,{"$f":"camera!$B$5*AM1046/AN1046","v":-187.30134368343332},{"$f":"camera!$B$5*AL1046/AN1046","v":-301.49781593395113},null,{"$f":"IF( AND( (camera!$B$3) > (AQ1046+camera!$B$3/2), 0 < (AQ1046+camera!$B$3/2), AN1046 >= 0 ), AQ1046+camera!$B$3/2, 0)*-1+camera!$B$3","v":1000},{"$f":"IF( AND( (camera!$B$4) > (AP1046+camera!$B$4/2), 0 < (AP1046+camera!$B$4/2), AN1046 >= 0 ), AP1046+camera!$B$4/2, 0)","v":0}]
[null,null,null,null,null,null,null,null,null,null,null,null,null,null,null,null,null,null,null,null,959.58659999999998,128.7535,null,null,null,"''",null,23.064615,3.8200449999999999,null,3.8200449999999999,-14.030775000000006,null,{"$f":"camera!$B$5*COS(RADIANS(AE1047))*COS(RADIANS(AF1047))","v":484.00507527995944},{"$f":"camera!$B$5*COS(RADIANS(AE1047))*SIN(RADIANS(AF1047))","v":-120.95218803161281},{"$f":"camera!$B$5*SIN(RADIANS(AE1047))","v":33.311489213275834},null,{"$f":"TRANSPOSE(MMULT(camera!$A$12:$C$14,MMULT(camera!$A$16:$C$18,TRANSPOSE(AH1047:AJ1047))))","v":-19.207352832237603},-492.70496762824143,-82.902909910518588,null,{"$f":"camera!$B$5*AM1047/AN1047","v":2971.5782483391927},{"$f":"camera!$B$5*AL1047/AN1047","v":115.84245265316439},null,{"$f":"IF( AND( (camera!$B$3) > (AQ1047+camera!$B$3/2), 0 < (AQ1047+camera!$B$3/2), AN1047 >= 0 ), AQ1047+camera!$B$3/2, 0)*-1+camera!$B$3","v":1000},{"$f":"IF( AND( (camera!$B$4) > (AP1047+camera!$B$4/2), 0 < (AP1047+camera!$B$4/2), AN1047 >= 0 ), AP1047+camera!$B$4/2, 0)","v":0}]
[null,null,null,null,null,null,null,null,null,null,null,null,null,null,null,null,null,null,null,null,960,530,null,null,null,"''",null,23.111345,-23.743115,null,-23.743115,-13.329825000000028,null,{"$f":"camera!$B$5*COS(RADIANS(AE1048))*COS(RADIANS(AF1048))","v":445.3495746944501},{"$f":"camera!$B$5*COS(RADIANS(AE1048))*SIN(RADIANS(AF1048))","v":-105.52098717575404},{"$f":"camera!$B$5*SIN(RADIANS(AE1048))","v":-201.31834885307097},null,{"$f":"TRANSPOSE(MMULT(camera!$A$12:$C$14,MMULT(camera!$A$16:$C$18,TRANSPOSE(AH1048:AJ1048))))","v":209.77355675815556},-452.85164512079393,-30.338793588793294,null,{"$f":"camera!$B$5*AM1048/AN1048","v":7463.2441101427103},{"$f":"camera!$B$5*AL1048/AN1048","v":-3457.1835584728528},null,{"$f":"IF( AND( (camera!$B$3) > (AQ1048+camera!$B$3/2), 0 < (AQ1048+camera!$B$3/2), AN1048 >= 0 ), AQ1048+camera!$B$3/2, 0)*-1+camera!$B$3","v":1000},{"$f":"IF( AND( (camera!$B$4) > (AP1048+camera!$B$4/2), 0 < (AP1048+camera!$B$4/2), AN1048 >= 0 ), AP1048+camera!$B$4/2, 0)","v":0}]
[null,null,null,null,null,null,null,null,null,null,null,null,null,null,null,null,null,null,null,null,960,120,null,null,null,"''",null,2.0326439999999999,70.907020000000003,null,70.907020000000003,30.489659999999997,null,{"$f":"camera!$B$5*COS(RADIANS(AE1049))*COS(RADIANS(AF1049))","v":140.93534024485388},{"$f":"camera!$B$5*COS(RADIANS(AE1049))*SIN(RADIANS(AF1049))","v":82.98300426405126},{"$f":"camera!$B$5*SIN(RADIANS(AE1049))","v":472.49449824667772},null,{"$f":"TRANSPOSE(MMULT(camera!$A$12:$C$14,MMULT(camera!$A$16:$C$18,TRANSPOSE(AH1049:AJ1049))))","v":-481.80423564982328},-133.16659335361419,11.460232304920481,null,{"$f":"camera!$B$5*AM1049/AN1049","v":-5809.9430190624826},{"$f":"camera!$B$5*AL1049/AN1049","v":-21020.701100577138},null,{"$f":"IF( AND( (camera!$B$3) > (AQ1049+camera!$B$3/2), 0 < (AQ1049+camera!$B$3/2), AN1049 >= 0 ), AQ1049+camera!$B$3/2, 0)*-1+camera!$B$3","v":1000},{"$f":"IF( AND( (camera!$B$4) > (AP1049+camera!$B$4/2), 0 < (AP1049+camera!$B$4/2), AN1049 >= 0 ), AP1049+camera!$B$4/2, 0)","v":0}]
[null,null,null,null,null,null,null,null,null,null,null,null,null,null,null,null,null,null,null,null,961.65229999999997,470,null,null,null,"''",null,4.5584899999999999,-29.766492,null,-29.766492,68.377349999999993,null,{"$f":"camera!$B$5*COS(RADIANS(AE1050))*COS(RADIANS(AF1050))","v":159.93587105254383},{"$f":"camera!$B$5*COS(RADIANS(AE1050))*SIN(RADIANS(AF1050))","v":403.48581045900397},{"$f":"camera!$B$5*SIN(RADIANS(AE1050))","v":-248.23319260103958},null,{"$f":"TRANSPOSE(MMULT(camera!$A$12:$C$14,MMULT(camera!$A$16:$C$18,TRANSPOSE(AH1050:AJ1050))))","v":172.24347460265128},-124.16116127853395,452.67669642557451,null,{"$f":"camera!$B$5*AM1050/AN1050","v":-137.14110120858356},{"$f":"camera!$B$5*AL1050/AN1050","v":190.24999073590504},null,{"$f":"IF( AND( (camera!$B$3) > (AQ1050+camera!$B$3/2), 0 < (AQ1050+camera!$B$3/2), AN1050 >= 0 ), AQ1050+camera!$B$3/2, 0)*-1+camera!$B$3","v":309.75000926409496},{"$f":"IF( AND( (camera!$B$4) > (AP1050+camera!$B$4/2), 0 < (AP1050+camera!$B$4/2), AN1050 >= 0 ), AP1050+camera!$B$4/2, 0)","v":362.85889879141644}]
[null,null,null,null,null,null,null,null,null,null,null,null,null,null,null,null,null,null,null,null,961.65229999999997,60,null,null,null,"''",null,6.7331370000000001,13.228016999999999,null,13.228016999999999,100.997055,null,{"$f":"camera!$B$5*COS(RADIANS(AE1051))*COS(RADIANS(AF1051))","v":-92.848583569610781},{"$f":"camera!$B$5*COS(RADIANS(AE1051))*SIN(RADIANS(AF1051))","v":477.79566930630926},{"$f":"camera!$B$5*SIN(RADIANS(AE1051))","v":114.41345603229091},null,{"$f":"TRANSPOSE(MMULT(camera!$A$12:$C$14,MMULT(camera!$A$16:$C$18,TRANSPOSE(AH1051:AJ1051))))","v":-193.9226752749494},134.13790311738046,440.90930922524058,null,{"$f":"camera!$B$5*AM1051/AN1051","v":152.11507254528786},{"$f":"camera!$B$5*AL1051/AN1051","v":-219.91220327793431},null,{"$f":"IF( AND( (camera!$B$3) > (AQ1051+camera!$B$3/2), 0 < (AQ1051+camera!$B$3/2), AN1051 >= 0 ), AQ1051+camera!$B$3/2, 0)*-1+camera!$B$3","v":719.91220327793428},{"$f":"IF( AND( (camera!$B$4) > (AP1051+camera!$B$4/2), 0 < (AP1051+camera!$B$4/2), AN1051 >= 0 ), AP1051+camera!$B$4/2, 0)","v":652.11507254528783}]
[null,null,null,null,null,null,null,null,null,null,null,null,null,null,null,null,null,null,null,null,962.00409999999999,534.37670000000003,null,null,null,"''",null,7.2093499999999997,-46.759304999999998,null,-46.759304999999998,108.14024999999999,null,{"$f":"camera!$B$5*COS(RADIANS(AE1052))*COS(RADIANS(AF1052))","v":-106.64541997545705},{"$f":"camera!$B$5*COS(RADIANS(AE1052))*SIN(RADIANS(AF1052))","v":325.50754579034532},{"$f":"camera!$B$5*SIN(RADIANS(AE1052))","v":-364.24111798615576},null,{"$f":"TRANSPOSE(MMULT(camera!$A$12:$C$14,MMULT(camera!$A$16:$C$18,TRANSPOSE(AH1052:AJ1052))))","v":304.01279318216689},134.60945387864274,373.43877210068933,null,{"$f":"camera!$B$5*AM1052/AN1052","v":180.22961718922471},{"$f":"camera!$B$5*AL1052/AN1052","v":407.04503106629312},null,{"$f":"IF( AND( (camera!$B$3) > (AQ1052+camera!$B$3/2), 0 < (AQ1052+camera!$B$3/2), AN1052 >= 0 ), AQ1052+camera!$B$3/2, 0)*-1+camera!$B$3","v":92.954968933706823},{"$f":"IF( AND( (camera!$B$4) > (AP1052+camera!$B$4/2), 0 < (AP1052+camera!$B$4/2), AN1052 >= 0 ), AP1052+camera!$B$4/2, 0)","v":680.22961718922465}]
[null,null,null,null,null,null,null,null,null,null,null,null,null,null,null,null,null,null,null,null,962.00409999999999,124.3767,null,null,null,"''",null,7.877402,-38.862811999999998,null,-38.862811999999998,118.16103,null,{"$f":"camera!$B$5*COS(RADIANS(AE1053))*COS(RADIANS(AF1053))","v":-183.74254726145875},{"$f":"camera!$B$5*COS(RADIANS(AE1053))*SIN(RADIANS(AF1053))","v":343.23876860283713},{"$f":"camera!$B$5*SIN(RADIANS(AE1053))","v":-313.72890216535455},null,{"$f":"TRANSPOSE(MMULT(camera!$A$12:$C$14,MMULT(camera!$A$16:$C$18,TRANSPOSE(AH1053:AJ1053))))","v":252.36751492566526},212.95858121310903,375.44544223887402,null,{"$f":"camera!$B$5*AM1053/AN1053","v":283.6078924586011},{"$f":"camera!$B$5*AL1053/AN1053","v":336.09079580342666},null,{"$f":"IF( AND( (camera!$B$3) > (AQ1053+camera!$B$3/2), 0 < (AQ1053+camera!$B$3/2), AN1053 >= 0 ), AQ1053+camera!$B$3/2, 0)*-1+camera!$B$3","v":163.90920419657334},{"$f":"IF( AND( (camera!$B$4) > (AP1053+camera!$B$4/2), 0 < (AP1053+camera!$B$4/2), AN1053 >= 0 ), AP1053+camera!$B$4/2, 0)","v":783.6078924586011}]
[null,null,null,null,null,null,null,null,null,null,null,null,null,null,null,null,null,null,null,null,963.10130000000004,485,null,null,null,"''",null,10.123821,35.244692999999998,null,35.244692999999998,151.857315,null,{"$f":"camera!$B$5*COS(RADIANS(AE1054))*COS(RADIANS(AF1054))","v":-360.07091515054407},{"$f":"camera!$B$5*COS(RADIANS(AE1054))*SIN(RADIANS(AF1054))","v":192.60483042765676},{"$f":"camera!$B$5*SIN(RADIANS(AE1054))","v":288.53477322254122},null,{"$f":"TRANSPOSE(MMULT(camera!$A$12:$C$14,MMULT(camera!$A$16:$C$18,TRANSPOSE(AH1054:AJ1054))))","v":-312.0200191709597},375.48735366272393,107.94792668652056,null,{"$f":"camera!$B$5*AM1054/AN1054","v":1739.2059541501642},{"$f":"camera!$B$5*AL1054/AN1054","v":-1445.2339602457673},null,{"$f":"IF( AND( (camera!$B$3) > (AQ1054+camera!$B$3/2), 0 < (AQ1054+camera!$B$3/2), AN1054 >= 0 ), AQ1054+camera!$B$3/2, 0)*-1+camera!$B$3","v":1000},{"$f":"IF( AND( (camera!$B$4) > (AP1054+camera!$B$4/2), 0 < (AP1054+camera!$B$4/2), AN1054 >= 0 ), AP1054+camera!$B$4/2, 0)","v":0}]
[null,null,null,null,null,null,null,null,null,null,null,null,null,null,null,null,null,null,null,null,963.10130000000004,500,null,null,null,"''",null,14.678768,16.418323999999998,null,16.418323999999998,-139.81847999999999,null,{"$f":"camera!$B$5*COS(RADIANS(AE1055))*COS(RADIANS(AF1055))","v":-366.42542747985476},{"$f":"camera!$B$5*COS(RADIANS(AE1055))*SIN(RADIANS(AF1055))","v":-309.45096308998598},{"$f":"camera!$B$5*SIN(RADIANS(AE1055))","v":141.32412228238249},null,{"$f":"TRANSPOSE(MMULT(camera!$A$12:$C$14,MMULT(camera!$A$16:$C$18,TRANSPOSE(AH1055:AJ1055))))","v":-80.100333513975471},338.06063956934685,-359.58161875284173,null,{"$f":"camera!$B$5*AM1055/AN1055","v":-470.07497316167417},{"$f":"camera!$B$5*AL1055/AN1055","v":111.37990561335172},null,{"$f":"IF( AND( (camera!$B$3) > (AQ1055+camera!$B$3/2), 0 < (AQ1055+camera!$B$3/2), AN1055 >= 0 ), AQ1055+camera!$B$3/2, 0)*-1+camera!$B$3","v":1000},{"$f":"IF( AND( (camera!$B$4) > (AP1055+camera!$B$4/2), 0 < (AP1055+camera!$B$4/2), AN1055 >= 0 ), AP1055+camera!$B$4/2, 0)","v":0}]
[null,null,null,null,null,null,null,null,null,null,null,null,null,null,null,null,null,null,null,null,963.10130000000004,515,null,null,null,"''",null,19.607372000000002,50.221102999999999,null,50.221102999999999,-65.889419999999973,null,{"$f":"camera!$B$5*COS(RADIANS(AE1056))*COS(RADIANS(AF1056))","v":130.6842847021515},{"$f":"camera!$B$5*COS(RADIANS(AE1056))*SIN(RADIANS(AF1056))","v":-292.00370583930277},{"$f":"camera!$B$5*SIN(RADIANS(AE1056))","v":384.25961732662068},null,{"$f":"TRANSPOSE(MMULT(camera!$A$12:$C$14,MMULT(camera!$A$16:$C$18,TRANSPOSE(AH1056:AJ1056))))","v":-329.88672315328785},-155.63679141168865,-341.9823665721093,null,{"$f":"camera!$B$5*AM1056/AN1056","v":227.55090119371926},{"$f":"camera!$B$5*AL1056/AN1056","v":482.3153989779309},null,{"$f":"IF( AND( (camera!$B$3) > (AQ1056+camera!$B$3/2), 0 < (AQ1056+camera!$B$3/2), AN1056 >= 0 ), AQ1056+camera!$B$3/2, 0)*-1+camera!$B$3","v":1000},{"$f":"IF( AND( (camera!$B$4) > (AP1056+camera!$B$4/2), 0 < (AP1056+camera!$B$4/2), AN1056 >= 0 ), AP1056+camera!$B$4/2, 0)","v":0}]
[null,null,null,null,null,null,null,null,null,null,null,null,null,null,null,null,null,null,null,null,963.10130000000004,75,null,null,null,"''",null,21.118797000000001,-25.005852999999998,null,-25.005852999999998,-43.218044999999961,null,{"$f":"camera!$B$5*COS(RADIANS(AE1057))*COS(RADIANS(AF1057))","v":330.22152526224471},{"$f":"camera!$B$5*COS(RADIANS(AE1057))*SIN(RADIANS(AF1057))","v":-310.29442492297068},{"$f":"camera!$B$5*SIN(RADIANS(AE1057))","v":-211.35542130543885},null,{"$f":"TRANSPOSE(MMULT(camera!$A$12:$C$14,MMULT(camera!$A$16:$C$18,TRANSPOSE(AH1057:AJ1057))))","v":256.82376495234314},-356.00887373663653,-239.37258735384711,null,{"$f":"camera!$B$5*AM1057/AN1057","v":743.62916337277682},{"$f":"camera!$B$5*AL1057/AN1057","v":-536.45191329427212},null,{"$f":"IF( AND( (camera!$B$3) > (AQ1057+camera!$B$3/2), 0 < (AQ1057+camera!$B$3/2), AN1057 >= 0 ), AQ1057+camera!$B$3/2, 0)*-1+camera!$B$3","v":1000},{"$f":"IF( AND( (camera!$B$4) > (AP1057+camera!$B$4/2), 0 < (AP1057+camera!$B$4/2), AN1057 >= 0 ), AP1057+camera!$B$4/2, 0)","v":0}]
[null,null,null,null,null,null,null,null,null,null,null,null,null,null,null,null,null,null,null,null,963.10130000000004,90,null,null,null,"''",null,21.735710000000001,28.742632,null,28.742632,-33.964349999999968,null,{"$f":"camera!$B$5*COS(RADIANS(AE1058))*COS(RADIANS(AF1058))","v":363.59780947732156},{"$f":"camera!$B$5*COS(RADIANS(AE1058))*SIN(RADIANS(AF1058))","v":-244.9207952113357},{"$f":"camera!$B$5*SIN(RADIANS(AE1058))","v":240.43801075607897},null,{"$f":"TRANSPOSE(MMULT(camera!$A$12:$C$14,MMULT(camera!$A$16:$C$18,TRANSPOSE(AH1058:AJ1058))))","v":-199.91985477115139},-383.56046386007137,-250.82548162363526,null,{"$f":"camera!$B$5*AM1058/AN1058","v":764.59628698252743},{"$f":"camera!$B$5*AL1058/AN1058","v":398.52381320477639},null,{"$f":"IF( AND( (camera!$B$3) > (AQ1058+camera!$B$3/2), 0 < (AQ1058+camera!$B$3/2), AN1058 >= 0 ), AQ1058+camera!$B$3/2, 0)*-1+camera!$B$3","v":1000},{"$f":"IF( AND( (camera!$B$4) > (AP1058+camera!$B$4/2), 0 < (AP1058+camera!$B$4/2), AN1058 >= 0 ), AP1058+camera!$B$4/2, 0)","v":0}]
[null,null,null,null,null,null,null,null,null,null,null,null,null,null,null,null,null,null,null,null,963.10130000000004,105,null,null,null,"''",null,23.700779000000001,1.780041,null,1.780041,-4.4883150000000001,null,{"$f":"camera!$B$5*COS(RADIANS(AE1059))*COS(RADIANS(AF1059))","v":498.22611780339264},{"$f":"camera!$B$5*COS(RADIANS(AE1059))*SIN(RADIANS(AF1059))","v":-39.109009039794344},{"$f":"camera!$B$5*SIN(RADIANS(AE1059))","v":15.531289401888586},null,{"$f":"TRANSPOSE(MMULT(camera!$A$12:$C$14,MMULT(camera!$A$16:$C$18,TRANSPOSE(AH1059:AJ1059))))","v":-16.070339908737658},-499.73879173756137,1.6982955867432752,null,{"$f":"camera!$B$5*AM1059/AN1059","v":-147129.50903201778},{"$f":"camera!$B$5*AL1059/AN1059","v":-4731.3141582010567},null,{"$f":"IF( AND( (camera!$B$3) > (AQ1059+camera!$B$3/2), 0 < (AQ1059+camera!$B$3/2), AN1059 >= 0 ), AQ1059+camera!$B$3/2, 0)*-1+camera!$B$3","v":1000},{"$f":"IF( AND( (camera!$B$4) > (AP1059+camera!$B$4/2), 0 < (AP1059+camera!$B$4/2), AN1059 >= 0 ), AP1059+camera!$B$4/2, 0)","v":0}]
[null,null,null,null,null,null,null,null,null,null,null,null,null,null,null,null,null,null,null,null,965,530,null,null,null,"''",null,23.712039000000001,-14.544905,null,-14.544905,-4.3194149999999922,null,{"$f":"camera!$B$5*COS(RADIANS(AE1060))*COS(RADIANS(AF1060))","v":482.60090448044929},{"$f":"camera!$B$5*COS(RADIANS(AE1060))*SIN(RADIANS(AF1060))","v":-36.451405081222383},{"$f":"camera!$B$5*SIN(RADIANS(AE1060))","v":-125.5693516040313},null,{"$f":"TRANSPOSE(MMULT(camera!$A$12:$C$14,MMULT(camera!$A$16:$C$18,TRANSPOSE(AH1060:AJ1060))))","v":122.66341211548698},-483.94141162175418,27.466296541944047,null,{"$f":"camera!$B$5*AM1060/AN1060","v":-8809.7317904276351},{"$f":"camera!$B$5*AL1060/AN1060","v":2232.980553606244},null,{"$f":"IF( AND( (camera!$B$3) > (AQ1060+camera!$B$3/2), 0 < (AQ1060+camera!$B$3/2), AN1060 >= 0 ), AQ1060+camera!$B$3/2, 0)*-1+camera!$B$3","v":1000},{"$f":"IF( AND( (camera!$B$4) > (AP1060+camera!$B$4/2), 0 < (AP1060+camera!$B$4/2), AN1060 >= 0 ), AP1060+camera!$B$4/2, 0)","v":0}]
[null,null,null,null,null,null,null,null,null,null,null,null,null,null,null,null,null,null,null,null,965,120,null,null,null,"''",null,23.998594000000001,-65.577132000000006,null,-65.577132000000006,-2.1090000000015152E-2,null,{"$f":"camera!$B$5*COS(RADIANS(AE1061))*COS(RADIANS(AF1061))","v":206.73392134399791},{"$f":"camera!$B$5*COS(RADIANS(AE1061))*SIN(RADIANS(AF1061))","v":-7.6096679984357277E-2},{"$f":"camera!$B$5*SIN(RADIANS(AE1061))","v":-455.25935462660073},null,{"$f":"TRANSPOSE(MMULT(camera!$A$12:$C$14,MMULT(camera!$A$16:$C$18,TRANSPOSE(AH1061:AJ1061))))","v":445.22730455275439},-205.95386862127134,96.724615691255252,null,{"$f":"camera!$B$5*AM1061/AN1061","v":-1064.6404079736828},{"$f":"camera!$B$5*AL1061/AN1061","v":2301.5201527081736},null,{"$f":"IF( AND( (camera!$B$3) > (AQ1061+camera!$B$3/2), 0 < (AQ1061+camera!$B$3/2), AN1061 >= 0 ), AQ1061+camera!$B$3/2, 0)*-1+camera!$B$3","v":1000},{"$f":"IF( AND( (camera!$B$4) > (AP1061+camera!$B$4/2), 0 < (AP1061+camera!$B$4/2), AN1061 >= 0 ), AP1061+camera!$B$4/2, 0)","v":0}]
[null,null,null,null,null,null,null,null,null,null,null,null,null,null,null,null,null,null,null,null,966.65229999999997,470,null,null,null,"''",null,5.6530959999999997,4.121467,null,4.121467,84.79643999999999,null,{"$f":"camera!$B$5*COS(RADIANS(AE1062))*COS(RADIANS(AF1062))","v":45.229957677411832},{"$f":"camera!$B$5*COS(RADIANS(AE1062))*SIN(RADIANS(AF1062))","v":496.6516740815905},{"$f":"camera!$B$5*SIN(RADIANS(AE1062))","v":35.935575137363514},null,{"$f":"TRANSPOSE(MMULT(camera!$A$12:$C$14,MMULT(camera!$A$16:$C$18,TRANSPOSE(AH1062:AJ1062))))","v":-121.98864168742459},-1.7717984917028531,484.88723640591104,null,{"$f":"camera!$B$5*AM1062/AN1062","v":-1.8270211697422747},{"$f":"camera!$B$5*AL1062/AN1062","v":-125.7907329048613},null,{"$f":"IF( AND( (camera!$B$3) > (AQ1062+camera!$B$3/2), 0 < (AQ1062+camera!$B$3/2), AN1062 >= 0 ), AQ1062+camera!$B$3/2, 0)*-1+camera!$B$3","v":625.79073290486133},{"$f":"IF( AND( (camera!$B$4) > (AP1062+camera!$B$4/2), 0 < (AP1062+camera!$B$4/2), AN1062 >= 0 ), AP1062+camera!$B$4/2, 0)","v":498.1729788302577}]
[null,null,null,null,null,null,null,null,null,null,null,null,null,null,null,null,null,null,null,null,966.65229999999997,60,null,null,null,"''",null,5.8304510000000001,-56.166663,null,-56.166663,87.456765000000004,null,{"$f":"camera!$B$5*COS(RADIANS(AE1063))*COS(RADIANS(AF1063))","v":12.353047297815543},{"$f":"camera!$B$5*COS(RADIANS(AE1063))*SIN(RADIANS(AF1063))","v":278.11530335724416},{"$f":"camera!$B$5*SIN(RADIANS(AE1063))","v":-415.33032668102385},null,{"$f":"TRANSPOSE(MMULT(camera!$A$12:$C$14,MMULT(camera!$A$16:$C$18,TRANSPOSE(AH1063:AJ1063))))","v":360.72312783559511},11.933305610230466,346.02950923543756,null,{"$f":"camera!$B$5*AM1063/AN1063","v":17.243190669774751},{"$f":"camera!$B$5*AL1063/AN1063","v":521.23174210289687},null,{"$f":"IF( AND( (camera!$B$3) > (AQ1063+camera!$B$3/2), 0 < (AQ1063+camera!$B$3/2), AN1063 >= 0 ), AQ1063+camera!$B$3/2, 0)*-1+camera!$B$3","v":1000},{"$f":"IF( AND( (camera!$B$4) > (AP1063+camera!$B$4/2), 0 < (AP1063+camera!$B$4/2), AN1063 >= 0 ), AP1063+camera!$B$4/2, 0)","v":517.24319066977478}]
[null,null,null,null,null,null,null,null,null,null,null,null,null,null,null,null,null,null,null,null,968.10130000000004,485,null,null,null,"''",null,8.7784870000000002,-56.769776,null,-56.769776,131.67730499999999,null,{"$f":"camera!$B$5*COS(RADIANS(AE1064))*COS(RADIANS(AF1064))","v":-182.19358055330957},{"$f":"camera!$B$5*COS(RADIANS(AE1064))*SIN(RADIANS(AF1064))","v":204.65274296557769},{"$f":"camera!$B$5*SIN(RADIANS(AE1064))","v":-418.23767644944417},null,{"$f":"TRANSPOSE(MMULT(camera!$A$12:$C$14,MMULT(camera!$A$16:$C$18,TRANSPOSE(AH1064:AJ1064))))","v":379.23875877050699},199.33694079206884,257.76490816607389,null,{"$f":"camera!$B$5*AM1064/AN1064","v":386.66423255651068},{"$f":"camera!$B$5*AL1064/AN1064","v":735.62914647437071},null,{"$f":"IF( AND( (camera!$B$3) > (AQ1064+camera!$B$3/2), 0 < (AQ1064+camera!$B$3/2), AN1064 >= 0 ), AQ1064+camera!$B$3/2, 0)*-1+camera!$B$3","v":1000},{"$f":"IF( AND( (camera!$B$4) > (AP1064+camera!$B$4/2), 0 < (AP1064+camera!$B$4/2), AN1064 >= 0 ), AP1064+camera!$B$4/2, 0)","v":886.66423255651068}]
[null,null,null,null,null,null,null,null,null,null,null,null,null,null,null,null,null,null,null,null,968.10130000000004,500,null,null,null,"''",null,10.348557,-56.043219999999998,null,-56.043219999999998,155.22835499999999,null,{"$f":"camera!$B$5*COS(RADIANS(AE1065))*COS(RADIANS(AF1065))","v":-253.58538501070521},{"$f":"camera!$B$5*COS(RADIANS(AE1065))*SIN(RADIANS(AF1065))","v":117.02064235144282},{"$f":"camera!$B$5*SIN(RADIANS(AE1065))","v":-414.72957667934429},null,{"$f":"TRANSPOSE(MMULT(camera!$A$12:$C$14,MMULT(camera!$A$16:$C$18,TRANSPOSE(AH1065:AJ1065))))","v":392.02367831643403},262.81943706216657,165.05568497200846,null,{"$f":"camera!$B$5*AM1065/AN1065","v":796.15384682671697},{"$f":"camera!$B$5*AL1065/AN1065","v":1187.5497605033013},null,{"$f":"IF( AND( (camera!$B$3) > (AQ1065+camera!$B$3/2), 0 < (AQ1065+camera!$B$3/2), AN1065 >= 0 ), AQ1065+camera!$B$3/2, 0)*-1+camera!$B$3","v":1000},{"$f":"IF( AND( (camera!$B$4) > (AP1065+camera!$B$4/2), 0 < (AP1065+camera!$B$4/2), AN1065 >= 0 ), AP1065+camera!$B$4/2, 0)","v":0}]
[null,null,null,null,null,null,null,null,null,null,null,null,null,null,null,null,null,null,null,null,968.10130000000004,515,null,null,null,"''",null,11.799761999999999,20.218931000000001,null,20.218931000000001,176.99643,null,{"$f":"camera!$B$5*COS(RADIANS(AE1066))*COS(RADIANS(AF1066))","v":-468.54490233394495},{"$f":"camera!$B$5*COS(RADIANS(AE1066))*SIN(RADIANS(AF1066))","v":24.584672320377614},{"$f":"camera!$B$5*SIN(RADIANS(AE1066))","v":172.80413300547423},null,{"$f":"TRANSPOSE(MMULT(camera!$A$12:$C$14,MMULT(camera!$A$16:$C$18,TRANSPOSE(AH1066:AJ1066))))","v":-167.34052554027616},468.90464289928099,-46.104060335310308,null,{"$f":"camera!$B$5*AM1066/AN1066","v":-5085.2857588787574},{"$f":"camera!$B$5*AL1066/AN1066","v":1814.8133192957946},null,{"$f":"IF( AND( (camera!$B$3) > (AQ1066+camera!$B$3/2), 0 < (AQ1066+camera!$B$3/2), AN1066 >= 0 ), AQ1066+camera!$B$3/2, 0)*-1+camera!$B$3","v":1000},{"$f":"IF( AND( (camera!$B$4) > (AP1066+camera!$B$4/2), 0 < (AP1066+camera!$B$4/2), AN1066 >= 0 ), AP1066+camera!$B$4/2, 0)","v":0}]
[null,null,null,null,null,null,null,null,null,null,null,null,null,null,null,null,null,null,null,null,968.10130000000004,75,null,null,null,"''",null,13.787710000000001,17.456906,null,17.456906,-153.18434999999999,null,{"$f":"camera!$B$5*COS(RADIANS(AE1067))*COS(RADIANS(AF1067))","v":-425.67917335936113},{"$f":"camera!$B$5*COS(RADIANS(AE1067))*SIN(RADIANS(AF1067))","v":-215.17198316555729},{"$f":"camera!$B$5*SIN(RADIANS(AE1067))","v":149.9941966500441},null,{"$f":"TRANSPOSE(MMULT(camera!$A$12:$C$14,MMULT(camera!$A$16:$C$18,TRANSPOSE(AH1067:AJ1067))))","v":-104.05099299055615},405.30586157739185,-273.67964745060476,null,{"$f":"camera!$B$5*AM1067/AN1067","v":-740.4749775018322},{"$f":"camera!$B$5*AL1067/AN1067","v":190.09632970485293},null,{"$f":"IF( AND( (camera!$B$3) > (AQ1067+camera!$B$3/2), 0 < (AQ1067+camera!$B$3/2), AN1067 >= 0 ), AQ1067+camera!$B$3/2, 0)*-1+camera!$B$3","v":1000},{"$f":"IF( AND( (camera!$B$4) > (AP1067+camera!$B$4/2), 0 < (AP1067+camera!$B$4/2), AN1067 >= 0 ), AP1067+camera!$B$4/2, 0)","v":0}]
[null,null,null,null,null,null,null,null,null,null,null,null,null,null,null,null,null,null,null,null,968.10130000000004,90,null,null,null,"''",null,20.262816000000001,27.814242,null,27.814242,-56.057759999999973,null,{"$f":"camera!$B$5*COS(RADIANS(AE1068))*COS(RADIANS(AF1068))","v":246.92355734802103},{"$f":"camera!$B$5*COS(RADIANS(AE1068))*SIN(RADIANS(AF1068))","v":-366.87647642940692},{"$f":"camera!$B$5*SIN(RADIANS(AE1068))","v":233.30325301920121},null,{"$f":"TRANSPOSE(MMULT(camera!$A$12:$C$14,MMULT(camera!$A$16:$C$18,TRANSPOSE(AH1068:AJ1068))))","v":-170.03089557754973},-277.9593304639003,-379.24676024609181,null,{"$f":"camera!$B$5*AM1068/AN1068","v":366.46236645968116},{"$f":"camera!$B$5*AL1068/AN1068","v":224.16921303061008},null,{"$f":"IF( AND( (camera!$B$3) > (AQ1068+camera!$B$3/2), 0 < (AQ1068+camera!$B$3/2), AN1068 >= 0 ), AQ1068+camera!$B$3/2, 0)*-1+camera!$B$3","v":1000},{"$f":"IF( AND( (camera!$B$4) > (AP1068+camera!$B$4/2), 0 < (AP1068+camera!$B$4/2), AN1068 >= 0 ), AP1068+camera!$B$4/2, 0)","v":0}]
[null,null,null,null,null,null,null,null,null,null,null,null,null,null,null,null,null,null,null,null,968.10130000000004,105,null,null,null,"''",null,21.159901999999999,-11.371693,null,-11.371693,-42.601470000000006,null,{"$f":"camera!$B$5*COS(RADIANS(AE1069))*COS(RADIANS(AF1069))","v":360.81476226765608},{"$f":"camera!$B$5*COS(RADIANS(AE1069))*SIN(RADIANS(AF1069))","v":-331.80326711774575},{"$f":"camera!$B$5*SIN(RADIANS(AE1069))","v":-98.586506478953297},null,{"$f":"TRANSPOSE(MMULT(camera!$A$12:$C$14,MMULT(camera!$A$16:$C$18,TRANSPOSE(AH1069:AJ1069))))","v":149.02581050559405},-388.36031335601933,-277.43030622692476,null,{"$f":"camera!$B$5*AM1069/AN1069","v":699.92409740260882},{"$f":"camera!$B$5*AL1069/AN1069","v":-268.58242802013496},null,{"$f":"IF( AND( (camera!$B$3) > (AQ1069+camera!$B$3/2), 0 < (AQ1069+camera!$B$3/2), AN1069 >= 0 ), AQ1069+camera!$B$3/2, 0)*-1+camera!$B$3","v":1000},{"$f":"IF( AND( (camera!$B$4) > (AP1069+camera!$B$4/2), 0 < (AP1069+camera!$B$4/2), AN1069 >= 0 ), AP1069+camera!$B$4/2, 0)","v":0}]
[null,null,null,null,null,null,null,null,null,null,null,null,null,null,null,null,null,null,null,null,970,530,null,null,null,"''",null,21.478721,-21.807179999999999,null,-21.807179999999999,-37.819185000000004,null,{"$f":"camera!$B$5*COS(RADIANS(AE1070))*COS(RADIANS(AF1070))","v":366.71018527568117},{"$f":"camera!$B$5*COS(RADIANS(AE1070))*SIN(RADIANS(AF1070))","v":-284.6462980536802},{"$f":"camera!$B$5*SIN(RADIANS(AE1070))","v":-185.74209275070382},null,{"$f":"TRANSPOSE(MMULT(camera!$A$12:$C$14,MMULT(camera!$A$16:$C$18,TRANSPOSE(AH1070:AJ1070))))","v":226.61052249891335},-390.12330183511506,-215.52605517207709,null,{"$f":"camera!$B$5*AM1070/AN1070","v":905.04904737303957},{"$f":"camera!$B$5*AL1070/AN1070","v":-525.71491256123613},null,{"$f":"IF( AND( (camera!$B$3) > (AQ1070+camera!$B$3/2), 0 < (AQ1070+camera!$B$3/2), AN1070 >= 0 ), AQ1070+camera!$B$3/2, 0)*-1+camera!$B$3","v":1000},{"$f":"IF( AND( (camera!$B$4) > (AP1070+camera!$B$4/2), 0 < (AP1070+camera!$B$4/2), AN1070 >= 0 ), AP1070+camera!$B$4/2, 0)","v":0}]
[null,null,null,null,null,null,null,null,null,null,null,null,null,null,null,null,null,null,null,null,970,120,null,null,null,"''",null,22.139721999999999,-32.988467999999997,null,-32.988467999999997,-27.904170000000022,null,{"$f":"camera!$B$5*COS(RADIANS(AE1071))*COS(RADIANS(AF1071))","v":370.62825950708043},{"$f":"camera!$B$5*COS(RADIANS(AE1071))*SIN(RADIANS(AF1071))","v":-196.27209978763511},{"$f":"camera!$B$5*SIN(RADIANS(AE1071))","v":-272.23511180541146},null,{"$f":"TRANSPOSE(MMULT(camera!$A$12:$C$14,MMULT(camera!$A$16:$C$18,TRANSPOSE(AH1071:AJ1071))))","v":296.44259815384794},-386.32414772155892,-113.46999112984611,null,{"$f":"camera!$B$5*AM1071/AN1071","v":1702.3185772504382},{"$f":"camera!$B$5*AL1071/AN1071","v":-1306.2598983312796},null,{"$f":"IF( AND( (camera!$B$3) > (AQ1071+camera!$B$3/2), 0 < (AQ1071+camera!$B$3/2), AN1071 >= 0 ), AQ1071+camera!$B$3/2, 0)*-1+camera!$B$3","v":1000},{"$f":"IF( AND( (camera!$B$4) > (AP1071+camera!$B$4/2), 0 < (AP1071+camera!$B$4/2), AN1071 >= 0 ), AP1071+camera!$B$4/2, 0)","v":0}]
[null,null,null,null,null,null,null,null,null,null,null,null,null,null,null,null,null,null,null,null,971.65229999999997,470,null,null,null,"''",null,22.231311999999999,39.714927000000003,null,39.714927000000003,-26.530320000000017,null,{"$f":"camera!$B$5*COS(RADIANS(AE1072))*COS(RADIANS(AF1072))","v":344.11570868509921},{"$f":"camera!$B$5*COS(RADIANS(AE1072))*SIN(RADIANS(AF1072))","v":-171.79719108074752},{"$f":"camera!$B$5*SIN(RADIANS(AE1072))","v":319.48412194179076},null,{"$f":"TRANSPOSE(MMULT(camera!$A$12:$C$14,MMULT(camera!$A$16:$C$18,TRANSPOSE(AH1072:AJ1072))))","v":-290.11968901960245},-357.77935631278336,-194.4852134214309,null,{"$f":"camera!$B$5*AM1072/AN1072","v":919.81120317231944},{"$f":"camera!$B$5*AL1072/AN1072","v":745.86567255100454},null,{"$f":"IF( AND( (camera!$B$3) > (AQ1072+camera!$B$3/2), 0 < (AQ1072+camera!$B$3/2), AN1072 >= 0 ), AQ1072+camera!$B$3/2, 0)*-1+camera!$B$3","v":1000},{"$f":"IF( AND( (camera!$B$4) > (AP1072+camera!$B$4/2), 0 < (AP1072+camera!$B$4/2), AN1072 >= 0 ), AP1072+camera!$B$4/2, 0)","v":0}]
[null,null,null,null,null,null,null,null,null,null,null,null,null,null,null,null,null,null,null,null,971.65229999999997,60,null,null,null,"''",null,22.675232999999999,44.276305000000001,null,44.276305000000001,-19.871505000000013,null,{"$f":"camera!$B$5*COS(RADIANS(AE1073))*COS(RADIANS(AF1073))","v":336.6750142805858},{"$f":"camera!$B$5*COS(RADIANS(AE1073))*SIN(RADIANS(AF1073))","v":-121.6853074562612},{"$f":"camera!$B$5*SIN(RADIANS(AE1073))","v":349.0596234290677},null,{"$f":"TRANSPOSE(MMULT(camera!$A$12:$C$14,MMULT(camera!$A$16:$C$18,TRANSPOSE(AH1073:AJ1073))))","v":-327.80198562384754},-345.99943755910988,-151.09681475743449,null,{"$f":"camera!$B$5*AM1073/AN1073","v":1144.9594027331589},{"$f":"camera!$B$5*AL1073/AN1073","v":1084.7415484902488},null,{"$f":"IF( AND( (camera!$B$3) > (AQ1073+camera!$B$3/2), 0 < (AQ1073+camera!$B$3/2), AN1073 >= 0 ), AQ1073+camera!$B$3/2, 0)*-1+camera!$B$3","v":1000},{"$f":"IF( AND( (camera!$B$4) > (AP1073+camera!$B$4/2), 0 < (AP1073+camera!$B$4/2), AN1073 >= 0 ), AP1073+camera!$B$4/2, 0)","v":0}]
[null,null,null,null,null,null,null,null,null,null,null,null,null,null,null,null,null,null,null,null,973.10130000000004,485,null,null,null,"''",null,0.30546299999999998,36.785223999999999,null,36.785223999999999,4.5819450000000002,null,{"$f":"camera!$B$5*COS(RADIANS(AE1074))*COS(RADIANS(AF1074))","v":399.16313818168737},{"$f":"camera!$B$5*COS(RADIANS(AE1074))*SIN(RADIANS(AF1074))","v":31.989308517793024},{"$f":"camera!$B$5*SIN(RADIANS(AE1074))","v":299.40853905241352},null,{"$f":"TRANSPOSE(MMULT(camera!$A$12:$C$14,MMULT(camera!$A$16:$C$18,TRANSPOSE(AH1074:AJ1074))))","v":-306.4347066198219},-394.85614998640756,13.652523456685685,null,{"$f":"camera!$B$5*AM1074/AN1074","v":-14460.921866903851},{"$f":"camera!$B$5*AL1074/AN1074","v":-11222.639814244736},null,{"$f":"IF( AND( (camera!$B$3) > (AQ1074+camera!$B$3/2), 0 < (AQ1074+camera!$B$3/2), AN1074 >= 0 ), AQ1074+camera!$B$3/2, 0)*-1+camera!$B$3","v":1000},{"$f":"IF( AND( (camera!$B$4) > (AP1074+camera!$B$4/2), 0 < (AP1074+camera!$B$4/2), AN1074 >= 0 ), AP1074+camera!$B$4/2, 0)","v":0}]
[null,null,null,null,null,null,null,null,null,null,null,null,null,null,null,null,null,null,null,null,973.10130000000004,500,null,null,null,"''",null,1.194342,30.089638000000001,null,30.089638000000001,17.915130000000001,null,{"$f":"camera!$B$5*COS(RADIANS(AE1075))*COS(RADIANS(AF1075))","v":411.64464539155881},{"$f":"camera!$B$5*COS(RADIANS(AE1075))*SIN(RADIANS(AF1075))","v":133.07765045496339},{"$f":"camera!$B$5*SIN(RADIANS(AE1075))","v":250.67713272224174},null,{"$f":"TRANSPOSE(MMULT(camera!$A$12:$C$14,MMULT(camera!$A$16:$C$18,TRANSPOSE(AH1075:AJ1075))))","v":-276.11954924941983},-398.47973176841202,122.35970697934685,null,{"$f":"camera!$B$5*AM1075/AN1075","v":-1628.3127085114368},{"$f":"camera!$B$5*AL1075/AN1075","v":-1128.31076530784},null,{"$f":"IF( AND( (camera!$B$3) > (AQ1075+camera!$B$3/2), 0 < (AQ1075+camera!$B$3/2), AN1075 >= 0 ), AQ1075+camera!$B$3/2, 0)*-1+camera!$B$3","v":1000},{"$f":"IF( AND( (camera!$B$4) > (AP1075+camera!$B$4/2), 0 < (AP1075+camera!$B$4/2), AN1075 >= 0 ), AP1075+camera!$B$4/2, 0)","v":0}]
[null,null,null,null,null,null,null,null,null,null,null,null,null,null,null,null,null,null,null,null,973.10130000000004,515,null,null,null,"''",null,5.8195670000000002,39.181071000000003,null,39.181071000000003,87.293504999999996,null,{"$f":"camera!$B$5*COS(RADIANS(AE1076))*COS(RADIANS(AF1076))","v":18.301245690255289},{"$f":"camera!$B$5*COS(RADIANS(AE1076))*SIN(RADIANS(AF1076))","v":387.1442953885587},{"$f":"camera!$B$5*SIN(RADIANS(AE1076))","v":315.88662357605665},null,{"$f":"TRANSPOSE(MMULT(camera!$A$12:$C$14,MMULT(camera!$A$16:$C$18,TRANSPOSE(AH1076:AJ1076))))","v":-378.33565773259511},15.510244690001866,326.52957354227641,null,{"$f":"camera!$B$5*AM1076/AN1076","v":23.750137731389472},{"$f":"camera!$B$5*AL1076/AN1076","v":-579.32831876193177},null,{"$f":"IF( AND( (camera!$B$3) > (AQ1076+camera!$B$3/2), 0 < (AQ1076+camera!$B$3/2), AN1076 >= 0 ), AQ1076+camera!$B$3/2, 0)*-1+camera!$B$3","v":1000},{"$f":"IF( AND( (camera!$B$4) > (AP1076+camera!$B$4/2), 0 < (AP1076+camera!$B$4/2), AN1076 >= 0 ), AP1076+camera!$B$4/2, 0)","v":523.75013773138949}]
[null,null,null,null,null,null,null,null,null,null,null,null,null,null,null,null,null,null,null,null,973.10130000000004,75,null,null,null,"''",null,9.4874229999999997,-35.951335,null,-35.951335,142.31134499999999,null,{"$f":"camera!$B$5*COS(RADIANS(AE1077))*COS(RADIANS(AF1077))","v":-320.30303820777715},{"$f":"camera!$B$5*COS(RADIANS(AE1077))*SIN(RADIANS(AF1077))","v":247.45702776003213},{"$f":"camera!$B$5*SIN(RADIANS(AE1077))","v":-293.54894502797646},null,{"$f":"TRANSPOSE(MMULT(camera!$A$12:$C$14,MMULT(camera!$A$16:$C$18,TRANSPOSE(AH1077:AJ1077))))","v":251.12993641220879},340.65148949781883,266.25235724875256,null,{"$f":"camera!$B$5*AM1077/AN1077","v":639.71544330696213},{"$f":"camera!$B$5*AL1077/AN1077","v":471.6013390589153},null,{"$f":"IF( AND( (camera!$B$3) > (AQ1077+camera!$B$3/2), 0 < (AQ1077+camera!$B$3/2), AN1077 >= 0 ), AQ1077+camera!$B$3/2, 0)*-1+camera!$B$3","v":28.3986609410847},{"$f":"IF( AND( (camera!$B$4) > (AP1077+camera!$B$4/2), 0 < (AP1077+camera!$B$4/2), AN1077 >= 0 ), AP1077+camera!$B$4/2, 0)","v":0}]
[null,null,null,null,null,null,null,null,null,null,null,null,null,null,null,null,null,null,null,null,973.10130000000004,90,null,null,null,"''",null,9.6558390000000003,-61.328060000000001,null,-61.328060000000001,144.83758499999999,null,{"$f":"camera!$B$5*COS(RADIANS(AE1078))*COS(RADIANS(AF1078))","v":-196.12122512998317},{"$f":"camera!$B$5*COS(RADIANS(AE1078))*SIN(RADIANS(AF1078))","v":138.15572271576809},{"$f":"camera!$B$5*SIN(RADIANS(AE1078))","v":-438.69062143428397},null,{"$f":"TRANSPOSE(MMULT(camera!$A$12:$C$14,MMULT(camera!$A$16:$C$18,TRANSPOSE(AH1078:AJ1078))))","v":411.09491084441009},207.41598928587911,194.88350793842602,null,{"$f":"camera!$B$5*AM1078/AN1078","v":532.15377606865729},{"$f":"camera!$B$5*AL1078/AN1078","v":1054.7195993985715},null,{"$f":"IF( AND( (camera!$B$3) > (AQ1078+camera!$B$3/2), 0 < (AQ1078+camera!$B$3/2), AN1078 >= 0 ), AQ1078+camera!$B$3/2, 0)*-1+camera!$B$3","v":1000},{"$f":"IF( AND( (camera!$B$4) > (AP1078+camera!$B$4/2), 0 < (AP1078+camera!$B$4/2), AN1078 >= 0 ), AP1078+camera!$B$4/2, 0)","v":0}]
[null,null,null,null,null,null,null,null,null,null,null,null,null,null,null,null,null,null,null,null,973.10130000000004,105,null,null,null,"''",null,15.692515999999999,19.670400999999998,null,19.670400999999998,-124.61226000000002,null,{"$f":"camera!$B$5*COS(RADIANS(AE1079))*COS(RADIANS(AF1079))","v":-267.43640847352617},{"$f":"camera!$B$5*COS(RADIANS(AE1079))*SIN(RADIANS(AF1079))","v":-387.49372638284524},{"$f":"camera!$B$5*SIN(RADIANS(AE1079))","v":168.30442488751734},null,{"$f":"TRANSPOSE(MMULT(camera!$A$12:$C$14,MMULT(camera!$A$16:$C$18,TRANSPOSE(AH1079:AJ1079))))","v":-94.668473424471046},232.64642866507049,-432.33496200153479,null,{"$f":"camera!$B$5*AM1079/AN1079","v":-269.05807893492153},{"$f":"camera!$B$5*AL1079/AN1079","v":109.48510037933848},null,{"$f":"IF( AND( (camera!$B$3) > (AQ1079+camera!$B$3/2), 0 < (AQ1079+camera!$B$3/2), AN1079 >= 0 ), AQ1079+camera!$B$3/2, 0)*-1+camera!$B$3","v":1000},{"$f":"IF( AND( (camera!$B$4) > (AP1079+camera!$B$4/2), 0 < (AP1079+camera!$B$4/2), AN1079 >= 0 ), AP1079+camera!$B$4/2, 0)","v":0}]
[null,null,null,null,null,null,null,null,null,null,null,null,null,null,null,null,null,null,null,null,975,530,null,null,null,"''",null,20.046959999999999,67.873564999999999,null,67.873564999999999,-59.295600000000036,null,{"$f":"camera!$B$5*COS(RADIANS(AE1080))*COS(RADIANS(AF1080))","v":96.160864927652668},{"$f":"camera!$B$5*COS(RADIANS(AE1080))*SIN(RADIANS(AF1080))","v":-161.92502698455957},{"$f":"camera!$B$5*SIN(RADIANS(AE1080))","v":463.17747537247033},null,{"$f":"TRANSPOSE(MMULT(camera!$A$12:$C$14,MMULT(camera!$A$16:$C$18,TRANSPOSE(AH1080:AJ1080))))","v":-429.58512078458597},-109.90763980111794,-231.03448814806927,null,{"$f":"camera!$B$5*AM1080/AN1080","v":237.85981193136516},{"$f":"camera!$B$5*AL1080/AN1080","v":929.69912030896921},null,{"$f":"IF( AND( (camera!$B$3) > (AQ1080+camera!$B$3/2), 0 < (AQ1080+camera!$B$3/2), AN1080 >= 0 ), AQ1080+camera!$B$3/2, 0)*-1+camera!$B$3","v":1000},{"$f":"IF( AND( (camera!$B$4) > (AP1080+camera!$B$4/2), 0 < (AP1080+camera!$B$4/2), AN1080 >= 0 ), AP1080+camera!$B$4/2, 0)","v":0}]
[null,null,null,null,null,null,null,null,null,null,null,null,null,null,null,null,null,null,null,null,975,120,null,null,null,"''",null,20.733965999999999,-51.920971000000002,null,-51.920971000000002,-48.990510000000029,null,{"$f":"camera!$B$5*COS(RADIANS(AE1081))*COS(RADIANS(AF1081))","v":202.35002831619965},{"$f":"camera!$B$5*COS(RADIANS(AE1081))*SIN(RADIANS(AF1081))","v":-232.69922625072314},{"$f":"camera!$B$5*SIN(RADIANS(AE1081))","v":-393.58040619770179},null,{"$f":"TRANSPOSE(MMULT(camera!$A$12:$C$14,MMULT(camera!$A$16:$C$18,TRANSPOSE(AH1081:AJ1081))))","v":424.79261464150255},-221.8610992679998,-142.57940656921875,null,{"$f":"camera!$B$5*AM1081/AN1081","v":778.0264506862419},{"$f":"camera!$B$5*AL1081/AN1081","v":-1489.6702997402235},null,{"$f":"IF( AND( (camera!$B$3) > (AQ1081+camera!$B$3/2), 0 < (AQ1081+camera!$B$3/2), AN1081 >= 0 ), AQ1081+camera!$B$3/2, 0)*-1+camera!$B$3","v":1000},{"$f":"IF( AND( (camera!$B$4) > (AP1081+camera!$B$4/2), 0 < (AP1081+camera!$B$4/2), AN1081 >= 0 ), AP1081+camera!$B$4/2, 0)","v":0}]
[null,null,null,null,null,null,null,null,null,null,null,null,null,null,null,null,null,null,null,null,976.65229999999997,470,null,null,null,"''",null,21.618008,-19.466011000000002,null,-19.466011000000002,-35.72987999999998,null,{"$f":"camera!$B$5*COS(RADIANS(AE1082))*COS(RADIANS(AF1082))","v":382.68863658428677},{"$f":"camera!$B$5*COS(RADIANS(AE1082))*SIN(RADIANS(AF1082))","v":-275.29241829800935},{"$f":"camera!$B$5*SIN(RADIANS(AE1082))","v":-166.62380339223316},null,{"$f":"TRANSPOSE(MMULT(camera!$A$12:$C$14,MMULT(camera!$A$16:$C$18,TRANSPOSE(AH1082:AJ1082))))","v":205.92275478520574},-405.22570597478727,-208.29773469461279,null,{"$f":"camera!$B$5*AM1082/AN1082","v":972.7079043103671},{"$f":"camera!$B$5*AL1082/AN1082","v":-494.29907408045261},null,{"$f":"IF( AND( (camera!$B$3) > (AQ1082+camera!$B$3/2), 0 < (AQ1082+camera!$B$3/2), AN1082 >= 0 ), AQ1082+camera!$B$3/2, 0)*-1+camera!$B$3","v":1000},{"$f":"IF( AND( (camera!$B$4) > (AP1082+camera!$B$4/2), 0 < (AP1082+camera!$B$4/2), AN1082 >= 0 ), AP1082+camera!$B$4/2, 0)","v":0}]
[null,null,null,null,null,null,null,null,null,null,null,null,null,null,null,null,null,null,null,null,976.65229999999997,60,null,null,null,"''",null,22.455531000000001,-64.966353999999995,null,-64.966353999999995,-23.167034999999998,null,{"$f":"camera!$B$5*COS(RADIANS(AE1083))*COS(RADIANS(AF1083))","v":194.51416675585421},{"$f":"camera!$B$5*COS(RADIANS(AE1083))*SIN(RADIANS(AF1083))","v":-83.236439411421088},{"$f":"camera!$B$5*SIN(RADIANS(AE1083))","v":-453.02972759564528},null,{"$f":"TRANSPOSE(MMULT(camera!$A$12:$C$14,MMULT(camera!$A$16:$C$18,TRANSPOSE(AH1083:AJ1083))))","v":457.60218062591667},-201.0285153264885,13.703295663222121,null,{"$f":"camera!$B$5*AM1083/AN1083","v":-7335.042615552079},{"$f":"camera!$B$5*AL1083/AN1083","v":16696.792942082608},null,{"$f":"IF( AND( (camera!$B$3) > (AQ1083+camera!$B$3/2), 0 < (AQ1083+camera!$B$3/2), AN1083 >= 0 ), AQ1083+camera!$B$3/2, 0)*-1+camera!$B$3","v":1000},{"$f":"IF( AND( (camera!$B$4) > (AP1083+camera!$B$4/2), 0 < (AP1083+camera!$B$4/2), AN1083 >= 0 ), AP1083+camera!$B$4/2, 0)","v":0}]
[null,null,null,null,null,null,null,null,null,null,null,null,null,null,null,null,null,null,null,null,978.10130000000004,485,null,null,null,"''",null,23.906397999999999,57.499381999999997,null,57.499381999999997,-1.4040300000000343,null,{"$f":"camera!$B$5*COS(RADIANS(AE1084))*COS(RADIANS(AF1084))","v":268.5736942134883},{"$f":"camera!$B$5*COS(RADIANS(AE1084))*SIN(RADIANS(AF1084))","v":-6.58270162693033},{"$f":"camera!$B$5*SIN(RADIANS(AE1084))","v":421.69282518891697},null,{"$f":"TRANSPOSE(MMULT(camera!$A$12:$C$14,MMULT(camera!$A$16:$C$18,TRANSPOSE(AH1084:AJ1084))))","v":-418.21235059609779},-268.12541047197209,-56.632093976146109,null,{"$f":"camera!$B$5*AM1084/AN1084","v":2367.2567235895308},{"$f":"camera!$B$5*AL1084/AN1084","v":3692.361709000661},null,{"$f":"IF( AND( (camera!$B$3) > (AQ1084+camera!$B$3/2), 0 < (AQ1084+camera!$B$3/2), AN1084 >= 0 ), AQ1084+camera!$B$3/2, 0)*-1+camera!$B$3","v":1000},{"$f":"IF( AND( (camera!$B$4) > (AP1084+camera!$B$4/2), 0 < (AP1084+camera!$B$4/2), AN1084 >= 0 ), AP1084+camera!$B$4/2, 0)","v":0}]
[null,null,null,null,null,null,null,null,null,null,null,null,null,null,null,null,null,null,null,null,978.10130000000004,500,null,null,null,"''",null,2.7984800000000001,29.247118,null,29.247118,41.977200000000003,null,{"$f":"camera!$B$5*COS(RADIANS(AE1085))*COS(RADIANS(AF1085))","v":324.32071607824031},{"$f":"camera!$B$5*COS(RADIANS(AE1085))*SIN(RADIANS(AF1085))","v":291.78607817109912},{"$f":"camera!$B$5*SIN(RADIANS(AE1085))","v":244.28867699512116},null,{"$f":"TRANSPOSE(MMULT(camera!$A$12:$C$14,MMULT(camera!$A$16:$C$18,TRANSPOSE(AH1085:AJ1085))))","v":-295.96110741329358},-297.65574547203295,271.67642534122308,null,{"$f":"camera!$B$5*AM1085/AN1085","v":-547.81298211315186},{"$f":"camera!$B$5*AL1085/AN1085","v":-544.69412839477911},null,{"$f":"IF( AND( (camera!$B$3) > (AQ1085+camera!$B$3/2), 0 < (AQ1085+camera!$B$3/2), AN1085 >= 0 ), AQ1085+camera!$B$3/2, 0)*-1+camera!$B$3","v":1000},{"$f":"IF( AND( (camera!$B$4) > (AP1085+camera!$B$4/2), 0 < (AP1085+camera!$B$4/2), AN1085 >= 0 ), AP1085+camera!$B$4/2, 0)","v":0}]
[null,null,null,null,null,null,null,null,null,null,null,null,null,null,null,null,null,null,null,null,978.10130000000004,515,null,null,null,"''",null,13.377211000000001,-60.988393000000002,null,-60.988393000000002,-159.34183499999997,null,{"$f":"camera!$B$5*COS(RADIANS(AE1086))*COS(RADIANS(AF1086))","v":-226.90152466471588},{"$f":"camera!$B$5*COS(RADIANS(AE1086))*SIN(RADIANS(AF1086))","v":-85.549663849720972},{"$f":"camera!$B$5*SIN(RADIANS(AE1086))","v":-437.26073814147441},null,{"$f":"TRANSPOSE(MMULT(camera!$A$12:$C$14,MMULT(camera!$A$16:$C$18,TRANSPOSE(AH1086:AJ1086))))","v":448.8508049910497},218.58195136528849,-27.475177819793785,null,{"$f":"camera!$B$5*AM1086/AN1086","v":-3977.807765229762},{"$f":"camera!$B$5*AL1086/AN1086","v":-8168.2966336925156},null,{"$f":"IF( AND( (camera!$B$3) > (AQ1086+camera!$B$3/2), 0 < (AQ1086+camera!$B$3/2), AN1086 >= 0 ), AQ1086+camera!$B$3/2, 0)*-1+camera!$B$3","v":1000},{"$f":"IF( AND( (camera!$B$4) > (AP1086+camera!$B$4/2), 0 < (AP1086+camera!$B$4/2), AN1086 >= 0 ), AP1086+camera!$B$4/2, 0)","v":0}]
[null,null,null,null,null,null,null,null,null,null,null,null,null,null,null,null,null,null,null,null,978.10130000000004,75,null,null,null,"''",null,13.400128,-64.535668000000001,null,-64.535668000000001,-158.99807999999999,null,{"$f":"camera!$B$5*COS(RADIANS(AE1087))*COS(RADIANS(AF1087))","v":-200.69346544659928},{"$f":"camera!$B$5*COS(RADIANS(AE1087))*SIN(RADIANS(AF1087))","v":-77.046719837489931},{"$f":"camera!$B$5*SIN(RADIANS(AE1087))","v":-451.42655647327393},null,{"$f":"TRANSPOSE(MMULT(camera!$A$12:$C$14,MMULT(camera!$A$16:$C$18,TRANSPOSE(AH1087:AJ1087))))","v":460.93386639426649},193.21470212585399,-14.423927802439451,null,{"$f":"camera!$B$5*AM1087/AN1087","v":-6697.7145466984548},{"$f":"camera!$B$5*AL1087/AN1087","v":-15978.09808491661},null,{"$f":"IF( AND( (camera!$B$3) > (AQ1087+camera!$B$3/2), 0 < (AQ1087+camera!$B$3/2), AN1087 >= 0 ), AQ1087+camera!$B$3/2, 0)*-1+camera!$B$3","v":1000},{"$f":"IF( AND( (camera!$B$4) > (AP1087+camera!$B$4/2), 0 < (AP1087+camera!$B$4/2), AN1087 >= 0 ), AP1087+camera!$B$4/2, 0)","v":0}]
[null,null,null,null,null,null,null,null,null,null,null,null,null,null,null,null,null,null,null,null,978.10130000000004,90,null,null,null,"''",null,14.318498,-13.371095,null,-13.371095,-145.22253000000001,null,{"$f":"camera!$B$5*COS(RADIANS(AE1088))*COS(RADIANS(AF1088))","v":-399.55415877490447},{"$f":"camera!$B$5*COS(RADIANS(AE1088))*SIN(RADIANS(AF1088))","v":-277.46443055269901},{"$f":"camera!$B$5*SIN(RADIANS(AE1088))","v":-115.62856041543056},null,{"$f":"TRANSPOSE(MMULT(camera!$A$12:$C$14,MMULT(camera!$A$16:$C$18,TRANSPOSE(AH1088:AJ1088))))","v":167.91677832006891},373.85111604119083,-286.42503136661236,null,{"$f":"camera!$B$5*AM1088/AN1088","v":-652.61599912801728},{"$f":"camera!$B$5*AL1088/AN1088","v":-293.12518099219875},null,{"$f":"IF( AND( (camera!$B$3) > (AQ1088+camera!$B$3/2), 0 < (AQ1088+camera!$B$3/2), AN1088 >= 0 ), AQ1088+camera!$B$3/2, 0)*-1+camera!$B$3","v":1000},{"$f":"IF( AND( (camera!$B$4) > (AP1088+camera!$B$4/2), 0 < (AP1088+camera!$B$4/2), AN1088 >= 0 ), AP1088+camera!$B$4/2, 0)","v":0}]
[null,null,null,null,null,null,null,null,null,null,null,null,null,null,null,null,null,null,null,null,978.10130000000004,105,null,null,null,"''",null,15.074097999999999,26.947648999999998,null,26.947648999999998,-133.88853,null,{"$f":"camera!$B$5*COS(RADIANS(AE1089))*COS(RADIANS(AF1089))","v":-308.99216403135432},{"$f":"camera!$B$5*COS(RADIANS(AE1089))*SIN(RADIANS(AF1089))","v":-321.21904596104798},{"$f":"camera!$B$5*SIN(RADIANS(AE1089))","v":226.58810003858261},null,{"$f":"TRANSPOSE(MMULT(camera!$A$12:$C$14,MMULT(camera!$A$16:$C$18,TRANSPOSE(AH1089:AJ1089))))","v":-162.90244991784829},279.82027102450087,-381.00315974350895,null,{"$f":"camera!$B$5*AM1089/AN1089","v":-367.21515802241078},{"$f":"camera!$B$5*AL1089/AN1089","v":213.78096972675252},null,{"$f":"IF( AND( (camera!$B$3) > (AQ1089+camera!$B$3/2), 0 < (AQ1089+camera!$B$3/2), AN1089 >= 0 ), AQ1089+camera!$B$3/2, 0)*-1+camera!$B$3","v":1000},{"$f":"IF( AND( (camera!$B$4) > (AP1089+camera!$B$4/2), 0 < (AP1089+camera!$B$4/2), AN1089 >= 0 ), AP1089+camera!$B$4/2, 0)","v":0}]
[null,null,null,null,null,null,null,null,null,null,null,null,null,null,null,null,null,null,null,null,980,530,null,null,null,"''",null,18.187156999999999,-45.954417999999997,null,-45.954417999999997,-87.192645000000027,null,{"$f":"camera!$B$5*COS(RADIANS(AE1090))*COS(RADIANS(AF1090))","v":17.025492715793181},{"$f":"camera!$B$5*COS(RADIANS(AE1090))*SIN(RADIANS(AF1090))","v":-347.19802531878827},{"$f":"camera!$B$5*SIN(RADIANS(AE1090))","v":-359.39346656904951},null,{"$f":"TRANSPOSE(MMULT(camera!$A$12:$C$14,MMULT(camera!$A$16:$C$18,TRANSPOSE(AH1090:AJ1090))))","v":413.73668260677226},-47.221007353052009,-276.75283906421976,null,{"$f":"camera!$B$5*AM1090/AN1090","v":85.312597899121286},{"$f":"camera!$B$5*AL1090/AN1090","v":-747.48408002919496},null,{"$f":"IF( AND( (camera!$B$3) > (AQ1090+camera!$B$3/2), 0 < (AQ1090+camera!$B$3/2), AN1090 >= 0 ), AQ1090+camera!$B$3/2, 0)*-1+camera!$B$3","v":1000},{"$f":"IF( AND( (camera!$B$4) > (AP1090+camera!$B$4/2), 0 < (AP1090+camera!$B$4/2), AN1090 >= 0 ), AP1090+camera!$B$4/2, 0)","v":0}]
[null,null,null,null,null,null,null,null,null,null,null,null,null,null,null,null,null,null,null,null,980,120,null,null,null,"''",null,19.362117000000001,-15.955018000000001,null,{"$f":"AC1091","v":-15.955018000000001},{"$f":"IF(AB1091*15/1>180, (AB1091*15/1)-360, AB1091*15/1)","v":-69.56824499999999},null,{"$f":"camera!$B$5*COS(RADIANS(AE1091))*COS(RADIANS(AF1091))","v":167.82184555401992},{"$f":"camera!$B$5*COS(RADIANS(AE1091))*SIN(RADIANS(AF1091))","v":-450.49496916288723},{"$f":"camera!$B$5*SIN(RADIANS(AE1091))","v":-137.44129988388491},null,{"$f":"TRANSPOSE(MMULT(camera!$A$12:$C$14,MMULT(camera!$A$16:$C$18,TRANSPOSE(AH1091:AJ1091))))","v":210.74331943719545},-206.44645640636119,-403.69185519384536,null,{"$f":"camera!$B$5*AM1091/AN1091","v":255.69806988950697},{"$f":"camera!$B$5*AL1091/AN1091","v":-261.02002892280353},null,{"$f":"IF( AND( (camera!$B$3) > (AQ1091+camera!$B$3/2), 0 < (AQ1091+camera!$B$3/2), AN1091 >= 0 ), AQ1091+camera!$B$3/2, 0)*-1+camera!$B$3","v":1000},{"$f":"IF( AND( (camera!$B$4) > (AP1091+camera!$B$4/2), 0 < (AP1091+camera!$B$4/2), AN1091 >= 0 ), AP1091+camera!$B$4/2, 0)","v":0}]
[null,null,null,null,null,null,null,null,null,null,null,null,null,null,null,null,null,null,null,null,981.65229999999997,470,null,null,null,"''",null,20.755877999999999,57.579725000000003,null,57.579725000000003,-48.661830000000009,null,{"$f":"camera!$B$5*COS(RADIANS(AE1092))*COS(RADIANS(AF1092))","v":177.0559977732849},{"$f":"camera!$B$5*COS(RADIANS(AE1092))*SIN(RADIANS(AF1092))","v":-201.26803596187378},{"$f":"camera!$B$5*SIN(RADIANS(AE1092))","v":422.06913101120819},null,{"$f":"TRANSPOSE(MMULT(camera!$A$12:$C$14,MMULT(camera!$A$16:$C$18,TRANSPOSE(AH1092:AJ1092))))","v":-383.51976215474474},-193.9239114127098,-255.55059894111668,null,{"$f":"camera!$B$5*AM1092/AN1092","v":379.42370750888608},{"$f":"camera!$B$5*AL1092/AN1092","v":750.37930598455455},null,{"$f":"IF( AND( (camera!$B$3) > (AQ1092+camera!$B$3/2), 0 < (AQ1092+camera!$B$3/2), AN1092 >= 0 ), AQ1092+camera!$B$3/2, 0)*-1+camera!$B$3","v":1000},{"$f":"IF( AND( (camera!$B$4) > (AP1092+camera!$B$4/2), 0 < (AP1092+camera!$B$4/2), AN1092 >= 0 ), AP1092+camera!$B$4/2, 0)","v":0}]
[null,null,null,null,null,null,null,null,null,null,null,null,null,null,null,null,null,null,null,null,981.65229999999997,60,null,null,null,"''",null,21.499137000000001,23.638838,null,23.638838,-37.512945000000002,null,{"$f":"camera!$B$5*COS(RADIANS(AE1093))*COS(RADIANS(AF1093))","v":363.32897528436547},{"$f":"camera!$B$5*COS(RADIANS(AE1093))*SIN(RADIANS(AF1093))","v":-278.92257145283151},{"$f":"camera!$B$5*SIN(RADIANS(AE1093))","v":200.48504895117017},null,{"$f":"TRANSPOSE(MMULT(camera!$A$12:$C$14,MMULT(camera!$A$16:$C$18,TRANSPOSE(AH1093:AJ1093))))","v":-154.6879209151748},-386.25610272544998,-277.26858861091222,null,{"$f":"camera!$B$5*AM1093/AN1093","v":696.53779510429626},{"$f":"camera!$B$5*AL1093/AN1093","v":278.9495948497912},null,{"$f":"IF( AND( (camera!$B$3) > (AQ1093+camera!$B$3/2), 0 < (AQ1093+camera!$B$3/2), AN1093 >= 0 ), AQ1093+camera!$B$3/2, 0)*-1+camera!$B$3","v":1000},{"$f":"IF( AND( (camera!$B$4) > (AP1093+camera!$B$4/2), 0 < (AP1093+camera!$B$4/2), AN1093 >= 0 ), AP1093+camera!$B$4/2, 0)","v":0}]
[null,null,null,null,null,null,null,null,null,null,null,null,null,null,null,null,null,null,null,null,983.10130000000004,485,null,null,null,"''",null,22.508127999999999,43.123376,null,43.123376,-22.378080000000011,null,{"$f":"camera!$B$5*COS(RADIANS(AE1094))*COS(RADIANS(AF1094))","v":337.4586031306726},{"$f":"camera!$B$5*COS(RADIANS(AE1094))*SIN(RADIANS(AF1094))","v":-138.93938670779326},{"$f":"camera!$B$5*SIN(RADIANS(AE1094))","v":341.78580718683673},null,{"$f":"TRANSPOSE(MMULT(camera!$A$12:$C$14,MMULT(camera!$A$16:$C$18,TRANSPOSE(AH1094:AJ1094))))","v":-317.6657959654375},-348.28383670964439,-166.6937646118019,null,{"$f":"camera!$B$5*AM1094/AN1094","v":1044.6816577714569},{"$f":"camera!$B$5*AL1094/AN1094","v":952.8424674588781},null,{"$f":"IF( AND( (camera!$B$3) > (AQ1094+camera!$B$3/2), 0 < (AQ1094+camera!$B$3/2), AN1094 >= 0 ), AQ1094+camera!$B$3/2, 0)*-1+camera!$B$3","v":1000},{"$f":"IF( AND( (camera!$B$4) > (AP1094+camera!$B$4/2), 0 < (AP1094+camera!$B$4/2), AN1094 >= 0 ), AP1094+camera!$B$4/2, 0)","v":0}]
[null,null,null,null,null,null,null,null,null,null,null,null,null,null,null,null,null,null,null,null,983.10130000000004,500,null,null,null,"''",null,0.52594600000000002,-62.965561000000001,null,-62.965561000000001,7.8891900000000001,null,{"$f":"camera!$B$5*COS(RADIANS(AE1095))*COS(RADIANS(AF1095))","v":225.11203079907332},{"$f":"camera!$B$5*COS(RADIANS(AE1095))*SIN(RADIANS(AF1095))","v":31.193587036308422},{"$f":"camera!$B$5*SIN(RADIANS(AE1095))","v":-445.36674069504261},null,{"$f":"TRANSPOSE(MMULT(camera!$A$12:$C$14,MMULT(camera!$A$16:$C$18,TRANSPOSE(AH1095:AJ1095))))","v":429.79757824092047},-221.53671131158939,127.26164889504368,null,{"$f":"camera!$B$5*AM1095/AN1095","v":-870.39855775520027},{"$f":"camera!$B$5*AL1095/AN1095","v":1688.6374723754634},null,{"$f":"IF( AND( (camera!$B$3) > (AQ1095+camera!$B$3/2), 0 < (AQ1095+camera!$B$3/2), AN1095 >= 0 ), AQ1095+camera!$B$3/2, 0)*-1+camera!$B$3","v":1000},{"$f":"IF( AND( (camera!$B$4) > (AP1095+camera!$B$4/2), 0 < (AP1095+camera!$B$4/2), AN1095 >= 0 ), AP1095+camera!$B$4/2, 0)","v":0}]
[null,null,null,null,null,null,null,null,null,null,null,null,null,null,null,null,null,null,null,null,983.10130000000004,515,null,null,null,"''",null,0.83023400000000003,41.078910999999998,null,41.078910999999998,12.45351,null,{"$f":"camera!$B$5*COS(RADIANS(AE1096))*COS(RADIANS(AF1096))","v":368.03462418692357},{"$f":"camera!$B$5*COS(RADIANS(AE1096))*SIN(RADIANS(AF1096))","v":81.278066562857148},{"$f":"camera!$B$5*SIN(RADIANS(AE1096))","v":328.54891765975077},null,{"$f":"TRANSPOSE(MMULT(camera!$A$12:$C$14,MMULT(camera!$A$16:$C$18,TRANSPOSE(AH1096:AJ1096))))","v":-343.18759870230093},-359.55029106882193,54.275779950856936,null,{"$f":"camera!$B$5*AM1096/AN1096","v":-3312.2535631396777},{"$f":"camera!$B$5*AL1096/AN1096","v":-3161.5169695675877},null,{"$f":"IF( AND( (camera!$B$3) > (AQ1096+camera!$B$3/2), 0 < (AQ1096+camera!$B$3/2), AN1096 >= 0 ), AQ1096+camera!$B$3/2, 0)*-1+camera!$B$3","v":1000},{"$f":"IF( AND( (camera!$B$4) > (AP1096+camera!$B$4/2), 0 < (AP1096+camera!$B$4/2), AN1096 >= 0 ), AP1096+camera!$B$4/2, 0)","v":0}]
[null,null,null,null,null,null,null,null,null,null,null,null,null,null,null,null,null,null,null,null,983.10130000000004,75,null,null,null,"''",null,6.0009300000000003,-3.0742530000000001,null,-3.0742530000000001,90.013950000000008,null,{"$f":"camera!$B$5*COS(RADIANS(AE1097))*COS(RADIANS(AF1097))","v":-0.12156151927587565},{"$f":"camera!$B$5*COS(RADIANS(AE1097))*SIN(RADIANS(AF1097))","v":499.28042065073976},{"$f":"camera!$B$5*SIN(RADIANS(AE1097))","v":-26.815047596775432},null,{"$f":"TRANSPOSE(MMULT(camera!$A$12:$C$14,MMULT(camera!$A$16:$C$18,TRANSPOSE(AH1097:AJ1097))))","v":-59.959712270476487},43.636254842173024,494.47013071346436,null,{"$f":"camera!$B$5*AM1097/AN1097","v":44.124257595914699},{"$f":"camera!$B$5*AL1097/AN1097","v":-60.630267175047983},null,{"$f":"IF( AND( (camera!$B$3) > (AQ1097+camera!$B$3/2), 0 < (AQ1097+camera!$B$3/2), AN1097 >= 0 ), AQ1097+camera!$B$3/2, 0)*-1+camera!$B$3","v":560.63026717504795},{"$f":"IF( AND( (camera!$B$4) > (AP1097+camera!$B$4/2), 0 < (AP1097+camera!$B$4/2), AN1097 >= 0 ), AP1097+camera!$B$4/2, 0)","v":544.12425759591474}]
[null,null,null,null,null,null,null,null,null,null,null,null,null,null,null,null,null,null,null,null,983.10130000000004,90,null,null,null,"''",null,7.6228090000000002,-34.968530000000001,null,-34.968530000000001,114.342135,null,{"$f":"camera!$B$5*COS(RADIANS(AE1098))*COS(RADIANS(AF1098))","v":-168.88578485975776},{"$f":"camera!$B$5*COS(RADIANS(AE1098))*SIN(RADIANS(AF1098))","v":373.30833972946346},{"$f":"camera!$B$5*SIN(RADIANS(AE1098))","v":-286.56321320213988},null,{"$f":"TRANSPOSE(MMULT(camera!$A$12:$C$14,MMULT(camera!$A$16:$C$18,TRANSPOSE(AH1098:AJ1098))))","v":220.18802835486312},200.77908908337037,401.50341163687511,null,{"$f":"camera!$B$5*AM1098/AN1098","v":250.03410091189659},{"$f":"camera!$B$5*AL1098/AN1098","v":274.20443011578197},null,{"$f":"IF( AND( (camera!$B$3) > (AQ1098+camera!$B$3/2), 0 < (AQ1098+camera!$B$3/2), AN1098 >= 0 ), AQ1098+camera!$B$3/2, 0)*-1+camera!$B$3","v":225.79556988421803},{"$f":"IF( AND( (camera!$B$4) > (AP1098+camera!$B$4/2), 0 < (AP1098+camera!$B$4/2), AN1098 >= 0 ), AP1098+camera!$B$4/2, 0)","v":750.03410091189653}]
[null,null,null,null,null,null,null,null,null,null,null,null,null,null,null,null,null,null,null,null,983.10130000000004,105,null,null,null,"''",null,14.224717999999999,51.789965000000002,null,51.789965000000002,-146.62923000000001,null,{"$f":"camera!$B$5*COS(RADIANS(AE1099))*COS(RADIANS(AF1099))","v":-258.28273366002372},{"$f":"camera!$B$5*COS(RADIANS(AE1099))*SIN(RADIANS(AF1099))","v":-170.11709317739755},{"$f":"camera!$B$5*SIN(RADIANS(AE1099))","v":392.87428536616886},null,{"$f":"TRANSPOSE(MMULT(camera!$A$12:$C$14,MMULT(camera!$A$16:$C$18,TRANSPOSE(AH1099:AJ1099))))","v":-353.56856609986397},242.47320827080938,-257.28585724238081,null,{"$f":"camera!$B$5*AM1099/AN1099","v":-471.21363542805057},{"$f":"camera!$B$5*AL1099/AN1099","v":687.11232301971859},null,{"$f":"IF( AND( (camera!$B$3) > (AQ1099+camera!$B$3/2), 0 < (AQ1099+camera!$B$3/2), AN1099 >= 0 ), AQ1099+camera!$B$3/2, 0)*-1+camera!$B$3","v":1000},{"$f":"IF( AND( (camera!$B$4) > (AP1099+camera!$B$4/2), 0 < (AP1099+camera!$B$4/2), AN1099 >= 0 ), AP1099+camera!$B$4/2, 0)","v":0}]
[null,null,null,null,null,null,null,null,null,null,null,null,null,null,null,null,null,null,null,null,985,530,null,null,null,"''",null,17.443856,-5.0865960000000001,null,-5.0865960000000001,-98.342159999999978,null,{"$f":"camera!$B$5*COS(RADIANS(AE1100))*COS(RADIANS(AF1100))","v":-72.25645974167746},{"$f":"camera!$B$5*COS(RADIANS(AE1100))*SIN(RADIANS(AF1100))","v":-492.7614012180054},{"$f":"camera!$B$5*SIN(RADIANS(AE1100))","v":-44.330638335887912},null,{"$f":"TRANSPOSE(MMULT(camera!$A$12:$C$14,MMULT(camera!$A$16:$C$18,TRANSPOSE(AH1100:AJ1100))))","v":129.99222771115882},29.034516177006701,-481.93258616227371,null,{"$f":"camera!$B$5*AM1100/AN1100","v":-30.123005800680968},{"$f":"camera!$B$5*AL1100/AN1100","v":-134.86557191153344},null,{"$f":"IF( AND( (camera!$B$3) > (AQ1100+camera!$B$3/2), 0 < (AQ1100+camera!$B$3/2), AN1100 >= 0 ), AQ1100+camera!$B$3/2, 0)*-1+camera!$B$3","v":1000},{"$f":"IF( AND( (camera!$B$4) > (AP1100+camera!$B$4/2), 0 < (AP1100+camera!$B$4/2), AN1100 >= 0 ), AP1100+camera!$B$4/2, 0)","v":0}]
[null,null,null,null,null,null,null,null,null,null,null,null,null,null,null,null,null,null,null,null,985,120,null,null,null,"''",null,17.792674000000002,-27.830787999999998,null,-27.830787999999998,-93.10988999999995,null,{"$f":"camera!$B$5*COS(RADIANS(AE1101))*COS(RADIANS(AF1101))","v":-23.987976095694062},{"$f":"camera!$B$5*COS(RADIANS(AE1101))*SIN(RADIANS(AF1101))","v":-441.51394947178568},{"$f":"camera!$B$5*SIN(RADIANS(AE1101))","v":-233.43095215643092},null,{"$f":"TRANSPOSE(MMULT(camera!$A$12:$C$14,MMULT(camera!$A$16:$C$18,TRANSPOSE(AH1101:AJ1101))))","v":306.6240034639959},-14.583781595183535,-394.67585917318968,null,{"$f":"camera!$B$5*AM1101/AN1101","v":18.47564432460506},{"$f":"camera!$B$5*AL1101/AN1101","v":-388.45041612925797},null,{"$f":"IF( AND( (camera!$B$3) > (AQ1101+camera!$B$3/2), 0 < (AQ1101+camera!$B$3/2), AN1101 >= 0 ), AQ1101+camera!$B$3/2, 0)*-1+camera!$B$3","v":1000},{"$f":"IF( AND( (camera!$B$4) > (AP1101+camera!$B$4/2), 0 < (AP1101+camera!$B$4/2), AN1101 >= 0 ), AP1101+camera!$B$4/2, 0)","v":0}]
[null,null,null,null,null,null,null,null,null,null,null,null,null,null,null,null,null,null,null,null,986.65229999999997,470,null,null,null,"''",null,20.790149,36.490716999999997,null,36.490716999999997,-48.147764999999993,null,{"$f":"camera!$B$5*COS(RADIANS(AE1102))*COS(RADIANS(AF1102))","v":268.20354775436971},{"$f":"camera!$B$5*COS(RADIANS(AE1102))*SIN(RADIANS(AF1102))","v":-299.41952676395238},{"$f":"camera!$B$5*SIN(RADIANS(AE1102))","v":297.3462694644416},null,{"$f":"TRANSPOSE(MMULT(camera!$A$12:$C$14,MMULT(camera!$A$16:$C$18,TRANSPOSE(AH1102:AJ1102))))","v":-245.0922172746597},-293.27908353056392,-322.36188390512837,null,{"$f":"camera!$B$5*AM1102/AN1102","v":454.89106835111505},{"$f":"camera!$B$5*AL1102/AN1102","v":380.15073976114178},null,{"$f":"IF( AND( (camera!$B$3) > (AQ1102+camera!$B$3/2), 0 < (AQ1102+camera!$B$3/2), AN1102 >= 0 ), AQ1102+camera!$B$3/2, 0)*-1+camera!$B$3","v":1000},{"$f":"IF( AND( (camera!$B$4) > (AP1102+camera!$B$4/2), 0 < (AP1102+camera!$B$4/2), AN1102 >= 0 ), AP1102+camera!$B$4/2, 0)","v":0}]
[null,null,null,null,null,null,null,null,null,null,null,null,null,null,null,null,null,null,null,null,986.65229999999997,60,null,null,null,"''",null,23.209160000000001,49.406207000000002,null,49.406207000000002,-11.862599999999986,null,{"$f":"camera!$B$5*COS(RADIANS(AE1103))*COS(RADIANS(AF1103))","v":318.39768839442559},{"$f":"camera!$B$5*COS(RADIANS(AE1103))*SIN(RADIANS(AF1103))","v":-66.879881911180021},{"$f":"camera!$B$5*SIN(RADIANS(AE1103))","v":379.67090146682676},null,{"$f":"TRANSPOSE(MMULT(camera!$A$12:$C$14,MMULT(camera!$A$16:$C$18,TRANSPOSE(AH1103:AJ1103))))","v":-367.15224028597214},-323.01505484603899,-104.21375530995007,null,{"$f":"camera!$B$5*AM1103/AN1103","v":1549.7716874578375},{"$f":"camera!$B$5*AL1103/AN1103","v":1761.5344500061276},null,{"$f":"IF( AND( (camera!$B$3) > (AQ1103+camera!$B$3/2), 0 < (AQ1103+camera!$B$3/2), AN1103 >= 0 ), AQ1103+camera!$B$3/2, 0)*-1+camera!$B$3","v":1000},{"$f":"IF( AND( (camera!$B$4) > (AP1103+camera!$B$4/2), 0 < (AP1103+camera!$B$4/2), AN1103 >= 0 ), AP1103+camera!$B$4/2, 0)","v":0}]
[null,null,null,null,null,null,null,null,null,null,null,null,null,null,null,null,null,null,null,null,988.10130000000004,485,null,null,null,"''",null,5.3029349999999997,33.371613000000004,null,33.371613000000004,79.544024999999991,null,{"$f":"camera!$B$5*COS(RADIANS(AE1104))*COS(RADIANS(AF1104))","v":75.778815801073293},{"$f":"camera!$B$5*COS(RADIANS(AE1104))*SIN(RADIANS(AF1104))","v":410.62651059587546},{"$f":"camera!$B$5*SIN(RADIANS(AE1104))","v":275.03352499584929},null,{"$f":"TRANSPOSE(MMULT(camera!$A$12:$C$14,MMULT(camera!$A$16:$C$18,TRANSPOSE(AH1104:AJ1104))))","v":-343.03522732914359},-39.701996005837572,361.59450261915663,null,{"$f":"camera!$B$5*AM1104/AN1104","v":-54.898506086599767},{"$f":"camera!$B$5*AL1104/AN1104","v":-474.33689511928191},null,{"$f":"IF( AND( (camera!$B$3) > (AQ1104+camera!$B$3/2), 0 < (AQ1104+camera!$B$3/2), AN1104 >= 0 ), AQ1104+camera!$B$3/2, 0)*-1+camera!$B$3","v":974.33689511928196},{"$f":"IF( AND( (camera!$B$4) > (AP1104+camera!$B$4/2), 0 < (AP1104+camera!$B$4/2), AN1104 >= 0 ), AP1104+camera!$B$4/2, 0)","v":445.10149391340025}]
[null,null,null,null,null,null,null,null,null,null,null,null,null,null,null,null,null,null,null,null,988.10130000000004,500,null,null,null,"''",null,6.5842739999999997,-22.964793,null,-22.964793,98.764110000000002,null,{"$f":"camera!$B$5*COS(RADIANS(AE1105))*COS(RADIANS(AF1105))","v":-70.145458941865854},{"$f":"camera!$B$5*COS(RADIANS(AE1105))*SIN(RADIANS(AF1105))","v":454.99708782535447},{"$f":"camera!$B$5*SIN(RADIANS(AE1105))","v":-195.08271235627637},null,{"$f":"TRANSPOSE(MMULT(camera!$A$12:$C$14,MMULT(camera!$A$16:$C$18,TRANSPOSE(AH1105:AJ1105))))","v":114.47181909282399},109.5341434305392,474.23461920922409,null,{"$f":"camera!$B$5*AM1105/AN1105","v":115.48518285441182},{"$f":"camera!$B$5*AL1105/AN1105","v":120.69112466283383},null,{"$f":"IF( AND( (camera!$B$3) > (AQ1105+camera!$B$3/2), 0 < (AQ1105+camera!$B$3/2), AN1105 >= 0 ), AQ1105+camera!$B$3/2, 0)*-1+camera!$B$3","v":379.30887533716623},{"$f":"IF( AND( (camera!$B$4) > (AP1105+camera!$B$4/2), 0 < (AP1105+camera!$B$4/2), AN1105 >= 0 ), AP1105+camera!$B$4/2, 0)","v":615.48518285441185}]
[null,null,null,null,null,null,null,null,null,null,null,null,null,null,null,null,null,null,null,null,988.10130000000004,515,null,null,null,"''",null,9.5330359999999992,-1.1846639999999999,null,-1.1846639999999999,142.99553999999998,null,{"$f":"camera!$B$5*COS(RADIANS(AE1106))*COS(RADIANS(AF1106))","v":-399.2089827752925},{"$f":"camera!$B$5*COS(RADIANS(AE1106))*SIN(RADIANS(AF1106))","v":300.87426956542845},{"$f":"camera!$B$5*SIN(RADIANS(AE1106))","v":-10.337407072669979},null,{"$f":"TRANSPOSE(MMULT(camera!$A$12:$C$14,MMULT(camera!$A$16:$C$18,TRANSPOSE(AH1106:AJ1106))))","v":-35.825294398978428},423.91279250897935,262.70609552971069,null,{"$f":"camera!$B$5*AM1106/AN1106","v":806.81948329789896},{"$f":"camera!$B$5*AL1106/AN1106","v":-68.185122097646129},null,{"$f":"IF( AND( (camera!$B$3) > (AQ1106+camera!$B$3/2), 0 < (AQ1106+camera!$B$3/2), AN1106 >= 0 ), AQ1106+camera!$B$3/2, 0)*-1+camera!$B$3","v":568.18512209764617},{"$f":"IF( AND( (camera!$B$4) > (AP1106+camera!$B$4/2), 0 < (AP1106+camera!$B$4/2), AN1106 >= 0 ), AP1106+camera!$B$4/2, 0)","v":0}]
[null,null,null,null,null,null,null,null,null,null,null,null,null,null,null,null,null,null,null,null,988.10130000000004,75,null,null,null,"''",null,9.5703840000000007,36.397557999999997,null,36.397557999999997,143.55576000000002,null,{"$f":"camera!$B$5*COS(RADIANS(AE1107))*COS(RADIANS(AF1107))","v":-323.75268794751742},{"$f":"camera!$B$5*COS(RADIANS(AE1107))*SIN(RADIANS(AF1107))","v":239.07714630110038},{"$f":"camera!$B$5*SIN(RADIANS(AE1107))","v":296.69229036710686},null,{"$f":"TRANSPOSE(MMULT(camera!$A$12:$C$14,MMULT(camera!$A$16:$C$18,TRANSPOSE(AH1107:AJ1107))))","v":-328.64238599452295},343.35765748613113,155.24078450414891,null,{"$f":"camera!$B$5*AM1107/AN1107","v":1105.887407690067},{"$f":"camera!$B$5*AL1107/AN1107","v":-1058.492415650411},null,{"$f":"IF( AND( (camera!$B$3) > (AQ1107+camera!$B$3/2), 0 < (AQ1107+camera!$B$3/2), AN1107 >= 0 ), AQ1107+camera!$B$3/2, 0)*-1+camera!$B$3","v":1000},{"$f":"IF( AND( (camera!$B$4) > (AP1107+camera!$B$4/2), 0 < (AP1107+camera!$B$4/2), AN1107 >= 0 ), AP1107+camera!$B$4/2, 0)","v":0}]
[null,null,null,null,null,null,null,null,null,null,null,null,null,null,null,null,null,null,null,null,988.10130000000004,90,null,null,null,"''",null,9.5747029999999995,69.830342999999999,null,69.830342999999999,143.62054499999999,null,{"$f":"camera!$B$5*COS(RADIANS(AE1108))*COS(RADIANS(AF1108))","v":-138.80082452360227},{"$f":"camera!$B$5*COS(RADIANS(AE1108))*SIN(RADIANS(AF1108))","v":102.25598953175729},{"$f":"camera!$B$5*SIN(RADIANS(AE1108))","v":469.33787799031234},null,{"$f":"TRANSPOSE(MMULT(camera!$A$12:$C$14,MMULT(camera!$A$16:$C$18,TRANSPOSE(AH1108:AJ1108))))","v":-477.79590598768186},147.18484219921237,6.9061167238338044,null,{"$f":"camera!$B$5*AM1108/AN1108","v":10656.121818160163},{"$f":"camera!$B$5*AL1108/AN1108","v":-34592.226362085159},null,{"$f":"IF( AND( (camera!$B$3) > (AQ1108+camera!$B$3/2), 0 < (AQ1108+camera!$B$3/2), AN1108 >= 0 ), AQ1108+camera!$B$3/2, 0)*-1+camera!$B$3","v":1000},{"$f":"IF( AND( (camera!$B$4) > (AP1108+camera!$B$4/2), 0 < (AP1108+camera!$B$4/2), AN1108 >= 0 ), AP1108+camera!$B$4/2, 0)","v":0}]
[null,null,null,null,null,null,null,null,null,null,null,null,null,null,null,null,null,null,null,null,988.10130000000004,105,null,null,null,"''",null,14.856493,19.100460000000002,null,19.100460000000002,-137.15260499999999,null,{"$f":"camera!$B$5*COS(RADIANS(AE1109))*COS(RADIANS(AF1109))","v":-346.40199076032906},{"$f":"camera!$B$5*COS(RADIANS(AE1109))*SIN(RADIANS(AF1109))","v":-321.30442139245662},{"$f":"camera!$B$5*SIN(RADIANS(AE1109))","v":163.6127427523285},null,{"$f":"TRANSPOSE(MMULT(camera!$A$12:$C$14,MMULT(camera!$A$16:$C$18,TRANSPOSE(AH1109:AJ1109))))","v":-100.30288431553694},317.08030110929957,-373.3623093543589,null,{"$f":"camera!$B$5*AM1109/AN1109","v":-424.6281603218257},{"$f":"camera!$B$5*AL1109/AN1109","v":134.32379461251307},null,{"$f":"IF( AND( (camera!$B$3) > (AQ1109+camera!$B$3/2), 0 < (AQ1109+camera!$B$3/2), AN1109 >= 0 ), AQ1109+camera!$B$3/2, 0)*-1+camera!$B$3","v":1000},{"$f":"IF( AND( (camera!$B$4) > (AP1109+camera!$B$4/2), 0 < (AP1109+camera!$B$4/2), AN1109 >= 0 ), AP1109+camera!$B$4/2, 0)","v":0}]
[null,null,null,null,null,null,null,null,null,null,null,null,null,null,null,null,null,null,null,null,990,530,null,null,null,"''",null,15.203692,-19.791709999999998,null,-19.791709999999998,-131.94461999999999,null,{"$f":"camera!$B$5*COS(RADIANS(AE1110))*COS(RADIANS(AF1110))","v":-314.46437358721846},{"$f":"camera!$B$5*COS(RADIANS(AE1110))*SIN(RADIANS(AF1110))","v":-349.92765813286229},{"$f":"camera!$B$5*SIN(RADIANS(AE1110))","v":-169.30089136814661},null,{"$f":"TRANSPOSE(MMULT(camera!$A$12:$C$14,MMULT(camera!$A$16:$C$18,TRANSPOSE(AH1110:AJ1110))))","v":232.02114495925221},282.76953675381077,-340.89232519350293,null,{"$f":"camera!$B$5*AM1110/AN1110","v":-414.74905102850357},{"$f":"camera!$B$5*AL1110/AN1110","v":-340.31441574337077},null,{"$f":"IF( AND( (camera!$B$3) > (AQ1110+camera!$B$3/2), 0 < (AQ1110+camera!$B$3/2), AN1110 >= 0 ), AQ1110+camera!$B$3/2, 0)*-1+camera!$B$3","v":1000},{"$f":"IF( AND( (camera!$B$4) > (AP1110+camera!$B$4/2), 0 < (AP1110+camera!$B$4/2), AN1110 >= 0 ), AP1110+camera!$B$4/2, 0)","v":0}]
[null,null,null,null,null,null,null,null,null,null,null,null,null,null,null,null,null,null,null,null,990,120,null,null,null,"''",null,15.385930999999999,-36.858488999999999,null,-36.858488999999999,-129.21103500000001,null,{"$f":"camera!$B$5*COS(RADIANS(AE1111))*COS(RADIANS(AF1111))","v":-252.9091757030078},{"$f":"camera!$B$5*COS(RADIANS(AE1111))*SIN(RADIANS(AF1111))","v":-309.97537723592308},{"$f":"camera!$B$5*SIN(RADIANS(AE1111))","v":-299.92034668003492},null,{"$f":"TRANSPOSE(MMULT(camera!$A$12:$C$14,MMULT(camera!$A$16:$C$18,TRANSPOSE(AH1111:AJ1111))))","v":352.81335309413402},224.93064569760767,-273.73151536593519,null,{"$f":"camera!$B$5*AM1111/AN1111","v":-410.85997240199288},{"$f":"camera!$B$5*AL1111/AN1111","v":-644.45146665424886},null,{"$f":"IF( AND( (camera!$B$3) > (AQ1111+camera!$B$3/2), 0 < (AQ1111+camera!$B$3/2), AN1111 >= 0 ), AQ1111+camera!$B$3/2, 0)*-1+camera!$B$3","v":1000},{"$f":"IF( AND( (camera!$B$4) > (AP1111+camera!$B$4/2), 0 < (AP1111+camera!$B$4/2), AN1111 >= 0 ), AP1111+camera!$B$4/2, 0)","v":0}]
[null,null,null,null,null,null,null,null,null,null,null,null,null,null,null,null,null,null,null,null,991.65229999999997,470,null,null,null,"''",null,19.949120000000001,-27.169899000000001,null,-27.169899000000001,-60.763199999999983,null,{"$f":"camera!$B$5*COS(RADIANS(AE1112))*COS(RADIANS(AF1112))","v":217.26308535302448},{"$f":"camera!$B$5*COS(RADIANS(AE1112))*SIN(RADIANS(AF1112))","v":-388.16088906071934},{"$f":"camera!$B$5*SIN(RADIANS(AE1112))","v":-228.31529941393839},null,{"$f":"TRANSPOSE(MMULT(camera!$A$12:$C$14,MMULT(camera!$A$16:$C$18,TRANSPOSE(AH1112:AJ1112))))","v":288.70546337740734},-250.26678431141571,-322.51463856150752,null,{"$f":"camera!$B$5*AM1112/AN1112","v":387.99290696953398},{"$f":"camera!$B$5*AL1112/AN1112","v":-447.5850532941742},null,{"$f":"IF( AND( (camera!$B$3) > (AQ1112+camera!$B$3/2), 0 < (AQ1112+camera!$B$3/2), AN1112 >= 0 ), AQ1112+camera!$B$3/2, 0)*-1+camera!$B$3","v":1000},{"$f":"IF( AND( (camera!$B$4) > (AP1112+camera!$B$4/2), 0 < (AP1112+camera!$B$4/2), AN1112 >= 0 ), AP1112+camera!$B$4/2, 0)","v":0}]
[null,null,null,null,null,null,null,null,null,null,null,null,null,null,null,null,null,null,null,null,991.65229999999997,60,null,null,null,"''",null,23.116738999999999,9.4094920000000002,null,9.4094920000000002,-13.248915000000011,null,{"$f":"camera!$B$5*COS(RADIANS(AE1113))*COS(RADIANS(AF1113))","v":480.14340514532995},{"$f":"camera!$B$5*COS(RADIANS(AE1113))*SIN(RADIANS(AF1113))","v":-113.04916782138848},{"$f":"camera!$B$5*SIN(RADIANS(AE1113))","v":81.744701053579647},null,{"$f":"TRANSPOSE(MMULT(camera!$A$12:$C$14,MMULT(camera!$A$16:$C$18,TRANSPOSE(AH1113:AJ1113))))","v":-68.213434027030829},-488.16919871797245,-83.891363329562779,null,{"$f":"camera!$B$5*AM1113/AN1113","v":2909.5319192765146},{"$f":"camera!$B$5*AL1113/AN1113","v":406.55814448418226},null,{"$f":"IF( AND( (camera!$B$3) > (AQ1113+camera!$B$3/2), 0 < (AQ1113+camera!$B$3/2), AN1113 >= 0 ), AQ1113+camera!$B$3/2, 0)*-1+camera!$B$3","v":1000},{"$f":"IF( AND( (camera!$B$4) > (AP1113+camera!$B$4/2), 0 < (AP1113+camera!$B$4/2), AN1113 >= 0 ), AP1113+camera!$B$4/2, 0)","v":0}]
[null,null,null,null,null,null,null,null,null,null,null,null,null,null,null,null,null,null,null,null,993.10130000000004,485,null,null,null,"''",null,23.485914999999999,12.760554000000001,null,12.760554000000001,-7.7112750000000005,null,{"$f":"camera!$B$5*COS(RADIANS(AE1114))*COS(RADIANS(AF1114))","v":483.24090837293335},{"$f":"camera!$B$5*COS(RADIANS(AE1114))*SIN(RADIANS(AF1114))","v":-65.433570178079876},{"$f":"camera!$B$5*SIN(RADIANS(AE1114))","v":110.4385456652364},null,{"$f":"TRANSPOSE(MMULT(camera!$A$12:$C$14,MMULT(camera!$A$16:$C$18,TRANSPOSE(AH1114:AJ1114))))","v":-104.75513177487191},-487.10494223165676,-41.894362631785171,null,{"$f":"camera!$B$5*AM1114/AN1114","v":5813.4903079070973},{"$f":"camera!$B$5*AL1114/AN1114","v":1250.2294484770894},null,{"$f":"IF( AND( (camera!$B$3) > (AQ1114+camera!$B$3/2), 0 < (AQ1114+camera!$B$3/2), AN1114 >= 0 ), AQ1114+camera!$B$3/2, 0)*-1+camera!$B$3","v":1000},{"$f":"IF( AND( (camera!$B$4) > (AP1114+camera!$B$4/2), 0 < (AP1114+camera!$B$4/2), AN1114 >= 0 ), AP1114+camera!$B$4/2, 0)","v":0}]
[null,null,null,null,null,null,null,null,null,null,null,null,null,null,null,null,null,null,null,null,993.10130000000004,500,null,null,null,"''",null,6.2330000000000003E-2,-17.335988,null,-17.335988,0.93495000000000006,null,{"$f":"camera!$B$5*COS(RADIANS(AE1115))*COS(RADIANS(AF1115))","v":477.22337011888965},{"$f":"camera!$B$5*COS(RADIANS(AE1115))*SIN(RADIANS(AF1115))","v":7.7880011441873034},{"$f":"camera!$B$5*SIN(RADIANS(AE1115))","v":-148.98725465806575},null,{"$f":"TRANSPOSE(MMULT(camera!$A$12:$C$14,MMULT(camera!$A$16:$C$18,TRANSPOSE(AH1115:AJ1115))))","v":138.15407095976366},-474.72862209367133,74.472733549190281,null,{"$f":"camera!$B$5*AM1115/AN1115","v":-3187.264650223336},{"$f":"camera!$B$5*AL1115/AN1115","v":927.54800566378412},null,{"$f":"IF( AND( (camera!$B$3) > (AQ1115+camera!$B$3/2), 0 < (AQ1115+camera!$B$3/2), AN1115 >= 0 ), AQ1115+camera!$B$3/2, 0)*-1+camera!$B$3","v":1000},{"$f":"IF( AND( (camera!$B$4) > (AP1115+camera!$B$4/2), 0 < (AP1115+camera!$B$4/2), AN1115 >= 0 ), AP1115+camera!$B$4/2, 0)","v":0}]
[null,null,null,null,null,null,null,null,null,null,null,null,null,null,null,null,null,null,null,null,993.10130000000004,515,null,null,null,"''",null,3.4985400000000002,58.878749999999997,null,58.878749999999997,52.478100000000005,null,{"$f":"camera!$B$5*COS(RADIANS(AE1116))*COS(RADIANS(AF1116))","v":157.39779015983675},{"$f":"camera!$B$5*COS(RADIANS(AE1116))*SIN(RADIANS(AF1116))","v":204.96253446540553},{"$f":"camera!$B$5*SIN(RADIANS(AE1116))","v":428.03772627925855},null,{"$f":"TRANSPOSE(MMULT(camera!$A$12:$C$14,MMULT(camera!$A$16:$C$18,TRANSPOSE(AH1116:AJ1116))))","v":-459.37293287716938},-138.93518212181158,140.26233888184913,null,{"$f":"camera!$B$5*AM1116/AN1116","v":-495.26901957211948},{"$f":"camera!$B$5*AL1116/AN1116","v":-1637.5490974242384},null,{"$f":"IF( AND( (camera!$B$3) > (AQ1116+camera!$B$3/2), 0 < (AQ1116+camera!$B$3/2), AN1116 >= 0 ), AQ1116+camera!$B$3/2, 0)*-1+camera!$B$3","v":1000},{"$f":"IF( AND( (camera!$B$4) > (AP1116+camera!$B$4/2), 0 < (AP1116+camera!$B$4/2), AN1116 >= 0 ), AP1116+camera!$B$4/2, 0)","v":4.7309804278805245}]
[null,null,null,null,null,null,null,null,null,null,null,null,null,null,null,null,null,null,null,null,993.10130000000004,75,null,null,null,"''",null,5.0734399999999997,-35.482978000000003,null,-35.482978000000003,76.101599999999991,null,{"$f":"camera!$B$5*COS(RADIANS(AE1117))*COS(RADIANS(AF1117))","v":97.796369837517702},{"$f":"camera!$B$5*COS(RADIANS(AE1117))*SIN(RADIANS(AF1117))","v":395.2241239869179},{"$f":"camera!$B$5*SIN(RADIANS(AE1117))","v":-290.23053227628685},null,{"$f":"TRANSPOSE(MMULT(camera!$A$12:$C$14,MMULT(camera!$A$16:$C$18,TRANSPOSE(AH1117:AJ1117))))","v":215.97239423103429},-62.978173046882283,446.53070963797285,null,{"$f":"camera!$B$5*AM1117/AN1117","v":-70.519419703453522},{"$f":"camera!$B$5*AL1117/AN1117","v":241.83375249390468},null,{"$f":"IF( AND( (camera!$B$3) > (AQ1117+camera!$B$3/2), 0 < (AQ1117+camera!$B$3/2), AN1117 >= 0 ), AQ1117+camera!$B$3/2, 0)*-1+camera!$B$3","v":258.16624750609526},{"$f":"IF( AND( (camera!$B$4) > (AP1117+camera!$B$4/2), 0 < (AP1117+camera!$B$4/2), AN1117 >= 0 ), AP1117+camera!$B$4/2, 0)","v":429.48058029654646}]
[null,null,null,null,null,null,null,null,null,null,null,null,null,null,null,null,null,null,null,null,993.10130000000004,90,null,null,null,"''",null,7.0010810000000001,76.977407999999997,null,76.977407999999997,105.016215,null,{"$f":"camera!$B$5*COS(RADIANS(AE1118))*COS(RADIANS(AF1118))","v":-29.191323130238128},{"$f":"camera!$B$5*COS(RADIANS(AE1118))*SIN(RADIANS(AF1118))","v":108.82030489512397},{"$f":"camera!$B$5*SIN(RADIANS(AE1118))","v":487.14064488239768},null,{"$f":"TRANSPOSE(MMULT(camera!$A$12:$C$14,MMULT(camera!$A$16:$C$18,TRANSPOSE(AH1118:AJ1118))))","v":-498.12263062870329},38.56455583178731,19.662652136406464,null,{"$f":"camera!$B$5*AM1118/AN1118","v":980.6549890689198},{"$f":"camera!$B$5*AL1118/AN1118","v":-12666.72031761174},null,{"$f":"IF( AND( (camera!$B$3) > (AQ1118+camera!$B$3/2), 0 < (AQ1118+camera!$B$3/2), AN1118 >= 0 ), AQ1118+camera!$B$3/2, 0)*-1+camera!$B$3","v":1000},{"$f":"IF( AND( (camera!$B$4) > (AP1118+camera!$B$4/2), 0 < (AP1118+camera!$B$4/2), AN1118 >= 0 ), AP1118+camera!$B$4/2, 0)","v":0}]
[null,null,null,null,null,null,null,null,null,null,null,null,null,null,null,null,null,null,null,null,993.10130000000004,105,null,null,null,"''",null,7.4966059999999999,12.006563999999999,null,12.006563999999999,112.44909,null,{"$f":"camera!$B$5*COS(RADIANS(AE1119))*COS(RADIANS(AF1119))","v":-186.75433192670619},{"$f":"camera!$B$5*COS(RADIANS(AE1119))*SIN(RADIANS(AF1119))","v":452.00038653755888},{"$f":"camera!$B$5*SIN(RADIANS(AE1119))","v":104.01187468989772},null,{"$f":"TRANSPOSE(MMULT(camera!$A$12:$C$14,MMULT(camera!$A$16:$C$18,TRANSPOSE(AH1119:AJ1119))))","v":-177.79564805436885},225.4381047219602,409.34871255727364,null,{"$f":"camera!$B$5*AM1119/AN1119","v":275.36193202319924},{"$f":"camera!$B$5*AL1119/AN1119","v":-217.16893518932557},null,{"$f":"IF( AND( (camera!$B$3) > (AQ1119+camera!$B$3/2), 0 < (AQ1119+camera!$B$3/2), AN1119 >= 0 ), AQ1119+camera!$B$3/2, 0)*-1+camera!$B$3","v":717.16893518932557},{"$f":"IF( AND( (camera!$B$4) > (AP1119+camera!$B$4/2), 0 < (AP1119+camera!$B$4/2), AN1119 >= 0 ), AP1119+camera!$B$4/2, 0)","v":775.36193202319919}]
[null,null,null,null,null,null,null,null,null,null,null,null,null,null,null,null,null,null,null,null,995,530,null,null,null,"''",null,9.8684329999999996,54.064332,null,54.064332,148.02649499999998,null,{"$f":"camera!$B$5*COS(RADIANS(AE1120))*COS(RADIANS(AF1120))","v":-248.92163478770198},{"$f":"camera!$B$5*COS(RADIANS(AE1120))*SIN(RADIANS(AF1120))","v":155.38349414252161},{"$f":"camera!$B$5*SIN(RADIANS(AE1120))","v":404.83822631105238},null,{"$f":"TRANSPOSE(MMULT(camera!$A$12:$C$14,MMULT(camera!$A$16:$C$18,TRANSPOSE(AH1120:AJ1120))))","v":-421.79992117137357},261.51697665855636,60.775796327083256,null,{"$f":"camera!$B$5*AM1120/AN1120","v":2151.4895111462133},{"$f":"camera!$B$5*AL1120/AN1120","v":-3470.1307647318204},null,{"$f":"IF( AND( (camera!$B$3) > (AQ1120+camera!$B$3/2), 0 < (AQ1120+camera!$B$3/2), AN1120 >= 0 ), AQ1120+camera!$B$3/2, 0)*-1+camera!$B$3","v":1000},{"$f":"IF( AND( (camera!$B$4) > (AP1120+camera!$B$4/2), 0 < (AP1120+camera!$B$4/2), AN1120 >= 0 ), AP1120+camera!$B$4/2, 0)","v":0}]
[null,null,null,null,null,null,null,null,null,null,null,null,null,null,null,null,null,null,null,null,995,120,null,null,null,"''",null,15.598126000000001,-44.958388999999997,null,-44.958388999999997,-126.02811,null,{"$f":"camera!$B$5*COS(RADIANS(AE1121))*COS(RADIANS(AF1121))","v":-208.10474533875598},{"$f":"camera!$B$5*COS(RADIANS(AE1121))*SIN(RADIANS(AF1121))","v":-286.13629120125876},{"$f":"camera!$B$5*SIN(RADIANS(AE1121))","v":-353.29652959671137},null,{"$f":"TRANSPOSE(MMULT(camera!$A$12:$C$14,MMULT(camera!$A$16:$C$18,TRANSPOSE(AH1121:AJ1121))))","v":400.57668071053843},182.37442296749572,-237.22962023786212,null,{"$f":"camera!$B$5*AM1121/AN1121","v":-384.38375187852819},{"$f":"camera!$B$5*AL1121/AN1121","v":-844.28049142618386},null,{"$f":"IF( AND( (camera!$B$3) > (AQ1121+camera!$B$3/2), 0 < (AQ1121+camera!$B$3/2), AN1121 >= 0 ), AQ1121+camera!$B$3/2, 0)*-1+camera!$B$3","v":1000},{"$f":"IF( AND( (camera!$B$4) > (AP1121+camera!$B$4/2), 0 < (AP1121+camera!$B$4/2), AN1121 >= 0 ), AP1121+camera!$B$4/2, 0)","v":0}]
[null,null,null,null,null,null,null,null,null,null,null,null,null,null,null,null,null,null,null,null,996.65229999999997,470,null,null,null,"''",null,16.343938999999999,-24.169319999999999,null,-24.169319999999999,-114.84091500000002,null,{"$f":"camera!$B$5*COS(RADIANS(AE1122))*COS(RADIANS(AF1122))","v":-191.63700962568868},{"$f":"camera!$B$5*COS(RADIANS(AE1122))*SIN(RADIANS(AF1122))","v":-413.96387622088406},{"$f":"camera!$B$5*SIN(RADIANS(AE1122))","v":-204.71728243092787},null,{"$f":"TRANSPOSE(MMULT(camera!$A$12:$C$14,MMULT(camera!$A$16:$C$18,TRANSPOSE(AH1122:AJ1122))))","v":276.11801707865089},154.82844384453711,-387.02324687443888,null,{"$f":"camera!$B$5*AM1122/AN1122","v":-200.02473377880548},{"$f":"camera!$B$5*AL1122/AN1122","v":-356.72019614913631},null,{"$f":"IF( AND( (camera!$B$3) > (AQ1122+camera!$B$3/2), 0 < (AQ1122+camera!$B$3/2), AN1122 >= 0 ), AQ1122+camera!$B$3/2, 0)*-1+camera!$B$3","v":1000},{"$f":"IF( AND( (camera!$B$4) > (AP1122+camera!$B$4/2), 0 < (AP1122+camera!$B$4/2), AN1122 >= 0 ), AP1122+camera!$B$4/2, 0)","v":0}]
[null,null,null,null,null,null,null,null,null,null,null,null,null,null,null,null,null,null,null,null,996.65229999999997,60,null,null,null,"''",null,18.134716000000001,-28.457093,null,-28.457093,-87.979260000000011,null,{"$f":"camera!$B$5*COS(RADIANS(AE1123))*COS(RADIANS(AF1123))","v":15.500392827227596},{"$f":"camera!$B$5*COS(RADIANS(AE1123))*SIN(RADIANS(AF1123))","v":-439.31373101429131},{"$f":"camera!$B$5*SIN(RADIANS(AE1123))","v":-238.25025407017836},null,{"$f":"TRANSPOSE(MMULT(camera!$A$12:$C$14,MMULT(camera!$A$16:$C$18,TRANSPOSE(AH1123:AJ1123))))","v":310.39184510742075},-53.730123678618909,-388.29109737449716,null,{"$f":"camera!$B$5*AM1123/AN1123","v":69.187941781211549},{"$f":"camera!$B$5*AL1123/AN1123","v":-399.68962359193046},null,{"$f":"IF( AND( (camera!$B$3) > (AQ1123+camera!$B$3/2), 0 < (AQ1123+camera!$B$3/2), AN1123 >= 0 ), AQ1123+camera!$B$3/2, 0)*-1+camera!$B$3","v":1000},{"$f":"IF( AND( (camera!$B$4) > (AP1123+camera!$B$4/2), 0 < (AP1123+camera!$B$4/2), AN1123 >= 0 ), AP1123+camera!$B$4/2, 0)","v":0}]
[null,null,null,null,null,null,null,null,null,null,null,null,null,null,null,null,null,null,null,null,998.10130000000004,105,null,null,null,"''",null,21.698651999999999,71.311417000000006,null,71.311417000000006,-34.520219999999995,null,{"$f":"camera!$B$5*COS(RADIANS(AE1124))*COS(RADIANS(AF1124))","v":132.00297076118943},{"$f":"camera!$B$5*COS(RADIANS(AE1124))*SIN(RADIANS(AF1124))","v":-90.791733976819231},{"$f":"camera!$B$5*SIN(RADIANS(AE1124))","v":473.63707282232781},null,{"$f":"TRANSPOSE(MMULT(camera!$A$12:$C$14,MMULT(camera!$A$16:$C$18,TRANSPOSE(AH1124:AJ1124))))","v":-452.73342647861773},-139.4136806147541,-159.98834397035728,null,{"$f":"camera!$B$5*AM1124/AN1124","v":435.69949270987121},{"$f":"camera!$B$5*AL1124/AN1124","v":1414.8950331109759},null,{"$f":"IF( AND( (camera!$B$3) > (AQ1124+camera!$B$3/2), 0 < (AQ1124+camera!$B$3/2), AN1124 >= 0 ), AQ1124+camera!$B$3/2, 0)*-1+camera!$B$3","v":1000},{"$f":"IF( AND( (camera!$B$4) > (AP1124+camera!$B$4/2), 0 < (AP1124+camera!$B$4/2), AN1124 >= 0 ), AP1124+camera!$B$4/2, 0)","v":0}]
[null,null,null,null,null,null,null,null,null,null,null,null,null,null,null,null,null,null,null,null,998.10130000000004,90,null,null,null,"''",null,22.350428000000001,46.536569,null,46.536569,-24.743580000000009,null,{"$f":"camera!$B$5*COS(RADIANS(AE1125))*COS(RADIANS(AF1125))","v":312.3681023014779},{"$f":"camera!$B$5*COS(RADIANS(AE1125))*SIN(RADIANS(AF1125))","v":-143.96123026195792},{"$f":"camera!$B$5*SIN(RADIANS(AE1125))","v":362.90678258478027},null,{"$f":"TRANSPOSE(MMULT(camera!$A$12:$C$14,MMULT(camera!$A$16:$C$18,TRANSPOSE(AH1125:AJ1125))))","v":-337.21745008284603},-323.72649531605987,-177.44167376916934,null,{"$f":"camera!$B$5*AM1125/AN1125","v":912.20536990986056},{"$f":"camera!$B$5*AL1125/AN1125","v":950.22055112466455},null,{"$f":"IF( AND( (camera!$B$3) > (AQ1125+camera!$B$3/2), 0 < (AQ1125+camera!$B$3/2), AN1125 >= 0 ), AQ1125+camera!$B$3/2, 0)*-1+camera!$B$3","v":1000},{"$f":"IF( AND( (camera!$B$4) > (AP1125+camera!$B$4/2), 0 < (AP1125+camera!$B$4/2), AN1125 >= 0 ), AP1125+camera!$B$4/2, 0)","v":0}]
[null,null,null,null,null,null,null,null,null,null,null,null,null,null,null,null,null,null,null,null,998.10130000000004,75,null,null,null,"''",null,22.408608999999998,49.476391999999997,null,49.476391999999997,-23.870865000000038,null,{"$f":"camera!$B$5*COS(RADIANS(AE1126))*COS(RADIANS(AF1126))","v":297.0903152215281},{"$f":"camera!$B$5*COS(RADIANS(AE1126))*SIN(RADIANS(AF1126))","v":-131.47160992518675},{"$f":"camera!$B$5*SIN(RADIANS(AE1126))","v":380.06915210952411},null,{"$f":"TRANSPOSE(MMULT(camera!$A$12:$C$14,MMULT(camera!$A$16:$C$18,TRANSPOSE(AH1126:AJ1126))))","v":-356.04841083477027},-307.41830269135176,-169.48013545074554,null,{"$f":"camera!$B$5*AM1126/AN1126","v":906.9449404018618},{"$f":"camera!$B$5*AL1126/AN1126","v":1050.4134006260731},null,{"$f":"IF( AND( (camera!$B$3) > (AQ1126+camera!$B$3/2), 0 < (AQ1126+camera!$B$3/2), AN1126 >= 0 ), AQ1126+camera!$B$3/2, 0)*-1+camera!$B$3","v":1000},{"$f":"IF( AND( (camera!$B$4) > (AP1126+camera!$B$4/2), 0 < (AP1126+camera!$B$4/2), AN1126 >= 0 ), AP1126+camera!$B$4/2, 0)","v":0}]
[null,null,null,null,null,null,null,null,null,null,null,null,null,null,null,null,null,null,null,null,500,500,null,null,null,"''",null,2.8585660000000002,35.059741000000002,null,35.059741000000002,42.878489999999999,null,{"$f":"camera!$B$5*COS(RADIANS(AE1127))*COS(RADIANS(AF1127))","v":299.91736518179232},{"$f":"camera!$B$5*COS(RADIANS(AE1127))*SIN(RADIANS(AF1127))","v":278.4906644595751},{"$f":"camera!$B$5*SIN(RADIANS(AE1127))","v":287.21511776241124},null,{"$f":"TRANSPOSE(MMULT(camera!$A$12:$C$14,MMULT(camera!$A$16:$C$18,TRANSPOSE(AH1127:AJ1127))))","v":-335.56612917110749},-274.5040283504843,249.08414516479371,null,{"$f":"camera!$B$5*AM1127/AN1127","v":-551.02669856580565},{"$f":"camera!$B$5*AL1127/AN1127","v":-673.59993738079436},null,{"$f":"IF( AND( (camera!$B$3) > (AQ1127+camera!$B$3/2), 0 < (AQ1127+camera!$B$3/2), AN1127 >= 0 ), AQ1127+camera!$B$3/2, 0)*-1+camera!$B$3","v":1000},{"$f":"IF( AND( (camera!$B$4) > (AP1127+camera!$B$4/2), 0 < (AP1127+camera!$B$4/2), AN1127 >= 0 ), AP1127+camera!$B$4/2, 0)","v":0}]
[null,null,null,null,null,null,null,null,null,null,null,null,null,null,null,null,null,null,null,null,502,502,null,null,null,"''",null,3.979095,-61.400185,null,-61.400185,59.686425,null,{"$f":"camera!$B$5*COS(RADIANS(AE1128))*COS(RADIANS(AF1128))","v":120.80487530748623},{"$f":"camera!$B$5*COS(RADIANS(AE1128))*SIN(RADIANS(AF1128))","v":206.62037000312193},{"$f":"camera!$B$5*SIN(RADIANS(AE1128))","v":-438.99226052598664},null,{"$f":"TRANSPOSE(MMULT(camera!$A$12:$C$14,MMULT(camera!$A$16:$C$18,TRANSPOSE(AH1128:AJ1128))))","v":394.75194869775856},-102.33702447053417,289.30612233729084,null,{"$f":"camera!$B$5*AM1128/AN1128","v":-176.86633045259822},{"$f":"camera!$B$5*AL1128/AN1128","v":682.23918925146779},null,{"$f":"IF( AND( (camera!$B$3) > (AQ1128+camera!$B$3/2), 0 < (AQ1128+camera!$B$3/2), AN1128 >= 0 ), AQ1128+camera!$B$3/2, 0)*-1+camera!$B$3","v":1000},{"$f":"IF( AND( (camera!$B$4) > (AP1128+camera!$B$4/2), 0 < (AP1128+camera!$B$4/2), AN1128 >= 0 ), AP1128+camera!$B$4/2, 0)","v":323.13366954740178}]
[null,null,null,null,null,null,null,null,null,null,null,null,null,null,null,null,null,null,null,null,498,498,null,null,null,"''",null,5.8887900000000002,27.612262000000001,null,27.612262000000001,88.331850000000003,null,{"$f":"camera!$B$5*COS(RADIANS(AE1129))*COS(RADIANS(AF1129))","v":12.897514084525932},{"$f":"camera!$B$5*COS(RADIANS(AE1129))*SIN(RADIANS(AF1129))","v":442.86443699548835},{"$f":"camera!$B$5*SIN(RADIANS(AE1129))","v":231.74284147543491},null,{"$f":"TRANSPOSE(MMULT(camera!$A$12:$C$14,MMULT(camera!$A$16:$C$18,TRANSPOSE(AH1129:AJ1129))))","v":-305.02730840823779},25.749743793296894,395.34199349399421,null,{"$f":"camera!$B$5*AM1129/AN1129","v":32.566416187821531},{"$f":"camera!$B$5*AL1129/AN1129","v":-385.77650923499925},null,{"$f":"IF( AND( (camera!$B$3) > (AQ1129+camera!$B$3/2), 0 < (AQ1129+camera!$B$3/2), AN1129 >= 0 ), AQ1129+camera!$B$3/2, 0)*-1+camera!$B$3","v":885.77650923499925},{"$f":"IF( AND( (camera!$B$4) > (AP1129+camera!$B$4/2), 0 < (AP1129+camera!$B$4/2), AN1129 >= 0 ), AP1129+camera!$B$4/2, 0)","v":532.56641618782157}]
[null,null,null,null,null,null,null,null,null,null,null,null,null,null,null,null,null,null,null,null,502,498,null,null,null,"''",null,9.1088249999999995,38.452215000000002,null,38.452215000000002,136.632375,null,{"$f":"camera!$B$5*COS(RADIANS(AE1130))*COS(RADIANS(AF1130))","v":-284.65211972058296},{"$f":"camera!$B$5*COS(RADIANS(AE1130))*SIN(RADIANS(AF1130))","v":268.87761312319765},{"$f":"camera!$B$5*SIN(RADIANS(AE1130))","v":310.93086032066827},null,{"$f":"TRANSPOSE(MMULT(camera!$A$12:$C$14,MMULT(camera!$A$16:$C$18,TRANSPOSE(AH1130:AJ1130))))","v":-348.4115102134391},307.00316054619134,185.36040290590671,null,{"$f":"camera!$B$5*AM1130/AN1130","v":828.12498174713539},{"$f":"camera!$B$5*AL1130/AN1130","v":-939.82184099562244},null,{"$f":"IF( AND( (camera!$B$3) > (AQ1130+camera!$B$3/2), 0 < (AQ1130+camera!$B$3/2), AN1130 >= 0 ), AQ1130+camera!$B$3/2, 0)*-1+camera!$B$3","v":1000},{"$f":"IF( AND( (camera!$B$4) > (AP1130+camera!$B$4/2), 0 < (AP1130+camera!$B$4/2), AN1130 >= 0 ), AP1130+camera!$B$4/2, 0)","v":0}]
[null,null,null,null,null,null,null,null,null,null,null,null,null,null,null,null,null,null,null,null,498,502,null,null,null,"''",null,11.253397,23.095502,null,23.095502,168.80095499999999,null,{"$f":"camera!$B$5*COS(RADIANS(AE1131))*COS(RADIANS(AF1131))","v":-451.16841434773653},{"$f":"camera!$B$5*COS(RADIANS(AE1131))*SIN(RADIANS(AF1131))","v":89.325936841778841},{"$f":"camera!$B$5*SIN(RADIANS(AE1131))","v":196.13245244550353},null,{"$f":"TRANSPOSE(MMULT(camera!$A$12:$C$14,MMULT(camera!$A$16:$C$18,TRANSPOSE(AH1131:AJ1131))))","v":-201.77684136215214},457.23685069175059,14.851554107322031,null,{"$f":"camera!$B$5*AM1131/AN1131","v":15393.569164129638},{"$f":"camera!$B$5*AL1131/AN1131","v":-6793.122117188841},null,{"$f":"IF( AND( (camera!$B$3) > (AQ1131+camera!$B$3/2), 0 < (AQ1131+camera!$B$3/2), AN1131 >= 0 ), AQ1131+camera!$B$3/2, 0)*-1+camera!$B$3","v":1000},{"$f":"IF( AND( (camera!$B$4) > (AP1131+camera!$B$4/2), 0 < (AP1131+camera!$B$4/2), AN1131 >= 0 ), AP1131+camera!$B$4/2, 0)","v":0}]
[null,null,null,null,null,null,null,null,null,null,null,null,null,null,null,null,null,null,null,null,null,null,null,null,null,"''",null,14.435619000000001,-45.221423999999999,null,-45.221423999999999,-143.46571499999999,null,{"$f":"camera!$B$5*COS(RADIANS(AE1132))*COS(RADIANS(AF1132))","v":-282.98045662843793},{"$f":"camera!$B$5*COS(RADIANS(AE1132))*SIN(RADIANS(AF1132))","v":-209.65668681239782},{"$f":"camera!$B$5*SIN(RADIANS(AE1132))","v":-354.91708164190817},null,{"$f":"TRANSPOSE(MMULT(camera!$A$12:$C$14,MMULT(camera!$A$16:$C$18,TRANSPOSE(AH1132:AJ1132))))","v":390.07580713023793},263.6308462956834,-168.34381952752284,null,{"$f":"camera!$B$5*AM1132/AN1132","v":-783.01314249491031},{"$f":"camera!$B$5*AL1132/AN1132","v":-1158.5688391324154},null,{"$f":"IF( AND( (camera!$B$3) > (AQ1132+camera!$B$3/2), 0 < (AQ1132+camera!$B$3/2), AN1132 >= 0 ), AQ1132+camera!$B$3/2, 0)*-1+camera!$B$3","v":1000},{"$f":"IF( AND( (camera!$B$4) > (AP1132+camera!$B$4/2), 0 < (AP1132+camera!$B$4/2), AN1132 >= 0 ), AP1132+camera!$B$4/2, 0)","v":0}]
[null,null,null,null,null,null,null,null,null,null,null,null,null,null,null,null,null,null,null,null,null,null,null,null,null,"''",null,17.594332000000001,-46.505684000000002,null,-46.505684000000002,-96.085019999999986,null,{"$f":"camera!$B$5*COS(RADIANS(AE1133))*COS(RADIANS(AF1133))","v":-36.480388629120021},{"$f":"camera!$B$5*COS(RADIANS(AE1133))*SIN(RADIANS(AF1133))","v":-342.20230815183504},{"$f":"camera!$B$5*SIN(RADIANS(AE1133))","v":-362.72132766219426},null,{"$f":"TRANSPOSE(MMULT(camera!$A$12:$C$14,MMULT(camera!$A$16:$C$18,TRANSPOSE(AH1133:AJ1133))))","v":416.95957125031003},6.5166733997195898,-275.86636059976394,null,{"$f":"camera!$B$5*AM1133/AN1133","v":-11.811286786746347},{"$f":"camera!$B$5*AL1133/AN1133","v":-755.72746590739428},null,{"$f":"IF( AND( (camera!$B$3) > (AQ1133+camera!$B$3/2), 0 < (AQ1133+camera!$B$3/2), AN1133 >= 0 ), AQ1133+camera!$B$3/2, 0)*-1+camera!$B$3","v":1000},{"$f":"IF( AND( (camera!$B$4) > (AP1133+camera!$B$4/2), 0 < (AP1133+camera!$B$4/2), AN1133 >= 0 ), AP1133+camera!$B$4/2, 0)","v":0}]
[null,null,null,null,null,null,null,null,null,null,null,null,null,null,null,null,null,null,null,null,null,null,null,null,null,"''",null,20.868801000000001,27.096979000000001,null,27.096979000000001,-46.967984999999999,null,{"$f":"camera!$B$5*COS(RADIANS(AE1134))*COS(RADIANS(AF1134))","v":303.75187964676928},{"$f":"camera!$B$5*COS(RADIANS(AE1134))*SIN(RADIANS(AF1134))","v":-325.36932199586408},{"$f":"camera!$B$5*SIN(RADIANS(AE1134))","v":227.74898444341375},null,{"$f":"TRANSPOSE(MMULT(camera!$A$12:$C$14,MMULT(camera!$A$16:$C$18,TRANSPOSE(AH1134:AJ1134))))","v":-172.60128789771795},-330.95381696536504,-332.68358308173964,null,{"$f":"camera!$B$5*AM1134/AN1134","v":497.4002833257486},{"$f":"camera!$B$5*AL1134/AN1134","v":259.40758227211683},null,{"$f":"IF( AND( (camera!$B$3) > (AQ1134+camera!$B$3/2), 0 < (AQ1134+camera!$B$3/2), AN1134 >= 0 ), AQ1134+camera!$B$3/2, 0)*-1+camera!$B$3","v":1000},{"$f":"IF( AND( (camera!$B$4) > (AP1134+camera!$B$4/2), 0 < (AP1134+camera!$B$4/2), AN1134 >= 0 ), AP1134+camera!$B$4/2, 0)","v":0}]
[null,null,null,null,null,null,null,null,null,null,null,null,null,null,null,null,null,null,null,null,null,null,null,null,null,"''",null,21.110026000000001,47.648403000000002,null,47.648403000000002,-43.349609999999984,null,{"$f":"camera!$B$5*COS(RADIANS(AE1135))*COS(RADIANS(AF1135))","v":244.94224519964203},{"$f":"camera!$B$5*COS(RADIANS(AE1135))*SIN(RADIANS(AF1135))","v":-231.22264495381972},{"$f":"camera!$B$5*SIN(RADIANS(AE1135))","v":369.51236106132939},null,{"$f":"TRANSPOSE(MMULT(camera!$A$12:$C$14,MMULT(camera!$A$16:$C$18,TRANSPOSE(AH1135:AJ1135))))","v":-327.60709794951998},-264.16254736759993,-269.98469945786587,null,{"$f":"camera!$B$5*AM1135/AN1135","v":489.21762584702589},{"$f":"camera!$B$5*AL1135/AN1135","v":606.71419270677359},null,{"$f":"IF( AND( (camera!$B$3) > (AQ1135+camera!$B$3/2), 0 < (AQ1135+camera!$B$3/2), AN1135 >= 0 ), AQ1135+camera!$B$3/2, 0)*-1+camera!$B$3","v":1000},{"$f":"IF( AND( (camera!$B$4) > (AP1135+camera!$B$4/2), 0 < (AP1135+camera!$B$4/2), AN1135 >= 0 ), AP1135+camera!$B$4/2, 0)","v":0}]
[null,null,null,null,null,null,null,null,null,null,null,null,null,null,null,null,null,null,null,null,null,null,null,null,null,"''",null,3.6182439999999998,-40.274545000000003,null,-40.274545000000003,54.27366,null,{"$f":"camera!$B$5*COS(RADIANS(AE1136))*COS(RADIANS(AF1136))","v":222.75041316429028},{"$f":"camera!$B$5*COS(RADIANS(AE1136))*SIN(RADIANS(AF1136))","v":309.68946966844459},{"$f":"camera!$B$5*SIN(RADIANS(AE1136))","v":-323.22544115773985},null,{"$f":"TRANSPOSE(MMULT(camera!$A$12:$C$14,MMULT(camera!$A$16:$C$18,TRANSPOSE(AH1136:AJ1136))))","v":261.37134428891454},-194.9115648419301,379.07057690550948,null,{"$f":"camera!$B$5*AM1136/AN1136","v":-257.09139236427143},{"$f":"camera!$B$5*AL1136/AN1136","v":344.7528774490803},null,{"$f":"IF( AND( (camera!$B$3) > (AQ1136+camera!$B$3/2), 0 < (AQ1136+camera!$B$3/2), AN1136 >= 0 ), AQ1136+camera!$B$3/2, 0)*-1+camera!$B$3","v":155.2471225509197},{"$f":"IF( AND( (camera!$B$4) > (AP1136+camera!$B$4/2), 0 < (AP1136+camera!$B$4/2), AN1136 >= 0 ), AP1136+camera!$B$4/2, 0)","v":242.90860763572857}]
[null,null,null,null,null,null,null,null,null,null,null,null,null,null,null,null,null,null,null,null,null,null,null,null,null,"''",null,16.423597999999998,14.03327,null,14.03327,-113.64603000000002,null,{"$f":"camera!$B$5*COS(RADIANS(AE1137))*COS(RADIANS(AF1137))","v":-194.557368100041},{"$f":"camera!$B$5*COS(RADIANS(AE1137))*SIN(RADIANS(AF1137))","v":-444.35082207357203},{"$f":"camera!$B$5*SIN(RADIANS(AE1137))","v":121.24263870654566},null,{"$f":"TRANSPOSE(MMULT(camera!$A$12:$C$14,MMULT(camera!$A$16:$C$18,TRANSPOSE(AH1137:AJ1137))))","v":-39.589083878242661},155.08929263759029,-473.6876774277049,null,{"$f":"camera!$B$5*AM1137/AN1137","v":-163.70416629769761},{"$f":"camera!$B$5*AL1137/AN1137","v":41.788171578819274},null,{"$f":"IF( AND( (camera!$B$3) > (AQ1137+camera!$B$3/2), 0 < (AQ1137+camera!$B$3/2), AN1137 >= 0 ), AQ1137+camera!$B$3/2, 0)*-1+camera!$B$3","v":1000},{"$f":"IF( AND( (camera!$B$4) > (AP1137+camera!$B$4/2), 0 < (AP1137+camera!$B$4/2), AN1137 >= 0 ), AP1137+camera!$B$4/2, 0)","v":0}]
[null,null,null,null,null,null,null,null,null,null,null,null,null,null,null,null,null,null,null,null,null,null,null,null,null,"''",null,16.426421999999999,-23.447178000000001,null,-23.447178000000001,-113.60367000000002,null,{"$f":"camera!$B$5*COS(RADIANS(AE1138))*COS(RADIANS(AF1138))","v":-183.67249011970736},{"$f":"camera!$B$5*COS(RADIANS(AE1138))*SIN(RADIANS(AF1138))","v":-420.33632768835764},{"$f":"camera!$B$5*SIN(RADIANS(AE1138))","v":-198.95172278392474},null,{"$f":"TRANSPOSE(MMULT(camera!$A$12:$C$14,MMULT(camera!$A$16:$C$18,TRANSPOSE(AH1138:AJ1138))))","v":271.42186450015197},146.33883599905917,-393.59257684781301,null,{"$f":"camera!$B$5*AM1138/AN1138","v":-185.90141761698254},{"$f":"camera!$B$5*AL1138/AN1138","v":-344.80053800036512},null,{"$f":"IF( AND( (camera!$B$3) > (AQ1138+camera!$B$3/2), 0 < (AQ1138+camera!$B$3/2), AN1138 >= 0 ), AQ1138+camera!$B$3/2, 0)*-1+camera!$B$3","v":1000},{"$f":"IF( AND( (camera!$B$4) > (AP1138+camera!$B$4/2), 0 < (AP1138+camera!$B$4/2), AN1138 >= 0 ), AP1138+camera!$B$4/2, 0)","v":0}]
[null,null,null,null,null,null,null,null,null,null,null,null,null,null,null,null,null,null,null,null,null,null,null,null,null,"''",null,17.698978,72.148842999999999,null,72.148842999999999,-94.515330000000006,null,{"$f":"camera!$B$5*COS(RADIANS(AE1139))*COS(RADIANS(AF1139))","v":-12.06651611984657},{"$f":"camera!$B$5*COS(RADIANS(AE1139))*SIN(RADIANS(AF1139))","v":-152.79693825134885},{"$f":"camera!$B$5*SIN(RADIANS(AE1139))","v":475.92803536852398},null,{"$f":"TRANSPOSE(MMULT(camera!$A$12:$C$14,MMULT(camera!$A$16:$C$18,TRANSPOSE(AH1139:AJ1139))))","v":-442.08305504418882},-1.2965312598346301,-233.58272934763175,null,{"$f":"camera!$B$5*AM1139/AN1139","v":2.7753149033228715},{"$f":"camera!$B$5*AL1139/AN1139","v":946.30937886305458},null,{"$f":"IF( AND( (camera!$B$3) > (AQ1139+camera!$B$3/2), 0 < (AQ1139+camera!$B$3/2), AN1139 >= 0 ), AQ1139+camera!$B$3/2, 0)*-1+camera!$B$3","v":1000},{"$f":"IF( AND( (camera!$B$4) > (AP1139+camera!$B$4/2), 0 < (AP1139+camera!$B$4/2), AN1139 >= 0 ), AP1139+camera!$B$4/2, 0)","v":0}]
[null,null,null,null,null,null,null,null,null,null,null,null,null,null,null,null,null,null,null,null,null,null,null,null,null,"''",null,18.912468000000001,22.645076,null,22.645076,-76.312979999999982,null,{"$f":"camera!$B$5*COS(RADIANS(AE1140))*COS(RADIANS(AF1140))","v":109.18829408237411},{"$f":"camera!$B$5*COS(RADIANS(AE1140))*SIN(RADIANS(AF1140))","v":-448.34977920898962},{"$f":"camera!$B$5*SIN(RADIANS(AE1140))","v":192.51075792960575},null,{"$f":"TRANSPOSE(MMULT(camera!$A$12:$C$14,MMULT(camera!$A$16:$C$18,TRANSPOSE(AH1140:AJ1140))))","v":-113.67973031304599},-147.84905767625142,-463.91548266920086,null,{"$f":"camera!$B$5*AM1140/AN1140","v":159.34913060627093},{"$f":"camera!$B$5*AL1140/AN1140","v":122.5220267051384},null,{"$f":"IF( AND( (camera!$B$3) > (AQ1140+camera!$B$3/2), 0 < (AQ1140+camera!$B$3/2), AN1140 >= 0 ), AQ1140+camera!$B$3/2, 0)*-1+camera!$B$3","v":1000},{"$f":"IF( AND( (camera!$B$4) > (AP1140+camera!$B$4/2), 0 < (AP1140+camera!$B$4/2), AN1140 >= 0 ), AP1140+camera!$B$4/2, 0)","v":0}]
[null,null,null,null,null,null,null,null,null,null,null,null,null,null,null,null,null,null,null,null,null,null,null,null,null,"''",null,19.139156,-40.496702999999997,null,-40.496702999999997,-72.912660000000017,null,{"$f":"camera!$B$5*COS(RADIANS(AE1141))*COS(RADIANS(AF1141))","v":111.72020086439301},{"$f":"camera!$B$5*COS(RADIANS(AE1141))*SIN(RADIANS(AF1141))","v":-363.43790870197921},{"$f":"camera!$B$5*SIN(RADIANS(AE1141))","v":-324.70214541507346},null,{"$f":"TRANSPOSE(MMULT(camera!$A$12:$C$14,MMULT(camera!$A$16:$C$18,TRANSPOSE(AH1141:AJ1141))))","v":380.9485446855349},-142.97077264642974,-290.58142485516169,null,{"$f":"camera!$B$5*AM1141/AN1141","v":246.00810722449404},{"$f":"camera!$B$5*AL1141/AN1141","v":-655.49362777647627},null,{"$f":"IF( AND( (camera!$B$3) > (AQ1141+camera!$B$3/2), 0 < (AQ1141+camera!$B$3/2), AN1141 >= 0 ), AQ1141+camera!$B$3/2, 0)*-1+camera!$B$3","v":1000},{"$f":"IF( AND( (camera!$B$4) > (AP1141+camera!$B$4/2), 0 < (AP1141+camera!$B$4/2), AN1141 >= 0 ), AP1141+camera!$B$4/2, 0)","v":0}]
[null,null,null,null,null,null,null,null,null,null,null,null,null,null,null,null,null,null,null,null,null,null,null,null,null,"''",null,19.891026,24.079613999999999,null,24.079613999999999,-61.634610000000009,null,{"$f":"camera!$B$5*COS(RADIANS(AE1142))*COS(RADIANS(AF1142))","v":216.87495401994062},{"$f":"camera!$B$5*COS(RADIANS(AE1142))*SIN(RADIANS(AF1142))","v":-401.68159357304887},{"$f":"camera!$B$5*SIN(RADIANS(AE1142))","v":204.00282278307967},null,{"$f":"TRANSPOSE(MMULT(camera!$A$12:$C$14,MMULT(camera!$A$16:$C$18,TRANSPOSE(AH1142:AJ1142))))","v":-134.69998954349424},-251.05853697947796,-410.88383252046634,null,{"$f":"camera!$B$5*AM1142/AN1142","v":305.51036218609624},{"$f":"camera!$B$5*AL1142/AN1142","v":163.91493030671239},null,{"$f":"IF( AND( (camera!$B$3) > (AQ1142+camera!$B$3/2), 0 < (AQ1142+camera!$B$3/2), AN1142 >= 0 ), AQ1142+camera!$B$3/2, 0)*-1+camera!$B$3","v":1000},{"$f":"IF( AND( (camera!$B$4) > (AP1142+camera!$B$4/2), 0 < (AP1142+camera!$B$4/2), AN1142 >= 0 ), AP1142+camera!$B$4/2, 0)","v":0}]
[null,null,null,null,null,null,null,null,null,null,null,null,null,null,null,null,null,null,null,null,null,null,null,null,null,"''",null,5.5897680000000003,-4.8383580000000004,null,-4.8383580000000004,83.846519999999998,null,{"$f":"camera!$B$5*COS(RADIANS(AE1143))*COS(RADIANS(AF1143))","v":53.405087620176722},{"$f":"camera!$B$5*COS(RADIANS(AE1143))*SIN(RADIANS(AF1143))","v":495.34773540330258},{"$f":"camera!$B$5*SIN(RADIANS(AE1143))","v":-42.172474993779751},null,{"$f":"TRANSPOSE(MMULT(camera!$A$12:$C$14,MMULT(camera!$A$16:$C$18,TRANSPOSE(AH1143:AJ1143))))","v":-44.965389371917247},-10.029465340899897,497.87299945227755,null,{"$f":"camera!$B$5*AM1143/AN1143","v":-10.072312971313528},{"$f":"camera!$B$5*AL1143/AN1143","v":-45.157489381212464},null,{"$f":"IF( AND( (camera!$B$3) > (AQ1143+camera!$B$3/2), 0 < (AQ1143+camera!$B$3/2), AN1143 >= 0 ), AQ1143+camera!$B$3/2, 0)*-1+camera!$B$3","v":545.15748938121249},{"$f":"IF( AND( (camera!$B$4) > (AP1143+camera!$B$4/2), 0 < (AP1143+camera!$B$4/2), AN1143 >= 0 ), AP1143+camera!$B$4/2, 0)","v":489.92768702868648}]
[null,null,null,null,null,null,null,null,null,null,null,null,null,null,null,null,null,null,null,null,null,null,null,null,null,"''",null,9.8612979999999997,-46.547620000000002,null,-46.547620000000002,147.91946999999999,null,{"$f":"camera!$B$5*COS(RADIANS(AE1144))*COS(RADIANS(AF1144))","v":-291.3667488072208},{"$f":"camera!$B$5*COS(RADIANS(AE1144))*SIN(RADIANS(AF1144))","v":182.63607420913712},{"$f":"camera!$B$5*SIN(RADIANS(AE1144))","v":-362.97311482668312},null,{"$f":"TRANSPOSE(MMULT(camera!$A$12:$C$14,MMULT(camera!$A$16:$C$18,TRANSPOSE(AH1144:AJ1144))))","v":330.27467048576443},306.17579306219653,217.19812563246202,null,{"$f":"camera!$B$5*AM1144/AN1144","v":704.83065213071995},{"$f":"camera!$B$5*AL1144/AN1144","v":760.30736804020148},null,{"$f":"IF( AND( (camera!$B$3) > (AQ1144+camera!$B$3/2), 0 < (AQ1144+camera!$B$3/2), AN1144 >= 0 ), AQ1144+camera!$B$3/2, 0)*-1+camera!$B$3","v":1000},{"$f":"IF( AND( (camera!$B$4) > (AP1144+camera!$B$4/2), 0 < (AP1144+camera!$B$4/2), AN1144 >= 0 ), AP1144+camera!$B$4/2, 0)","v":0}]
[null,null,null,null,null,null,null,null,null,null,null,null,null,null,null,null,null,null,null,null,null,null,null,null,null,"''",null,10.725638999999999,-60.566619000000003,null,-60.566619000000003,160.88458499999999,null,{"$f":"camera!$B$5*COS(RADIANS(AE1145))*COS(RADIANS(AF1145))","v":-232.15762227907956},{"$f":"camera!$B$5*COS(RADIANS(AE1145))*SIN(RADIANS(AF1145))","v":80.461741022540849},{"$f":"camera!$B$5*SIN(RADIANS(AE1145))","v":-435.46382932379788},null,{"$f":"TRANSPOSE(MMULT(camera!$A$12:$C$14,MMULT(camera!$A$16:$C$18,TRANSPOSE(AH1145:AJ1145))))","v":418.44286303768621},238.28689523759442,134.62884509217142,null,{"$f":"camera!$B$5*AM1145/AN1145","v":884.97712015005118},{"$f":"camera!$B$5*AL1145/AN1145","v":1554.0609545866869},null,{"$f":"IF( AND( (camera!$B$3) > (AQ1145+camera!$B$3/2), 0 < (AQ1145+camera!$B$3/2), AN1145 >= 0 ), AQ1145+camera!$B$3/2, 0)*-1+camera!$B$3","v":1000},{"$f":"IF( AND( (camera!$B$4) > (AP1145+camera!$B$4/2), 0 < (AP1145+camera!$B$4/2), AN1145 >= 0 ), AP1145+camera!$B$4/2, 0)","v":0}]
[null,null,null,null,null,null,null,null,null,null,null,null,null,null,null,null,null,null,null,null,null,null,null,null,null,"''",null,13.204891999999999,-59.920578999999996,null,-59.920578999999996,-161.92662000000001,null,{"$f":"camera!$B$5*COS(RADIANS(AE1146))*COS(RADIANS(AF1146))","v":-238.23537325842833},{"$f":"camera!$B$5*COS(RADIANS(AE1146))*SIN(RADIANS(AF1146))","v":-77.744830835371232},{"$f":"camera!$B$5*SIN(RADIANS(AE1146))","v":-432.66574651432347},null,{"$f":"TRANSPOSE(MMULT(camera!$A$12:$C$14,MMULT(camera!$A$16:$C$18,TRANSPOSE(AH1146:AJ1146))))","v":443.14701529348946},230.55290726170651,-21.588881157826407,null,{"$f":"camera!$B$5*AM1146/AN1146","v":-5339.6214833052245},{"$f":"camera!$B$5*AL1146/AN1146","v":-10263.315918361977},null,{"$f":"IF( AND( (camera!$B$3) > (AQ1146+camera!$B$3/2), 0 < (AQ1146+camera!$B$3/2), AN1146 >= 0 ), AQ1146+camera!$B$3/2, 0)*-1+camera!$B$3","v":1000},{"$f":"IF( AND( (camera!$B$4) > (AP1146+camera!$B$4/2), 0 < (AP1146+camera!$B$4/2), AN1146 >= 0 ), AP1146+camera!$B$4/2, 0)","v":0}]